{"text_format":"1","workbook":"xlsx","n_sheets":66,"sheets":["START","Instructions","Template names","Lookup and lists","Org structure","Contacts","A1-Sum","A2-FinPerf SC","A2A","A3-FinPerf V","A3A","A4-FinPerf RE","A4 Funding","A5-Capex","A5A","A6-FinPos","A6 Inventory","A7-CFlow","A8-ResRecon","A9-Asset","A10-SerDel","SA1","SA2","SA3","SA4","SA5","SA6","SA7","SA8","SA9","SA10","SA11","SA12a","SA12b","SA13a","SA13b","SA14","SA15","SA16","SA17","SA18","SA19","SA20","SA21","SA22","SA23","SA24","SA25","SA26","SA27","SA28","SA29","SA30","SA31","SA32","SA33","SA34a","SA34b","SA34c","SA34d","SA34e","SA35","SA36","SA37","SA38","LGDB_EXPORT"],"not_rendered":{"charts":0,"images":19,"macros":1,"external_links":0,"defined_names":1919,"comments":0,"pivot_tables":0},"unopened":[],"bounds":{"document_bytes":16777216,"sheet_cells":100000,"rows_first":2000,"rows_last":500,"rows_between":2000,"halvings":0,"cell_chars":16384,"cell_head_chars":4096},"cells_cut":0,"cells_raw":0,"read":"whole","date_system":"1900"}

{"sheet":"START","index":0,"n_rows":1,"n_cols":1,"rows_kept":1,"cut":false,"hidden":false,"merged":[]}
["j"]

{"sheet":"Instructions","index":1,"n_rows":77,"n_cols":24,"rows_kept":77,"cut":false,"hidden":false,"merged":[]}
[]
[null,null,null,2020]
[]
[null,null,null,null,null,null,null,null,null,null,null,null,null,null,null,null,null,null,null,null,null,null,null,"Yes"]
[null,null,null,null,null,null,null,null,null,null,null,null,null,null,null,null,null,null,null,null,null,null,null,"No"]
[]
[null,null,null,null,null,null,null,null,null,null,null,null,null,null,null,null,null,null,null,null,null,null,"Type of Entities Range:"]
[null,null,null,null,null,null,null,null,null,null,null,null,null,null,null,null,null,null,null,null,null,null,null,"Parent Municipality"]
[null,null,null,null,null,null,null,null,null,null,null,null,null,null,null,null,null,null,null,null,null,null,null,"Consolidated Information"]
[]
[]
[]
[]
[null,null,null,null,null,"START"]
[null,null,null,null,null,"Instructions"]
[null,null,null,null,null,"Template names"]
[null,null,null,null,null,"Lookup and lists",null,null,null,null,null,null,null,null,null,null,null,null,null,null,null,null,"MTREF Range:",2013]
[null,null,null,null,null,"Org structure",null,null,null,null,null,null,null,null,null,null,null,null,null,null,null,null,null,2014]
[null,null,null,null,null,"Contacts",null,null,null,null,null,null,null,null,null,null,null,null,null,null,null,null,null,2015]
[null,null,null,null,null,"A1-Sum",null,null,null,null,null,null,null,null,null,null,null,null,null,null,null,null,null,2016]
[null,null,null,null,null,"A2-FinPerf SC",null,null,null,null,null,null,null,null,null,null,null,null,null,null,null,null,null,2017]
[null,null,null,null,null,"A2A",null,null,null,null,null,null,null,null,null,null,null,null,null,null,null,null,null,2018]
[null,null,null,null,null,"A3-FinPerf V",null,null,null,null,null,null,null,null,null,null,null,null,null,null,null,null,null,2019]
[null,null,null,null,null,"A3A",null,null,null,null,null,null,null,null,null,null,null,null,null,null,null,null,null,2020]
[null,null,null,null,null,"A4-FinPerf RE",null,null,null,null,null,null,null,null,null,null,null,null,null,null,null,null,null,2021]
[null,null,null,null,null,"A5-Capex",null,null,null,null,null,null,null,null,null,null,null,null,null,null,null,null,null,2022]
[null,null,null,null,null,"A5A",null,null,null,null,null,null,null,null,null,null,null,null,null,null,null,null,null,2023]
[null,null,null,null,null,"A6-FinPos",null,null,null,null,null,null,null,null,null,null,null,null,null,null,null,null,null,2024]
[null,null,null,null,null,"A7-CFlow",null,null,null,null,null,null,null,null,null,null,null,null,null,null,null,null,null,2025]
[null,null,null,null,null,"A8-ResRecon",null,null,null,null,null,null,null,null,null,null,null,null,null,null,null,null,null,2026]
[null,null,null,null,null,"A9-Asset",null,null,null,null,null,null,null,null,null,null,null,null,null,null,null,null,null,2027]
[null,null,null,null,null,"A10-SerDel",null,null,null,null,null,null,null,null,null,null,null,null,null,null,null,null,null,2028]
[null,null,null,null,null,"SA1",null,null,null,null,null,null,null,null,null,null,null,null,null,null,null,null,"MTREF Linked:",13]
[null,null,null,null,null,"SA2",null,null,null,null,null,null,null,null,null,null,null,null,null,null,null,null,"MTREF:",{"$f":"INDEX(X17:X31,X33,1)","v":2025}]
[null,null,null,null,null,"SA3"]
[null,null,null,null,null,"SA4",null,null,null,null,null,null,null,null,null,null,null,null,null,null,null,null,"Fin Year:",{"$f":"MTREF&\"/\"&RIGHT(MTREF,2)+1","v":"2025/26"}]
[null,null,null,null,null,"SA5"]
[null,null,null,null,null,"SA6"]
[null,null,null,null,null,"SA7"]
[null,null,null,null,null,"SA8"]
[null,null,null,null,null,"SA9"]
[null,null,null,null,null,"SA10"]
[null,null,null,null,null,"SA11"]
[null,null,null,null,null,"SA12a"]
[null,null,null,null,null,"SA12b"]
[null,null,null,null,null,"SA13a"]
[null,null,null,null,null,"SA13b"]
[null,null,null,null,null,"SA14"]
[null,null,null,null,null,"SA15"]
[null,null,null,null,null,"SA16"]
[null,null,null,null,null,"SA17"]
[null,null,null,null,null,"SA18"]
[null,null,null,null,null,"SA19"]
[null,null,null,null,null,"SA20"]
[null,null,null,null,null,"SA21"]
[null,null,null,null,null,"SA22"]
[null,null,null,null,null,"SA23"]
[null,null,null,null,null,"SA24"]
[null,null,null,null,null,"SA25"]
[null,null,null,null,null,"SA26"]
[null,null,null,null,null,"SA27"]
[null,null,null,null,null,"SA28"]
[null,null,null,null,null,"SA29"]
[null,null,null,null,null,"SA30"]
[null,null,null,null,null,"SA31"]
[null,null,null,null,null,"SA32"]
[null,null,null,null,null,"SA33"]
[null,null,null,null,null,"SA34a"]
[null,null,null,null,null,"SA34b"]
[null,null,null,null,null,"SA34c"]
[null,null,null,null,null,"SA34d"]
[null,null,null,null,null,"SA34e"]
[null,null,null,null,null,"SA35"]
[null,null,null,null,null,"SA36"]
[null,null,null,null,null,"SA37"]
[null,null,null,null,null,"SA38"]
[null,null,null,null,null,"LGDB_EXPORT"]

{"sheet":"Template names","index":2,"n_rows":179,"n_cols":6,"rows_kept":179,"cut":false,"hidden":true,"merged":[[0,0,0,3],[86,0,86,1],[109,0,109,1],[98,0,98,1],[91,0,91,3]]}
["Common sheet headings"]
["Head1",{"$f":"HLOOKUP(MTREF,Headings,2)","v":"2023/24"},"Prior year -1"]
["Head1A",{"$f":"HLOOKUP(MTREF,Headings,3)","v":"2022/23"},"Prior year -2"]
["Head1B",{"$f":"HLOOKUP(MTREF,Headings,4)","v":"2021/22"},"Prior year -3"]
["Head2",{"$f":"HLOOKUP(MTREF,Headings,5)","v":"Current Year 2024/25"},"Year in which budget is being prepared"]
["Head2A",{"$f":"HLOOKUP(MTREF,Headings,6)","v":"2024/25"},"Year in which budget is being prepared"]
["Head3",{"$f":"HLOOKUP(MTREF,Headings,7)","v":"2025/26 Medium Term Revenue & Expenditure Framework"},"MTREF name"]
["Head4","LTFS","Long term financial strategy"]
["Head5","Audited Outcome"]
["Head5A","Outcome"]
["Head5B","Pre-audit outcome"]
["Head6","Original Budget"]
["Head7","Adjusted Budget"]
["Head8","Full Year Forecast"]
["Head9",{"$f":"HLOOKUP(MTREF,Headings,8)","v":"Budget Year 2025/26"},"1st year of MTREF","Year1"]
["Head10",{"$f":"HLOOKUP(MTREF,Headings,9)","v":"Budget Year +1 2026/27"},"2nd year of MTREF","Year2"]
["Head11",{"$f":"HLOOKUP(MTREF,Headings,10)","v":"Budget Year +2 2027/28"},"3rd year of MTREF","Year3"]
["Head12",{"$f":"HLOOKUP(MTREF,Headings,11)","v":"Forecast 2028/29"},"1st yr of long term forecast","Year4"]
["Head13",{"$f":"HLOOKUP(MTREF,Headings,12)","v":"Forecast 2029/30"},"Next yr of long term forecast","Year5"]
["Head14",{"$f":"HLOOKUP(MTREF,Headings,13)","v":"Forecast 2030/31"},"Next yr of long term forecast","Year6"]
["Head15",{"$f":"HLOOKUP(MTREF,Headings,14)","v":"Forecast 2031/32"},"Next yr of long term forecast","Year7"]
["Head16",{"$f":"HLOOKUP(MTREF,Headings,15)","v":"Forecast 2032/33"},"Next yr of long term forecast","Year8"]
["Head17",{"$f":"HLOOKUP(MTREF,Headings,16)","v":"Forecast 2033/34"},"Next yr of long term forecast","Year9"]
["Head18",{"$f":"HLOOKUP(MTREF,Headings,17)","v":"Forecast 2034/35"},"Next yr of long term forecast","Year10"]
["Head19",{"$f":"HLOOKUP(MTREF,Headings,18)","v":"Forecast 2035/36"},"Next yr of long term forecast","Year11"]
["Head20",{"$f":"HLOOKUP(MTREF,Headings,19)","v":"Forecast 2036/37"},"Next yr of long term forecast","Year12"]
["Head21",{"$f":"HLOOKUP(MTREF,Headings,20)","v":"Forecast 2037/38"},"Next yr of long term forecast","Year13"]
["Head22",{"$f":"HLOOKUP(MTREF,Headings,21)","v":"Forecast 2038/39"},"Next yr of long term forecast","Year14"]
["Head23",{"$f":"HLOOKUP(MTREF,Headings,22)","v":"Forecast 2039/40"},"Next yr of long term forecast","Year15"]
["Head24","Description"]
["Head25"]
["Head26","Vote Description"]
["Head27","Ref"]
["Head27a","References"]
["Head28","Surplus/(Deficit) for the year",null,"Result"]
["Head29",{"$f":"HLOOKUP(MTREF,Headings,23)","v":"Annual target 2025/26"}]
["Head30",{"$f":"HLOOKUP(MTREF,Headings,24)","v":"Revised target 2025/26"}]
["Head31","Quarter ended 30 September"]
["Head32","Quarter ended 31 December"]
["Head33","Quarter ended 31 March"]
["Head34","Quarter ended 30 June"]
["Head35","Variance explanation"]
["Head36","YTD  Actual 31 Dec"]
["Head37","YTD  Budget 31 Dec"]
["Head38","Monthly actual"]
["Head39","YTD actual"]
["Head40","YTD budget"]
["Head41","YTD variance"]
["Head42","Surplus/ (Deficit) for the yr/period"]
["Head43",{"$f":"Head3&\" Summary\"","v":"2025/26 Medium Term Revenue & Expenditure Framework Summary"}]
["Head44","2001 Census"]
["Head45","2011 Census"]
["Head46"," - Adjustments Budget - January 2007"]
["Head47","Previous target year to complete"]
["Head48","Present value"]
["Head49"]
["Head50","Other Adjusts."]
["Head51","Accum. Funds"]
["Head52","Multi-year capital"]
["Head53","Unfore. Unavoid."]
["Head54","Prior Adjusted"]
["Head55","Nat. or Prov. Govt"]
["Head56","Total Adjusts."]
["SFPerf1","Budgeted Financial Performance"]
["SFPerf2","Forecast Financial Performance"]
["SFPos1","Budgeted Financial Position"]
["SFPos2","Forecast Financial Position"]
["Cash1","Budget Cash Flow"]
["Cash2","Forecast Cash Flow"]
["RandM","Expenditure includes repairs & maintenance of R'000"]
["Depart1","Department 1 - ",null,"DEP1"]
["Depart2","Department 2 - ",null,"DEP2"]
["Depart3","Department 3 - ",null,"DEP3"]
["Depart4","Department 4 - ",null,"DEP4"]
["Depart5","Department 5 - ",null,"DEP5"]
["Depart6","Department 6 - ",null,"DEP6"]
["Depart7","Department 7 - ",null,"DEP7"]
["Depart8","Department 8 - ",null,"DEP8"]
["Depart9","Department 9 - ",null,"DEP9"]
["Depart10","Department 10 - ",null,"DEP10"]
["Depart11","Department 11 - ",null,"DEP11"]
["Depart12","Department 12 - ",null,"DEP12"]
["Depart13","Department 13 - ",null,"DEP13"]
["Depart14","Department 14 - ",null,"DEP14"]
[]
[]
["Base year of forecast column selection names"]
["Choose","ACT"]
[null,"APP"]
[null,"ADJ"]
[]
["Standard nomenclature"]
["Muni",{"$f":"'Lookup and lists'!B28","v":"LIM351 Blouberg"}]
["Municipal Entities",2,"Type of report:",1]
[{"$f":"IF((MuniEntities=1)*(MuniType=2),\"YES\",\"NO\")","v":"NO"},"Does this municipality have entities (consolidated budget and entity budgets required)? YES/NO"]
["Entity 1","(Pty) Ltd Example 1 - Municipal entity - ",null,"Ent1"]
["Entity 2","(Pty) Ltd Example 2 - Municipal entity - ",null,"Ent2"]
["Entity 3","Municipal Entity Example 3",null,"Ent3"]
["Budget approval tables",null,"Chart x-ref","Sch/Tab/Ch","Alternative for municipalities without entities","Alternative for municipalities without entities"]
[null,{"$f":"IF(Consolques=\"YES\",E100,F100)","v":"Table A1 Budget Summary"},null,"Table A1 ",{"$f":"D100&\"Consolidated Budget Summary\"","v":"Table A1 Consolidated Budget Summary"},{"$f":"D100&\"Budget Summary\"","v":"Table A1 Budget Summary"}]
[null,"Table A2 Budgeted Financial Performance (revenue and expenditure by functional classification)","Charts 5, 6","Table A2 ",{"$f":"D101&\"Consolidated Budgeted Financial Performance (revenue and expenditure by functional classification)\"","v":"Table A2 Consolidated Budgeted Financial Performance (revenue and expenditure by functional classification)"},{"$f":"D101&\"Budgeted Financial Performance (revenue and expenditure by functional classification)\"","v":"Table A2 Budgeted Financial Performance (revenue and expenditure by functional classification)"}]
[null,"Table A3 Budgeted Financial Performance (revenue and expenditure by municipal vote)",null,"Table A3 ",{"$f":"D102&\"Consolidated Budgeted Financial Performance (revenue and expenditure by municipal vote)\"","v":"Table A3 Consolidated Budgeted Financial Performance (revenue and expenditure by municipal vote)"},{"$f":"D102&\"Budgeted Financial Performance (revenue and expenditure by municipal vote)\"","v":"Table A3 Budgeted Financial Performance (revenue and expenditure by municipal vote)"}]
[null,"Table A4 Budgeted Financial Performance (revenue and expenditure)","Charts 1, 2, 3, 4","Table A4 ",{"$f":"D103&\"Consolidated Budgeted Financial Performance (revenue and expenditure)\"","v":"Table A4 Consolidated Budgeted Financial Performance (revenue and expenditure)"},{"$f":"D103&\"Budgeted Financial Performance (revenue and expenditure)\"","v":"Table A4 Budgeted Financial Performance (revenue and expenditure)"}]
[null,"Table A5 Budgeted Capital Expenditure by vote, functional classification and funding","Charts 7, 8, 9, 10, 20","Table A5 ",{"$f":"D104&\"Consolidated Budgeted Capital Expenditure by vote, functional classification and funding\"","v":"Table A5 Consolidated Budgeted Capital Expenditure by vote, functional classification and funding"},{"$f":"D104&\"Budgeted Capital Expenditure by vote, functional classification and funding\"","v":"Table A5 Budgeted Capital Expenditure by vote, functional classification and funding"}]
[null,"Table A6 Budgeted Financial Position",null,"Table A6 ",{"$f":"D105&\"Consolidated Budgeted Financial Position\"","v":"Table A6 Consolidated Budgeted Financial Position"},{"$f":"D105&\"Budgeted Financial Position\"","v":"Table A6 Budgeted Financial Position"}]
[null,"Table A7 Budgeted Cash Flows",null,"Table A7 ",{"$f":"D106&\"Consolidated Budgeted Cash Flows\"","v":"Table A7 Consolidated Budgeted Cash Flows"},{"$f":"D106&\"Budgeted Cash Flows\"","v":"Table A7 Budgeted Cash Flows"}]
[null,"Table A8 Cash backed reserves/accumulated surplus reconciliation",null,"Table A8 ",{"$f":"D107&\"Consolidated Cash backed reserves/accumulated surplus reconciliation\"","v":"Table A8 Consolidated Cash backed reserves/accumulated surplus reconciliation"},{"$f":"D107&\"Cash backed reserves/accumulated surplus reconciliation\"","v":"Table A8 Cash backed reserves/accumulated surplus reconciliation"}]
[null,"Table A9 Asset Management",null,"Table A9 ",{"$f":"D108&\"Consolidated Asset Management\"","v":"Table A9 Consolidated Asset Management"},{"$f":"D108&\"Asset Management\"","v":"Table A9 Asset Management"}]
[null,"Table A10 Basic service delivery measurement",null,"Table A10 ",{"$f":"D109&\"Consolidated basic service delivery measurement\"","v":"Table A10 Consolidated basic service delivery measurement"},{"$f":"D109&\"Basic service delivery measurement\"","v":"Table A10 Basic service delivery measurement"}]
["Supportinging Tables to the Budget Approval Tables",null,{"$f":"$C$99","v":"Chart x-ref"},{"$f":"$D$99","v":"Sch/Tab/Ch"}]
["Supporting Table SA1",{"$f":"A111&\" Supportinging detail to 'Budgeted Financial Performance'\"","v":"Supporting Table SA1 Supportinging detail to 'Budgeted Financial Performance'"}]
["Supporting Table SA2 ",{"$f":"IF(Consolques=\"YES\",E112,F112)","v":"Supporting Table SA2 Matrix Financial Performance Budget (revenue source/expenditure type and dept.)"},null,null,{"$f":"A112&\"Consolidated Matrix Financial Performance Budget (revenue source/expenditure type & dept.)\"","v":"Supporting Table SA2 Consolidated Matrix Financial Performance Budget (revenue source/expenditure type & dept.)"},{"$f":"A112&\"Matrix Financial Performance Budget (revenue source/expenditure type and dept.)\"","v":"Supporting Table SA2 Matrix Financial Performance Budget (revenue source/expenditure type and dept.)"}]
["Supporting Table SA3 ",{"$f":"A113&\"Supportinging detail to 'Budgeted Financial Position'\"","v":"Supporting Table SA3 Supportinging detail to 'Budgeted Financial Position'"}]
["Supporting Table SA4 ",{"$f":"A114&\"Reconciliation of IDP strategic objectives and budget (revenue)\"","v":"Supporting Table SA4 Reconciliation of IDP strategic objectives and budget (revenue)"},"Chart 11"]
["Supporting Table SA5 ",{"$f":"A115&\"Reconciliation of IDP strategic objectives and budget (operating expenditure)\"","v":"Supporting Table SA5 Reconciliation of IDP strategic objectives and budget (operating expenditure)"},"Chart 12"]
["Supporting Table SA6 ",{"$f":"A116&\"Reconciliation of IDP strategic objectives and budget (capital expenditure)\"","v":"Supporting Table SA6 Reconciliation of IDP strategic objectives and budget (capital expenditure)"},"Chart 13"]
["Supporting Table SA7",{"$f":"A117&\" Measureable performance objectives\"","v":"Supporting Table SA7 Measureable performance objectives"}]
["Supporting Table SA8",{"$f":"A118&\" Performance indicators and benchmarks\"","v":"Supporting Table SA8 Performance indicators and benchmarks"},"Chts 15-19"]
["Supporting Table SA9",{"$f":"A119&\" Social, economic and demographic statistics and assumptions\"","v":"Supporting Table SA9 Social, economic and demographic statistics and assumptions"}]
["Supporting Table SA10",{"$f":"A120&\" Funding measurement\"","v":"Supporting Table SA10 Funding measurement"},"Chart 14"]
["Supporting Table SA11",{"$f":"A121&\" Property rates summary\"","v":"Supporting Table SA11 Property rates summary"}]
["Supporting Table SA12a",{"$f":"A122&\" Property rates by category (current year)\"","v":"Supporting Table SA12a Property rates by category (current year)"}]
["Supporting Table SA12b",{"$f":"A123&\" Property rates by category (budget year)\"","v":"Supporting Table SA12b Property rates by category (budget year)"}]
["Supporting Table SA13a",{"$f":"A124&\" Service Tariffs by category\"","v":"Supporting Table SA13a Service Tariffs by category"}]
["Supporting Table SA13b",{"$f":"A125&\" Service Tariffs by category - explanatory\"","v":"Supporting Table SA13b Service Tariffs by category - explanatory"}]
["Supporting Table SA14",{"$f":"A126&\" Household bills\"","v":"Supporting Table SA14 Household bills"}]
["Supporting Table SA15",{"$f":"A127&\" Investment particulars by type\"","v":"Supporting Table SA15 Investment particulars by type"}]
["Supporting Table SA16",{"$f":"A128&\" Investment particulars by maturity\"","v":"Supporting Table SA16 Investment particulars by maturity"}]
["Supporting Table SA17",{"$f":"A129&\" Borrowing\"","v":"Supporting Table SA17 Borrowing"}]
["Supporting Table SA18",{"$f":"A130&\" Transfers and grant receipts\"","v":"Supporting Table SA18 Transfers and grant receipts"}]
["Supporting Table SA19",{"$f":"A131&\" Expenditure on transfers and grant programme\"","v":"Supporting Table SA19 Expenditure on transfers and grant programme"}]
["Supporting Table SA20",{"$f":"A132&\" Reconciliation of transfers, grant receipts and unspent funds\"","v":"Supporting Table SA20 Reconciliation of transfers, grant receipts and unspent funds"}]
["Supporting Table SA21",{"$f":"A133&\" Transfers and grants made by the municipality\"","v":"Supporting Table SA21 Transfers and grants made by the municipality"}]
["Supporting Table SA22",{"$f":"A134&\" Summary councillor and staff benefits\"","v":"Supporting Table SA22 Summary councillor and staff benefits"}]
["Supporting Table SA23",{"$f":"A135&\" Salaries, allowances & benefits (political office bearers/councillors/senior managers)\"","v":"Supporting Table SA23 Salaries, allowances & benefits (political office bearers/councillors/senior managers)"}]
["Supporting Table SA24",{"$f":"A136&\" Summary of personnel numbers\"","v":"Supporting Table SA24 Summary of personnel numbers"}]
["Supporting Table SA25",{"$f":"IF(Consolques=\"YES\",E137,F137)","v":"Supporting Table SA25 Budgeted monthly revenue and expenditure"},null,null,{"$f":"A137&\" Consolidated budgeted monthly revenue and expenditure\"","v":"Supporting Table SA25 Consolidated budgeted monthly revenue and expenditure"},{"$f":"A137&\" Budgeted monthly revenue and expenditure\"","v":"Supporting Table SA25 Budgeted monthly revenue and expenditure"}]
["Supporting Table SA26","Supporting Table SA26 Budgeted monthly revenue and expenditure (municipal vote)",null,null,{"$f":"A138&\" Consolidated budgeted monthly revenue and expenditure (municipal vote)\"","v":"Supporting Table SA26 Consolidated budgeted monthly revenue and expenditure (municipal vote)"},{"$f":"A138&\" Budgeted monthly revenue and expenditure (municipal vote)\"","v":"Supporting Table SA26 Budgeted monthly revenue and expenditure (municipal vote)"}]
["Supporting Table SA27","Supporting Table SA27 Budgeted monthly revenue and expenditure (functional classification)",null,null,{"$f":"A139&\" Consolidated budgeted monthly revenue and expenditure (functional classification)\"","v":"Supporting Table SA27 Consolidated budgeted monthly revenue and expenditure (functional classification)"},{"$f":"A139&\" Budgeted monthly revenue and expenditure (functional classification)\"","v":"Supporting Table SA27 Budgeted monthly revenue and expenditure (functional classification)"}]
["Supporting Table SA28","Supporting Table SA28 Budgeted monthly capital expenditure (municipal vote)",null,null,{"$f":"A140&\" Consolidated budgeted monthly capital expenditure (municipal vote)\"","v":"Supporting Table SA28 Consolidated budgeted monthly capital expenditure (municipal vote)"},{"$f":"A140&\" Budgeted monthly capital expenditure (municipal vote)\"","v":"Supporting Table SA28 Budgeted monthly capital expenditure (municipal vote)"}]
["Supporting Table SA29","Supporting Table SA29 Budgeted monthly capital expenditure (functional classification)",null,null,{"$f":"A141&\" Consolidated budgeted monthly capital expenditure (functional classification)\"","v":"Supporting Table SA29 Consolidated budgeted monthly capital expenditure (functional classification)"},{"$f":"A141&\" Budgeted monthly capital expenditure (functional classification)\"","v":"Supporting Table SA29 Budgeted monthly capital expenditure (functional classification)"}]
["Supporting Table SA30","Supporting Table SA30 Budgeted monthly cash flow",null,null,{"$f":"A142&\" Consolidated budgeted monthly cash flow\"","v":"Supporting Table SA30 Consolidated budgeted monthly cash flow"},{"$f":"A142&\" Budgeted monthly cash flow\"","v":"Supporting Table SA30 Budgeted monthly cash flow"}]
["Supporting Table SA31","NOT REQUIRED - municipality does not have entities",null,null,{"$f":"A143&\" Aggregated entity budget\"","v":"Supporting Table SA31 Aggregated entity budget"},"NOT REQUIRED - municipality does not have entities"]
["Supporting Table SA32",{"$f":"A144&\" List of external mechanisms\"","v":"Supporting Table SA32 List of external mechanisms"}]
["Supporting Table SA33",{"$f":"A145&\" Contracts having future budgetary implications\"","v":"Supporting Table SA33 Contracts having future budgetary implications"}]
["Supporting Table SA34a",{"$f":"IF(Consolques=\"YES\",E146,F146)","v":"Supporting Table SA34a Capital expenditure on new assets by asset class"},null,null,{"$f":"A146&\" Consolidated capital expenditure on new assets by asset class\"","v":"Supporting Table SA34a Consolidated capital expenditure on new assets by asset class"},{"$f":"A146&\" Capital expenditure on new assets by asset class\"","v":"Supporting Table SA34a Capital expenditure on new assets by asset class"}]
["Supporting Table SA34b","Supporting Table SA34b Capital expenditure on the renewal of existing assets by asset class",null,null,{"$f":"A147&\" Consolidated capital expenditure on the renewal of existing assets by asset class\"","v":"Supporting Table SA34b Consolidated capital expenditure on the renewal of existing assets by asset class"},{"$f":"A147&\" Capital expenditure on the renewal of existing assets by asset class\"","v":"Supporting Table SA34b Capital expenditure on the renewal of existing assets by asset class"}]
["Supporting Table SA34c","Supporting Table SA34c Repairs and maintenance expenditure by asset class",null,null,{"$f":"A148&\" Consolidated repairs and maintenance by asset class\"","v":"Supporting Table SA34c Consolidated repairs and maintenance by asset class"},{"$f":"A148&\" Repairs and maintenance expenditure by asset class\"","v":"Supporting Table SA34c Repairs and maintenance expenditure by asset class"}]
["Supporting Table SA34d",{"$f":"IF(Consolques=\"YES\",E149,F149)","v":"Supporting Table SA34d Depreciation by asset class"},null,null,{"$f":"A149&\" Consolidated Depreciation by asset class\"","v":"Supporting Table SA34d Consolidated Depreciation by asset class"},{"$f":"A149&\" Depreciation by asset class\"","v":"Supporting Table SA34d Depreciation by asset class"}]
["Supporting Table SA34e",{"$f":"IF(Consolques=\"YES\",E150,F150)","v":"Supporting Table SA34e Capital expenditure on the upgrading of existing assets by asset class"},null,null,{"$f":"A150&\" Consolidated capital expenditure on the upgrading of existing assets by asset class\"","v":"Supporting Table SA34e Consolidated capital expenditure on the upgrading of existing assets by asset class"},{"$f":"A150&\" Capital expenditure on the upgrading of existing assets by asset class\"","v":"Supporting Table SA34e Capital expenditure on the upgrading of existing assets by asset class"}]
["Supporting Table SA35","Supporting Table SA35 Future financial implications of the capital budget",null,null,{"$f":"A151&\" Consolidated future financial implications of the capital budget\"","v":"Supporting Table SA35 Consolidated future financial implications of the capital budget"},{"$f":"A151& \" Future financial implications of the capital budget\"","v":"Supporting Table SA35 Future financial implications of the capital budget"}]
["Supporting Table SA36","Supporting Table SA36 Detailed capital budget",null,null,{"$f":"A152&\" Consolidated detailed capital budget\"","v":"Supporting Table SA36 Consolidated detailed capital budget"},{"$f":"A152& \" Detailed capital budget\"","v":"Supporting Table SA36 Detailed capital budget"}]
["Supporting Table SA37","Supporting Table SA37 Projects delayed from previous financial year/s",null,null,{"$f":"A153&\" Consolidated projects delayed from previous financial year/s\"","v":"Supporting Table SA37 Consolidated projects delayed from previous financial year/s"},{"$f":"A153& \" Projects delayed from previous financial year/s\"","v":"Supporting Table SA37 Projects delayed from previous financial year/s"}]
["Supporting Table SA38",{"$f":"IF(Consolques=\"YES\",E154,F154)","v":"Supporting Table SA38 Detailed operational projects"},null,null,{"$f":"A154&\" Consolidated detailed operational projects\"","v":"Supporting Table SA38 Consolidated detailed operational projects"},{"$f":"A154& \" Detailed operational projects\"","v":"Supporting Table SA38 Detailed operational projects"}]
[]
["Budget Charts","Charts","Cross reference"]
["Chart A1 ",{"$f":"A157&\"Revenue by Municipal Vote\"","v":"Chart A1 Revenue by Municipal Vote"}]
["Chart A2 ",{"$f":"A158&\"Expenditure by Municipal Vote\"","v":"Chart A2 Expenditure by Municipal Vote"}]
["Chart A3 ",{"$f":"A159&\"Revenue by Standard Classification\"","v":"Chart A3 Revenue by Standard Classification"},"A2"]
["Chart A4 ",{"$f":"A160&\"Expenditure by Standard Classification\"","v":"Chart A4 Expenditure by Standard Classification"},"A2"]
["Chart A5 ",{"$f":"A161&\"Revenue by Major Source (refer 'Minor' source for 'Other Revenue' allocation\"","v":"Chart A5 Revenue by Major Source (refer 'Minor' source for 'Other Revenue' allocation"},"A3"]
["Chart A6 ",{"$f":"A162&\"Revenue by Minor Source (Other)\"","v":"Chart A6 Revenue by Minor Source (Other)"},"A3"]
["Chart A7 ",{"$f":"A163&\"Expenditure by Major Type\"","v":"Chart A7 Expenditure by Major Type"},"A3"]
["Chart A8 ",{"$f":"A164&\"Expenditure by Minor Type (Other)\"","v":"Chart A8 Expenditure by Minor Type (Other)"},"A3"]
["Chart A9 ",{"$f":"A165&\"Capital Expenditure by Municipal Vote/Appropriation (Major)\"","v":"Chart A9 Capital Expenditure by Municipal Vote/Appropriation (Major)"},"A5"]
["Chart A10 ",{"$f":"A166&\"Capital Expenditure by Municipal Vote/Appropriation (Minor)\"","v":"Chart A10 Capital Expenditure by Municipal Vote/Appropriation (Minor)"},"A5"]
["Chart A11 ",{"$f":"A166&\"Capital Expenditure by Standard Classification\"","v":"Chart A10 Capital Expenditure by Standard Classification"},"A5"]
["Chart A12 ",{"$f":"A168&\"Capital expenditure performance trend\"","v":"Chart A12 Capital expenditure performance trend"},"A5"]
["Chart A13 ",{"$f":"A169&\"Capital funding by Source\"","v":"Chart A13 Capital funding by Source"},"A5"]
["Chart A14 ",{"$f":"A170&\"Cash flow trend\"","v":"Chart A14 Cash flow trend"},"A7"]
["Chart A15 ",{"$f":"A171&\"IDP Strategic Objective - Revenue\"","v":"Chart A15 IDP Strategic Objective - Revenue"},"Table A4"]
["Chart A16 ",{"$f":"A172&\"IDP Strategic Objective - Expenditure\"","v":"Chart A16 IDP Strategic Objective - Expenditure"},"Table A5"]
["Chart A17 ",{"$f":"A173&\"IDP Strategic Objective - Capital Expenditure\"","v":"Chart A17 IDP Strategic Objective - Capital Expenditure"},"Table A6"]
["Chart A18 ",{"$f":"A174&\"Debt (borrowing to Total Revenue)\"","v":"Chart A18 Debt (borrowing to Total Revenue)"},"Table A8"]
["Chart A19 ",{"$f":"A175&\"Debtors' trend analysis\"","v":"Chart A19 Debtors' trend analysis"},"Table A8"]
["Chart A20 ",{"$f":"A176&\"Distribution losses\"","v":"Chart A20 Distribution losses"},"Table A8"]
["Chart A21 ",{"$f":"A177&\"Borrowed funding of capital expenditure\"","v":"Chart A21 Borrowed funding of capital expenditure"},"Table A8"]
["Chart A22 ",{"$f":"A178&\"Expenditure analysis (% of Revenue)\"","v":"Chart A22 Expenditure analysis (% of Revenue)"},"Table A8"]
["Chart A23 ",{"$f":"A179&\"Increases in service charges\"","v":"Chart A23 Increases in service charges"},"Table A10"]

{"sheet":"Lookup and lists","index":3,"n_rows":308,"n_cols":30,"rows_kept":308,"cut":false,"hidden":true,"merged":[]}
["Description",2013,2014,2015,2016,2017,2018,2019,2020,2021,2022,2023,2024,2025,2026,null,"Lists",null,null,null,null,null,null,null,"Grants:","National - opex","Provincial - opex","National - capex","Provincial - capex"]
[{"$f":"'Template names'!C2","v":"Prior year -1"},{"$f":"B1-2&\"/\"&RIGHT(B1,2)-1","v":"2011/12"},"2012/13","2013/14","2014/15","2015/16","2016/17","2017/18","2018/19",{"$f":"J1-2&\"/\"&RIGHT(J1,2)-1","v":"2019/20"},"2020/21","2021/22","2022/23","2023/24","2024/25",null,"Yes","<1","<4","Market","Land & impr.","Yes","Uniform","Yrs",null,"Local Government Equitable Share","Health subsidy"," Municipal Infrastructure Grant (MIG)","Agriculture"]
[{"$f":"'Template names'!C3","v":"Prior year -2"},{"$f":"B1-3&\"/\"&RIGHT(B1,2)-2","v":"2010/11"},"2011/12","2012/13","2013/14","2014/15","2015/16","2016/17","2017/18",{"$f":"J1-3&\"/\"&RIGHT(J1,2)-2","v":"2018/19"},"2019/20","2020/21","2021/22","2022/23","2023/24",null,"No",1,4,"Dep.Replace","Land only","No","Variable","Mths",null,"RSC Levy Replacement ","Ambulance subsidy"," Public Transport and Systems","Education"]
[{"$f":"'Template names'!C4","v":"Prior year -3"},{"$f":"B1-4&\"/\"&RIGHT(B1,2)-3","v":"2009/10"},"2010/11","2011/12","2012/13","2013/14","2014/15","2015/16","2016/17",{"$f":"J1-4&\"/\"&RIGHT(J1,2)-3","v":"2017/18"},"2018/19","2019/20","2020/21","2021/22","2022/23",null,null,2,5,"Other","Other",null,null,null,null,"Finance Management ","Housing","Rural Transport Services and Infrastructure","Health"]
[{"$f":"'Template names'!C5","v":"Year in which budget is being prepared"},{"$f":"\"Current Year \"& B1-1&\"/\"&RIGHT(B1,2)","v":"Current Year 2012/13"},"Current Year 2013/14","Current Year 2014/15","Current Year 2015/16","Current Year 2016/17","Current Year 2017/18","Current Year 2018/19","Current Year 2019/20",{"$f":"\"Current Year \"& J1-1&\"/\"&RIGHT(J1,2)","v":"Current Year 2020/21"},"Current Year 2021/22","Current Year 2022/23","Current Year 2023/24","Current Year 2024/25","Current Year 2025/26",null,null,3,6,null,null,null,null,null,null,"Municipal Systems Improvement","Sport and Recreation","Regional Bulk Infrastructure","Housing and Local Government "]
[{"$f":"'Template names'!C6","v":"Year in which budget is being prepared"},{"$f":"B1-1&\"/\"&RIGHT(B1,2)","v":"2012/13"},"2013/14","2014/15","2015/16","2016/17","2017/18","2018/19","2019/20",{"$f":"J1-1&\"/\"&RIGHT(J1,2)","v":"2020/21"},"2021/22","2022/23","2023/24","2024/25","2025/26",null,null,4,"6-10",null,null,null,null,null,null,"Water Services Operating Subsidy ",null,"Rural Households Infrastructure ","Other Departments"]
[{"$f":"'Template names'!C7","v":"MTREF name"},{"$f":"B1&\"/\"&RIGHT(B1,2)+1&\" Medium Term Revenue & Expenditure Framework\"","v":"2013/14 Medium Term Revenue & Expenditure Framework"},"2014/15 Medium Term Revenue & Expenditure Framework","2015/16 Medium Term Revenue & Expenditure Framework","2016/17 Medium Term Revenue & Expenditure Framework","2017/18 Medium Term Revenue & Expenditure Framework","2018/19 Medium Term Revenue & Expenditure Framework","2019/20 Medium Term Revenue & Expenditure Framework","2020/21 Medium Term Revenue & Expenditure Framework",{"$f":"J1&\"/\"&RIGHT(J1,2)+1&\" Medium Term Revenue & Expenditure Framework\"","v":"2021/22 Medium Term Revenue & Expenditure Framework"},"2022/23 Medium Term Revenue & Expenditure Framework","2023/24 Medium Term Revenue & Expenditure Framework","2024/25 Medium Term Revenue & Expenditure Framework","2025/26 Medium Term Revenue & Expenditure Framework","2026/27 Medium Term Revenue & Expenditure Framework",null,null,5,">10",null,null,null,null,null,null,"Energy Efficiency  and Demand Management",null,"Neighbourhood Development Partnership","Public Works, Roads, Transport "]
[{"$f":"'Template names'!C15","v":"1st year of MTREF"},{"$f":"\"Budget Year \"&B1&\"/\"&RIGHT(B1,2)+1","v":"Budget Year 2013/14"},"Budget Year 2014/15","Budget Year 2015/16","Budget Year 2016/17","Budget Year 2017/18","Budget Year 2018/19","Budget Year 2019/20","Budget Year 2020/21",{"$f":"\"Budget Year \"&J1&\"/\"&RIGHT(J1,2)+1","v":"Budget Year 2021/22"},"Budget Year 2022/23","Budget Year 2023/24","Budget Year 2024/25","Budget Year 2025/26","Budget Year 2026/27",null,null,">5",null,null,null,null,null,null,null,"Integrated National Electrification Programme",null,"2010 FIFA World Cup Stadiums Development","Sport and Recreation"]
[{"$f":"'Template names'!C16","v":"2nd year of MTREF"},{"$f":"\"Budget Year +1 \"&B1+1&\"/\"&RIGHT(B1,2)+2","v":"Budget Year +1 2014/15"},"Budget Year +1 2015/16","Budget Year +1 2016/17","Budget Year +1 2017/18","Budget Year +1 2018/19","Budget Year +1 2019/20","Budget Year +1 2020/21","Budget Year +1 2021/22",{"$f":"\"Budget Year +1 \"&J1+1&\"/\"&RIGHT(J1,2)+2","v":"Budget Year +1 2022/23"},"Budget Year +1 2023/24","Budget Year +1 2024/25","Budget Year +1 2025/26","Budget Year +1 2026/27","Budget Year +1 2027/28",null,null,null,null,null,null,null,null,null,null,"Municipal Drought Relief "]
[{"$f":"'Template names'!C17","v":"3rd year of MTREF"},{"$f":"\"Budget Year +2 \"&B1+2&\"/\"&RIGHT(B1,2)+3","v":"Budget Year +2 2015/16"},"Budget Year +2 2016/17","Budget Year +2 2017/18","Budget Year +2 2018/19","Budget Year +2 2019/20","Budget Year +2 2020/21","Budget Year +2 2021/22","Budget Year +2 2022/23",{"$f":"\"Budget Year +2 \"&J1+2&\"/\"&RIGHT(J1,2)+3","v":"Budget Year +2 2023/24"},"Budget Year +2 2024/25","Budget Year +2 2025/26","Budget Year +2 2026/27","Budget Year +2 2027/28","Budget Year +2 2028/29",null,null,null,null,null,null,null,null,null,null,"2010 FIFA World Cup Operating"]
[{"$f":"'Template names'!C18","v":"1st yr of long term forecast"},{"$f":"\"Forecast \"&B1+3&\"/\"&RIGHT(B1,2)+4","v":"Forecast 2016/17"},"Forecast 2017/18","Forecast 2018/19","Forecast 2019/20","Forecast 2020/21","Forecast 2021/22","Forecast 2022/23","Forecast 2023/24",{"$f":"\"Forecast \"&J1+3&\"/\"&RIGHT(J1,2)+4","v":"Forecast 2024/25"},"Forecast 2025/26","Forecast 2026/27","Forecast 2027/28","Forecast 2028/29","Forecast 2029/30",null,null,null,null,null,null,null,null,null,null,"Electricity Demand Side Management"]
[{"$f":"'Template names'!C19","v":"Next yr of long term forecast"},{"$f":"\"Forecast \"&B1+4&\"/\"&RIGHT(B1,2)+5","v":"Forecast 2017/18"},"Forecast 2018/19","Forecast 2019/20","Forecast 2020/21","Forecast 2021/22","Forecast 2022/23","Forecast 2023/24","Forecast 2024/25",{"$f":"\"Forecast \"&J1+4&\"/\"&RIGHT(J1,2)+5","v":"Forecast 2025/26"},"Forecast 2026/27","Forecast 2027/28","Forecast 2028/29","Forecast 2029/30","Forecast 2030/31",null,null,null,null,null,null,null,null,null,null,"EPWP Incentive"]
[{"$f":"'Template names'!C20","v":"Next yr of long term forecast"},{"$f":"\"Forecast \"&B1+5&\"/\"&RIGHT(B1,2)+6","v":"Forecast 2018/19"},"Forecast 2019/20","Forecast 2020/21","Forecast 2021/22","Forecast 2022/23","Forecast 2023/24","Forecast 2024/25","Forecast 2025/26",{"$f":"\"Forecast \"&J1+5&\"/\"&RIGHT(J1,2)+6","v":"Forecast 2026/27"},"Forecast 2027/28","Forecast 2028/29","Forecast 2029/30","Forecast 2030/31","Forecast 2031/32"]
[{"$f":"'Template names'!C21","v":"Next yr of long term forecast"},{"$f":"\"Forecast \"&B1+6&\"/\"&RIGHT(B1,2)+7","v":"Forecast 2019/20"},"Forecast 2020/21","Forecast 2021/22","Forecast 2022/23","Forecast 2023/24","Forecast 2024/25","Forecast 2025/26","Forecast 2026/27",{"$f":"\"Forecast \"&J1+6&\"/\"&RIGHT(J1,2)+7","v":"Forecast 2027/28"},"Forecast 2028/29","Forecast 2029/30","Forecast 2030/31","Forecast 2031/32","Forecast 2032/33",null,null,null,null,null,null,null,null,null,null,"Asset Class","Asset sub-class old","Asset sub-class","IUDF","MTSF"]
[{"$f":"'Template names'!C22","v":"Next yr of long term forecast"},{"$f":"\"Forecast \"&B1+7&\"/\"&RIGHT(B1,2)+8","v":"Forecast 2020/21"},"Forecast 2021/22","Forecast 2022/23","Forecast 2023/24","Forecast 2024/25","Forecast 2025/26","Forecast 2026/27","Forecast 2027/28",{"$f":"\"Forecast \"&J1+7&\"/\"&RIGHT(J1,2)+8","v":"Forecast 2028/29"},"Forecast 2029/30","Forecast 2030/31","Forecast 2031/32","Forecast 2032/33","Forecast 2033/34"]
[{"$f":"'Template names'!C23","v":"Next yr of long term forecast"},{"$f":"\"Forecast \"&B1+8&\"/\"&RIGHT(B1,2)+9","v":"Forecast 2021/22"},"Forecast 2022/23","Forecast 2023/24","Forecast 2024/25","Forecast 2025/26","Forecast 2026/27","Forecast 2027/28","Forecast 2028/29",{"$f":"\"Forecast \"&J1+8&\"/\"&RIGHT(J1,2)+9","v":"Forecast 2029/30"},"Forecast 2030/31","Forecast 2031/32","Forecast 2032/33","Forecast 2033/34","Forecast 2034/35",null,null,null,null,null,null,null,null,null,null,"Roads Infrastructure","Roads, Pavements & Bridges","Roads","Spatial integration","Quality basic education"]
[{"$f":"'Template names'!C24","v":"Next yr of long term forecast"},{"$f":"\"Forecast \"&B1+9&\"/\"&RIGHT(B1,2)+10","v":"Forecast 2022/23"},"Forecast 2023/24","Forecast 2024/25","Forecast 2025/26","Forecast 2026/27","Forecast 2027/28","Forecast 2028/29","Forecast 2029/30",{"$f":"\"Forecast \"&J1+9&\"/\"&RIGHT(J1,2)+10","v":"Forecast 2030/31"},"Forecast 2031/32","Forecast 2032/33","Forecast 2033/34","Forecast 2034/35","Forecast 2035/36",null,null,null,null,null,null,null,null,null,null,"Storm water Infrastructure","Storm water","Road Structures","Inclusion and access","A long and healthy life for all South Africans"]
[{"$f":"'Template names'!C25","v":"Next yr of long term forecast"},{"$f":"\"Forecast \"&B1+10&\"/\"&RIGHT(B1,2)+11","v":"Forecast 2023/24"},"Forecast 2024/25","Forecast 2025/26","Forecast 2026/27","Forecast 2027/28","Forecast 2028/29","Forecast 2029/30","Forecast 2030/31",{"$f":"\"Forecast \"&J1+10&\"/\"&RIGHT(J1,2)+11","v":"Forecast 2031/32"},"Forecast 2032/33","Forecast 2033/34","Forecast 2034/35","Forecast 2035/36","Forecast 2036/37",null,null,null,null,null,null,null,null,null,null,"Electrical Infrastructure","Generation","Road Furniture","Growth","All people in South Africa are and feel safe"]
[{"$f":"'Template names'!C26","v":"Next yr of long term forecast"},{"$f":"\"Forecast \"&B1+11&\"/\"&RIGHT(B1,2)+12","v":"Forecast 2024/25"},"Forecast 2025/26","Forecast 2026/27","Forecast 2027/28","Forecast 2028/29","Forecast 2029/30","Forecast 2030/31","Forecast 2031/32",{"$f":"\"Forecast \"&J1+11&\"/\"&RIGHT(J1,2)+12","v":"Forecast 2032/33"},"Forecast 2033/34","Forecast 2034/35","Forecast 2035/36","Forecast 2036/37","Forecast 2037/38",null,null,null,null,null,null,null,null,null,null,"Water Supply Infrastructure","Transmission & Reticulation","Capital Spares","Governance","Decent employment through inclusive growth"]
[{"$f":"'Template names'!C27","v":"Next yr of long term forecast"},{"$f":"\"Forecast \"&B1+12&\"/\"&RIGHT(B1,2)+13","v":"Forecast 2025/26"},"Forecast 2026/27","Forecast 2027/28","Forecast 2028/29","Forecast 2029/30","Forecast 2030/31","Forecast 2031/32","Forecast 2032/33",{"$f":"\"Forecast \"&J1+12&\"/\"&RIGHT(J1,2)+13","v":"Forecast 2033/34"},"Forecast 2034/35","Forecast 2035/36","Forecast 2036/37","Forecast 2037/38","Forecast 2038/39",null,null,null,null,null,null,null,null,null,null,"Sanitation Infrastructure","Street Lighting","Drainage Collection",null,"A skilled and capable workforce to support an inclusive growth path"]
[{"$f":"'Template names'!C28","v":"Next yr of long term forecast"},{"$f":"\"Forecast \"&B1+13&\"/\"&RIGHT(B1,2)+14","v":"Forecast 2026/27"},"Forecast 2027/28","Forecast 2028/29","Forecast 2029/30","Forecast 2030/31","Forecast 2031/32","Forecast 2032/33","Forecast 2033/34",{"$f":"\"Forecast \"&J1+13&\"/\"&RIGHT(J1,2)+14","v":"Forecast 2034/35"},"Forecast 2035/36","Forecast 2036/37","Forecast 2037/38","Forecast 2038/39","Forecast 2039/40",null,null,null,null,null,null,null,null,null,null,"Solid Waste Infrastructure","Dams & Reservoirs","Storm water Conveyance",null,"An efficient, competitive and responsive economic infrastructure network"]
[{"$f":"'Template names'!C29","v":"Next yr of long term forecast"},{"$f":"\"Forecast \"&B1+14&\"/\"&RIGHT(B1,2)+15","v":"Forecast 2027/28"},"Forecast 2028/29","Forecast 2029/30","Forecast 2030/31","Forecast 2031/32","Forecast 2032/33","Forecast 2033/34","Forecast 2034/35",{"$f":"\"Forecast \"&J1+14&\"/\"&RIGHT(J1,2)+15","v":"Forecast 2035/36"},"Forecast 2036/37","Forecast 2037/38","Forecast 2038/39","Forecast 2039/40","Forecast 2040/41",null,null,null,null,null,null,null,null,null,null,"Rail Infrastructure","Water purification","Attenuation",null,"Vibrant, equitable, sustainable rural communities contributing towards food security for all"]
["Adjustments Budget",{"$f":"\"Annual target \" & B1&\"/\"&RIGHT(B1,2)+1","v":"Annual target 2013/14"},"Annual target 2014/15","Annual target 2015/16","Annual target 2016/17","Annual target 2017/18","Annual target 2018/19","Annual target 2019/20","Annual target 2020/21",{"$f":"\"Annual target \" & J1&\"/\"&RIGHT(J1,2)+1","v":"Annual target 2021/22"},"Annual target 2022/23","Annual target 2023/24","Annual target 2024/25","Annual target 2025/26","Annual target 2026/27",null,null,null,null,null,null,null,null,null,null,"Coastal Infrastructure","Reticulation","Power Plants",null,"Sustainable human settlements and improved quality of household life"]
[{"$f":"A23","v":"Adjustments Budget"},{"$f":"\"Revised target \"& B1&\"/\"&RIGHT(B1,2)+1","v":"Revised target 2013/14"},"Revised target 2014/15","Revised target 2015/16","Revised target 2016/17","Revised target 2017/18","Revised target 2018/19","Revised target 2019/20","Revised target 2020/21",{"$f":"\"Revised target \"& J1&\"/\"&RIGHT(J1,2)+1","v":"Revised target 2021/22"},"Revised target 2022/23","Revised target 2023/24","Revised target 2024/25","Revised target 2025/26","Revised target 2026/27",null,null,null,null,null,null,null,null,null,null,"Information and Communication Infrastructure","Sewerage purification","HV Substations",null,"Responsive, accountable, effective and efficient local government"]
["NOTE: This sheet should not be directly amended - select headings from sheet 'S'",null,null,null,null,null,null,null,null,null,null,null,null,null,null,null,null,null,null,null,null,null,null,null,null,"Community Facilities","Waste Management","HV Switching Station",null,"Protect and enhance our environmental assets and natural resources"]
[null,null,null,null,null,null,null,null,null,null,null,null,null,null,null,null,null,null,null,null,null,null,null,null,null,"Sport and Recreation Facilities","Transportation","HV Transmission Conductors",null,"Create a better South Africa and contribute to a better Africa and a better world"]
["Name link",140,null,null,null,null,null,null,null,null,null,null,null,null,null,null,null,null,null,null,null,null,null,null,null,"Heritage assets","Gas","MV Substations",null,"An efficient, effective and development-oriented public service"]
["Name of Muni",{"$f":"INDEX(B29:B307,B27,1)","v":"LIM351 Blouberg"},null,null,null,null,null,null,null,null,null,null,null,null,null,null,null,null,null,null,null,null,null,null,null,"Revenue Generating","Parks & gardens","MV Switching Stations",null,"A comprehensive, responsive and sustainable social protection system"]
[null,"Choose name from list","Set name on 'Instructions' sheet",null,null,null,null,null,null,null,null,null,null,null,null,null,null,null,null,null,null,null,null,null,null,"Non-revenue Generating","Sportsfields & stadia","MV Networks",null,"A diverse, socially cohesive society with a common national identity"]
[null,"BUF Buffalo City","EC EASTERN CAPE",null,null,null,null,null,null,null,null,null,null,null,null,null,null,null,null,null,null,null,null,null,null,"Operational Buildings","Swimming pools","LV Networks"]
[null,"NMA Nelson Mandela Bay","EC EASTERN CAPE",null,null,null,null,null,null,null,null,null,null,null,null,null,null,null,null,null,null,null,null,null,null,"Housing","Community halls","Capital Spares"]
[null,"EC101 Dr Beyers Naude","EC EASTERN CAPE",null,null,null,null,null,null,null,null,null,null,null,null,null,null,null,null,null,null,null,null,null,null,"Biological or Cultivated Assets","Libraries","Dams and Weirs"]
[null,"EC102 Blue Crane Route","EC EASTERN CAPE",null,null,null,null,null,null,null,null,null,null,null,null,null,null,null,null,null,null,null,null,null,null,"Servitudes","Recreational facilities","Boreholes"]
[null,"EC104 Makana","EC EASTERN CAPE",null,null,null,null,null,null,null,null,null,null,null,null,null,null,null,null,null,null,null,null,null,null,"Licences and Rights","Fire, safety & emergency","Reservoirs"]
[null,"EC105 Ndlambe","EC EASTERN CAPE",null,null,null,null,null,null,null,null,null,null,null,null,null,null,null,null,null,null,null,null,null,null,"Computer Equipment","Security and policing","Pump Stations"]
[null,"EC106 Sundays River Valley","EC EASTERN CAPE",null,null,null,null,null,null,null,null,null,null,null,null,null,null,null,null,null,null,null,null,null,null,"Furniture and Office Equipment","Buses","Water Treatment Works"]
[null,"EC108 Kouga","EC EASTERN CAPE",null,null,null,null,null,null,null,null,null,null,null,null,null,null,null,null,null,null,null,null,null,null,"Machinery and Equipment","Clinics","Bulk Mains"]
[null,"EC109 Kou-Kamma","EC EASTERN CAPE",null,null,null,null,null,null,null,null,null,null,null,null,null,null,null,null,null,null,null,null,null,null,"Transport Assets","Museums & Art Galleries","Distribution"]
[null,"DC10 Sarah Baartman","EC EASTERN CAPE",null,null,null,null,null,null,null,null,null,null,null,null,null,null,null,null,null,null,null,null,null,null,"Land","Cemeteries","Distribution Points"]
[null,"EC121 Mbhashe","EC EASTERN CAPE",null,null,null,null,null,null,null,null,null,null,null,null,null,null,null,null,null,null,null,null,null,null,"Zoo's, Marine and Non-biological Animals","Social rental housing","PRV Stations"]
[null,"EC122 Mnquma","EC EASTERN CAPE",null,null,null,null,null,null,null,null,null,null,null,null,null,null,null,null,null,null,null,null,null,null,null,"Buildings","Capital Spares"]
[null,"EC123 Great Kei","EC EASTERN CAPE",null,null,null,null,null,null,null,null,null,null,null,null,null,null,null,null,null,null,null,null,null,null,null,"Housing development","Pump Station"]
[null,"EC124 Amahlathi","EC EASTERN CAPE",null,null,null,null,null,null,null,null,null,null,null,null,null,null,null,null,null,null,null,null,null,null,null,"General vehicles","Reticulation"]
[null,"EC126 Ngqushwa","EC EASTERN CAPE",null,null,null,null,null,null,null,null,null,null,null,null,null,null,null,null,null,null,null,null,null,null,null,"Specialised vehicles - Refuse","Waste Water Treatment Works"]
[null,"EC129 Raymond Mhlaba","EC EASTERN CAPE",null,null,null,null,null,null,null,null,null,null,null,null,null,null,null,null,null,null,null,null,null,null,null,"Specialised vehicles - Fire","Outfall Sewers"]
[null,"DC12 Amathole","EC EASTERN CAPE",null,null,null,null,null,null,null,null,null,null,null,null,null,null,null,null,null,null,null,null,null,null,null,"Specialised vehicles - Conservancy","Toilet Facilities"]
[null,"EC131 Inxuba Yethemba","EC EASTERN CAPE",null,null,null,null,null,null,null,null,null,null,null,null,null,null,null,null,null,null,null,null,null,null,null,"Specialised vehicles - Ambulances","Capital Spares"]
[null,"EC135 Intsika Yethu","EC EASTERN CAPE",null,null,null,null,null,null,null,null,null,null,null,null,null,null,null,null,null,null,null,null,null,null,null,"Plant & equipment","Landfill Sites"]
[null,"EC136 Emalahleni (Ec)","EC EASTERN CAPE",null,null,null,null,null,null,null,null,null,null,null,null,null,null,null,null,null,null,null,null,null,null,null,"Computers - hardware/equipment","Waste Transfer Stations"]
[null,"EC137 Engcobo","EC EASTERN CAPE",null,null,null,null,null,null,null,null,null,null,null,null,null,null,null,null,null,null,null,null,null,null,null,"Furniture and other office equipment","Waste Processing Facilities"]
[null,"EC138 Sakhisizwe","EC EASTERN CAPE",null,null,null,null,null,null,null,null,null,null,null,null,null,null,null,null,null,null,null,null,null,null,null,"Abattoirs","Waste Drop-off Points"]
[null,"EC139 Enoch Mgijima","EC EASTERN CAPE",null,null,null,null,null,null,null,null,null,null,null,null,null,null,null,null,null,null,null,null,null,null,null,"Markets","Waste Separation Facilities"]
[null,"DC13 Chris Hani","EC EASTERN CAPE",null,null,null,null,null,null,null,null,null,null,null,null,null,null,null,null,null,null,null,null,null,null,null,"Civic Land and Buildings","Electricity Generation Facilities"]
[null,"EC141 Elundini","EC EASTERN CAPE",null,null,null,null,null,null,null,null,null,null,null,null,null,null,null,null,null,null,null,null,null,null,null,"Other Buildings","Capital Spares"]
[null,"EC142 Senqu","EC EASTERN CAPE",null,null,null,null,null,null,null,null,null,null,null,null,null,null,null,null,null,null,null,null,null,null,null,"Other Land","Rail Lines"]
[null,"EC145 Walter Sisulu","EC EASTERN CAPE",null,null,null,null,null,null,null,null,null,null,null,null,null,null,null,null,null,null,null,null,null,null,null,"Surplus Assets - (Investment or Inventory)","Rail Structures"]
[null,"DC14 Joe Gqabi","EC EASTERN CAPE",null,null,null,null,null,null,null,null,null,null,null,null,null,null,null,null,null,null,null,null,null,null,null,"Computers - software & programming","Rail Furniture"]
[null,"EC153 Ngquza Hills","EC EASTERN CAPE",null,null,null,null,null,null,null,null,null,null,null,null,null,null,null,null,null,null,null,null,null,null,null,"Other","Drainage Collection"]
[null,"EC154 Port St Johns","EC EASTERN CAPE",null,null,null,null,null,null,null,null,null,null,null,null,null,null,null,null,null,null,null,null,null,null,null,null,"Storm water Conveyance"]
[null,"EC155 Nyandeni","EC EASTERN CAPE",null,null,null,null,null,null,null,null,null,null,null,null,null,null,null,null,null,null,null,null,null,null,"SA16 - Investments",null,"Attenuation"]
[null,"EC156 Mhlontlo","EC EASTERN CAPE",null,null,null,null,null,null,null,null,null,null,null,null,null,null,null,null,null,null,null,null,null,null,"Security","Interest rate","MV Substations"]
[null,"EC157 King Sabata Dalindyebo","EC EASTERN CAPE",null,null,null,null,null,null,null,null,null,null,null,null,null,null,null,null,null,null,null,null,null,null,"Yes","Fixed","LV Networks"]
[null,"DC15 O .R. Tambo","EC EASTERN CAPE",null,null,null,null,null,null,null,null,null,null,null,null,null,null,null,null,null,null,null,null,null,null,"No","Variable","Capital Spares"]
[null,"EC441 Matatiele","EC EASTERN CAPE",null,null,null,null,null,null,null,null,null,null,null,null,null,null,null,null,null,null,null,null,null,null,null,null,"Sand Pumps"]
[null,"EC442 Umzimvubu","EC EASTERN CAPE",null,null,null,null,null,null,null,null,null,null,null,null,null,null,null,null,null,null,null,null,null,null,null,null,"Piers"]
[null,"EC443 Winnie Madikizela Mandela","EC EASTERN CAPE",null,null,null,null,null,null,null,null,null,null,null,null,null,null,null,null,null,null,null,null,null,null,"SA36, SA37 - Capital projects",null,"Revetments"]
[null,"EC444 Ntabankulu","EC EASTERN CAPE",null,null,null,null,null,null,null,null,null,null,null,null,null,null,null,null,null,null,null,null,null,null,"Yes",null,"Promenades"]
[null,"DC44 Alfred Nzo","EC EASTERN CAPE",null,null,null,null,null,null,null,null,null,null,null,null,null,null,null,null,null,null,null,null,null,null,"No",null,"Capital Spares"]
[null,"MAN Mangaung","FS FREE STATE",null,null,null,null,null,null,null,null,null,null,null,null,null,null,null,null,null,null,null,null,null,null,null,null,"Data Centres"]
[null,"FS161 Letsemeng","FS FREE STATE",null,null,null,null,null,null,null,null,null,null,null,null,null,null,null,null,null,null,null,null,null,null,null,null,"Core Layers"]
[null,"FS162 Kopanong","FS FREE STATE",null,null,null,null,null,null,null,null,null,null,null,null,null,null,null,null,null,null,null,null,null,null,null,null,"Distribution Layers"]
[null,"FS163 Mohokare","FS FREE STATE",null,null,null,null,null,null,null,null,null,null,null,null,null,null,null,null,null,null,null,null,null,null,null,null,"Capital Spares"]
[null,"DC16 Xhariep","FS FREE STATE",null,null,null,null,null,null,null,null,null,null,null,null,null,null,null,null,null,null,null,null,null,null,null,null,"Halls"]
[null,"FS181 Masilonyana","FS FREE STATE",null,null,null,null,null,null,null,null,null,null,null,null,null,null,null,null,null,null,null,null,null,null,null,null,"Centres"]
[null,"FS182 Tokologo","FS FREE STATE",null,null,null,null,null,null,null,null,null,null,null,null,null,null,null,null,null,null,null,null,null,null,null,null,"Crèches"]
[null,"FS183 Tswelopele","FS FREE STATE",null,null,null,null,null,null,null,null,null,null,null,null,null,null,null,null,null,null,null,null,null,null,null,null,"Clinics/Care Centres"]
[null,"FS184 Matjhabeng","FS FREE STATE",null,null,null,null,null,null,null,null,null,null,null,null,null,null,null,null,null,null,null,null,null,null,null,null,"Fire/Ambulance Stations"]
[null,"FS185 Nala","FS FREE STATE",null,null,null,null,null,null,null,null,null,null,null,null,null,null,null,null,null,null,null,null,null,null,null,null,"Testing Stations"]
[null,"DC18 Lejweleputswa","FS FREE STATE",null,null,null,null,null,null,null,null,null,null,null,null,null,null,null,null,null,null,null,null,null,null,null,null,"Museums"]
[null,"FS191 Setsoto","FS FREE STATE",null,null,null,null,null,null,null,null,null,null,null,null,null,null,null,null,null,null,null,null,null,null,null,null,"Galleries"]
[null,"FS192 Dihlabeng","FS FREE STATE",null,null,null,null,null,null,null,null,null,null,null,null,null,null,null,null,null,null,null,null,null,null,null,null,"Theatres"]
[null,"FS193 Nketoana","FS FREE STATE",null,null,null,null,null,null,null,null,null,null,null,null,null,null,null,null,null,null,null,null,null,null,null,null,"Libraries"]
[null,"FS194 Maluti-a-Phofung","FS FREE STATE",null,null,null,null,null,null,null,null,null,null,null,null,null,null,null,null,null,null,null,null,null,null,null,null,"Cemeteries/Crematoria"]
[null,"FS195 Phumelela","FS FREE STATE",null,null,null,null,null,null,null,null,null,null,null,null,null,null,null,null,null,null,null,null,null,null,null,null,"Police"]
[null,"FS196 Mantsopa","FS FREE STATE",null,null,null,null,null,null,null,null,null,null,null,null,null,null,null,null,null,null,null,null,null,null,null,null,"Purls"]
[null,"DC19 Thabo Mofutsanyana","FS FREE STATE",null,null,null,null,null,null,null,null,null,null,null,null,null,null,null,null,null,null,null,null,null,null,null,null,"Public Open Space"]
[null,"FS201 Moqhaka","FS FREE STATE",null,null,null,null,null,null,null,null,null,null,null,null,null,null,null,null,null,null,null,null,null,null,null,null,"Nature Reserves"]
[null,"FS203 Ngwathe","FS FREE STATE",null,null,null,null,null,null,null,null,null,null,null,null,null,null,null,null,null,null,null,null,null,null,null,null,"Public Ablution Facilities"]
[null,"FS204 Metsimaholo","FS FREE STATE",null,null,null,null,null,null,null,null,null,null,null,null,null,null,null,null,null,null,null,null,null,null,null,null,"Markets"]
[null,"FS205 Mafube","FS FREE STATE",null,null,null,null,null,null,null,null,null,null,null,null,null,null,null,null,null,null,null,null,null,null,null,null,"Stalls"]
[null,"DC20 Fezile Dabi","FS FREE STATE",null,null,null,null,null,null,null,null,null,null,null,null,null,null,null,null,null,null,null,null,null,null,null,null,"Abattoirs"]
[null,"EKU City of Ekurhuleni","GT GAUTENG",null,null,null,null,null,null,null,null,null,null,null,null,null,null,null,null,null,null,null,null,null,null,null,null,"Airports"]
[null,"JHB City Of Johannesburg","GT GAUTENG",null,null,null,null,null,null,null,null,null,null,null,null,null,null,null,null,null,null,null,null,null,null,null,null,"Taxi Ranks/Bus Terminals"]
[null,"TSH City Of Tshwane","GT GAUTENG",null,null,null,null,null,null,null,null,null,null,null,null,null,null,null,null,null,null,null,null,null,null,null,null,"Capital Spares"]
[null,"GT421 Emfuleni","GT GAUTENG",null,null,null,null,null,null,null,null,null,null,null,null,null,null,null,null,null,null,null,null,null,null,null,null,"Indoor Facilities"]
[null,"GT422 Midvaal","GT GAUTENG",null,null,null,null,null,null,null,null,null,null,null,null,null,null,null,null,null,null,null,null,null,null,null,null,"Outdoor Facilities"]
[null,"GT423 Lesedi","GT GAUTENG",null,null,null,null,null,null,null,null,null,null,null,null,null,null,null,null,null,null,null,null,null,null,null,null,"Capital Spares"]
[null,"DC42 Sedibeng","GT GAUTENG",null,null,null,null,null,null,null,null,null,null,null,null,null,null,null,null,null,null,null,null,null,null,null,null,"Monuments"]
[null,"GT481 Mogale City","GT GAUTENG",null,null,null,null,null,null,null,null,null,null,null,null,null,null,null,null,null,null,null,null,null,null,null,null,"Historic Buildings"]
[null,"GT484 Merafong City","GT GAUTENG",null,null,null,null,null,null,null,null,null,null,null,null,null,null,null,null,null,null,null,null,null,null,null,null,"Works of Art"]
[null,"GT485 Rand West City","GT GAUTENG",null,null,null,null,null,null,null,null,null,null,null,null,null,null,null,null,null,null,null,null,null,null,null,null,"Conservation Areas"]
[null,"DC48 West Rand","GT GAUTENG",null,null,null,null,null,null,null,null,null,null,null,null,null,null,null,null,null,null,null,null,null,null,null,null,"Other Heritage"]
[null,"ETH eThekwini","KZN KWAZULU-NATAL",null,null,null,null,null,null,null,null,null,null,null,null,null,null,null,null,null,null,null,null,null,null,null,null,"Improved Property"]
[null,"KZN212 Umdoni","KZN KWAZULU-NATAL",null,null,null,null,null,null,null,null,null,null,null,null,null,null,null,null,null,null,null,null,null,null,null,null,"Unimproved Property"]
[null,"KZN213 Umzumbe","KZN KWAZULU-NATAL",null,null,null,null,null,null,null,null,null,null,null,null,null,null,null,null,null,null,null,null,null,null,null,null,"Municipal Offices"]
[null,"KZN214 uMuziwabantu","KZN KWAZULU-NATAL",null,null,null,null,null,null,null,null,null,null,null,null,null,null,null,null,null,null,null,null,null,null,null,null,"Pay/Enquiry Points"]
[null,"KZN216 Ray Nkonyeni","KZN KWAZULU-NATAL",null,null,null,null,null,null,null,null,null,null,null,null,null,null,null,null,null,null,null,null,null,null,null,null,"Building Plan Offices"]
[null,"DC21 Ugu","KZN KWAZULU-NATAL",null,null,null,null,null,null,null,null,null,null,null,null,null,null,null,null,null,null,null,null,null,null,null,null,"Workshops"]
[null,"KZN221 uMshwathi","KZN KWAZULU-NATAL",null,null,null,null,null,null,null,null,null,null,null,null,null,null,null,null,null,null,null,null,null,null,null,null,"Yards"]
[null,"KZN222 uMngeni","KZN KWAZULU-NATAL",null,null,null,null,null,null,null,null,null,null,null,null,null,null,null,null,null,null,null,null,null,null,null,null,"Stores"]
[null,"KZN223 Mpofana","KZN KWAZULU-NATAL",null,null,null,null,null,null,null,null,null,null,null,null,null,null,null,null,null,null,null,null,null,null,null,null,"Laboratories"]
[null,"KZN224 Impendle","KZN KWAZULU-NATAL",null,null,null,null,null,null,null,null,null,null,null,null,null,null,null,null,null,null,null,null,null,null,null,null,"Training Centres"]
[null,"KZN225 Msunduzi","KZN KWAZULU-NATAL",null,null,null,null,null,null,null,null,null,null,null,null,null,null,null,null,null,null,null,null,null,null,null,null,"Manufacturing Plant"]
[null,"KZN226 Mkhambathini","KZN KWAZULU-NATAL",null,null,null,null,null,null,null,null,null,null,null,null,null,null,null,null,null,null,null,null,null,null,null,null,"Depots"]
[null,"KZN227 Richmond","KZN KWAZULU-NATAL",null,null,null,null,null,null,null,null,null,null,null,null,null,null,null,null,null,null,null,null,null,null,null,null,"Capital Spares"]
[null,"DC22 uMgungundlovu","KZN KWAZULU-NATAL",null,null,null,null,null,null,null,null,null,null,null,null,null,null,null,null,null,null,null,null,null,null,null,null,"Staff Housing"]
[null,"KZN235 Okhahlamba","KZN KWAZULU-NATAL",null,null,null,null,null,null,null,null,null,null,null,null,null,null,null,null,null,null,null,null,null,null,null,null,"Social Housing"]
[null,"KZN237 Inkosi Langalibalele","KZN KWAZULU-NATAL",null,null,null,null,null,null,null,null,null,null,null,null,null,null,null,null,null,null,null,null,null,null,null,null,"Capital Spares"]
[null,"KZN238 Alfred Duma","KZN KWAZULU-NATAL",null,null,null,null,null,null,null,null,null,null,null,null,null,null,null,null,null,null,null,null,null,null,null,null,"Water Rights"]
[null,"DC23 Uthukela","KZN KWAZULU-NATAL",null,null,null,null,null,null,null,null,null,null,null,null,null,null,null,null,null,null,null,null,null,null,null,null,"Effluent Licenses"]
[null,"KZN241 Endumeni","KZN KWAZULU-NATAL",null,null,null,null,null,null,null,null,null,null,null,null,null,null,null,null,null,null,null,null,null,null,null,null,"Solid Waste Licenses"]
[null,"KZN242 Nquthu","KZN KWAZULU-NATAL",null,null,null,null,null,null,null,null,null,null,null,null,null,null,null,null,null,null,null,null,null,null,null,null,"Computer Software and Applications"]
[null,"KZN244 Msinga","KZN KWAZULU-NATAL",null,null,null,null,null,null,null,null,null,null,null,null,null,null,null,null,null,null,null,null,null,null,null,null,"Load Settlement Software Applications"]
[null,"KZN245 Umvoti","KZN KWAZULU-NATAL",null,null,null,null,null,null,null,null,null,null,null,null,null,null,null,null,null,null,null,null,null,null,null,null,"Unspecified"]
[null,"DC24 Umzinyathi","KZN KWAZULU-NATAL"]
[null,"KZN252 Newcastle","KZN KWAZULU-NATAL"]
[null,"KZN253 Emadlangeni","KZN KWAZULU-NATAL"]
[null,"KZN254 Dannhauser","KZN KWAZULU-NATAL"]
[null,"DC25 Amajuba","KZN KWAZULU-NATAL"]
[null,"KZN261 eDumbe","KZN KWAZULU-NATAL"]
[null,"KZN262 uPhongolo","KZN KWAZULU-NATAL"]
[null,"KZN263 Abaqulusi","KZN KWAZULU-NATAL"]
[null,"KZN265 Nongoma","KZN KWAZULU-NATAL"]
[null,"KZN266 Ulundi","KZN KWAZULU-NATAL"]
[null,"DC26 Zululand","KZN KWAZULU-NATAL"]
[null,"KZN271 Umhlabuyalingana","KZN KWAZULU-NATAL"]
[null,"KZN272 Jozini","KZN KWAZULU-NATAL"]
[null,"KZN275 Mtubatuba","KZN KWAZULU-NATAL"]
[null,"KZN276 Hlabisa Big Five","KZN KWAZULU-NATAL"]
[null,"DC27 Umkhanyakude","KZN KWAZULU-NATAL"]
[null,"KZN281 Mfolozi","KZN KWAZULU-NATAL"]
[null,"KZN282 uMhlathuze","KZN KWAZULU-NATAL"]
[null,"KZN284 uMlalazi","KZN KWAZULU-NATAL"]
[null,"KZN285 Mthonjaneni","KZN KWAZULU-NATAL"]
[null,"KZN286 Nkandla","KZN KWAZULU-NATAL"]
[null,"DC28 King Cetshwayo","KZN KWAZULU-NATAL"]
[null,"KZN291 Mandeni","KZN KWAZULU-NATAL"]
[null,"KZN292 KwaDukuza","KZN KWAZULU-NATAL"]
[null,"KZN293 Ndwedwe","KZN KWAZULU-NATAL"]
[null,"KZN294 Maphumulo","KZN KWAZULU-NATAL"]
[null,"DC29 iLembe","KZN KWAZULU-NATAL"]
[null,"KZN433 Greater Kokstad","KZN KWAZULU-NATAL"]
[null,"KZN434 Johannes Phumani Phungula","KZN KWAZULU-NATAL"]
[null,"KZN435 Umzimkhulu","KZN KWAZULU-NATAL"]
[null,"KZN436 Dr Nkosazana Dlamini Zuma","KZN KWAZULU-NATAL"]
[null,"DC43 Harry Gwala","KZN KWAZULU-NATAL"]
[null,"LIM331 Greater Giyani","LIM LIMPOPO"]
[null,"LIM332 Greater Letaba","LIM LIMPOPO"]
[null,"LIM333 Greater Tzaneen","LIM LIMPOPO"]
[null,"LIM334 Ba-Phalaborwa","LIM LIMPOPO"]
[null,"LIM335 Maruleng","LIM LIMPOPO"]
[null,"DC33 Mopani","LIM LIMPOPO"]
[null,"LIM341 Musina","LIM LIMPOPO"]
[null,"LIM343 Thulamela","LIM LIMPOPO"]
[null,"LIM344 Makhado","LIM LIMPOPO"]
[null,"LIM345 Collins Chabane","LIM LIMPOPO"]
[null,"DC34 Vhembe","LIM LIMPOPO"]
[null,"LIM351 Blouberg","LIM LIMPOPO"]
[null,"LIM353 Molemole","LIM LIMPOPO"]
[null,"LIM354 Polokwane","LIM LIMPOPO"]
[null,"LIM355 Lepelle-Nkumpi","LIM LIMPOPO"]
[null,"DC35 Capricorn","LIM LIMPOPO"]
[null,"LIM361 Thabazimbi","LIM LIMPOPO"]
[null,"LIM362 Lephalale","LIM LIMPOPO"]
[null,"LIM366 Bela Bela","LIM LIMPOPO"]
[null,"LIM367 Mogalakwena","LIM LIMPOPO"]
[null,"LIM368 Modimolle-Mookgopong","LIM LIMPOPO"]
[null,"DC36 Waterberg","LIM LIMPOPO"]
[null,"LIM471 Ephraim Mogale","LIM LIMPOPO"]
[null,"LIM472 Elias Motsoaledi","LIM LIMPOPO"]
[null,"LIM473 Makhuduthamaga","LIM LIMPOPO"]
[null,"LIM476 Tubatse Fetakgomo","LIM LIMPOPO"]
[null,"DC47 Sekhukhune","LIM LIMPOPO"]
[null,"MP301 Albert Luthuli","MP MPUMALANGA"]
[null,"MP302 Msukaligwa","MP MPUMALANGA"]
[null,"MP303 Mkhondo","MP MPUMALANGA"]
[null,"MP304 Pixley Ka Seme (MP)","MP MPUMALANGA"]
[null,"MP305 Lekwa","MP MPUMALANGA"]
[null,"MP306 Dipaleseng","MP MPUMALANGA"]
[null,"MP307 Govan Mbeki","MP MPUMALANGA"]
[null,"DC30 Gert Sibande","MP MPUMALANGA"]
[null,"MP311 Victor Khanye","MP MPUMALANGA"]
[null,"MP312 Emalahleni (Mp)","MP MPUMALANGA"]
[null,"MP313 Steve Tshwete","MP MPUMALANGA"]
[null,"MP314 Emakhazeni","MP MPUMALANGA"]
[null,"MP315 Thembisile Hani","MP MPUMALANGA"]
[null,"MP316 Dr J.S. Moroka","MP MPUMALANGA"]
[null,"DC31 Nkangala","MP MPUMALANGA"]
[null,"MP321 Thaba Chweu","MP MPUMALANGA"]
[null,"MP324 Nkomazi","MP MPUMALANGA"]
[null,"MP325 Bushbuckridge","MP MPUMALANGA"]
[null,"MP326 City of Mbombela","MP MPUMALANGA"]
[null,"DC32 Ehlanzeni","MP MPUMALANGA"]
[null,"NC451 Joe Morolong","NC NORTHERN CAPE"]
[null,"NC452 Ga-Segonyana","NC NORTHERN CAPE"]
[null,"NC453 Gamagara","NC NORTHERN CAPE"]
[null,"DC45 John Taolo Gaetsewe","NC NORTHERN CAPE"]
[null,"NC061 Richtersveld","NC NORTHERN CAPE"]
[null,"NC062 Nama Khoi","NC NORTHERN CAPE"]
[null,"NC064 Kamiesberg","NC NORTHERN CAPE"]
[null,"NC065 Hantam","NC NORTHERN CAPE"]
[null,"NC066 Karoo Hoogland","NC NORTHERN CAPE"]
[null,"NC067 Khai-Ma","NC NORTHERN CAPE"]
[null,"DC6 Namakwa","NC NORTHERN CAPE"]
[null,"NC071 Ubuntu","NC NORTHERN CAPE"]
[null,"NC072 Umsobomvu","NC NORTHERN CAPE"]
[null,"NC073 Emthanjeni","NC NORTHERN CAPE"]
[null,"NC074 Kareeberg","NC NORTHERN CAPE"]
[null,"NC075 Renosterberg","NC NORTHERN CAPE"]
[null,"NC076 Thembelihle","NC NORTHERN CAPE"]
[null,"NC077 Siyathemba","NC NORTHERN CAPE"]
[null,"NC078 Siyancuma","NC NORTHERN CAPE"]
[null,"DC7 Pixley Ka Seme (Nc)","NC NORTHERN CAPE"]
[null,"NC082 !Kai! Garib","NC NORTHERN CAPE"]
[null,"NC084 !Kheis","NC NORTHERN CAPE"]
[null,"NC085 Tsantsabane","NC NORTHERN CAPE"]
[null,"NC086 Kgatelopele","NC NORTHERN CAPE"]
[null,"NC087 Dawid Kruiper","NC NORTHERN CAPE"]
[null,"DC8 Z F Mgcawu","NC NORTHERN CAPE"]
[null,"NC091 Sol Plaatje","NC NORTHERN CAPE"]
[null,"NC092 Dikgatlong","NC NORTHERN CAPE"]
[null,"NC093 Magareng","NC NORTHERN CAPE"]
[null,"NC094 Phokwane","NC NORTHERN CAPE"]
[null,"DC9 Frances Baard","NC NORTHERN CAPE"]
[null,"NW371 Moretele","NW NORTH WEST"]
[null,"NW372 Madibeng","NW NORTH WEST"]
[null,"NW373 Rustenburg","NW NORTH WEST"]
[null,"NW374 Kgetlengrivier","NW NORTH WEST"]
[null,"NW375 Moses Kotane","NW NORTH WEST"]
[null,"DC37 Bojanala Platinum","NW NORTH WEST"]
[null,"NW381 Ratlou","NW NORTH WEST"]
[null,"NW382 Tswaing","NW NORTH WEST"]
[null,"NW383 Mafikeng","NW NORTH WEST"]
[null,"NW384 Ditsobotla","NW NORTH WEST"]
[null,"NW385 Ramotshere Moiloa","NW NORTH WEST"]
[null,"DC38 Ngaka Modiri Molema","NW NORTH WEST"]
[null,"NW392 Naledi (Nw)","NW NORTH WEST"]
[null,"NW393 Mamusa","NW NORTH WEST"]
[null,"NW394 Greater Taung","NW NORTH WEST"]
[null,"NW396 Lekwa-Teemane","NW NORTH WEST"]
[null,"NW397 Kagisano-Molopo","NW NORTH WEST"]
[null,"DC39 Dr Ruth Segomotsi Mompati","NW NORTH WEST"]
[null,"NW403 City Of Matlosana","NW NORTH WEST"]
[null,"NW404 Maquassi Hills","NW NORTH WEST"]
[null,"NW405 J B Marks","NW NORTH WEST"]
[null,"DC40 Dr Kenneth Kaunda","NW NORTH WEST"]
[null,"CPT Cape Town","WC WESTERN CAPE"]
[null,"WC011 Matzikama","WC WESTERN CAPE"]
[null,"WC012 Cederberg","WC WESTERN CAPE"]
[null,"WC013 Bergrivier","WC WESTERN CAPE"]
[null,"WC014 Saldanha Bay","WC WESTERN CAPE"]
[null,"WC015 Swartland","WC WESTERN CAPE"]
[null,"DC1 West Coast","WC WESTERN CAPE"]
[null,"WC022 Witzenberg","WC WESTERN CAPE"]
[null,"WC023 Drakenstein","WC WESTERN CAPE"]
[null,"WC024 Stellenbosch","WC WESTERN CAPE"]
[null,"WC025 Breede Valley","WC WESTERN CAPE"]
[null,"WC026 Langeberg","WC WESTERN CAPE"]
[null,"DC2 Cape Winelands DM","WC WESTERN CAPE"]
[null,"WC031 Theewaterskloof","WC WESTERN CAPE"]
[null,"WC032 Overstrand","WC WESTERN CAPE"]
[null,"WC033 Cape Agulhas","WC WESTERN CAPE"]
[null,"WC034 Swellendam","WC WESTERN CAPE"]
[null,"DC3 Overberg","WC WESTERN CAPE"]
[null,"WC041 Kannaland","WC WESTERN CAPE"]
[null,"WC042 Hessequa","WC WESTERN CAPE"]
[null,"WC043 Mossel Bay","WC WESTERN CAPE"]
[null,"WC044 George","WC WESTERN CAPE"]
[null,"WC045 Oudtshoorn","WC WESTERN CAPE"]
[null,"WC047 Bitou","WC WESTERN CAPE"]
[null,"WC048 Knysna","WC WESTERN CAPE"]
[null,"DC4 Garden Route","WC WESTERN CAPE"]
[null,"WC051 Laingsburg","WC WESTERN CAPE"]
[null,"WC052 Prince Albert","WC WESTERN CAPE"]
[null,"WC053 Beaufort West","WC WESTERN CAPE"]
[null,"DC5 Central Karoo","WC WESTERN CAPE"]
[]
[]
[]
[]
[]
[]
[]
[]
[]
[]
[]
[]
[]
[]
[]
[]
[]
[]
[]
[]
[]
[null,{"$f":"COUNTA(B30:B307)","v":257}]

{"sheet":"Org structure","index":4,"n_rows":31,"n_cols":5,"rows_kept":31,"cut":false,"hidden":false,"merged":[]}
["Organisational Structure Votes",null,"Organisational Structure Sub-Votes",null,"Display Sub-Votes"]
[{"$f":"B2&\" - \"&C2","v":"Vote 01 - Executive & Council"},"Vote 01","Executive & Council"]
[{"$f":"B4&\" - \"&C4","v":"Vote 02 - Finance And Administration"},"01.1","Council General",{"$f":"CONCATENATE(B3, \" - \", C3)","v":"01.1 - Council General"},"01.1 - Council General"]
[{"$f":"B6&\" - \"&C6","v":"Vote 03 - Community Service"},"Vote 02","Finance And Administration"]
[{"$f":"B8&\" - \"&C8","v":"Vote 04 - Public And Safety"},"02.1","Municipal Manager",{"$f":"CONCATENATE(B5, \" - \", C5)","v":"02.1 - Municipal Manager"},"02.1 - Municipal Manager"]
[{"$f":"B10&\" - \"&C10","v":"Vote 05 - Waste Management"},"Vote 03","Community Service"]
[{"$f":"B16&\" - \"&C16","v":"Vote 06 - Roads  Services"},"03.1","Finance Services Administration",{"$f":"CONCATENATE(B7, \" - \", C7)","v":"03.1 - Finance Services Administration"},"03.1 - Finance Services Administration"]
[{"$f":"B21&\" - \"&C21","v":"Vote 07 - Econominc Development And Planning"},"Vote 04","Public And Safety"]
[{"$f":"B24&\" - \"&C24","v":"Vote 08 - "},"04.1","Corporate Services Administration",{"$f":"CONCATENATE(B9, \" - \", C9)","v":"04.1 - Corporate Services Administration"},"04.1 - Corporate Services Administration"]
["Vote 09 - ","Vote 05","Waste Management"]
["Vote 10 - ","05.1","Technical Services Administration",{"$f":"CONCATENATE(B11, \" - \", C11)","v":"05.1 - Technical Services Administration"},"05.1 - Technical Services Administration"]
["Vote 11 - ","05.2","Electrical Services",{"$f":"CONCATENATE(B12, \" - \", C12)","v":"05.2 - Electrical Services"},"05.2 - Electrical Services"]
["Vote 12 - ","05.3","Water Services",{"$f":"CONCATENATE(B13, \" - \", C13)","v":"05.3 - Water Services"},"05.3 - Water Services"]
["Vote 13 - ","05.4","Sanitation Services",{"$f":"CONCATENATE(B14, \" - \", C14)","v":"05.4 - Sanitation Services"},"05.4 - Sanitation Services"]
["Vote 14 - ","05.5","Roads Services",{"$f":"CONCATENATE(B15, \" - \", C15)","v":"05.5 - Roads Services"},"05.5 - Roads Services"]
["Vote 15 - Other","Vote 06","Roads  Services"]
[null,"06.1","Community Services Administration",{"$f":"CONCATENATE(B17, \" - \", C17)","v":"06.1 - Community Services Administration"},"06.1 - Community Services Administration"]
[null,"06.2","Traffic Services",{"$f":"CONCATENATE(B18, \" - \", C18)","v":"06.2 - Traffic Services"},"06.2 - Traffic Services"]
[null,"06.3","Refuse",{"$f":"CONCATENATE(B19, \" - \", C19)","v":"06.3 - Refuse"},"06.3 - Refuse"]
[null,"06.4","Pound Services",{"$f":"CONCATENATE(B20, \" - \", C20)","v":"06.4 - Pound Services"},"06.4 - Pound Services"]
[null,"Vote 07","Econominc Development And Planning"]
[null,"07.1","Project Management Unit",{"$f":"CONCATENATE(B22, \" - \", C22)","v":"07.1 - Project Management Unit"},"07.1 - Project Management Unit"]
[null,"07.2","Economic Development And Planning",{"$f":"CONCATENATE(B23, \" - \", C23)","v":"07.2 - Economic Development And Planning"},"07.2 - Economic Development And Planning"]
[null,"Vote 08"]
[null,"Vote 09"]
[null,"Vote 10"]
[null,"Vote 11"]
[null,"Vote 12"]
[null,"Vote 13"]
[null,"Vote 14"]
[null,"Vote 15","Other"]

{"sheet":"Contacts","index":5,"n_rows":140,"n_cols":4,"rows_kept":140,"cut":false,"hidden":false,"merged":[[7,2,7,3],[13,0,13,1],[29,0,29,1],[10,2,10,3],[12,2,12,3],[84,2,84,3],[30,2,30,3],[29,2,29,3],[48,0,48,1],[100,2,100,3],[39,2,39,3],[48,2,48,3],[57,2,57,3],[92,0,92,1],[39,0,39,1],[132,0,132,1],[132,2,132,3],[76,0,76,1],[57,0,57,1],[76,2,76,3],[92,2,92,3],[67,2,67,3],[124,0,124,1],[124,2,124,3],[116,0,116,1],[116,2,116,3],[108,0,108,1],[108,2,108,3],[100,0,100,1],[58,2,58,3],[84,0,84,1]]}
[{"$f":"muni&\" - \"&\" Contact Information\"","v":"LIM351 Blouberg -  Contact Information"}]
[]
["A. GENERAL INFORMATION"]
["Municipality",{"$f":"muni","v":"LIM351 Blouberg"},{"$f":"IF(B4=\"Choose name from List\",\"Set name on 'Instructions' sheet\", \"\")","v":""}]
[]
["Grade","3","1 Grade in terms of the Remuneration of Public Office Bearers Act."]
[]
["Province",{"$f":"IF(B4>\" \",VLOOKUP(B4,'Lookup and lists'!B29:C307,2, FALSE),\" \")","v":"LIM LIMPOPO"}]
[]
["Web Address","www.blouberg.gov.za"]
[]
["e-mail Address","blou@blouberg.gov.za"]
[]
["B. CONTACT INFORMATION"]
["Postal address:"]
["P.O. Box","Box 1593"]
["City / Town","Senwabarwana"]
["Postal Code","0790"]
[]
["Street address"]
["Building","2nd Building"]
["Street No. & Name","Senwabarwana/Dendron Road"]
["City / Town","Senwabarwana"]
["Postal Code","0790"]
[]
["General Contacts"]
["Telephone number","015 505 7100"]
["Fax number","015 505 0296"]
[]
["C. POLITICAL LEADERSHIP"]
["Speaker:",null,"Secretary/PA to the Speaker:"]
["ID Number","","ID Number",""]
["Title","Mr","Title","Mrs"]
["Name","Boloka ","Name","MALATJI PJ"]
["Telephone number","015 505 7117","Telephone number","015 505 7189"]
["Cell number","071 234 4190","Cell number","076 654 3873"]
["Fax number","015 505 0296","Fax number","105 505 0296"]
["E-mail address","bolokamp@blouberg.gov.za","E-mail address","Malatjip@blouberg.gov.za"]
[]
["Mayor/Executive Mayor:",null,"Secretary/PA to the Mayor/Executive Mayor:"]
["ID Number","","ID Number",""]
["Title","Mrs","Title","Ms"]
["Name","Thamaga M","Name","MATLAPU M"]
["Telephone number","015 505 7191","Telephone number","015 505 7191"]
["Cell number","082 515 7596","Cell number","082 515 7596"]
["Fax number","015 505 0296","Fax number","015 505 0296"]
["E-mail address","Maria@gmail.com","E-mail address","matlapum@blouberg.gov.za"]
[]
["Deputy Mayor/Executive Mayor:",null,"Secretary/PA to the Deputy Mayor/Executive Mayor:"]
["ID Number",null,"ID Number"]
["Title",null,"Title"]
["Name",null,"Name"]
["Telephone number",null,"Telephone number"]
["Cell number",null,"Cell number"]
["Fax number",null,"Fax number"]
["E-mail address",null,"E-mail address"]
[]
["D. MANAGEMENT LEADERSHIP"]
["Municipal Manager:",null,"Secretary/PA to the Municipal Manager:"]
["ID Number","","ID Number","8402021376082"]
["Title","Mr","Title","Mrs"]
["Name","RAMOTHOALA R","Name","RAMOLOMO MS"]
["Telephone number","015 505 7163","Telephone number","015 505 7100/21"]
["Cell number","0825234435","Cell number","0786875828"]
["Fax number","015 505 0296","Fax number","015 505 0296"]
["E-mail address","Ramothoalar@blouberg.gov.za","E-mail address","RamolomoM@blouberg.gov.za"]
[]
["Chief Financial Officer",null,"Secretary/PA to the Chief Financial Officer"]
["ID Number","","ID Number"]
["Title","Mr","Title"]
["Name","Motupa M.J","Name"]
["Telephone number","015 505 7147","Telephone number"]
["Cell number","082 818 0008","Cell number"]
["Fax number","015 505 0296","Fax number"]
["E-mail address","Matupaj@blouberg.gov.za","E-mail address"]
[]
["Official responsible for submitting financial information",null,"Official responsible for submitting financial information"]
["ID Number","8107260490086","ID Number"]
["Title","Ms","Title"]
["Name","Riba M","Name"]
["Telephone number","015 505 7156","Telephone number"]
["Cell number","083 561 9472","Cell number"]
["Fax number","015 505 0296","Fax number"]
["E-mail address","Ribam@blouberg.gov.za","E-mail address"]
["Official responsible for submitting financial information",null,"Official responsible for submitting financial information"]
["ID Number",null,"ID Number"]
["Title",null,"Title"]
["Name",null,"Name"]
["Telephone number",null,"Telephone number"]
["Cell number",null,"Cell number"]
["Fax number",null,"Fax number"]
["E-mail address",null,"E-mail address"]
["Official responsible for submitting financial information",null,"Official responsible for submitting financial information"]
["ID Number",null,"ID Number"]
["Title",null,"Title"]
["Name",null,"Name"]
["Telephone number",null,"Telephone number"]
["Cell number",null,"Cell number"]
["Fax number",null,"Fax number"]
["E-mail address",null,"E-mail address"]
["Official responsible for submitting financial information",null,"Official responsible for submitting financial information"]
["ID Number",null,"ID Number"]
["Title",null,"Title"]
["Name",null,"Name"]
["Telephone number",null,"Telephone number"]
["Cell number",null,"Cell number"]
["Fax number",null,"Fax number"]
["E-mail address",null,"E-mail address"]
["Official responsible for submitting financial information",null,"Official responsible for submitting financial information"]
["ID Number",null,"ID Number"]
["Title",null,"Title"]
["Name",null,"Name"]
["Telephone number",null,"Telephone number"]
["Cell number",null,"Cell number"]
["Fax number",null,"Fax number"]
["E-mail address",null,"E-mail address"]
["Official responsible for submitting financial information",null,"Official responsible for submitting financial information"]
["ID Number",null,"ID Number"]
["Title",null,"Title"]
["Name",null,"Name"]
["Telephone number",null,"Telephone number"]
["Cell number",null,"Cell number"]
["Fax number",null,"Fax number"]
["E-mail address",null,"E-mail address"]
["Official responsible for submitting financial information",null,"Official responsible for submitting financial information"]
["ID Number",null,"ID Number"]
["Title",null,"Title"]
["Name",null,"Name"]
["Telephone number",null,"Telephone number"]
["Cell number",null,"Cell number"]
["Fax number",null,"Fax number"]
["E-mail address",null,"E-mail address"]
["Official responsible for submitting financial information"]
["ID Number"]
["Title"]
["Name"]
["Telephone number"]
["Cell number"]
["Fax number"]
["E-mail address"]

{"sheet":"A1-Sum","index":6,"n_rows":61,"n_cols":11,"rows_kept":61,"cut":false,"hidden":false,"merged":[[1,8,1,10],[1,4,1,7],[0,0,0,2]]}
[{"$f":"muni&\" - \"&Approve1","v":"LIM351 Blouberg - Table A1 Budget Summary"}]
[{"$f":"desc","v":"Description"},{"$f":"head1b","v":"2021/22"},{"$f":"head1A","v":"2022/23"},{"$f":"Head1","v":"2023/24"},{"$f":"Head2","v":"Current Year 2024/25"},null,null,null,{"$f":"Head3","v":"2025/26 Medium Term Revenue & Expenditure Framework"}]
["R thousands",{"$f":"Head5","v":"Audited Outcome"},{"$f":"Head5","v":"Audited Outcome"},{"$f":"Head5","v":"Audited Outcome"},{"$f":"Head6","v":"Original Budget"},{"$f":"Head7","v":"Adjusted Budget"},{"$f":"Head8","v":"Full Year Forecast"},{"$f":"Head5b","v":"Pre-audit outcome"},{"$f":"Head9","v":"Budget Year 2025/26"},{"$f":"Head10","v":"Budget Year +1 2026/27"},{"$f":"Head11","v":"Budget Year +2 2027/28"}]
["Financial Performance"]
["Property rates",{"$f":"'A4-FinPerf RE'!C22","v":29497010.889999997},{"$f":"'A4-FinPerf RE'!D22","v":25228987.140000001},{"$f":"'A4-FinPerf RE'!E22","v":68960730.640000001},{"$f":"'A4-FinPerf RE'!F22","v":34586407},{"$f":"'A4-FinPerf RE'!G22","v":69755697},{"$f":"'A4-FinPerf RE'!H22","v":69755697},{"$f":"'A4-FinPerf RE'!I22","v":72542480.260000005},{"$f":"'A4-FinPerf RE'!J22","v":76395001},{"$f":"'A4-FinPerf RE'!K22","v":79832777},{"$f":"'A4-FinPerf RE'!L22","v":83828597}]
["Service charges",{"$f":"SUM('A4-FinPerf RE'!C6:C9)","v":31039184.969999999},{"$f":"SUM('A4-FinPerf RE'!D6:D9)","v":33877028.359999999},{"$f":"SUM('A4-FinPerf RE'!E6:E9)","v":37518572.480000004},{"$f":"SUM('A4-FinPerf RE'!F6:F9)","v":57958333},{"$f":"SUM('A4-FinPerf RE'!G6:G9)","v":57758333},{"$f":"SUM('A4-FinPerf RE'!H6:H9)","v":57758333},{"$f":"SUM('A4-FinPerf RE'!I6:I9)","v":41486255.539999999},{"$f":"SUM('A4-FinPerf RE'!J6:J9)","v":64573219},{"$f":"SUM('A4-FinPerf RE'!K6:K9)","v":67479014},{"$f":"SUM('A4-FinPerf RE'!L6:L9)","v":67165990}]
["Investment revenue",{"$f":"'A4-FinPerf RE'!C14","v":2018715.85},{"$f":"'A4-FinPerf RE'!D14","v":4112363.63},{"$f":"'A4-FinPerf RE'!E14","v":7720659.9000000004},{"$f":"'A4-FinPerf RE'!F14","v":8063596},{"$f":"'A4-FinPerf RE'!G14","v":11063596},{"$f":"'A4-FinPerf RE'!H14","v":11063596},{"$f":"'A4-FinPerf RE'!I14","v":7129626.1500000004},{"$f":"'A4-FinPerf RE'!J14","v":11550395},{"$f":"'A4-FinPerf RE'!K14","v":12070162},{"$f":"'A4-FinPerf RE'!L14","v":12371917}]
["Transfer and subsidies - Operational",{"$f":"'A4-FinPerf RE'!C26","v":214162630.31},{"$f":"'A4-FinPerf RE'!D26","v":225391142.56999999},{"$f":"'A4-FinPerf RE'!E26","v":241376084.02000001},{"$f":"'A4-FinPerf RE'!F26","v":250671000},{"$f":"'A4-FinPerf RE'!G26","v":250671000},{"$f":"'A4-FinPerf RE'!H26","v":250671000},{"$f":"'A4-FinPerf RE'!I26","v":249720857.28999999},{"$f":"'A4-FinPerf RE'!J26","v":249480000},{"$f":"'A4-FinPerf RE'!K26","v":246404000},{"$f":"'A4-FinPerf RE'!L26","v":257523000}]
["Other own revenue",{"$f":"'A4-FinPerf RE'!C33-SUM(B5:B8)","v":12851223.129999995},{"$f":"'A4-FinPerf RE'!D33-SUM(C5:C8)","v":31523088.930000007},{"$f":"'A4-FinPerf RE'!E33-SUM(D5:D8)","v":18026860.48999995},{"$f":"'A4-FinPerf RE'!F33-SUM(E5:E8)","v":14826903},{"$f":"'A4-FinPerf RE'!G33-SUM(F5:F8)","v":17826903},{"$f":"'A4-FinPerf RE'!H33-SUM(G5:G8)","v":17826903},{"$f":"'A4-FinPerf RE'!I33-SUM(H5:H8)","v":10909135.160000026},{"$f":"'A4-FinPerf RE'!J33-SUM(I5:I8)","v":15213297},{"$f":"'A4-FinPerf RE'!K33-SUM(J5:J8)","v":15859233},{"$f":"'A4-FinPerf RE'!L33-SUM(K5:K8)","v":16255716}]
[{"$f":"'A4-FinPerf RE'!A33","v":"Total Revenue (excluding capital transfers and contributions)"},{"$f":"SUM(B5:B9)","v":289568765.14999998},{"$f":"SUM(C5:C9)","v":320132610.63},373602907.52999997,366106239,407075529,407075529,381788354.40000004,417211912,421645186,437145220]
["Employee costs",{"$f":"'A4-FinPerf RE'!C35","v":119858268.96999995},{"$f":"'A4-FinPerf RE'!D35","v":124043648.97},{"$f":"'A4-FinPerf RE'!E35","v":132264727.49000001},{"$f":"'A4-FinPerf RE'!F35","v":140755081},{"$f":"'A4-FinPerf RE'!G35","v":140755081},{"$f":"'A4-FinPerf RE'!H35","v":140755081},{"$f":"'A4-FinPerf RE'!I35","v":127479363.73},{"$f":"'A4-FinPerf RE'!J35","v":151448377},{"$f":"'A4-FinPerf RE'!K35","v":155128555},{"$f":"'A4-FinPerf RE'!L35","v":159006765}]
["Remuneration of councillors",{"$f":"'A4-FinPerf RE'!C36","v":17213956.91},{"$f":"'A4-FinPerf RE'!D36","v":17982273.07},{"$f":"'A4-FinPerf RE'!E36","v":19212717.030000001},{"$f":"'A4-FinPerf RE'!F36","v":21997665},{"$f":"'A4-FinPerf RE'!G36","v":21997665},{"$f":"'A4-FinPerf RE'!H36","v":21997665},{"$f":"'A4-FinPerf RE'!I36","v":18109288.23},{"$f":"'A4-FinPerf RE'!J36","v":22965572},{"$f":"'A4-FinPerf RE'!K36","v":23999024},{"$f":"'A4-FinPerf RE'!L36","v":24599002}]
["Depreciation and amortisation",{"$f":"'A4-FinPerf RE'!C40","v":30420608.430000003},{"$f":"'A4-FinPerf RE'!D40","v":35157656.590000004},{"$f":"'A4-FinPerf RE'!E40","v":33819527.289999999},{"$f":"'A4-FinPerf RE'!F40","v":33513635},{"$f":"'A4-FinPerf RE'!G40","v":33513635},{"$f":"'A4-FinPerf RE'!H40","v":33513635},{"$f":"'A4-FinPerf RE'!I40","v":0},{"$f":"'A4-FinPerf RE'!J40","v":34988257},{"$f":"'A4-FinPerf RE'!K40","v":36562722},{"$f":"'A4-FinPerf RE'!L40","v":37476791}]
["Interest",{"$f":"'A4-FinPerf RE'!C41","v":0},{"$f":"'A4-FinPerf RE'!D41","v":0},{"$f":"'A4-FinPerf RE'!E41","v":4441877.01},{"$f":"'A4-FinPerf RE'!F41","v":0},{"$f":"'A4-FinPerf RE'!G41","v":0},{"$f":"'A4-FinPerf RE'!H41","v":0},{"$f":"'A4-FinPerf RE'!I41","v":0},{"$f":"'A4-FinPerf RE'!J41","v":0},{"$f":"'A4-FinPerf RE'!K41","v":0},{"$f":"'A4-FinPerf RE'!L41","v":0}]
["Inventory consumed and bulk purchases",{"$f":"'A4-FinPerf RE'!C37+'A4-FinPerf RE'!C38","v":57305148.640000001},{"$f":"'A4-FinPerf RE'!D37+'A4-FinPerf RE'!D38","v":56552612.469999999},{"$f":"'A4-FinPerf RE'!E37+'A4-FinPerf RE'!E38","v":62212546.390000001},{"$f":"'A4-FinPerf RE'!F37+'A4-FinPerf RE'!F38","v":66777183},{"$f":"'A4-FinPerf RE'!G37+'A4-FinPerf RE'!G38","v":69777183},{"$f":"'A4-FinPerf RE'!H37+'A4-FinPerf RE'!H38","v":69777183},{"$f":"'A4-FinPerf RE'!I37+'A4-FinPerf RE'!I38","v":58908485.289999999},{"$f":"'A4-FinPerf RE'!J37+'A4-FinPerf RE'!J38","v":69926059},{"$f":"'A4-FinPerf RE'!K37+'A4-FinPerf RE'!K38","v":73871979},{"$f":"'A4-FinPerf RE'!L37+'A4-FinPerf RE'!L38","v":75718777}]
["Transfers and subsidies",{"$f":"'A4-FinPerf RE'!C43","v":49860},{"$f":"'A4-FinPerf RE'!D43","v":0},{"$f":"'A4-FinPerf RE'!E43","v":0},{"$f":"'A4-FinPerf RE'!F43","v":0},{"$f":"'A4-FinPerf RE'!G43","v":0},{"$f":"'A4-FinPerf RE'!H43","v":0},{"$f":"'A4-FinPerf RE'!I43","v":0},{"$f":"'A4-FinPerf RE'!J43","v":0},{"$f":"'A4-FinPerf RE'!K43","v":0},{"$f":"'A4-FinPerf RE'!L43","v":0}]
["Other expenditure",{"$f":"'A4-FinPerf RE'!C48-SUM(B11:B16)","v":103731104.50000006},{"$f":"'A4-FinPerf RE'!D48-SUM(C11:C16)","v":182037499.08000001},{"$f":"'A4-FinPerf RE'!E48-SUM(D11:D16)","v":96417110.920000076},{"$f":"'A4-FinPerf RE'!F48-SUM(E11:E16)","v":169859001},{"$f":"'A4-FinPerf RE'!G48-SUM(F11:F16)","v":163151319},{"$f":"'A4-FinPerf RE'!H48-SUM(G11:G16)","v":163151319},{"$f":"'A4-FinPerf RE'!I48-SUM(H11:H16)","v":90707074.420000017},{"$f":"'A4-FinPerf RE'!J48-SUM(I11:I16)","v":121159969},{"$f":"'A4-FinPerf RE'!K48-SUM(J11:J16)","v":115295782},{"$f":"'A4-FinPerf RE'!L48-SUM(K11:K16)","v":122791207}]
[{"$f":"'A4-FinPerf RE'!A48","v":"Total Expenditure"},{"$f":"SUM(B11:B17)","v":328578947.45000005},{"$f":"SUM(C11:C17)","v":415773690.18000001},348368506.13000005,432902565,429194883,429194883,295204211.67000002,400488234,404858062,419592542]
[{"$f":"'A4-FinPerf RE'!A49","v":"Surplus/(Deficit)"},{"$f":"B10-B18","v":-39010182.300000072},{"$f":"C10-C18","v":-95641079.550000012},25234401.399999917,-66796326,-22119354,-22119354,86584142.730000019,16723678,16787124,17552678]
[{"$f":"'A4-FinPerf RE'!A50","v":"Transfers and subsidies - capital (monetary allocations)"},{"$f":"'A4-FinPerf RE'!C50","v":62602152.700000003},{"$f":"'A4-FinPerf RE'!D50","v":112528034.09},{"$f":"'A4-FinPerf RE'!E50","v":95456552.069999993},{"$f":"'A4-FinPerf RE'!F50","v":67485000},{"$f":"'A4-FinPerf RE'!G50","v":126168204},{"$f":"'A4-FinPerf RE'!H50","v":126168204},{"$f":"'A4-FinPerf RE'!I50","v":106267527.14},{"$f":"'A4-FinPerf RE'!J50","v":70241000},{"$f":"'A4-FinPerf RE'!K50","v":75105000},{"$f":"'A4-FinPerf RE'!L50","v":78484000}]
[{"$f":"'A4-FinPerf RE'!A51","v":"Transfers and subsidies - capital (in-kind)"},{"$f":"'A4-FinPerf RE'!C51","v":0},{"$f":"'A4-FinPerf RE'!D51","v":0},{"$f":"'A4-FinPerf RE'!E51","v":0},{"$f":"'A4-FinPerf RE'!F51","v":0},{"$f":"'A4-FinPerf RE'!G51","v":0},{"$f":"'A4-FinPerf RE'!H51","v":0},{"$f":"'A4-FinPerf RE'!I51","v":0},{"$f":"'A4-FinPerf RE'!J51","v":0},{"$f":"'A4-FinPerf RE'!K51","v":0},{"$f":"'A4-FinPerf RE'!L51","v":0}]
[{"$f":"'A4-FinPerf RE'!A52","v":"Surplus/(Deficit) after capital transfers & contributions"},{"$f":"B19+SUM(B20:B21)","v":23591970.399999931},{"$f":"C19+SUM(C20:C21)","v":16886954.539999992},120690953.46999991,688674,104048850,104048850,192851669.87,86964678,91892124,96036678]
[{"$f":"'A4-FinPerf RE'!A58","v":"Share of Surplus/Deficit attributable to Associate"},{"$f":"'A4-FinPerf RE'!C58","v":0},{"$f":"'A4-FinPerf RE'!D58","v":0},{"$f":"'A4-FinPerf RE'!E58","v":0},{"$f":"'A4-FinPerf RE'!F58","v":0},{"$f":"'A4-FinPerf RE'!G58","v":0},{"$f":"'A4-FinPerf RE'!H58","v":0},{"$f":"'A4-FinPerf RE'!I58","v":0},{"$f":"'A4-FinPerf RE'!J58","v":0},{"$f":"'A4-FinPerf RE'!K58","v":0},{"$f":"'A4-FinPerf RE'!L58","v":0}]
[{"$f":"'A4-FinPerf RE'!A60","v":"Surplus/(Deficit) for the year"},{"$f":"B22+B23","v":23591970.399999931},{"$f":"C22+C23","v":16886954.539999992},120690953.46999991,688674,104048850,104048850,192851669.87,86964678,91892124,96036678]
["Capital expenditure & funds sources"]
["Capital expenditure",{"$f":"'A5-Capex'!C63","v":8073757.71},{"$f":"'A5-Capex'!D63","v":523676},{"$f":"'A5-Capex'!E63","v":84578647.419999987},{"$f":"'A5-Capex'!F63","v":74908531},{"$f":"'A5-Capex'!G63","v":145509170},{"$f":"'A5-Capex'!H63","v":145509170},{"$f":"'A5-Capex'!I63","v":94233009.24000001},{"$f":"'A5-Capex'!J63","v":86964800},{"$f":"'A5-Capex'!K63","v":92705000},{"$f":"'A5-Capex'!L63","v":96877400}]
["Transfers recognised - capital",{"$f":"'A5-Capex'!C70","v":0},{"$f":"'A5-Capex'!D70","v":0},{"$f":"'A5-Capex'!E70","v":83484427.590000004},{"$f":"'A5-Capex'!F70","v":65785000},{"$f":"'A5-Capex'!G70","v":125178416},{"$f":"'A5-Capex'!H70","v":125178416},{"$f":"'A5-Capex'!I70","v":86296993.769999996},{"$f":"'A5-Capex'!J70","v":67564800},{"$f":"'A5-Capex'!K70","v":75105000},{"$f":"'A5-Capex'!L70","v":78484000}]
[]
[{"$f":"'A5-Capex'!A72","v":"Borrowing"},{"$f":"'A5-Capex'!C72","v":0},{"$f":"'A5-Capex'!D72","v":0},{"$f":"'A5-Capex'!E72","v":0},{"$f":"'A5-Capex'!F72","v":0},{"$f":"'A5-Capex'!G72","v":0},{"$f":"'A5-Capex'!H72","v":0},{"$f":"'A5-Capex'!I72","v":0},{"$f":"'A5-Capex'!J72","v":0},{"$f":"'A5-Capex'!K72","v":0},{"$f":"'A5-Capex'!L72","v":0}]
[{"$f":"'A5-Capex'!A73","v":"Internally generated funds"},{"$f":"'A5-Capex'!C73","v":8073757.71},{"$f":"'A5-Capex'!D73","v":523676},{"$f":"'A5-Capex'!E73","v":1094219.83},{"$f":"'A5-Capex'!F73","v":9123531},{"$f":"'A5-Capex'!G73","v":20330754},{"$f":"'A5-Capex'!H73","v":20330754},{"$f":"'A5-Capex'!I73","v":7936015.4699999997},{"$f":"'A5-Capex'!J73","v":19400000},{"$f":"'A5-Capex'!K73","v":17600000},{"$f":"'A5-Capex'!L73","v":18393400}]
["Total sources of capital funds",{"$f":"+B27+B29+B30","v":8073757.71},{"$f":"+C27+C29+C30","v":523676},84578647.420000002,74908531,145509170,145509170,94233009.239999995,86964800,92705000,96877400]
["Financial position"]
[{"$f":"'A6-FinPos'!A13","v":"Total current assets"},{"$f":"'A6-FinPos'!C13","v":95700961.599999994},{"$f":"'A6-FinPos'!D13","v":157302092.66},{"$f":"'A6-FinPos'!E13","v":283431826.53000003},{"$f":"'A6-FinPos'!F13","v":262884038.84999999},{"$f":"'A6-FinPos'!G13","v":323947109.85000002},{"$f":"'A6-FinPos'!H13","v":323947109.85000002},{"$f":"'A6-FinPos'!I13","v":312587512.73000002},{"$f":"'A6-FinPos'!J13","v":389279934.85000002},{"$f":"'A6-FinPos'!K13","v":437395931.85000002},{"$f":"'A6-FinPos'!L13","v":453037211.85000002}]
[{"$f":"'A6-FinPos'!A25","v":"Total non current assets"},{"$f":"'A6-FinPos'!C25","v":986551571.76000011},{"$f":"'A6-FinPos'!D25","v":1076475556.8200002},{"$f":"'A6-FinPos'!E25","v":1133303903.52},{"$f":"'A6-FinPos'!F25","v":1138425676},{"$f":"'A6-FinPos'!G25","v":1198317712},{"$f":"'A6-FinPos'!H25","v":1198317712},{"$f":"'A6-FinPos'!I25","v":1224660945.7},{"$f":"'A6-FinPos'!J25","v":1432922480},{"$f":"'A6-FinPos'!K25","v":1499230776},{"$f":"'A6-FinPos'!L25","v":1538566323}]
[{"$f":"'A6-FinPos'!A37","v":"Total current liabilities"},{"$f":"'A6-FinPos'!C37","v":89480325.370000005},{"$f":"'A6-FinPos'!D37","v":113648505.26000001},{"$f":"'A6-FinPos'!E37","v":198580296.5},{"$f":"'A6-FinPos'!F37","v":75307156},{"$f":"'A6-FinPos'!G37","v":75307156},{"$f":"'A6-FinPos'!H37","v":75307156},{"$f":"'A6-FinPos'!I37","v":127558044.84999999},{"$f":"'A6-FinPos'!J37","v":128391051},{"$f":"'A6-FinPos'!K37","v":119753646},{"$f":"'A6-FinPos'!L37","v":129506861}]
[{"$f":"'A6-FinPos'!A43","v":"Total non current liabilities"},{"$f":"'A6-FinPos'!C43","v":23995855.169999998},{"$f":"'A6-FinPos'!D43","v":38433209.980000004},{"$f":"'A6-FinPos'!E43","v":19629114.120000001},{"$f":"'A6-FinPos'!F43","v":27203817},{"$f":"'A6-FinPos'!G43","v":27203817},{"$f":"'A6-FinPos'!H43","v":27203817},{"$f":"'A6-FinPos'!I43","v":19629114.120000001},{"$f":"'A6-FinPos'!J43","v":21724942},{"$f":"'A6-FinPos'!K43","v":22702566},{"$f":"'A6-FinPos'!L43","v":23270130}]
["Community wealth/Equity",{"$f":"'A6-FinPos'!C50","v":1055035249.62},{"$f":"'A6-FinPos'!D50","v":1077456476.2},{"$f":"'A6-FinPos'!E50","v":1200040776.4099998},{"$f":"'A6-FinPos'!F50","v":1339316667},{"$f":"'A6-FinPos'!G50","v":1457959774},{"$f":"'A6-FinPos'!H50","v":1457959774},{"$f":"'A6-FinPos'!I50","v":1391582936.6700001},{"$f":"'A6-FinPos'!J50","v":1652401899},{"$f":"'A6-FinPos'!K50","v":1794592356},{"$f":"'A6-FinPos'!L50","v":1839297800}]
["Cash flows"]
["Net cash from (used) operating",{"$f":"'A7-CFlow'!C17","v":-52470381.769999981},{"$f":"'A7-CFlow'!D17","v":-131839263.48000002},{"$f":"'A7-CFlow'!E17","v":119403011.66999996},{"$f":"'A7-CFlow'!F17","v":79658878},{"$f":"'A7-CFlow'!G17","v":146076188},{"$f":"'A7-CFlow'!H17","v":146076188},{"$f":"'A7-CFlow'!I17","v":-89787784.060000002},{"$f":"'A7-CFlow'!J17","v":94196500},{"$f":"'A7-CFlow'!K17","v":99840660},{"$f":"'A7-CFlow'!L17","v":100835867}]
["Net cash from (used) investing",{"$f":"'A7-CFlow'!C27","v":-8073757.71},{"$f":"'A7-CFlow'!D27","v":-750306.17},{"$f":"'A7-CFlow'!E27","v":-89327281.460000008},{"$f":"'A7-CFlow'!F27","v":-68373398.959999993},{"$f":"'A7-CFlow'!G27","v":-145509170},{"$f":"'A7-CFlow'!H27","v":-145509170},{"$f":"'A7-CFlow'!I27","v":-87873074.959999993},{"$f":"'A7-CFlow'!J27","v":-84964800},{"$f":"'A7-CFlow'!K27","v":-90615000},{"$f":"'A7-CFlow'!L27","v":-94735150}]
["Net cash from (used) financing",{"$f":"'A7-CFlow'!C36","v":0},{"$f":"'A7-CFlow'!D36","v":0},{"$f":"'A7-CFlow'!E36","v":6537705.1699999999},{"$f":"'A7-CFlow'!F36","v":0},{"$f":"'A7-CFlow'!G36","v":0},{"$f":"'A7-CFlow'!H36","v":0},{"$f":"'A7-CFlow'!I36","v":0},{"$f":"'A7-CFlow'!J36","v":0},{"$f":"'A7-CFlow'!K36","v":0},{"$f":"'A7-CFlow'!L36","v":0}]
[{"$f":"LEFT('A7-CFlow'!A40,37)","v":"Cash/cash equivalents at the year end"},{"$f":"'A7-CFlow'!C40","v":-19213536.599999979},{"$f":"'A7-CFlow'!D40","v":-47755019.150000021},{"$f":"'A7-CFlow'!E40","v":138456108.51999995},{"$f":"'A7-CFlow'!F40","v":208776570.04000002},{"$f":"'A7-CFlow'!G40","v":198058109},{"$f":"'A7-CFlow'!H40","v":198058109},{"$f":"'A7-CFlow'!I40","v":-177660859.01999998},{"$f":"'A7-CFlow'!J40","v":195256294},{"$f":"'A7-CFlow'!K40","v":204481954},{"$f":"'A7-CFlow'!L40","v":210582671}]
[]
["Cash backing/surplus reconciliation"]
[{"$f":"'A8-ResRecon'!A4","v":"Cash and investments available"},{"$f":"'A8-ResRecon'!C8","v":89472523.859999999},{"$f":"'A8-ResRecon'!D8","v":106707276.67},{"$f":"'A8-ResRecon'!E8","v":197424330.16},{"$f":"'A8-ResRecon'!F8","v":215461290},{"$f":"'A8-ResRecon'!G8","v":264172904},{"$f":"'A8-ResRecon'!H8","v":264172904},{"$f":"'A8-ResRecon'!I8","v":141824515.93000001},{"$f":"'A8-ResRecon'!J8","v":250044989},{"$f":"'A8-ResRecon'!K8","v":292257123},{"$f":"'A8-ResRecon'!L8","v":301431778}]
[{"$f":"'A8-ResRecon'!A10","v":"Application of cash and investments"},{"$f":"'A8-ResRecon'!C18","v":81055622.760000005},{"$f":"'A8-ResRecon'!D18","v":61250134.260000005},{"$f":"'A8-ResRecon'!E18","v":124223670.33},{"$f":"'A8-ResRecon'!F18","v":50239708},{"$f":"'A8-ResRecon'!G18","v":54862708},{"$f":"'A8-ResRecon'!H18","v":54862708},{"$f":"'A8-ResRecon'!I18","v":39232635.369999997},{"$f":"'A8-ResRecon'!J18","v":6590378},{"$f":"'A8-ResRecon'!K18","v":-7546527},{"$f":"'A8-ResRecon'!L18","v":520507}]
["Balance - surplus (shortfall)",{"$f":"B45-B46","v":8416901.099999994},{"$f":"C45-C46","v":45457142.409999996},73200659.829999998,165221582,209310196,209310196,102591880.56,243454611,299803650,300911271]
["Asset management"]
["Asset register summary (WDV)",{"$f":"'A9-Asset'!C180","v":778068844.07000005},{"$f":"'A9-Asset'!D180","v":912847317.20000005},{"$f":"'A9-Asset'!E180","v":957867714.82000017},{"$f":"'A9-Asset'!F180","v":1111180398},{"$f":"'A9-Asset'!G180","v":1053571993},{"$f":"'A9-Asset'!H180","v":1053571993},null,{"$f":"'A9-Asset'!I180","v":1344210167},{"$f":"'A9-Asset'!J180","v":1393714273},{"$f":"'A9-Asset'!K180","v":1428910532}]
[{"$f":"'A9-Asset'!A183","v":"Depreciation"},{"$f":"'A9-Asset'!C183","v":30420608.43},{"$f":"'A9-Asset'!D183","v":35157656.589999996},{"$f":"'A9-Asset'!E183","v":33819527.289999999},{"$f":"'A9-Asset'!F183","v":33513635},{"$f":"'A9-Asset'!G183","v":33513635},{"$f":"'A9-Asset'!H183","v":33513635},null,{"$f":"'A9-Asset'!I183","v":34988257},{"$f":"'A9-Asset'!J183","v":36562722},{"$f":"'A9-Asset'!K183","v":37476791}]
["Renewal and Upgrading of Existing Assets",{"$f":"'A9-Asset'!C40+'A9-Asset'!C75","v":93057.64},{"$f":"'A9-Asset'!D40+'A9-Asset'!D75","v":0},{"$f":"'A9-Asset'!E40+'A9-Asset'!E75","v":837890.78},{"$f":"'A9-Asset'!F40+'A9-Asset'!F75","v":16816000},{"$f":"'A9-Asset'!G40+'A9-Asset'!G75","v":6988144},{"$f":"'A9-Asset'!H40+'A9-Asset'!H75","v":6988144},null,{"$f":"'A9-Asset'!I40+'A9-Asset'!I75","v":9300000},{"$f":"'A9-Asset'!J40+'A9-Asset'!J75","v":6100000},{"$f":"'A9-Asset'!K40+'A9-Asset'!K75","v":11148400}]
["Repairs and Maintenance",{"$f":"'A9-Asset'!C184","v":16747919.76},{"$f":"'A9-Asset'!D184","v":5831457.5099999998},{"$f":"'A9-Asset'!E184","v":10281730.629999999},{"$f":"'A9-Asset'!F184","v":5931016},{"$f":"'A9-Asset'!G184","v":3314016},{"$f":"'A9-Asset'!H184","v":3314016},null,{"$f":"'A9-Asset'!I184","v":3515528},{"$f":"'A9-Asset'!J184","v":3569229},{"$f":"'A9-Asset'!K184","v":3658463}]
[]
["Free services"]
["Cost of Free Basic Services provided",{"$f":"'A10-SerDel'!C60","v":19177.77},{"$f":"'A10-SerDel'!D60","v":24456.720000000001},{"$f":"'A10-SerDel'!E60","v":25600.080000000002},{"$f":"'A10-SerDel'!F60","v":4207000},{"$f":"'A10-SerDel'!G60","v":3807000},{"$f":"'A10-SerDel'!H60","v":3807000},null,{"$f":"'A10-SerDel'!I60","v":5336408},{"$f":"'A10-SerDel'!J60","v":5581329},{"$f":"'A10-SerDel'!K60","v":5122092}]
["Revenue cost of free services provided",{"$f":"'A10-SerDel'!C79","v":2981107.94},{"$f":"'A10-SerDel'!D79","v":7823351.5499999998},{"$f":"'A10-SerDel'!E79","v":35293690.609999999},{"$f":"'A10-SerDel'!F79","v":7586249},{"$f":"'A10-SerDel'!G79","v":12261484},{"$f":"'A10-SerDel'!H79","v":12261484},null,{"$f":"'A10-SerDel'!I79","v":13396907},{"$f":"'A10-SerDel'!J79","v":13999767},{"$f":"'A10-SerDel'!K79","v":14349761}]
["Households below minimum service level"]
[{"$f":"'A10-SerDel'!A5","v":"Water:"},{"$f":"'A10-SerDel'!C14","v":0},{"$f":"'A10-SerDel'!D14","v":0},{"$f":"'A10-SerDel'!E14","v":0},{"$f":"'A10-SerDel'!F14","v":0},{"$f":"'A10-SerDel'!G14","v":0},{"$f":"'A10-SerDel'!H14","v":0},null,{"$f":"'A10-SerDel'!I14","v":0},{"$f":"'A10-SerDel'!J14","v":0},{"$f":"'A10-SerDel'!K14","v":0}]
[{"$f":"'A10-SerDel'!A16","v":"Sanitation/sewerage:"},{"$f":"'A10-SerDel'!C26","v":0},{"$f":"'A10-SerDel'!D26","v":0},{"$f":"'A10-SerDel'!E26","v":0},{"$f":"'A10-SerDel'!F26","v":0},{"$f":"'A10-SerDel'!G26","v":0},{"$f":"'A10-SerDel'!H26","v":0},null,{"$f":"'A10-SerDel'!I26","v":0},{"$f":"'A10-SerDel'!J26","v":0},{"$f":"'A10-SerDel'!K26","v":0}]
[{"$f":"'A10-SerDel'!A28","v":"Energy:"},{"$f":"'A10-SerDel'!C35","v":0},{"$f":"'A10-SerDel'!D35","v":0},{"$f":"'A10-SerDel'!E35","v":0},{"$f":"'A10-SerDel'!F35","v":0},{"$f":"'A10-SerDel'!G35","v":0},{"$f":"'A10-SerDel'!H35","v":0},null,{"$f":"'A10-SerDel'!I35","v":0},{"$f":"'A10-SerDel'!J35","v":0},{"$f":"'A10-SerDel'!K35","v":0}]
[{"$f":"'A10-SerDel'!A37","v":"Refuse:"},{"$f":"'A10-SerDel'!C45","v":0},{"$f":"'A10-SerDel'!D45","v":0},{"$f":"'A10-SerDel'!E45","v":0},{"$f":"'A10-SerDel'!F45","v":0},{"$f":"'A10-SerDel'!G45","v":0},{"$f":"'A10-SerDel'!H45","v":0},null,{"$f":"'A10-SerDel'!I45","v":0},{"$f":"'A10-SerDel'!J45","v":0},{"$f":"'A10-SerDel'!K45","v":0}]

{"sheet":"A2-FinPerf SC","index":7,"n_rows":54,"n_cols":11,"rows_kept":54,"cut":false,"hidden":false,"merged":[[53,0,53,10],[1,5,1,7],[1,8,1,10]]}
[{"$f":"muni&\" - \"&Approve3","v":"LIM351 Blouberg - Table A2 Budgeted Financial Performance (revenue and expenditure by functional classification)"}]
[{"$f":"\"Functional Classification \"&desc","v":"Functional Classification Description"},{"$f":"head27","v":"Ref"},{"$f":"head1b","v":"2021/22"},{"$f":"head1A","v":"2022/23"},{"$f":"Head1","v":"2023/24"},{"$f":"Head2","v":"Current Year 2024/25"},null,null,{"$f":"Head3","v":"2025/26 Medium Term Revenue & Expenditure Framework"}]
["R thousand",1,{"$f":"Head5","v":"Audited Outcome"},{"$f":"Head5","v":"Audited Outcome"},{"$f":"Head5","v":"Audited Outcome"},{"$f":"Head6","v":"Original Budget"},{"$f":"Head7","v":"Adjusted Budget"},{"$f":"Head8","v":"Full Year Forecast"},{"$f":"Head9","v":"Budget Year 2025/26"},{"$f":"Head10","v":"Budget Year +1 2026/27"},{"$f":"Head11","v":"Budget Year +2 2027/28"}]
["Revenue - Functional"]
["Governance and administration",null,{"$f":"SUM(C6:C8)","v":245714191.48000002},{"$f":"SUM(D6:D8)","v":274907887.25},318491486.69,293731126,332000416,332000416,337083655,339798425,355252287]
["Executive and council",null,{"$f":"A2A!C6","v":0},{"$f":"A2A!D6","v":0},{"$f":"A2A!E6","v":0},{"$f":"A2A!F6","v":0},{"$f":"A2A!G6","v":0},{"$f":"A2A!H6","v":0},{"$f":"A2A!I6","v":0},{"$f":"A2A!J6","v":0},{"$f":"A2A!K6","v":0}]
["Finance and administration",null,{"$f":"A2A!C9","v":245714191.48000002},{"$f":"A2A!D9","v":274907887.25},{"$f":"A2A!E9","v":318491486.69},{"$f":"A2A!F9","v":293731126},{"$f":"A2A!G9","v":332000416},{"$f":"A2A!H9","v":332000416},{"$f":"A2A!I9","v":337083655},{"$f":"A2A!J9","v":339798425},{"$f":"A2A!K9","v":355252287}]
["Internal audit",null,{"$f":"A2A!C23","v":0},{"$f":"A2A!D23","v":0},{"$f":"A2A!E23","v":0},{"$f":"A2A!F23","v":0},{"$f":"A2A!G23","v":0},{"$f":"A2A!H23","v":0},{"$f":"A2A!I23","v":0},{"$f":"A2A!J23","v":0},{"$f":"A2A!K23","v":0}]
["Community and public safety",null,{"$f":"SUM(C10:C14)","v":3316321.67},{"$f":"SUM(D10:D14)","v":2742997.67},2774533.16,6818500,6818500,6818500,7143345,7464799,7651418]
["Community and social services",null,{"$f":"A2A!C26","v":0},{"$f":"A2A!D26","v":0},{"$f":"A2A!E26","v":0},{"$f":"A2A!F26","v":0},{"$f":"A2A!G26","v":0},{"$f":"A2A!H26","v":0},{"$f":"A2A!I26","v":0},{"$f":"A2A!J26","v":0},{"$f":"A2A!K26","v":0}]
["Sport and recreation",null,{"$f":"A2A!C48","v":0},{"$f":"A2A!D48","v":0},{"$f":"A2A!E48","v":0},{"$f":"A2A!F48","v":0},{"$f":"A2A!G48","v":0},{"$f":"A2A!H48","v":0},{"$f":"A2A!I48","v":0},{"$f":"A2A!J48","v":0},{"$f":"A2A!K48","v":0}]
["Public safety",null,{"$f":"A2A!C54","v":3316321.67},{"$f":"A2A!D54","v":2742997.67},{"$f":"A2A!E54","v":2774533.16},{"$f":"A2A!F54","v":6818500},{"$f":"A2A!G54","v":6818500},{"$f":"A2A!H54","v":6818500},{"$f":"A2A!I54","v":7143345},{"$f":"A2A!J54","v":7464799},{"$f":"A2A!K54","v":7651418}]
["Housing",null,{"$f":"A2A!C63","v":0},{"$f":"A2A!D63","v":0},{"$f":"A2A!E63","v":0},{"$f":"A2A!F63","v":0},{"$f":"A2A!G63","v":0},{"$f":"A2A!H63","v":0},{"$f":"A2A!I63","v":0},{"$f":"A2A!J63","v":0},{"$f":"A2A!K63","v":0}]
["Health",null,{"$f":"A2A!C66","v":0},{"$f":"A2A!D66","v":0},{"$f":"A2A!E66","v":0},{"$f":"A2A!F66","v":0},{"$f":"A2A!G66","v":0},{"$f":"A2A!H66","v":0},{"$f":"A2A!I66","v":0},{"$f":"A2A!J66","v":0},{"$f":"A2A!K66","v":0}]
["Economic and environmental services",null,{"$f":"SUM(C16:C18)","v":70364971.200000003},{"$f":"SUM(D16:D18)","v":91173149.629999995},85391509.650000006,70003555,117333264,117333264,73076947,62068564,64798654]
["Planning and development",null,{"$f":"A2A!C75","v":57486716.359999999},{"$f":"A2A!D75","v":91173149.629999995},{"$f":"A2A!E75","v":76997179.88000001},{"$f":"A2A!F75","v":54287555},{"$f":"A2A!G75","v":58912288},{"$f":"A2A!H75","v":58912288},{"$f":"A2A!I75","v":57359947},{"$f":"A2A!J75","v":62068564},{"$f":"A2A!K75","v":64798654}]
["Road transport",null,{"$f":"A2A!C86","v":12878254.84},{"$f":"A2A!D86","v":0},{"$f":"A2A!E86","v":8394329.7699999996},{"$f":"A2A!F86","v":15716000},{"$f":"A2A!G86","v":58420976},{"$f":"A2A!H86","v":58420976},{"$f":"A2A!I86","v":15717000},{"$f":"A2A!J86","v":0},{"$f":"A2A!K86","v":0}]
["Environmental protection",null,{"$f":"A2A!C91","v":0},{"$f":"A2A!D91","v":0},{"$f":"A2A!E91","v":0},{"$f":"A2A!F91","v":0},{"$f":"A2A!G91","v":0},{"$f":"A2A!H91","v":0},{"$f":"A2A!I91","v":0},{"$f":"A2A!J91","v":0},{"$f":"A2A!K91","v":0}]
["Trading services",null,{"$f":"SUM(C20:C23)","v":32775433.5},{"$f":"SUM(D20:D23)","v":63836610.170000002},62401930.100000001,63038058,77091553,77091553,70148965,{"$f":"SUM(J20:J23)","v":87418398},87926861]
["Energy sources",null,{"$f":"A2A!C99","v":29464538.93},{"$f":"A2A!D99","v":59700824.68},{"$f":"A2A!E99","v":58894783.240000002},{"$f":"A2A!F99","v":56286558},{"$f":"A2A!G99","v":71640053},{"$f":"A2A!H99","v":71640053},{"$f":"A2A!I99","v":62235686},{"$f":"A2A!J99","v":81036292},{"$f":"A2A!K99","v":83385200}]
["Water management",null,{"$f":"A2A!C103","v":11436.52},{"$f":"A2A!D103","v":8162.17},{"$f":"A2A!E103","v":0},{"$f":"A2A!F103","v":0},{"$f":"A2A!G103","v":0},{"$f":"A2A!H103","v":0},{"$f":"A2A!I103","v":0},{"$f":"A2A!J103","v":0},{"$f":"A2A!K103","v":0}]
["Waste water management",null,{"$f":"A2A!C107","v":23524.880000000001},{"$f":"A2A!D107","v":10993.02},{"$f":"A2A!E107","v":0},{"$f":"A2A!F107","v":0},{"$f":"A2A!G107","v":0},{"$f":"A2A!H107","v":0},{"$f":"A2A!I107","v":0},{"$f":"A2A!J107","v":0},{"$f":"A2A!K107","v":0}]
["Waste management",null,{"$f":"A2A!C112","v":3275933.17},{"$f":"A2A!D112","v":4116630.3},{"$f":"A2A!E112","v":3507146.86},{"$f":"A2A!F112","v":6751500},{"$f":"A2A!G112","v":5451500},{"$f":"A2A!H112","v":5451500},{"$f":"A2A!I112","v":7913279},{"$f":"A2A!J112","v":6382106},{"$f":"A2A!K112","v":4541661}]
["Other",4,{"$f":"A2A!C117","v":0},{"$f":"A2A!D117","v":0},{"$f":"A2A!E117","v":0},{"$f":"A2A!F117","v":0},{"$f":"A2A!G117","v":0},{"$f":"A2A!H117","v":0},{"$f":"A2A!I117","v":0},{"$f":"A2A!J117","v":0},{"$f":"A2A!K117","v":0}]
[{"$f":"\"Total \"&A4","v":"Total Revenue - Functional"},2,{"$f":"C5+C9+C15+C19+C24","v":352170917.85000002},{"$f":"D5+D9+D15+D19+D24","v":432660644.72000003},{"$f":"E5+E9+E15+E19+E24","v":469059459.60000002},433591239,533243733,533243733,{"$f":"I5+I9+I15+I19+I24","v":487452912},496750186,515629220]
[]
["Expenditure - Functional"]
["Governance and administration",null,{"$f":"SUM(C29:C31)","v":157167716.32999998},{"$f":"SUM(D29:D31)","v":250407200.05000001},162388544.88,226413674,225120344,225120344,188442976,200429401,210053159]
["Executive and council",null,{"$f":"A2A!C128","v":61439667.019999996},{"$f":"A2A!D128","v":71221015.140000001},{"$f":"A2A!E128","v":72405817.010000005},{"$f":"A2A!F128","v":74063121},{"$f":"A2A!G128","v":73182584},{"$f":"A2A!H128","v":73182584},{"$f":"A2A!I128","v":54763829},{"$f":"A2A!J128","v":62380714},{"$f":"A2A!K128","v":63712933}]
["Finance and administration",null,{"$f":"A2A!C131","v":95728049.310000002},{"$f":"A2A!D131","v":179186184.91},{"$f":"A2A!E131","v":89982727.870000005},{"$f":"A2A!F131","v":152350553},{"$f":"A2A!G131","v":151937760},{"$f":"A2A!H131","v":151937760},{"$f":"A2A!I131","v":133679147},{"$f":"A2A!J131","v":138048687},{"$f":"A2A!K131","v":146340226}]
["Internal audit",null,{"$f":"A2A!C145","v":0},{"$f":"A2A!D145","v":0},{"$f":"A2A!E145","v":0},{"$f":"A2A!F145","v":0},{"$f":"A2A!G145","v":0},{"$f":"A2A!H145","v":0},{"$f":"A2A!I145","v":0},{"$f":"A2A!J145","v":0},{"$f":"A2A!K145","v":0}]
["Community and public safety",null,{"$f":"SUM(C33:C37)","v":16366667.65},{"$f":"SUM(D33:D37)","v":18028859.619999997},19581825.129999999,18551191,18486191,18486191,36186608,20163995,20660596]
["Community and social services",null,{"$f":"A2A!C148","v":0},{"$f":"A2A!D148","v":0},{"$f":"A2A!E148","v":0},{"$f":"A2A!F148","v":0},{"$f":"A2A!G148","v":0},{"$f":"A2A!H148","v":0},{"$f":"A2A!I148","v":0},{"$f":"A2A!J148","v":0},{"$f":"A2A!K148","v":0}]
["Sport and recreation",null,{"$f":"A2A!C170","v":0},{"$f":"A2A!D170","v":0},{"$f":"A2A!E170","v":0},{"$f":"A2A!F170","v":0},{"$f":"A2A!G170","v":0},{"$f":"A2A!H170","v":0},{"$f":"A2A!I170","v":0},{"$f":"A2A!J170","v":0},{"$f":"A2A!K170","v":0}]
["Public safety",null,{"$f":"A2A!C176","v":16366667.65},{"$f":"A2A!D176","v":18028859.619999997},{"$f":"A2A!E176","v":19581825.129999999},{"$f":"A2A!F176","v":18551191},{"$f":"A2A!G176","v":18486191},{"$f":"A2A!H176","v":18486191},{"$f":"A2A!I176","v":36186608},{"$f":"A2A!J176","v":20163995},{"$f":"A2A!K176","v":20660596}]
["Housing",null,{"$f":"A2A!C185","v":0},{"$f":"A2A!D185","v":0},{"$f":"A2A!E185","v":0},{"$f":"A2A!F185","v":0},{"$f":"A2A!G185","v":0},{"$f":"A2A!H185","v":0},{"$f":"A2A!I185","v":0},{"$f":"A2A!J185","v":0},{"$f":"A2A!K185","v":0}]
["Health",null,{"$f":"A2A!C188","v":0},{"$f":"A2A!D188","v":0},{"$f":"A2A!E188","v":0},{"$f":"A2A!F188","v":0},{"$f":"A2A!G188","v":0},{"$f":"A2A!H188","v":0},{"$f":"A2A!I188","v":0},{"$f":"A2A!J188","v":0},{"$f":"A2A!K188","v":0}]
["Economic and environmental services",null,{"$f":"SUM(C39:C41)","v":37444051.030000001},{"$f":"SUM(D39:D41)","v":36644512.019999996},40924436.049999997,36259765,34260707,34260707,36950454,38592323,39557138]
["Planning and development",null,{"$f":"A2A!C197","v":12763468.560000001},{"$f":"A2A!D197","v":14528126.82},{"$f":"A2A!E197","v":18357436.039999999},{"$f":"A2A!F197","v":16534740},{"$f":"A2A!G197","v":14735682},{"$f":"A2A!H197","v":14735682},{"$f":"A2A!I197","v":15893629},{"$f":"A2A!J197","v":16587944},{"$f":"A2A!K197","v":17002644}]
["Road transport",null,{"$f":"A2A!C208","v":24680582.469999999},{"$f":"A2A!D208","v":22116385.199999999},{"$f":"A2A!E208","v":22567000.010000002},{"$f":"A2A!F208","v":19725025},{"$f":"A2A!G208","v":19525025},{"$f":"A2A!H208","v":19525025},{"$f":"A2A!I208","v":21056825},{"$f":"A2A!J208","v":22004379},{"$f":"A2A!K208","v":22554494}]
["Environmental protection",null,{"$f":"A2A!C213","v":0},{"$f":"A2A!D213","v":0},{"$f":"A2A!E213","v":0},{"$f":"A2A!F213","v":0},{"$f":"A2A!G213","v":0},{"$f":"A2A!H213","v":0},{"$f":"A2A!I213","v":0},{"$f":"A2A!J213","v":0},{"$f":"A2A!K213","v":0}]
["Trading services",null,{"$f":"SUM(C43:C46)","v":113016253.55000001},{"$f":"SUM(D43:D46)","v":108799771.75},126988158.28999999,{"$f":"SUM(F43:F46)","v":151677935},149015641,149015641,138908196,144859598,{"$f":"SUM(K43:K46)","v":148481087}]
["Energy sources",null,{"$f":"A2A!C221","v":82910838.930000007},{"$f":"A2A!D221","v":87249631.640000001},{"$f":"A2A!E221","v":94625202.049999997},{"$f":"A2A!F221","v":112765648},{"$f":"A2A!G221","v":111645648},{"$f":"A2A!H221","v":111645648},{"$f":"A2A!I221","v":103072217},{"$f":"A2A!J221","v":106388768},{"$f":"A2A!K221","v":109048484}]
["Water management",null,{"$f":"A2A!C225","v":0},{"$f":"A2A!D225","v":0},{"$f":"A2A!E225","v":0},{"$f":"A2A!F225","v":0},{"$f":"A2A!G225","v":0},{"$f":"A2A!H225","v":0},{"$f":"A2A!I225","v":0},{"$f":"A2A!J225","v":0},{"$f":"A2A!K225","v":0}]
["Waste water management",null,{"$f":"A2A!C229","v":0},{"$f":"A2A!D229","v":0},{"$f":"A2A!E229","v":73367.34},{"$f":"A2A!F229","v":0},{"$f":"A2A!G229","v":0},{"$f":"A2A!H229","v":0},{"$f":"A2A!I229","v":0},{"$f":"A2A!J229","v":0},{"$f":"A2A!K229","v":0}]
["Waste management",null,{"$f":"A2A!C234","v":30105414.620000001},{"$f":"A2A!D234","v":21550140.109999999},{"$f":"A2A!E234","v":32289588.899999999},{"$f":"A2A!F234","v":38912287},{"$f":"A2A!G234","v":37369993},{"$f":"A2A!H234","v":37369993},{"$f":"A2A!I234","v":35835979},{"$f":"A2A!J234","v":38470830},{"$f":"A2A!K234","v":39432603}]
["Other",4,{"$f":"A2A!C239","v":0},{"$f":"A2A!D239","v":0},{"$f":"A2A!E239","v":0},{"$f":"A2A!F239","v":0},{"$f":"A2A!G239","v":0},{"$f":"A2A!H239","v":0},{"$f":"A2A!I239","v":0},{"$f":"A2A!J239","v":0},{"$f":"A2A!K239","v":0}]
[{"$f":"\"Total \"&A27","v":"Total Expenditure - Functional"},3,{"$f":"C28+C32+C38+C42+C47","v":323994688.56},{"$f":"D28+D32+D38+D42+D47","v":413880343.44},{"$f":"E28+E32+E38+E42+E47","v":349882964.35000002},{"$f":"F28+F32+F38+F42+F47","v":432902565},426882883,426882883,400488234,404045317,418751980]
[{"$f":"result","v":"Surplus/(Deficit) for the year"},null,{"$f":"C25-C48","v":28176229.290000021},{"$f":"D25-D48","v":18780301.280000031},119176495.25,688674,106360850,106360850,86964678,92704869,96877240]
[{"$f":"head27a","v":"References"}]
["1. Government Finance Statistics Functions and Sub-functions are standardised to assist the compilation of national and international accounts for comparison purposes"]
["2. Total Revenue by functional classification must reconcile to Total Operating Revenue shown in Budgeted Financial Performance (revenue and expenditure)"]
["3. Total Expenditure by Functional Classification must reconcile to Total Operating Expenditure shown in Budgeted Financial Performance (revenue and expenditure)"]
["4. All amounts must be classified under a functional classification . The GFS function 'Other' is only for Abbatoirs, Air Transport,  Forestry, Licensing and Regulation, Markets and Tourism - and if used must be supported by footnotes. Nothing else may be placed under 'Other'. Assign associate share to relevant classification."]

{"sheet":"A2A","index":8,"n_rows":252,"n_cols":11,"rows_kept":252,"cut":false,"hidden":false,"merged":[[1,5,1,7],[1,8,1,10],[251,0,251,10]]}
[{"$f":"muni&\" - \"&Approve3","v":"LIM351 Blouberg - Table A2 Budgeted Financial Performance (revenue and expenditure by functional classification)"}]
[{"$f":"\"Functional Classification \"&desc","v":"Functional Classification Description"},{"$f":"head27","v":"Ref"},{"$f":"head1b","v":"2021/22"},{"$f":"head1A","v":"2022/23"},{"$f":"Head1","v":"2023/24"},{"$f":"Head2","v":"Current Year 2024/25"},null,null,{"$f":"Head3","v":"2025/26 Medium Term Revenue & Expenditure Framework"}]
["R thousand",1,{"$f":"Head5","v":"Audited Outcome"},{"$f":"Head5","v":"Audited Outcome"},{"$f":"Head5","v":"Audited Outcome"},{"$f":"Head6","v":"Original Budget"},{"$f":"Head7","v":"Adjusted Budget"},{"$f":"Head8","v":"Full Year Forecast"},{"$f":"Head9","v":"Budget Year 2025/26"},{"$f":"Head10","v":"Budget Year +1 2026/27"},{"$f":"Head11","v":"Budget Year +2 2027/28"}]
["Revenue - Functional"]
["Municipal governance and administration",null,{"$f":"C6+C9+C23","v":245714191.48000002},{"$f":"D6+D9+D23","v":274907887.25},318491486.69,293731126,332000416,332000416,337083655,339798425,355252287]
["Executive and council",null,{"$f":"SUM(C7:C8)","v":0},{"$f":"SUM(D7:D8)","v":0},0,0,0,0,0,0,0]
["Mayor and Council",null,0,0,0,0,0,0,0,0,0]
["Municipal Manager, Town Secretary and Chief Executive",null,0,0,0,0,0,0,0,0,0]
["Finance and administration",null,{"$f":"SUM(C10:C22)","v":245714191.48000002},{"$f":"SUM(D10:D22)","v":274907887.25},318491486.69,293731126,332000416,332000416,337083655,339798425,355252287]
["Administrative and Corporate Support",null,4408854.7699999996,6219635.7199999997,468400.48,310592,310592,310592,512659,535729,549122]
["Asset Management"]
["Finance",null,241305336.71000001,268688251.52999997,318023086.20999998,293420534,331689824,331689824,336570996,339262696,354703165]
["Fleet Management"]
["Human Resources"]
["Information Technology"]
["Legal Services"]
["Marketing, Customer Relations, Publicity and Media Co-ordination"]
["Property Services"]
["Risk Management"]
["Security Services"]
["Supply Chain Management "]
["Valuation Service"]
["Internal audit",null,{"$f":"SUM(C24:C24)","v":0},{"$f":"SUM(D24:D24)","v":0},0,0,0,0,0,0,0]
["Governance Function"]
["Community and public safety",null,{"$f":"C26+C48+C54+C63+C66","v":3316321.67},{"$f":"D26+D48+D54+D63+D66","v":2742997.67},2774533.16,6818500,6818500,6818500,7143345,7464799,7651418]
["Community and social services",null,{"$f":"SUM(C27:C47)","v":0},{"$f":"SUM(D27:D47)","v":0},0,0,0,0,0,0,0]
["Aged Care"]
["Agricultural"]
["Animal Care and Diseases"]
["Cemeteries, Funeral Parlours and Crematoriums",null,0,0,0,0,0,0,0,0,0]
["Child Care Facilities"]
["Community Halls and Facilities"]
["Consumer Protection"]
["Cultural Matters"]
["Disaster Management"]
["Education"]
["Indigenous and Customary Law"]
["Industrial Promotion"]
["Language Policy"]
["Libraries and Archives"]
["Literacy Programmes"]
["Media Services"]
["Museums and Art Galleries"]
["Population Development"]
["Provincial Cultural Matters"]
["Theatres"]
["Zoo's"]
["Sport and recreation",null,{"$f":"SUM(C49:C53)","v":0},{"$f":"SUM(D49:D53)","v":0},0,0,0,0,0,0,0]
["Beaches and Jetties "]
["Casinos, Racing, Gambling, Wagering"]
["Community Parks (including Nurseries)"]
["Recreational Facilities"]
["Sports Grounds and Stadiums"]
["Public safety",null,{"$f":"SUM(C55:C62)","v":3316321.67},{"$f":"SUM(D55:D62)","v":2742997.67},2774533.16,6818500,6818500,6818500,7143345,7464799,7651418]
["Civil Defence"]
["Cleansing"]
["Control of Public Nuisances"]
["Fencing and Fences "]
["Fire Fighting and Protection"]
["Licensing and Control of Animals"]
["Police Forces, Traffic and Street Parking Control",null,3316321.67,2742997.67,2774533.16,6818500,6818500,6818500,7143345,7464799,7651418]
["Pounds",null,0,0,0,0,0,0,0,0,0]
["Housing",null,{"$f":"SUM(C64:C65)","v":0},{"$f":"SUM(D64:D65)","v":0},0,0,0,0,0,0,0]
["Housing"]
["Informal Settlements"]
["Health",null,{"$f":"SUM(C67:C73)","v":0},{"$f":"SUM(D67:D73)","v":0},0,0,0,0,0,0,0]
["Ambulance"]
["Health Services"]
["Laboratory Services"]
["Food Control"]
["Health Surveillance and Prevention of Communicable Diseases including immunizations"]
["Vector Control"]
["Chemical Safety"]
["Economic and environmental services",null,{"$f":"C75+C86+C91","v":70364971.200000003},{"$f":"D75+D86+D91","v":91173149.629999995},85391509.650000006,70003555,117333264,117333264,73076947,62068564,64798654]
["Planning and development",null,{"$f":"SUM(C76:C85)","v":57486716.359999999},{"$f":"SUM(D76:D85)","v":91173149.629999995},76997179.88000001,54287555,58912288,58912288,57359947,62068564,64798654]
["Billboards"]
["Corporate Wide Strategic Planning (IDPs, LEDs)"]
["Central City Improvement District"]
["Development Facilitation"]
["Economic Development/Planning",null,880891.61,5870829.2400000002,8656006.0899999999,2518555,6518555,6518555,2835947,2963564,3037654]
["Regional Planning and Development"]
["Town Planning, Building Regulations and Enforcement, and City Engineer"]
["Project Management Unit",null,56605824.75,85302320.390000001,68341173.790000007,51769000,52393733,52393733,54524000,59105000,61761000]
["Provincial Planning"]
["Support to Local Municipalities"]
["Road transport",null,{"$f":"SUM(C87:C90)","v":12878254.84},{"$f":"SUM(D87:D90)","v":0},8394329.7699999996,15716000,58420976,58420976,15717000,0,0]
["Public Transport"]
["Road and Traffic Regulation"]
["Roads",null,12878254.84,0,8394329.7699999996,15716000,58420976,58420976,15717000,0,0]
["Taxi Ranks"]
["Environmental protection",null,{"$f":"SUM(C92:C97)","v":0},{"$f":"SUM(D92:D97)","v":0},0,0,0,0,0,0,0]
["Biodiversity and Landscape"]
["Coastal Protection"]
["Indigenous Forests"]
["Nature Conservation"]
["Pollution Control"]
["Soil Conservation"]
["Trading services",null,{"$f":"C99+C103+C107+C112","v":32775433.5},{"$f":"D99+D103+D107+D112","v":63836610.170000002},62401930.100000001,63038058,77091553,77091553,70148965,87418398,{"$f":"K99+K103+K107+K112","v":87926861}]
["Energy sources",null,{"$f":"SUM(C100:C102)","v":29464538.93},{"$f":"SUM(D100:D102)","v":59700824.68},58894783.240000002,56286558,71640053,71640053,62235686,81036292,83385200]
["Electricity ",null,29464538.93,59700824.68,58894783.240000002,56286558,71640053,71640053,62235686,81036292,83385200]
["Street Lighting and Signal Systems"]
["Nonelectric Energy"]
["Water management",null,{"$f":"SUM(C104:C106)","v":11436.52},{"$f":"SUM(D104:D106)","v":8162.17},0,0,0,0,0,0,0]
["Water Treatment",null,11436.52,8162.17,0,0,0,0,0,0,0]
["Water Distribution"]
["Water Storage"]
["Waste water management",null,{"$f":"SUM(C108:C111)","v":23524.880000000001},{"$f":"SUM(D108:D111)","v":10993.02},0,0,0,0,0,0,0]
["Public Toilets"]
["Sewerage"]
["Storm Water Management",null,0,0,0,0,0,0,0,0,0]
["Waste Water Treatment",null,23524.880000000001,10993.02,0,0,0,0,0,0,0]
["Waste management",null,{"$f":"SUM(C113:C116)","v":3275933.17},{"$f":"SUM(D113:D116)","v":4116630.3},3507146.86,6751500,5451500,5451500,7913279,6382106,4541661]
["Recycling"]
["Solid Waste Disposal (Landfill Sites)",null,3275933.17,4116630.3,3507146.86,6751500,5451500,5451500,7913279,6382106,4541661]
["Solid Waste Removal"]
["Street Cleaning"]
["Other",null,{"$f":"SUM(C118:C123)","v":0},{"$f":"SUM(D118:D123)","v":0},0,0,0,0,0,0,0]
["Abattoirs"]
["Air Transport"]
["Forestry "]
["Licensing and Regulation"]
["Markets"]
["Tourism"]
[{"$f":"\"Total \"&A4","v":"Total Revenue - Functional"},2,{"$f":"C5+C25+C74+C98+C117","v":352170917.85000002},{"$f":"D5+D25+D74+D98+D117","v":432660644.72000003},469059459.60000002,433591239,533243733,533243733,487452912,496750186,515629220]
[]
["Expenditure - Functional"]
[{"$f":"A5","v":"Municipal governance and administration"},null,{"$f":"C128+C131+C145","v":157167716.32999998},{"$f":"D128+D131+D145","v":250407200.05000001},162388544.88,226413674,225120344,225120344,188442976,200429401,210053159]
["Executive and council",null,{"$f":"SUM(C129:C130)","v":61439667.019999996},{"$f":"SUM(D129:D130)","v":71221015.140000001},72405817.010000005,74063121,73182584,73182584,54763829,62380714,63712933]
["Mayor and Council",null,18394330.48,19739846.800000001,21767091.309999999,25208466,24678335,24678335,25206341,26392878,27052709]
["Municipal Manager, Town Secretary and Chief Executive",null,43045336.539999999,51481168.340000004,50638725.700000003,48854655,48504249,48504249,29557488,35987836,36660224]
["Finance and administration",null,{"$f":"SUM(C132:C144)","v":95728049.310000002},{"$f":"SUM(D132:D144)","v":179186184.91},89982727.870000005,152350553,151937760,151937760,133679147,138048687,146340226]
["Administrative and Corporate Support",null,57859291.060000002,72340528.549999997,66500231.579999998,83701715,83182415,83182415,82493780,86885255,89057397]
["Asset Management"]
["Finance",null,37868758.25,106845656.36,23482496.289999999,68648838,68755345,68755345,51185367,51163432,57282829]
["Fleet Management"]
["Human Resources"]
["Information Technology"]
["Legal Services"]
["Marketing, Customer Relations, Publicity and Media Co-ordination"]
["Property Services"]
["Risk Management"]
["Security Services"]
["Supply Chain Management "]
["Valuation Service"]
["Internal audit",null,{"$f":"SUM(C146:C146)","v":0},{"$f":"SUM(D146:D146)","v":0},0,0,0,0,0,0,0]
["Governance Function"]
["Community and public safety",null,{"$f":"C148+C170+C176+C185+C188","v":16366667.65},{"$f":"D148+D170+D176+D185+D188","v":18028859.619999997},19581825.129999999,18551191,18486191,18486191,36186608,20163995,20660596]
["Community and social services",null,{"$f":"SUM(C149:C169)","v":0},{"$f":"SUM(D149:D169)","v":0},0,0,0,0,0,0,0]
["Aged Care"]
["Agricultural"]
["Animal Care and Diseases"]
["Cemeteries, Funeral Parlours and Crematoriums",null,0,0,0,0,0,0,0,0,0]
["Child Care Facilities"]
["Community Halls and Facilities"]
["Consumer Protection"]
["Cultural Matters"]
["Disaster Management"]
["Education"]
[{"$f":"A37","v":"Indigenous and Customary Law"}]
["Industrial Promotion"]
["Language Policy"]
["Libraries and Archives",null,0,0,0,0,0,0,0,0,0]
["Literacy Programmes"]
["Media Services"]
["Museums and Art Galleries"]
["Population Development"]
["Provincial Cultural Matters"]
["Theatres"]
["Zoo's"]
["Sport and recreation",null,{"$f":"SUM(C171:C175)","v":0},{"$f":"SUM(D171:D175)","v":0},0,0,0,0,0,0,0]
["Beaches and Jetties "]
["Casinos, Racing, Gambling, Wagering"]
["Community Parks (including Nurseries)"]
["Recreational Facilities",null,0,0,0,0,0,0,0,0,0]
["Sports Grounds and Stadiums"]
["Public safety",null,{"$f":"SUM(C177:C184)","v":16366667.65},{"$f":"SUM(D177:D184)","v":18028859.619999997},19581825.129999999,18551191,18486191,18486191,36186608,20163995,20660596]
["Civil Defence"]
["Cleansing"]
[{"$f":"A57","v":"Control of Public Nuisances"}]
["Fencing and Fences "]
["Fire Fighting and Protection"]
["Licensing and Control of Animals"]
["Police Forces, Traffic and Street Parking Control",null,16205807.65,17801790.489999998,19324785.129999999,18257471,18192471,18192471,35886608,19863995,20360596]
["Pounds",null,160860,227069.13,257040,293720,293720,293720,300000,300000,300000]
[{"$f":"A63","v":"Housing"},null,{"$f":"SUM(C186:C187)","v":0},{"$f":"SUM(D186:D187)","v":0},0,0,0,0,0,0,0]
["Housing"]
["Informal Settlements"]
["Health",null,{"$f":"SUM(C189:C195)","v":0},{"$f":"SUM(D189:D195)","v":0},0,0,0,0,0,0,0]
["Ambulance"]
["Health Services"]
["Laboratory Services"]
["Food Control"]
["Health Surveillance and Prevention of Communicable Diseases including immunizations"]
["Vector Control"]
["Chemical Safety"]
["Economic and environmental services",null,{"$f":"C197+C208+C213","v":37444051.030000001},{"$f":"D197+D208+D213","v":36644512.019999996},40924436.049999997,36259765,34260707,34260707,36950454,38592323,39557138]
["Planning and development",null,{"$f":"SUM(C198:C207)","v":12763468.560000001},{"$f":"SUM(D198:D207)","v":14528126.82},18357436.039999999,16534740,14735682,14735682,15893629,16587944,17002644]
["Billboards"]
["Corporate Wide Strategic Planning (IDPs, LEDs)"]
["Central City Improvement District"]
["Development Facilitation"]
["Economic Development/Planning",null,12354003.310000001,13269096.300000001,18357436.039999999,14434740,13403121,13403121,13165229,13736766,14080185]
["Regional Planning and Development"]
["Town Planning, Building Regulations and Enforcement, and City Engineer"]
["Project Management Unit",null,409465.25,1259030.52,0,2100000,1332561,1332561,2728400,2851178,2922459]
["Provincial Planning"]
["Support to Local Municipalities"]
["Road transport",null,{"$f":"SUM(C209:C212)","v":24680582.469999999},{"$f":"SUM(D209:D212)","v":22116385.199999999},22567000.010000002,19725025,19525025,19525025,21056825,22004379,22554494]
["Public Transport"]
["Road and Traffic Regulation"]
["Roads",null,24680582.469999999,22116385.199999999,22567000.010000002,19725025,19525025,19525025,21056825,22004379,22554494]
["Taxi Ranks"]
["Environmental protection",null,{"$f":"SUM(C214:C219)","v":0},{"$f":"SUM(D214:D219)","v":0},0,0,0,0,0,0,0]
["Biodiversity and Landscape"]
["Coastal Protection"]
["Indigenous Forests"]
[{"$f":"A95","v":"Nature Conservation"}]
["Pollution Control"]
["Soil Conservation"]
["Trading services",null,{"$f":"C221+C225+C229+C234","v":113016253.55000001},{"$f":"D221+D225+D229+D234","v":108799771.75},126988158.28999999,151677935,149015641,149015641,138908196,144859598,148481087]
["Energy sources",null,{"$f":"SUM(C222:C224)","v":82910838.930000007},{"$f":"SUM(D222:D224)","v":87249631.640000001},94625202.049999997,112765648,111645648,111645648,103072217,106388768,109048484]
["Electricity ",null,82910838.930000007,87249631.640000001,94625202.049999997,112765648,111645648,111645648,103072217,106388768,109048484]
["Street Lighting and Signal Systems"]
["Nonelectric Energy"]
["Water management",null,{"$f":"SUM(C226:C228)","v":0},{"$f":"SUM(D226:D228)","v":0},0,0,0,0,0,0,0]
["Water Treatment",null,0,0,0,0,0,0,0,0,0]
["Water Distribution",null,0,0,0,0,0,0,0,0,0]
["Water Storage"]
["Waste water management",null,{"$f":"SUM(C230:C233)","v":0},{"$f":"SUM(D230:D233)","v":0},73367.34,0,0,0,0,0,0]
["Public Toilets"]
["Sewerage"]
["Storm Water Management",null,0,0,0,0,0,0,0,0,0]
["Waste Water Treatment",null,0,0,73367.34,0,0,0,0,0,0]
["Waste management",null,{"$f":"SUM(C235:C238)","v":30105414.620000001},{"$f":"SUM(D235:D238)","v":21550140.109999999},32289588.899999999,38912287,37369993,37369993,35835979,38470830,39432603]
["Recycling"]
["Solid Waste Disposal (Landfill Sites)",null,30105414.620000001,21550140.109999999,32289588.899999999,38912287,37369993,37369993,35835979,38470830,39432603]
["Solid Waste Removal"]
["Street Cleaning"]
["Other",null,{"$f":"SUM(C240:C245)","v":0},{"$f":"SUM(D240:D245)","v":0},0,0,0,0,0,0,0]
["Abattoirs"]
["Air Transport"]
["Forestry "]
["Licensing and Regulation"]
["Markets"]
["Tourism"]
[{"$f":"\"Total \"&A126","v":"Total Expenditure - Functional"},3,{"$f":"C127+C147+C196+C220+C239","v":323994688.56},{"$f":"D127+D147+D196+D220+D239","v":413880343.44},349882964.35000002,432902565,426882883,426882883,400488234,404045317,418751980]
[{"$f":"result","v":"Surplus/(Deficit) for the year"},null,{"$f":"C124-C246","v":28176229.290000021},{"$f":"D124-D246","v":18780301.280000031},119176495.25,688674,106360850,106360850,86964678,92704869,96877240]
[{"$f":"head27a","v":"References"}]
["1. Government Finance Statistics Functions and Sub-functions are standardised to assist national and international accounts and comparison"]
["2. Total Revenue by Functional Classification must reconcile to total operating revenue shown in Financial Performance (revenue and expenditure)"]
["3. Total Expenditure by Functional Classification must reconcile to total operating expenditure shown in Financial Performance (revenue and expenditure)"]
["4. All amounts must be classified under a Functional classification. The GFS function 'Other' is only for Abbatoirs, Air Transport,  Forestry, Licensing and Regulation, Markets and Tourism - and if used must be supported by footnotes. Nothing else may be placed under 'Other'. Assign associate share to relevant classification"]

{"sheet":"A3-FinPerf V","index":9,"n_rows":43,"n_cols":23,"rows_kept":43,"cut":false,"hidden":false,"merged":[[1,5,1,7],[1,8,1,10],[1,11,1,22]]}
[{"$f":"muni&\" - \"&Approve2","v":"LIM351 Blouberg - Table A3 Budgeted Financial Performance (revenue and expenditure by municipal vote)"}]
[{"$f":"Vdesc","v":"Vote Description"},{"$f":"head27","v":"Ref"},{"$f":"head1b","v":"2021/22"},{"$f":"head1A","v":"2022/23"},{"$f":"Head1","v":"2023/24"},{"$f":"Head2","v":"Current Year 2024/25"},null,null,{"$f":"Head3","v":"2025/26 Medium Term Revenue & Expenditure Framework"},null,null,{"$f":"Head4","v":"LTFS"}]
["R thousand",null,{"$f":"Head5","v":"Audited Outcome"},{"$f":"Head5","v":"Audited Outcome"},{"$f":"Head5","v":"Audited Outcome"},{"$f":"Head6","v":"Original Budget"},{"$f":"Head7","v":"Adjusted Budget"},{"$f":"Head8","v":"Full Year Forecast"},{"$f":"Head9","v":"Budget Year 2025/26"},{"$f":"Head10","v":"Budget Year +1 2026/27"},{"$f":"Head11","v":"Budget Year +2 2027/28"},{"$f":"Head12","v":"Forecast 2028/29"},{"$f":"Head13","v":"Forecast 2029/30"},{"$f":"Head14","v":"Forecast 2030/31"},{"$f":"Head15","v":"Forecast 2031/32"},{"$f":"Head16","v":"Forecast 2032/33"},{"$f":"Head17","v":"Forecast 2033/34"},{"$f":"Head18","v":"Forecast 2034/35"},{"$f":"Head19","v":"Forecast 2035/36"},{"$f":"Head20","v":"Forecast 2036/37"},{"$f":"Head21","v":"Forecast 2037/38"},{"$f":"Head22","v":"Forecast 2038/39"},{"$f":"Head23","v":"Forecast 2039/40"}]
["Revenue by Vote",1]
[{"$f":"A3A!A5","v":"Vote 01 - Executive & Council"},null,{"$f":"A3A!C5","v":0},{"$f":"A3A!D5","v":0},{"$f":"A3A!E5","v":0},{"$f":"A3A!F5","v":0},{"$f":"A3A!G5","v":0},{"$f":"A3A!H5","v":0},{"$f":"A3A!I5","v":0},{"$f":"A3A!J5","v":0},{"$f":"A3A!K5","v":0}]
[{"$f":"A3A!A7","v":"Vote 02 - Finance And Administration"},null,{"$f":"A3A!C7","v":0},{"$f":"A3A!D7","v":0},{"$f":"A3A!E7","v":0},{"$f":"A3A!F7","v":0},{"$f":"A3A!G7","v":0},{"$f":"A3A!H7","v":0},{"$f":"A3A!I7","v":0},{"$f":"A3A!J7","v":0},{"$f":"A3A!K7","v":0}]
[{"$f":"A3A!A9","v":"Vote 03 - Community Service"},null,{"$f":"A3A!C9","v":241305336.71000001},{"$f":"A3A!D9","v":268688251.52999997},{"$f":"A3A!E9","v":318023086.20999998},{"$f":"A3A!F9","v":293420534},{"$f":"A3A!G9","v":331689824},{"$f":"A3A!H9","v":331689824},{"$f":"A3A!I9","v":336570996},{"$f":"A3A!J9","v":339262696},{"$f":"A3A!K9","v":354703165}]
[{"$f":"A3A!A11","v":"Vote 04 - Public And Safety"},null,{"$f":"A3A!C11","v":4408854.7699999996},{"$f":"A3A!D11","v":6219635.7199999997},{"$f":"A3A!E11","v":468400.48},{"$f":"A3A!F11","v":310592},{"$f":"A3A!G11","v":310592},{"$f":"A3A!H11","v":310592},{"$f":"A3A!I11","v":512659},{"$f":"A3A!J11","v":535729},{"$f":"A3A!K11","v":549122}]
[{"$f":"A3A!A13","v":"Vote 05 - Waste Management"},null,{"$f":"A3A!C13","v":42377755.170000002},{"$f":"A3A!D13","v":59719979.870000005},{"$f":"A3A!E13","v":67289113.010000005},{"$f":"A3A!F13","v":72002558},{"$f":"A3A!G13","v":130061029},{"$f":"A3A!H13","v":130061029},{"$f":"A3A!I13","v":77952686},{"$f":"A3A!J13","v":81036292},{"$f":"A3A!K13","v":83385200}]
[{"$f":"A3A!A19","v":"Vote 06 - Roads  Services"},null,{"$f":"A3A!C19","v":6592254.8399999999},{"$f":"A3A!D19","v":6859627.9699999997},{"$f":"A3A!E19","v":6281680.0199999996},{"$f":"A3A!F19","v":13570000},{"$f":"A3A!G19","v":12270000},{"$f":"A3A!H19","v":12270000},{"$f":"A3A!I19","v":15056624},{"$f":"A3A!J19","v":13846905},{"$f":"A3A!K19","v":12193079}]
[{"$f":"A3A!A24","v":"Vote 07 - Econominc Development And Planning"},null,{"$f":"A3A!C24","v":57486716.359999999},{"$f":"A3A!D24","v":91173149.629999995},{"$f":"A3A!E24","v":76997179.88000001},{"$f":"A3A!F24","v":54287555},{"$f":"A3A!G24","v":58912288},{"$f":"A3A!H24","v":58912288},{"$f":"A3A!I24","v":57359947},{"$f":"A3A!J24","v":62068564},{"$f":"A3A!K24","v":64798654}]
[{"$f":"'Org structure'!A9","v":"Vote 08 - "},null,{"$f":"A3A!C27","v":0},{"$f":"A3A!D27","v":0},{"$f":"A3A!E27","v":0},{"$f":"A3A!F27","v":0},{"$f":"A3A!G27","v":0},{"$f":"A3A!H27","v":0},{"$f":"A3A!I27","v":0},{"$f":"A3A!J27","v":0},{"$f":"A3A!K27","v":0}]
[{"$f":"'Org structure'!A10","v":"Vote 09 - "},null,{"$f":"A3A!C28","v":0},{"$f":"A3A!D28","v":0},{"$f":"A3A!E28","v":0},{"$f":"A3A!F28","v":0},{"$f":"A3A!G28","v":0},{"$f":"A3A!H28","v":0},{"$f":"A3A!I28","v":0},{"$f":"A3A!J28","v":0},{"$f":"A3A!K28","v":0}]
[{"$f":"'Org structure'!A11","v":"Vote 10 - "},null,{"$f":"A3A!C29","v":0},{"$f":"A3A!D29","v":0},{"$f":"A3A!E29","v":0},{"$f":"A3A!F29","v":0},{"$f":"A3A!G29","v":0},{"$f":"A3A!H29","v":0},{"$f":"A3A!I29","v":0},{"$f":"A3A!J29","v":0},{"$f":"A3A!K29","v":0}]
[{"$f":"'Org structure'!A12","v":"Vote 11 - "},null,{"$f":"A3A!C30","v":0},{"$f":"A3A!D30","v":0},{"$f":"A3A!E30","v":0},{"$f":"A3A!F30","v":0},{"$f":"A3A!G30","v":0},{"$f":"A3A!H30","v":0},{"$f":"A3A!I30","v":0},{"$f":"A3A!J30","v":0},{"$f":"A3A!K30","v":0},{"$f":"A5A!#REF!","v":{"$error":"#REF!"}}]
[{"$f":"'Org structure'!A13","v":"Vote 12 - "},null,{"$f":"A3A!C31","v":0},{"$f":"A3A!D31","v":0},{"$f":"A3A!E31","v":0},{"$f":"A3A!F31","v":0},{"$f":"A3A!G31","v":0},{"$f":"A3A!H31","v":0},{"$f":"A3A!I31","v":0},{"$f":"A3A!J31","v":0},{"$f":"A3A!K31","v":0},{"$f":"A5A!#REF!","v":{"$error":"#REF!"}}]
[{"$f":"'Org structure'!A14","v":"Vote 13 - "},null,{"$f":"A3A!C32","v":0},{"$f":"A3A!D32","v":0},{"$f":"A3A!E32","v":0},{"$f":"A3A!F32","v":0},{"$f":"A3A!G32","v":0},{"$f":"A3A!H32","v":0},{"$f":"A3A!I32","v":0},{"$f":"A3A!J32","v":0},{"$f":"A3A!K32","v":0},{"$f":"A5A!#REF!","v":{"$error":"#REF!"}}]
[{"$f":"'Org structure'!A15","v":"Vote 14 - "},null,{"$f":"A3A!C33","v":0},{"$f":"A3A!D33","v":0},{"$f":"A3A!E33","v":0},{"$f":"A3A!F33","v":0},{"$f":"A3A!G33","v":0},{"$f":"A3A!H33","v":0},{"$f":"A3A!I33","v":0},{"$f":"A3A!J33","v":0},{"$f":"A3A!K33","v":0},{"$f":"A5A!#REF!","v":{"$error":"#REF!"}}]
[{"$f":"'Org structure'!A16","v":"Vote 15 - Other"},null,{"$f":"A3A!C34","v":0},{"$f":"A3A!D34","v":0},{"$f":"A3A!E34","v":0},{"$f":"A3A!F34","v":0},{"$f":"A3A!G34","v":0},{"$f":"A3A!H34","v":0},{"$f":"A3A!I34","v":0},{"$f":"A3A!J34","v":0},{"$f":"A3A!K34","v":0},{"$f":"A5A!#REF!","v":{"$error":"#REF!"}}]
["Total Revenue by Vote",2,{"$f":"SUM(C5:C19)","v":352170917.85000002},{"$f":"SUM(D5:D19)","v":432660644.72000003},469059459.59999996,433591239,533243733,533243733,487452912,496750186,515629220]
[]
["Expenditure by Vote to be appropriated",1]
[{"$f":"A3A!A38","v":"Vote 01 - Executive & Council"},null,{"$f":"A3A!C38","v":18394330.48},{"$f":"A3A!D38","v":19739846.800000001},{"$f":"A3A!E38","v":21767091.309999999},{"$f":"A3A!F38","v":25208466},{"$f":"A3A!G38","v":24678335},{"$f":"A3A!H38","v":24678335},{"$f":"A3A!I38","v":25206341},{"$f":"A3A!J38","v":26392878},{"$f":"A3A!K38","v":27052709}]
[{"$f":"A3A!A40","v":"Vote 02 - Finance And Administration"},null,{"$f":"A3A!C40","v":43045336.539999999},{"$f":"A3A!D40","v":51481168.340000004},{"$f":"A3A!E40","v":50638725.700000003},{"$f":"A3A!F40","v":48854655},{"$f":"A3A!G40","v":48504249},{"$f":"A3A!H40","v":48504249},{"$f":"A3A!I40","v":29557488},{"$f":"A3A!J40","v":35987836},{"$f":"A3A!K40","v":36660224}]
[{"$f":"A3A!A42","v":"Vote 03 - Community Service"},null,{"$f":"A3A!C42","v":37868758.25},{"$f":"A3A!D42","v":106845656.36},{"$f":"A3A!E42","v":23482496.289999999},{"$f":"A3A!F42","v":68648838},{"$f":"A3A!G42","v":68755345},{"$f":"A3A!H42","v":68755345},{"$f":"A3A!I42","v":51185367},{"$f":"A3A!J42","v":51163432},{"$f":"A3A!K42","v":57282829}]
[{"$f":"A3A!A44","v":"Vote 04 - Public And Safety"},null,{"$f":"A3A!C44","v":57859291.060000002},{"$f":"A3A!D44","v":72340528.549999997},{"$f":"A3A!E44","v":66500231.579999998},{"$f":"A3A!F44","v":83701715},{"$f":"A3A!G44","v":83182415},{"$f":"A3A!H44","v":83182415},{"$f":"A3A!I44","v":82493780},{"$f":"A3A!J44","v":86885255},{"$f":"A3A!K44","v":89057397}]
[{"$f":"A3A!A46","v":"Vote 05 - Waste Management"},null,{"$f":"A3A!C46","v":107591421.40000001},{"$f":"A3A!D46","v":109366016.83999999},{"$f":"A3A!E46","v":117265569.40000001},{"$f":"A3A!F46","v":132490673},{"$f":"A3A!G46","v":131170673},{"$f":"A3A!H46","v":131170673},{"$f":"A3A!I46","v":124129042},{"$f":"A3A!J46","v":128393147},{"$f":"A3A!K46","v":131602978}]
[{"$f":"A3A!A52","v":"Vote 06 - Roads  Services"},null,{"$f":"A3A!C52","v":46472082.269999996},{"$f":"A3A!D52","v":39578999.730000004},{"$f":"A3A!E52","v":51871414.030000001},{"$f":"A3A!F52","v":57463478},{"$f":"A3A!G52","v":55856184},{"$f":"A3A!H52","v":55856184},{"$f":"A3A!I52","v":72022587},{"$f":"A3A!J52","v":58634825},{"$f":"A3A!K52","v":60093199}]
[{"$f":"A3A!A57","v":"Vote 07 - Econominc Development And Planning"},null,{"$f":"A3A!C57","v":12763468.560000001},{"$f":"A3A!D57","v":14528126.82},{"$f":"A3A!E57","v":18357436.039999999},{"$f":"A3A!F57","v":16534740},{"$f":"A3A!G57","v":14735682},{"$f":"A3A!H57","v":14735682},{"$f":"A3A!I57","v":15893629},{"$f":"A3A!J57","v":16587944},{"$f":"A3A!K57","v":17002644}]
[{"$f":"'Org structure'!A9","v":"Vote 08 - "},null,{"$f":"A3A!C60","v":0},{"$f":"A3A!D60","v":0},{"$f":"A3A!E60","v":0},{"$f":"A3A!F60","v":0},{"$f":"A3A!G60","v":0},{"$f":"A3A!H60","v":0},{"$f":"A3A!I60","v":0},{"$f":"A3A!J60","v":0},{"$f":"A3A!K60","v":0}]
[{"$f":"'Org structure'!A10","v":"Vote 09 - "},null,{"$f":"A3A!C61","v":0},{"$f":"A3A!D61","v":0},{"$f":"A3A!E61","v":0},{"$f":"A3A!F61","v":0},{"$f":"A3A!G61","v":0},{"$f":"A3A!H61","v":0},{"$f":"A3A!I61","v":0},{"$f":"A3A!J61","v":0},{"$f":"A3A!K61","v":0}]
[{"$f":"'Org structure'!A11","v":"Vote 10 - "},null,{"$f":"A3A!C62","v":0},{"$f":"A3A!D62","v":0},{"$f":"A3A!E62","v":0},{"$f":"A3A!F62","v":0},{"$f":"A3A!G62","v":0},{"$f":"A3A!H62","v":0},{"$f":"A3A!I62","v":0},{"$f":"A3A!J62","v":0},{"$f":"A3A!K62","v":0}]
[{"$f":"'Org structure'!A12","v":"Vote 11 - "},null,{"$f":"A3A!C63","v":0},{"$f":"A3A!D63","v":0},{"$f":"A3A!E63","v":0},{"$f":"A3A!F63","v":0},{"$f":"A3A!G63","v":0},{"$f":"A3A!H63","v":0},{"$f":"A3A!I63","v":0},{"$f":"A3A!J63","v":0},{"$f":"A3A!K63","v":0},{"$f":"A3A!#REF!","v":{"$error":"#REF!"}}]
[{"$f":"'Org structure'!A13","v":"Vote 12 - "},null,{"$f":"A3A!C64","v":0},{"$f":"A3A!D64","v":0},{"$f":"A3A!E64","v":0},{"$f":"A3A!F64","v":0},{"$f":"A3A!G64","v":0},{"$f":"A3A!H64","v":0},{"$f":"A3A!I64","v":0},{"$f":"A3A!J64","v":0},{"$f":"A3A!K64","v":0},{"$f":"A3A!#REF!","v":{"$error":"#REF!"}}]
[{"$f":"'Org structure'!A14","v":"Vote 13 - "},null,{"$f":"A3A!C65","v":0},{"$f":"A3A!D65","v":0},{"$f":"A3A!E65","v":0},{"$f":"A3A!F65","v":0},{"$f":"A3A!G65","v":0},{"$f":"A3A!H65","v":0},{"$f":"A3A!I65","v":0},{"$f":"A3A!J65","v":0},{"$f":"A3A!K65","v":0},{"$f":"A3A!#REF!","v":{"$error":"#REF!"}}]
[{"$f":"'Org structure'!A15","v":"Vote 14 - "},null,{"$f":"A3A!C66","v":0},{"$f":"A3A!D66","v":0},{"$f":"A3A!E66","v":0},{"$f":"A3A!F66","v":0},{"$f":"A3A!G66","v":0},{"$f":"A3A!H66","v":0},{"$f":"A3A!I66","v":0},{"$f":"A3A!J66","v":0},{"$f":"A3A!K66","v":0},{"$f":"A3A!#REF!","v":{"$error":"#REF!"}}]
[{"$f":"'Org structure'!A16","v":"Vote 15 - Other"},null,{"$f":"A3A!C67","v":0},{"$f":"A3A!D67","v":0},{"$f":"A3A!E67","v":0},{"$f":"A3A!F67","v":0},{"$f":"A3A!G67","v":0},{"$f":"A3A!H67","v":0},{"$f":"A3A!I67","v":0},{"$f":"A3A!J67","v":0},{"$f":"A3A!K67","v":0},{"$f":"A3A!#REF!","v":{"$error":"#REF!"}}]
["Total Expenditure by Vote",2,{"$f":"SUM(C23:C37)","v":323994688.56},{"$f":"SUM(D23:D37)","v":413880343.44},{"$f":"SUM(E23:E37)","v":349882964.34999996},432902565,426882883,426882883,400488234,404045317,418751980,{"$f":"SUM(L23:L29)","v":0},0,0,0,0,0,0,0,0,0,0,0]
[{"$f":"result","v":"Surplus/(Deficit) for the year"},2,{"$f":"C20-C38","v":28176229.290000021},{"$f":"D20-D38","v":18780301.280000031},119176495.25,688674,106360850,106360850,86964678,92704869,96877240,0,0,0,0,0,0,0,0,0,0,0,0]
[{"$f":"head27a","v":"References"}]
["1. Insert 'Vote'; e.g. department, if different to functional classification structure"]
["2. Must reconcile to Budgeted Financial Performance (revenue and expenditure)"]
["3. Assign share in 'associate' to relevant Vote"]

{"sheet":"A3A","index":10,"n_rows":74,"n_cols":23,"rows_kept":74,"cut":false,"hidden":false,"merged":[[1,11,1,22],[1,5,1,7],[1,8,1,10]]}
[{"$f":"muni&\" - \"&Approve2&\"A\"","v":"LIM351 Blouberg - Table A3 Budgeted Financial Performance (revenue and expenditure by municipal vote)A"}]
[{"$f":"Vdesc","v":"Vote Description"},{"$f":"head27","v":"Ref"},{"$f":"head1b","v":"2021/22"},{"$f":"head1A","v":"2022/23"},{"$f":"Head1","v":"2023/24"},{"$f":"Head2","v":"Current Year 2024/25"},null,null,{"$f":"Head3","v":"2025/26 Medium Term Revenue & Expenditure Framework"},null,null,{"$f":"Head4","v":"LTFS"}]
["R thousand",null,{"$f":"Head5","v":"Audited Outcome"},{"$f":"Head5","v":"Audited Outcome"},{"$f":"Head5","v":"Audited Outcome"},{"$f":"Head6","v":"Original Budget"},{"$f":"Head7","v":"Adjusted Budget"},{"$f":"Head8","v":"Full Year Forecast"},{"$f":"Head9","v":"Budget Year 2025/26"},{"$f":"Head10","v":"Budget Year +1 2026/27"},{"$f":"Head11","v":"Budget Year +2 2027/28"},{"$f":"Head12","v":"Forecast 2028/29"},{"$f":"Head13","v":"Forecast 2029/30"},{"$f":"Head14","v":"Forecast 2030/31"},{"$f":"Head15","v":"Forecast 2031/32"},{"$f":"Head16","v":"Forecast 2032/33"},{"$f":"Head17","v":"Forecast 2033/34"},{"$f":"Head18","v":"Forecast 2034/35"},{"$f":"Head19","v":"Forecast 2035/36"},{"$f":"Head20","v":"Forecast 2036/37"},{"$f":"Head21","v":"Forecast 2037/38"},{"$f":"Head22","v":"Forecast 2038/39"},{"$f":"Head23","v":"Forecast 2039/40"}]
["Revenue by Vote",1]
[{"$f":"'Org structure'!A2","v":"Vote 01 - Executive & Council"},null,{"$f":"SUM(C6:C6)","v":0},0,0,0,0,0,0,0,0]
[{"$f":"'Org structure'!E3","v":"01.1 - Council General"},null,0,0,0,0,0,0,0,0,0]
[{"$f":"'Org structure'!A3","v":"Vote 02 - Finance And Administration"},null,{"$f":"SUM(C8:C8)","v":0},0,0,0,0,0,0,0,0]
[{"$f":"'Org structure'!E5","v":"02.1 - Municipal Manager"},null,0,0,0,0,0,0,0,0,0]
[{"$f":"'Org structure'!A4","v":"Vote 03 - Community Service"},null,{"$f":"SUM(C10:C10)","v":241305336.71000001},268688251.52999997,318023086.20999998,293420534,331689824,331689824,336570996,339262696,354703165]
[{"$f":"'Org structure'!E7","v":"03.1 - Finance Services Administration"},null,241305336.71000001,268688251.52999997,318023086.20999998,293420534,331689824,331689824,336570996,339262696,354703165]
[{"$f":"'Org structure'!A5","v":"Vote 04 - Public And Safety"},null,{"$f":"SUM(C12:C12)","v":4408854.7699999996},6219635.7199999997,468400.48,310592,310592,310592,512659,535729,549122]
[{"$f":"'Org structure'!E9","v":"04.1 - Corporate Services Administration"},null,4408854.7699999996,6219635.7199999997,468400.48,310592,310592,310592,512659,535729,549122]
[{"$f":"'Org structure'!A6","v":"Vote 05 - Waste Management"},null,{"$f":"SUM(C14:C18)","v":42377755.170000002},59719979.870000005,67289113.010000005,72002558,130061029,130061029,77952686,81036292,83385200]
[{"$f":"'Org structure'!E11","v":"05.1 - Technical Services Administration"},null,0,0,0,0,0,0,0,0,0]
[{"$f":"'Org structure'!E12","v":"05.2 - Electrical Services"},null,29464538.93,59700824.68,58894783.240000002,56286558,71640053,71640053,62235686,81036292,83385200]
[{"$f":"'Org structure'!E13","v":"05.3 - Water Services"},null,11436.52,8162.17,0,0,0,0,0,0,0]
[{"$f":"'Org structure'!E14","v":"05.4 - Sanitation Services"},null,23524.880000000001,10993.02,0,0,0,0,0,0,0]
[{"$f":"'Org structure'!E15","v":"05.5 - Roads Services"},null,12878254.84,0,8394329.7699999996,15716000,58420976,58420976,15717000,0,0]
[{"$f":"'Org structure'!A7","v":"Vote 06 - Roads  Services"},null,{"$f":"SUM(C20:C23)","v":6592254.8399999999},6859627.9699999997,6281680.0199999996,13570000,12270000,12270000,15056624,13846905,12193079]
[{"$f":"'Org structure'!E17","v":"06.1 - Community Services Administration"},null,1266000,1950000,1185000,3319700,2769700,2769700,2508547,772827,792148]
[{"$f":"'Org structure'!E18","v":"06.2 - Traffic Services"},null,3316321.67,2742997.67,2774533.16,6818500,6818500,6818500,7143345,7464799,7651418]
[{"$f":"'Org structure'!E19","v":"06.3 - Refuse"},null,2009933.17,2166630.2999999998,2322146.86,3431800,2681800,2681800,5404732,5609279,3749513]
[{"$f":"'Org structure'!E20","v":"06.4 - Pound Services"},null,0,0,0,0,0,0,0,0,0]
[{"$f":"'Org structure'!A8","v":"Vote 07 - Econominc Development And Planning"},null,{"$f":"SUM(C25:C26)","v":57486716.359999999},91173149.629999995,76997179.88000001,54287555,58912288,58912288,57359947,62068564,64798654]
[{"$f":"'Org structure'!E22","v":"07.1 - Project Management Unit"},null,56605824.75,85302320.390000001,68341173.790000007,51769000,52393733,52393733,54524000,59105000,61761000]
[{"$f":"'Org structure'!E23","v":"07.2 - Economic Development And Planning"},null,880891.61,5870829.2400000002,8656006.0899999999,2518555,6518555,6518555,2835947,2963564,3037654]
[{"$f":"'Org structure'!A9","v":"Vote 08 - "},null,0,0,0,0,0,0,0,0,0]
[{"$f":"'Org structure'!A10","v":"Vote 09 - "},null,0,0,0,0,0,0,0,0,0]
[{"$f":"'Org structure'!A11","v":"Vote 10 - "},null,0,0,0,0,0,0,0,0,0]
[{"$f":"'Org structure'!A12","v":"Vote 11 - "},null,0,0,0,0,0,0,0,0,0]
[{"$f":"'Org structure'!A13","v":"Vote 12 - "},null,0,0,0,0,0,0,0,0,0]
[{"$f":"'Org structure'!A14","v":"Vote 13 - "},null,0,0,0,0,0,0,0,0,0]
[{"$f":"'Org structure'!A15","v":"Vote 14 - "},null,0,0,0,0,0,0,0,0,0]
[{"$f":"'Org structure'!A16","v":"Vote 15 - Other"},null,0,0,0,0,0,0,0,0,0]
["Total Revenue by Vote",2,{"$f":"C5+C7+C9+C11+C13+C19+C24+C27+C28+C29+C30+C31+C32+C33+C34","v":352170917.85000002},432660644.72000003,469059459.59999996,433591239,533243733,533243733,487452912,496750186,515629220,{"$f":"SUM(#REF!)","v":{"$error":"#REF!"}},{"$f":"SUM(#REF!)","v":{"$error":"#REF!"}},{"$f":"SUM(#REF!)","v":{"$error":"#REF!"}},{"$f":"SUM(#REF!)","v":{"$error":"#REF!"}},{"$f":"SUM(#REF!)","v":{"$error":"#REF!"}},{"$f":"SUM(#REF!)","v":{"$error":"#REF!"}},{"$f":"SUM(#REF!)","v":{"$error":"#REF!"}},{"$f":"SUM(#REF!)","v":{"$error":"#REF!"}},{"$f":"SUM(#REF!)","v":{"$error":"#REF!"}},{"$f":"SUM(#REF!)","v":{"$error":"#REF!"}},{"$f":"SUM(#REF!)","v":{"$error":"#REF!"}},{"$f":"SUM(#REF!)","v":{"$error":"#REF!"}}]
[]
["Expenditure by Vote",1]
[{"$f":"'Org structure'!A2","v":"Vote 01 - Executive & Council"},null,{"$f":"SUM(C39:C39)","v":18394330.48},19739846.800000001,21767091.309999999,25208466,24678335,24678335,25206341,26392878,27052709]
[{"$f":"'Org structure'!E3","v":"01.1 - Council General"},null,18394330.48,19739846.800000001,21767091.309999999,25208466,24678335,24678335,25206341,26392878,27052709]
[{"$f":"'Org structure'!A3","v":"Vote 02 - Finance And Administration"},null,{"$f":"SUM(C41:C41)","v":43045336.539999999},51481168.340000004,50638725.700000003,48854655,48504249,48504249,29557488,35987836,36660224]
[{"$f":"'Org structure'!E5","v":"02.1 - Municipal Manager"},null,43045336.539999999,51481168.340000004,50638725.700000003,48854655,48504249,48504249,29557488,35987836,36660224]
[{"$f":"'Org structure'!A4","v":"Vote 03 - Community Service"},null,{"$f":"SUM(C43:C43)","v":37868758.25},106845656.36,23482496.289999999,68648838,68755345,68755345,51185367,51163432,57282829]
[{"$f":"'Org structure'!E7","v":"03.1 - Finance Services Administration"},null,37868758.25,106845656.36,23482496.289999999,68648838,68755345,68755345,51185367,51163432,57282829]
[{"$f":"'Org structure'!A5","v":"Vote 04 - Public And Safety"},null,{"$f":"SUM(C45:C45)","v":57859291.060000002},72340528.549999997,66500231.579999998,83701715,83182415,83182415,82493780,86885255,89057397]
[{"$f":"'Org structure'!E9","v":"04.1 - Corporate Services Administration"},null,57859291.060000002,72340528.549999997,66500231.579999998,83701715,83182415,83182415,82493780,86885255,89057397]
[{"$f":"'Org structure'!A6","v":"Vote 05 - Waste Management"},null,{"$f":"SUM(C47:C51)","v":107591421.40000001},109366016.83999999,117265569.40000001,132490673,131170673,131170673,124129042,128393147,131602978]
[{"$f":"'Org structure'!E11","v":"05.1 - Technical Services Administration"},null,7125928.3399999999,7888569.8200000003,6731822.7000000002,7404611,7904611,7904611,8386023,8596198,8811100]
[{"$f":"'Org structure'!E12","v":"05.2 - Electrical Services"},null,75784910.590000004,79361061.819999993,87893379.349999994,105361037,103741037,103741037,94686194,97792570,100237384]
[{"$f":"'Org structure'!E13","v":"05.3 - Water Services"},null,0,0,0,0,0,0,0,0,0]
[{"$f":"'Org structure'!E14","v":"05.4 - Sanitation Services"},null,0,0,73367.34,0,0,0,0,0,0]
[{"$f":"'Org structure'!E15","v":"05.5 - Roads Services"},null,24680582.469999999,22116385.199999999,22567000.010000002,19725025,19525025,19525025,21056825,22004379,22554494]
[{"$f":"'Org structure'!A7","v":"Vote 06 - Roads  Services"},null,{"$f":"SUM(C53:C56)","v":46472082.269999996},39578999.730000004,51871414.030000001,57463478,55856184,55856184,72022587,58634825,60093199]
[{"$f":"'Org structure'!E17","v":"06.1 - Community Services Administration"},null,26418926.07,18324422.32,27398281.18,31983411,30576117,30576117,29836377,31158109,31937064]
[{"$f":"'Org structure'!E18","v":"06.2 - Traffic Services"},null,16205807.65,17801790.489999998,19324785.129999999,18257471,18192471,18192471,35886608,19863995,20360596]
[{"$f":"'Org structure'!E19","v":"06.3 - Refuse"},null,3686488.55,3225717.79,4891307.72,6928876,6793876,6793876,5999602,7312721,7495539]
[{"$f":"'Org structure'!E20","v":"06.4 - Pound Services"},null,160860,227069.13,257040,293720,293720,293720,300000,300000,300000]
[{"$f":"'Org structure'!A8","v":"Vote 07 - Econominc Development And Planning"},null,{"$f":"SUM(C58:C59)","v":12763468.560000001},14528126.82,18357436.039999999,16534740,14735682,14735682,15893629,16587944,17002644]
[{"$f":"'Org structure'!E22","v":"07.1 - Project Management Unit"},null,409465.25,1259030.52,0,2100000,1332561,1332561,2728400,2851178,2922459]
[{"$f":"'Org structure'!E23","v":"07.2 - Economic Development And Planning"},null,12354003.310000001,13269096.300000001,18357436.039999999,14434740,13403121,13403121,13165229,13736766,14080185]
[{"$f":"'Org structure'!A9","v":"Vote 08 - "},null,0,0,0,0,0,0,0,0,0]
[{"$f":"'Org structure'!A10","v":"Vote 09 - "},null,0,0,0,0,0,0,0,0,0]
[{"$f":"'Org structure'!A11","v":"Vote 10 - "},null,0,0,0,0,0,0,0,0,0]
[{"$f":"'Org structure'!A12","v":"Vote 11 - "},null,0,0,0,0,0,0,0,0,0]
[{"$f":"'Org structure'!A13","v":"Vote 12 - "},null,0,0,0,0,0,0,0,0,0]
[{"$f":"'Org structure'!A14","v":"Vote 13 - "},null,0,0,0,0,0,0,0,0,0]
[{"$f":"'Org structure'!A15","v":"Vote 14 - "},null,0,0,0,0,0,0,0,0,0]
[{"$f":"'Org structure'!A16","v":"Vote 15 - Other"},null,0,0,0,0,0,0,0,0,0]
["Total Expenditure by Vote",2,{"$f":"C38+C40+C42+C44+C46+C52+C57+C60+C61+C62+C63+C64+C65+C66+C67","v":323994688.56},413880343.44,349882964.34999996,432902565,426882883,426882883,400488234,404045317,418751980,{"$f":"SUM(L38:L59)","v":0},0,0,0,0,0,0,0,0,0,0,0]
[]
[{"$f":"result","v":"Surplus/(Deficit) for the year"},2,{"$f":"C35-C68","v":28176229.290000021},18780301.280000031,119176495.25,688674,106360850,106360850,86964678,92704869,96877240,{"$error":"#REF!"},{"$error":"#REF!"},{"$error":"#REF!"},{"$error":"#REF!"},{"$error":"#REF!"},{"$error":"#REF!"},{"$error":"#REF!"},{"$error":"#REF!"},{"$error":"#REF!"},{"$error":"#REF!"},{"$error":"#REF!"},{"$error":"#REF!"}]
[{"$f":"head27a","v":"References"}]
["1. Insert 'Vote'; e.g. Department, if different to Functional structure"]
["2. Must reconcile to Financial Performance ('Revenue and Expenditure by Functional Classification' and 'Revenue and Expenditure')"]
["3. Assign share in 'associate' to relevant Vote"]

{"sheet":"A4-FinPerf RE","index":11,"n_rows":70,"n_cols":24,"rows_kept":70,"cut":false,"hidden":false,"merged":[[1,12,1,23],[1,9,1,11],[1,5,1,8]]}
[{"$f":"muni&\" - \"&Approve4","v":"LIM351 Blouberg - Table A4 Budgeted Financial Performance (revenue and expenditure)"}]
[{"$f":"desc","v":"Description"},{"$f":"head27","v":"Ref"},{"$f":"head1b","v":"2021/22"},{"$f":"head1A","v":"2022/23"},{"$f":"Head1","v":"2023/24"},{"$f":"Head2","v":"Current Year 2024/25"},null,null,null,{"$f":"Head3","v":"2025/26 Medium Term Revenue & Expenditure Framework"},null,null,{"$f":"Head4","v":"LTFS"}]
["R thousand",1,{"$f":"Head5","v":"Audited Outcome"},{"$f":"Head5","v":"Audited Outcome"},{"$f":"Head5","v":"Audited Outcome"},{"$f":"Head6","v":"Original Budget"},{"$f":"Head7","v":"Adjusted Budget"},{"$f":"Head8","v":"Full Year Forecast"},{"$f":"Head5b","v":"Pre-audit outcome"},{"$f":"Head9","v":"Budget Year 2025/26"},{"$f":"Head10","v":"Budget Year +1 2026/27"},{"$f":"Head11","v":"Budget Year +2 2027/28"},{"$f":"Head12","v":"Forecast 2028/29"},{"$f":"Head13","v":"Forecast 2029/30"},{"$f":"Head14","v":"Forecast 2030/31"},{"$f":"Head15","v":"Forecast 2031/32"},{"$f":"Head16","v":"Forecast 2032/33"},{"$f":"Head17","v":"Forecast 2033/34"},{"$f":"Head18","v":"Forecast 2034/35"},{"$f":"Head19","v":"Forecast 2035/36"},{"$f":"Head20","v":"Forecast 2036/37"},{"$f":"Head21","v":"Forecast 2037/38"},{"$f":"Head22","v":"Forecast 2038/39"},{"$f":"Head23","v":"Forecast 2039/40"}]
["Revenue"," "]
["Exchange Revenue"," "]
["Service charges - Electricity","2",{"$f":"'SA1'!C17","v":29116330.23},{"$f":"'SA1'!D17","v":31889458.170000002},{"$f":"'SA1'!E17","v":35449328.960000001},{"$f":"'SA1'!F17","v":55308333},{"$f":"'SA1'!G17","v":55508333},{"$f":"'SA1'!H17","v":55508333},{"$f":"'SA1'!I17","v":39511560.059999995},{"$f":"'SA1'!J17","v":61323219},{"$f":"'SA1'!K17","v":64082764},{"$f":"'SA1'!L17","v":65684833}]
["Service charges - Water","2",{"$f":"'SA1'!C23","v":0},{"$f":"'SA1'!D23","v":0},{"$f":"'SA1'!E23","v":0},{"$f":"'SA1'!F23","v":0},{"$f":"'SA1'!G23","v":0},{"$f":"'SA1'!H23","v":0},{"$f":"'SA1'!I23","v":10206.59},{"$f":"'SA1'!J23","v":0},{"$f":"'SA1'!K23","v":0},{"$f":"'SA1'!L23","v":0}]
["Service charges - Waste Water Management","2",{"$f":"'SA1'!C29","v":34961.4},{"$f":"'SA1'!D29","v":19155.189999999999},{"$f":"'SA1'!E29","v":0},{"$f":"'SA1'!F29","v":0},{"$f":"'SA1'!G29","v":0},{"$f":"'SA1'!H29","v":0},{"$f":"'SA1'!I29","v":-87101.56},{"$f":"'SA1'!J29","v":0},{"$f":"'SA1'!K29","v":0},{"$f":"'SA1'!L29","v":0}]
["Service charges - Waste Management","2",{"$f":"'SA1'!C36","v":1887893.34},{"$f":"'SA1'!D36","v":1968415},{"$f":"'SA1'!E36","v":2069243.52},{"$f":"'SA1'!F36","v":2650000},{"$f":"'SA1'!G36","v":2250000},{"$f":"'SA1'!H36","v":2250000},{"$f":"'SA1'!I36","v":2051590.45},{"$f":"'SA1'!J36","v":3250000},{"$f":"'SA1'!K36","v":3396250},{"$f":"'SA1'!L36","v":1481157}]
["Sale of Goods and Rendering of Services"," ",4620449.2300000004,6478906.7800000003,604998.04,416090,916090,916090,748075.96,395375,413166,423495]
["Agency services"," ",0,0,0,314700,200000,200000,0,150000,156750,160669]
["Interest"," "]
["Interest earned from Receivables"," ",447119.43,795888.53,1065528.1000000001,1500000,1150000,1150000,2032317.79,1200600,1254627,1285994]
["Interest earned from Current and Non Current Assets"," ",2018715.85,4112363.63,7720659.9000000004,8063596,11063596,11063596,7129626.1500000004,11550395,12070162,12371917]
["Dividends"," "]
["Rent on Land"," ",550413.06000000006,461442.68,604906.35,926053,1526053,1526053,2545997.0499999998,1593200,1664894,1706517]
["Rental from Fixed Assets"," ",0,0,0,0,0,0,0,0,0,0]
["Licence and permits"," ",1200666.21,1427943.61,1223369.9099999999,5245000,5245000,5245000,1346699.19,5475780,5722192,5865246]
["Special rating levies"]
["Operational Revenue"," ",1086789.58,5922559.0300000003,8797485.8100000005,2294857,5294857,5294857,238316.12,2524831,2599784,2664779]
["Non-Exchange Revenue"," "]
["Property rates","2",{"$f":"'SA1'!C10","v":29497010.889999997},{"$f":"'SA1'!D10","v":25228987.140000001},{"$f":"'SA1'!E10","v":68960730.640000001},{"$f":"'SA1'!F10","v":34586407},{"$f":"'SA1'!G10","v":69755697},{"$f":"'SA1'!H10","v":69755697},{"$f":"'SA1'!I10","v":72542480.260000005},{"$f":"'SA1'!J10","v":76395001},{"$f":"'SA1'!K10","v":79832777},{"$f":"'SA1'!L10","v":83828597}]
["Surcharges and Taxes"," "]
["Fines, penalties and forfeits"," ",80348.7,1799193.99,0,2801725,2166425,2166425,324369.18,2286579,2389477,2449214]
["Licences or permits"," ",3316321.67,2738447.67,2774533.16,0,0,0,2258569.88,0,0,0]
["Transfer and subsidies - Operational"," ",214162630.31,225391142.56999999,241376084.02000001,250671000,250671000,250671000,249720857.28999999,249480000,246404000,257523000]
["Interest"," ",1549115.25,1266423.7,1396171.29,1328478,1328478,1328478,1414789.99,1586932,1658343,1699802]
["Fuel Levy"," "]
["Operational Revenue"," ",0,0,0,0,0,0,0,0,0,0]
["Gains on disposal of Assets"," ",0,0,1559867.83,0,0,0,0,0,0,0]
["Other Gains"," ",0,10632282.939999999,0,0,0,0,0,0,0,0]
["Discontinued Operations"," "]
["Total Revenue (excluding capital transfers and contributions)"," ",{"$f":"SUM(C6:C20)+SUM(C22:C32)","v":289568765.14999998},{"$f":"SUM(D6:D20)+SUM(D22:D32)","v":320132610.63},373602907.52999997,366106239,407075529,407075529,381788354.40000004,417211912,421645186,437145220]
["Expenditure"," "]
["Employee related costs","2",{"$f":"'SA1'!C71","v":119858268.96999995},{"$f":"'SA1'!D71","v":124043648.97},{"$f":"'SA1'!E71","v":132264727.49000001},{"$f":"'SA1'!F71","v":140755081},{"$f":"'SA1'!G71","v":140755081},{"$f":"'SA1'!H71","v":140755081},{"$f":"'SA1'!I71","v":127479363.73},{"$f":"'SA1'!J71","v":151448377},{"$f":"'SA1'!K71","v":155128555},{"$f":"'SA1'!L71","v":159006765},{"$f":"'SA1'!M71","v":0},{"$f":"'SA1'!N71","v":0},{"$f":"'SA1'!O71","v":0},{"$f":"'SA1'!P71","v":0},{"$f":"'SA1'!Q71","v":0},{"$f":"'SA1'!R71","v":0},{"$f":"'SA1'!S71","v":0},{"$f":"'SA1'!T71","v":0}]
["Remuneration of councillors"," ",17213956.91,17982273.07,19212717.030000001,21997665,21997665,21997665,18109288.23,22965572,23999024,24599002]
["Bulk purchases - electricity","2",{"$f":"'SA1'!C88","v":50884659.640000001},{"$f":"'SA1'!D88","v":52983493.469999999},{"$f":"'SA1'!E88","v":58974105.390000001},{"$f":"'SA1'!F88","v":61440000},{"$f":"'SA1'!G88","v":64440000},{"$f":"'SA1'!H88","v":64440000},{"$f":"'SA1'!I88","v":56318256.350000001},{"$f":"'SA1'!J88","v":67275360},{"$f":"'SA1'!K88","v":70302752},{"$f":"'SA1'!L88","v":72060320}]
["Inventory consumed","8",{"$f":"'SA1'!C169","v":6420489},{"$f":"'SA1'!D169","v":3569119},{"$f":"'SA1'!E169","v":3238441},{"$f":"'SA1'!F169","v":5337183},{"$f":"'SA1'!G169","v":5337183},{"$f":"'SA1'!H169","v":5337183},{"$f":"'SA1'!I169","v":2590228.94},{"$f":"'SA1'!J169","v":2650699},{"$f":"'SA1'!K169","v":3569227},{"$f":"'SA1'!L169","v":3658457}]
["Debt impairment","3",0,1259030.52,0,49170559,49170559,49170559,0,17483213,17049064,22315601]
["Depreciation and amortisation"," ",{"$f":"'SA1'!C83","v":30420608.430000003},{"$f":"'SA1'!D83","v":35157656.590000004},{"$f":"'SA1'!E83","v":33819527.289999999},{"$f":"'SA1'!F83","v":33513635},{"$f":"'SA1'!G83","v":33513635},{"$f":"'SA1'!H83","v":33513635},{"$f":"'SA1'!I83","v":0},{"$f":"'SA1'!J83","v":34988257},{"$f":"'SA1'!K83","v":36562722},{"$f":"'SA1'!L83","v":37476791}]
["Interest"," ",0,0,4441877.01,0,0,0,0,0,0,0]
["Contracted services"," ",{"$f":"'SA1'!C127","v":60952163.630000003},{"$f":"'SA1'!D127","v":61218972.200000003},{"$f":"'SA1'!E127","v":47561822.950000003},{"$f":"'SA1'!F127","v":54287316},{"$f":"'SA1'!G127","v":50132903},{"$f":"'SA1'!H127","v":50132903},{"$f":"'SA1'!I127","v":38598367.899999999},{"$f":"'SA1'!J127","v":42645339},{"$f":"'SA1'!K127","v":34701133},{"$f":"'SA1'!L127","v":35341363}]
["Transfers and subsidies"," ",{"$f":"'SA1'!C93","v":49860},{"$f":"'SA1'!D93","v":0},{"$f":"'SA1'!E93","v":0},{"$f":"'SA1'!F93","v":0},{"$f":"'SA1'!G93","v":0},{"$f":"'SA1'!H93","v":0},{"$f":"'SA1'!I93","v":0},{"$f":"'SA1'!J93","v":0},{"$f":"'SA1'!K93","v":0},{"$f":"'SA1'!L93","v":0}]
["Irrecoverable debts written off"," ",2370462.7200000002,54121083.600000001,-9057591.0899999999,0,0,0,0,0,0,0]
["Operational costs"," ",{"$f":"'SA1'!C157","v":40958958.280000001},{"$f":"'SA1'!D157","v":55028708.82},{"$f":"'SA1'!E157","v":57016689.050000004},{"$f":"'SA1'!F157","v":66401126},{"$f":"'SA1'!G157","v":63847857},{"$f":"'SA1'!H157","v":63847857},{"$f":"'SA1'!I157","v":52108706.520000003},{"$f":"'SA1'!J157","v":61031417},{"$f":"'SA1'!K157","v":63545585},{"$f":"'SA1'!L157","v":65134243}]
["Losses on disposal of Assets"," ",-550480.13,-222579,896190.01,0,0,0,0,0,0,0]
["Other Losses"," ",0,10632282.939999999,0,0,0,0,0,0,0,0]
["Total Expenditure"," ",{"$f":"SUM(C35:C47)","v":328578947.45000005},{"$f":"SUM(D35:D47)","v":415773690.18000001},348368506.13000005,432902565,429194883,429194883,295204211.67000002,400488234,404858062,419592542,{"$f":"SUM(M35:M47)","v":0},0,0,0,0,0,0,0,0,0,0,0]
["Surplus/(Deficit)",null,{"$f":"C33-C48","v":-39010182.300000072},{"$f":"D33-D48","v":-95641079.550000012},25234401.399999917,-66796326,-22119354,-22119354,86584142.730000019,16723678,16787124,17552678,{"$f":"M33+M48","v":0},0,0,0,0,0,0,0,0,0,0,0]
["Transfers and subsidies - capital (monetary allocations)","6",62602152.700000003,112528034.09,95456552.069999993,67485000,126168204,126168204,106267527.14,70241000,75105000,78484000]
["Transfers and subsidies - capital (in-kind)","6"]
["Surplus/(Deficit) after capital transfers & contributions",null,{"$f":"SUM(C49:C51)","v":23591970.399999931},{"$f":"SUM(D49:D51)","v":16886954.539999992},120690953.46999991,688674,104048850,104048850,192851669.87,86964678,91892124,96036678]
["Income Tax"]
["Surplus/(Deficit) after income tax",null,{"$f":"+C52-C53","v":23591970.399999931},{"$f":"+D52-D53","v":16886954.539999992},120690953.46999991,688674,104048850,104048850,192851669.87,86964678,91892124,96036678,0,0,0,0,0]
["Share of Surplus/Deficit attributable to Joint Venture"]
["Share of Surplus/Deficit attributable to Minorities"]
["Surplus/(Deficit) attributable to municipality",null,{"$f":"SUM(C54:C56)","v":23591970.399999931},{"$f":"SUM(D54:D56)","v":16886954.539999992},120690953.46999991,688674,104048850,104048850,192851669.87,86964678,91892124,96036678,0,0,0,0,0]
["Share of Surplus/Deficit attributable to Associate",7]
["Intercompany/Parent subsidiary transactions"]
[{"$f":"result","v":"Surplus/(Deficit) for the year"},1,{"$f":"SUM(C57:C59)","v":23591970.399999931},{"$f":"SUM(D57:D59)","v":16886954.539999992},120690953.46999991,688674,104048850,104048850,192851669.87,86964678,91892124,96036678,0,0,0,0,0,{"$f":"R36+R59","v":0},0,0,0,0,0,0]
["References"]
["1. Classifications are revenue sources and expenditure type"]
["2. Detail to be provided in Table SA1",null,null,null,null,null,null,null,null,null,null,null,null,null,{"$f":"O60-'A4-FinPerf RE'!J60","v":-86964678},{"$f":"P60-'A4-FinPerf RE'!K60","v":-91892124},{"$f":"Q60-'A4-FinPerf RE'!L60","v":-96036678}]
["3. Debt impairment includes Impairment and Reversal of Impairment Losses"]
["4. Expenditure type components previously shown under repairs and maintenance should be allocated back to the originating expenditure group/item; e.g. employee costs"]
["5. Repairs & maintenance detailed in Table A9 and Table SA34c"]
["6. Contributions are funds provided by external organisations to assist with infrastructure development; e.g. developer contributions (detail to be provided in Table SA1)"]
["7. Equity method ( Includes Joint Ventures)"]
["8. All materials consumed including water consumed and materials used in operations."]
["9 Operational revenue is a summary of imatereial item that are on the chart not on the face of the A4 due to imateriality."]

{"sheet":"A4 Funding","index":12,"n_rows":311,"n_cols":14,"rows_kept":311,"cut":false,"hidden":true,"merged":[[1,7,1,10],[1,11,1,13],[0,0,0,13]]}
["Western Cape: Saldanha Bay (WC014) - Table A4 Funding Tool Summary for 4th Quarter ended 30 June 2024"]
["A4 Code","A4 Description","Type","Classification",{"$f":"head1b","v":"2021/22"},{"$f":"head1A","v":"2022/23"},{"$f":"Head1","v":"2023/24"},{"$f":"Head2","v":"Current Year 2024/25"},null,null,null,{"$f":"Head3","v":"2025/26 Medium Term Revenue & Expenditure Framework"}]
["R thousands","","","",{"$f":"Head5","v":"Audited Outcome"},{"$f":"Head5","v":"Audited Outcome"},{"$f":"Head5","v":"Audited Outcome"},{"$f":"Head6","v":"Original Budget"},{"$f":"Head7","v":"Adjusted Budget"},{"$f":"Head8","v":"Full Year Forecast"},{"$f":"Head5b","v":"Pre-audit outcome"},{"$f":"Head9","v":"Budget Year 2025/26"},{"$f":"Head10","v":"Budget Year +1 2026/27"},{"$f":"Head11","v":"Budget Year +2 2027/28"}]
["0300","Exchange Revenue / Service charges - Electricity","Non-Cash","Debtor accrual - service charges electricity accrued through exchange receivables",{"$f":"'SA3'!C8","v":21315171.859999999},{"$f":"'SA3'!D8","v":27518665.66},{"$f":"'SA3'!E8","v":31724655.02},{"$f":"'SA3'!F8","v":20792849},{"$f":"'SA3'!G8","v":20792849},{"$f":"'SA3'!H8","v":20792849},{"$f":"'SA3'!I8","v":42656131.939999998},{"$f":"'SA3'!J8","v":34698856},{"$f":"'SA3'!K8","v":35982024},{"$f":"'SA3'!L8","v":40168809}]
["","","","Non-Cash Total",{"$f":"SUM(E4)","v":21315171.859999999},{"$f":"SUM(F4)","v":27518665.66},31724655.02,20792849,20792849,20792849,42656131.939999998,34698856,35982024,40168809]
["","Exchange Revenue / Service charges - Electricity Total","",""]
["0400","Exchange Revenue / Service charges - Water","Non-Cash","Debtor accrual - service charges water accrued through exchange receivables",{"$f":"'SA3'!C9","v":0},{"$f":"'SA3'!D9","v":0},{"$f":"'SA3'!E9","v":0},{"$f":"'SA3'!F9","v":0},{"$f":"'SA3'!G9","v":0},{"$f":"'SA3'!H9","v":0},{"$f":"'SA3'!I9","v":120077.35},{"$f":"'SA3'!J9","v":0},{"$f":"'SA3'!K9","v":0},{"$f":"'SA3'!L9","v":0}]
["","","","Non-Cash Total"]
["","Exchange Revenue / Service charges - Water Total","",""]
["0500","Exchange Revenue / Service charges - Waste Water Management","Non-Cash","Debtor accrual - service charges waste water management accrued through exchange receivables",{"$f":"'SA3'!C11","v":0},{"$f":"'SA3'!D11","v":0},{"$f":"'SA3'!E11","v":0},{"$f":"'SA3'!F11","v":0},{"$f":"'SA3'!G11","v":0},{"$f":"'SA3'!H11","v":0},{"$f":"'SA3'!I11","v":-114046.5},{"$f":"'SA3'!J11","v":0},{"$f":"'SA3'!K11","v":0},{"$f":"'SA3'!L11","v":0}]
["","","","Non-Cash Total"]
["","Exchange Revenue / Service charges - Waste Water Management Total","",""]
["0600","Exchange Revenue / Service charges - Waste Management","Non-Cash","Debtor accrual - service charges waste management accrued through exchange receivables",{"$f":"'SA3'!C10","v":5090355.41},{"$f":"'SA3'!D10","v":6968356.4900000002},{"$f":"'SA3'!E10","v":8821082.1199999992},{"$f":"'SA3'!F10","v":5491457},{"$f":"'SA3'!G10","v":5491457},{"$f":"'SA3'!H10","v":5491457},{"$f":"'SA3'!I10","v":10468360.65},{"$f":"'SA3'!J10","v":9658294},{"$f":"'SA3'!K10","v":10092918},{"$f":"'SA3'!L10","v":10345240}]
["","","","Non-Cash Total"]
["","Exchange Revenue / Service charges - Waste Management Total","",""]
["0700","Exchange Revenue / Sale of Goods and Rendering of Services","Cash","Cash sales of goods and rendering of services",{"$f":"'SA3'!C138","v":977360372.46000004},0,0,0,0,0,0,0,0,0]
[null,null,null,"Proceeds sale of PPE",0,0,0,0,0,0,0,0,0,0]
["","","","Cash Total",0,0,0,0,0,0,0,0,0,0]
["","Exchange Revenue / Sale of Goods and Rendering of Services Total","","",0,0,0,0,0,0,0,0,0,0]
["0800","Exchange Revenue / Agency services","Cash","Cash - agency services",0,0,0,0,0,0,0,0,0,0]
["","","","Cash Total",0,0,0,0,0,0,0,0,0,0]
["","Exchange Revenue / Agency services Total","","",0,0,0,0,0,0,0,0,0,0]
["0900","Exchange Revenue / Interest","Non-Cash","Deemed interest",0,0,0,0,0,0,0,0,0,0]
["","","","Non-Cash Total"]
["","Exchange Revenue / Interest Total","",""]
["1000","Exchange Revenue / Interest earned from Receivables","Non-Cash","Affiliates/related parties/associated companies",0,0,0,0,0,0,0,0,0,0]
[null,null,null,"Debtor accrual - interest outstanding debtors accrued through exchange receivables",0,0,0,0,0,0,0,0,0,0]
[null,null,null,"SARS",0,0,0,0,0,0,0,0,0,0]
["","","","Non-Cash Total",0,0,0,0,0,0,0,0,0,0]
["","Exchange Revenue / Interest earned from Receivables Total","","",0,0,0,0,0,0,0,0,0,0]
["1100","Exchange Revenue / Interest earned from Current and Non Current Assets","Cash","Cash - interest external investments",0,0,0,0,0,0,0,0,0,0]
["","","","Cash Total",0,0,0,0,0,0,0,0,0,0]
["","Exchange Revenue / Interest earned from Current and Non Current Assets Total","","",0,0,0,0,0,0,0,0,0,0]
["1200","Exchange Revenue / Dividends","Cash","Cash - dividends received",0,0,0,0,0,0,0,0,0,0]
["","","","Cash Total",0,0,0,0,0,0,0,0,0,0]
["","Exchange Revenue / Dividends Total","","",0,0,0,0,0,0,0,0,0,0]
["1300","Exchange Revenue / Rent on Land","Cash","Cash - rent on land",0,0,0,0,0,0,0,0,0,0]
["","","","Cash Total",0,0,0,0,0,0,0,0,0,0]
["","Exchange Revenue / Rent on Land Total","","",0,0,0,0,0,0,0,0,0,0]
["1400","Exchange Revenue / Rental from Fixed Assets","Cash","Cash - rental from fixed assets",0,0,0,0,0,0,0,0,0,0]
["","","","Cash Total",0,0,0,0,0,0,0,0,0,0]
["","Exchange Revenue / Rental from Fixed Assets Total","","",0,0,0,0,0,0,0,0,0,0]
["1500","Exchange Revenue / Licence and permits","Cash","Cash - licence and permits",0,0,0,0,0,0,0,0,0,0]
["","","","Cash Total",0,0,0,0,0,0,0,0,0,0]
["","Exchange Revenue / Licence and permits Total","","",0,0,0,0,0,0,0,0,0,0]
[1550,"Exchange Revenue / Special rating levies","Cash","Cash - Special rating levies",0,0,0,0,0,0,0,0,0,0]
[null,null,null,"Cash Total",0,0,0,0,0,0,0,0,0,0]
[null,"Exchange Revenue / Special rating levies Total",null,null,0,0,0,0,0,0,0,0,0,0]
[1600,"Exchange Revenue / Operational Revenue","Cash","Cash - Operating revenue",0,0,0,0,0,0,0,0,0,0]
["","","","Cash Total",0,0,0,0,0,0,0,0,0,0]
["","Exchange Revenue / Operational Revenue Total","","",0,0,0,0,0,0,0,0,0,0]
["1800","Non-Exchange Revenue / Property rates","Non-Cash","Debtor accrual - property rates accrued through non-exchange receivables",0,0,0,0,0,0,0,0,0,0]
["","","","Non-Cash Total",0,0,0,0,0,0,0,0,0,0]
["","Non-Exchange Revenue / Property rates Total","","",0,0,0,0,0,0,0,0,0,0]
["1900","Non-Exchange Revenue / Surcharges and Taxes","Non-Cash","Debtor accrual - surcharges & taxes accrued through non-exchange receivables",0,0,0,0,0,0,0,0,0,0]
["","","","Non-Cash Total",0,0,0,0,0,0,0,0,0,0]
["","Non-Exchange Revenue / Surcharges and Taxes Total","","",0,0,0,0,0,0,0,0,0,0]
["2000","Non-Exchange Revenue / Fines, penalties and forfeits","Non-Cash","Debtor accrual - Fines, penalties and forfeits revenue accrued through non-exchanges receivables",0,0,0,0,0,0,0,0,0,0]
["","","","Non-Cash Total",0,0,0,0,0,0,0,0,0,0]
["","Non-Exchange Revenue / Fines, penalties and forfeits Total","","",0,0,0,0,0,0,0,0,0,0]
["2100","Non-Exchange Revenue / Licences or permits","Cash","Cash - licences or permits",0,0,0,0,0,0,0,0,0,0]
["","","","Cash Total",0,0,0,0,0,0,0,0,0,0]
["","Non-Exchange Revenue / Licences or permits Total","","",0,0,0,0,0,0,0,0,0,0]
["2200","Non-Exchange Revenue / Transfer and subsidies - Operational","Cash","Cash - Operational transfers and subsidies",0,0,0,0,0,0,0,0,0,0]
["","","","Cash Total",0,0,0,0,0,0,0,0,0,0]
[null,null,"Non-Cash","Operational allocation in-kind",0,0,0,0,0,0,0,0,0,0]
["","","","Non-Cash Total",0,0,0,0,0,0,0,0,0,0]
["","Non-Exchange Revenue / Transfer and subsidies - Operational Total","","",0,0,0,0,0,0,0,0,0,0]
["2300","Non-Exchange Revenue / Interest","Non-Cash","Debtor accrual - interest outstanding property rates accrued through non-exchange receivables",0,0,0,0,0,0,0,0,0,0]
[null,null,null,"Debtor accrual - interest outstanding service charges electricity accrued through exchange receivables",0,0,0,0,0,0,0,0,0,0]
[null,null,null,"Debtor accrual - interest outstanding service charges waste management accrued through exchange receivables",0,0,0,0,0,0,0,0,0,0]
[null,null,null,"Debtor accrual - interest outstanding service charges waste water management accrued through exchange receivables",0,0,0,0,0,0,0,0,0,0]
[null,null,null,"Debtor accrual - interest outstanding service charges water accrued through exchange receivables",0,0,0,0,0,0,0,0,0,0]
["","","","Non-Cash Total",0,0,0,0,0,0,0,0,0,0]
["","Non-Exchange Revenue / Interest Total","","",0,0,0,0,0,0,0,0,0,0]
["2400","Non-Exchange Revenue / Fuel Levy","Cash","Cash collection fuel levy",0,0,0,0,0,0,0,0,0,0]
["","","","Cash Total",0,0,0,0,0,0,0,0,0,0]
["","Non-Exchange Revenue / Fuel Levy Total","","",0,0,0,0,0,0,0,0,0,0]
["2500","Non-Exchange Revenue / Operational Revenue","Non-Cash","Debtor accrual - availability charges electricity accrued through non-exchange receivables",0,0,0,0,0,0,0,0,0,0]
[null,null,null,"Debtor accrual - availability charges waste management accrued through non-exchange receivables",0,0,0,0,0,0,0,0,0,0]
[null,null,null,"Debtor accrual - availability charges waste water management  accrued through non-exchange receivables",0,0,0,0,0,0,0,0,0,0]
[null,null,null,"Debtor accrual - availability charges water accrued through non-exchange receivables",0,0,0,0,0,0,0,0,0,0]
["","","","Non-Cash Total",0,0,0,0,0,0,0,0,0,0]
["","Non-Exchange Revenue / Operational Revenue Total","","",0,0,0,0,0,0,0,0,0,0]
["2600","Non-Exchange Revenue / Gains on disposal of Assets","Non-Cash","Biological assets",0,0,0,0,0,0,0,0,0,0]
[null,null,null,"Discontinued operations",0,0,0,0,0,0,0,0,0,0]
[null,null,null,"Heritage assets",0,0,0,0,0,0,0,0,0,0]
[null,null,null,"Intangible assets",0,0,0,0,0,0,0,0,0,0]
[null,null,null,"Investment property",0,0,0,0,0,0,0,0,0,0]
[null,null,null,"Land",0,0,0,0,0,0,0,0,0,0]
[null,null,null,"Living resources",0,0,0,0,0,0,0,0,0,0]
[null,null,null,"Other assets",0,0,0,0,0,0,0,0,0,0]
[null,null,null,"PPE",0,0,0,0,0,0,0,0,0,0]
["","","","Non-Cash Total",0,0,0,0,0,0,0,0,0,0]
["","Non-Exchange Revenue / Gains on disposal of Assets Total","","",0,0,0,0,0,0,0,0,0,0]
["2700","Non-Exchange Revenue / Other Gains","Non-Cash","Fair value adjustment actuarial assesments - leave gratuity",0,0,0,0,0,0,0,0,0,0]
[null,null,null,"Fair value adjustment actuarial assesments - long service awards",0,0,0,0,0,0,0,0,0,0]
[null,null,null,"Fair value adjustment actuarial assesments - medical aid",0,0,0,0,0,0,0,0,0,0]
[null,null,null,"Fair value adjustment actuarial assesments - pension funds",0,0,0,0,0,0,0,0,0,0]
[null,null,null,"Fair value adjustment biological assets",0,0,0,0,0,0,0,0,0,0]
[null,null,null,"Fair value adjustment heritage assets",0,0,0,0,0,0,0,0,0,0]
[null,null,null,"Fair value adjustment interest rate swap",0,0,0,0,0,0,0,0,0,0]
[null,null,null,"Fair value adjustment investment property",0,0,0,0,0,0,0,0,0,0]
[null,null,null,"Fair value adjustment investments",0,0,0,0,0,0,0,0,0,0]
[null,null,null,"Fair value adjustment living resources",0,0,0,0,0,0,0,0,0,0]
[null,null,null,"Foreign exchange",0,0,0,0,0,0,0,0,0,0]
[null,null,null,"Inventory - fair value assessment",0,0,0,0,0,0,0,0,0,0]
[null,null,null,"Inventory - increase in net realisable value",0,0,0,0,0,0,0,0,0,0]
[null,null,null,"Debt Waived",0,0,0,0,0,0,0,0,0,0]
["","","","Non-Cash Total",0,0,0,0,0,0,0,0,0,0]
["","Non-Exchange Revenue / Other Gains Total","","",0,0,0,0,0,0,0,0,0,0]
["2800","Revenue / Discontinued Operations","Non-Cash","Discontinued operations",0,0,0,0,0,0,0,0,0,0]
["","","","Non-Cash Total",0,0,0,0,0,0,0,0,0,0]
["","Revenue / Discontinued Operations Total","","",0,0,0,0,0,0,0,0,0,0]
["3100","Expenditure / Employee related costs","Non-Cash","Cost capitalised to PPE (credit account)",0,0,0,0,0,0,0,0,0,0]
[null,null,null,"Creditor accrual - Employee related expenditure accrued through payables from non-exchange transactions",0,0,0,0,0,0,0,0,0,0]
[null,null,null,"In-kind benefits",0,0,0,0,0,0,0,0,0,0]
[null,null,null,"In-kind benefits - cost capitalised to PPE (credit account)",0,0,0,0,0,0,0,0,0,0]
[null,null,null,"Post-retirement benefit: medical",0,0,0,0,0,0,0,0,0,0]
[null,null,null,"Post-retirement benefit: pension",0,0,0,0,0,0,0,0,0,0]
["","","","Non-Cash Total",0,0,0,0,0,0,0,0,0,0]
["","Expenditure / Employee related costs Total","","",0,0,0,0,0,0,0,0,0,0]
["3200","Expenditure / Remuneration of councillors","Non-Cash","Creditor Accrual - councillor remuneration accrued through payables from non-exchange transactions",0,0,0,0,0,0,0,0,0,0]
[null,null,null,"In-kind benefits to councillors",0,0,0,0,0,0,0,0,0,0]
[null,null,null,"Use of personal facilities",0,0,0,0,0,0,0,0,0,0]
["","","","Non-Cash Total",0,0,0,0,0,0,0,0,0,0]
["","Expenditure / Remuneration of councillors Total","","",0,0,0,0,0,0,0,0,0,0]
["3300","Expenditure / Bulk purchases - electricity","Non-Cash","Creditor accrual - bulk purchases electricity accrued through payables from exchange transactions",0,0,0,0,0,0,0,0,0,0]
["","","","Non-Cash Total",0,0,0,0,0,0,0,0,0,0]
["","Expenditure / Bulk purchases - electricity Total","","",0,0,0,0,0,0,0,0,0,0]
["3400","Expenditure / Inventory consumed","Non-Cash","Creditor accrual - bulk purchases water accrued through payables from exchange transactions",0,0,0,0,0,0,0,0,0,0]
[null,null,null,"Inventory consumed - agricultural",0,0,0,0,0,0,0,0,0,0]
[null,null,null,"Inventory consumed - capitalisation of inventory consumed",0,0,0,0,0,0,0,0,0,0]
[null,null,null,"Inventory consumed - finished Goods",0,0,0,0,0,0,0,0,0,0]
[null,null,null,"Inventory consumed - housing stock",0,0,0,0,0,0,0,0,0,0]
[null,null,null,"Inventory consumed - land",0,0,0,0,0,0,0,0,0,0]
[null,null,null,"Inventory consumed - materials and supplies",0,0,0,0,0,0,0,0,0,0]
[null,null,null,"Inventory consumed - standard rated",0,0,0,0,0,0,0,0,0,0]
[null,null,null,"Inventory consumed - water",0,0,0,0,0,0,0,0,0,0]
[null,null,null,"Inventory consumed - zero rated",0,0,0,0,0,0,0,0,0,0]
["","","","Non-Cash Total",0,0,0,0,0,0,0,0,0,0]
["","Expenditure / Inventory consumed Total","","",0,0,0,0,0,0,0,0,0,0]
["3500","Expenditure / Debt impairment","Non-Cash","Impairment loss - exchange revenue - electricity",0,0,0,0,0,0,0,0,0,0]
[null,null,null,"Impairment loss - exchange revenue - other",0,0,0,0,0,0,0,0,0,0]
[null,null,null,"Impairment loss - exchange revenue - waste management",0,0,0,0,0,0,0,0,0,0]
[null,null,null,"Impairment loss - exchange revenue - waste water management",0,0,0,0,0,0,0,0,0,0]
[null,null,null,"Impairment loss - exchange revenue - water",0,0,0,0,0,0,0,0,0,0]
[null,null,null,"Impairment loss - non-exchange revenue - other",0,0,0,0,0,0,0,0,0,0]
[null,null,null,"Impairment loss - non-exchange revenue - prop rates",0,0,0,0,0,0,0,0,0,0]
[null,null,null,"Impairment loss - non-exchange revenue - serv charges",0,0,0,0,0,0,0,0,0,0]
[null,null,null,"Impairment loss - non-exchange revenue - serv charges - electricity",0,0,0,0,0,0,0,0,0,0]
[null,null,null,"Impairment loss - non-exchange revenue - serv charges - waste management",0,0,0,0,0,0,0,0,0,0]
[null,null,null,"Impairment loss - non-exchange revenue - serv charges - waste water management",0,0,0,0,0,0,0,0,0,0]
[null,null,null,"Impairment loss - non-exchange revenue - serv charges - water",0,0,0,0,0,0,0,0,0,0]
[null,null,null,"Reversal of Impairment loss - exchange revenue - electricity",0,0,0,0,0,0,0,0,0,0]
[null,null,null,"Reversal of Impairment loss - non-exchange revenue - other",0,0,0,0,0,0,0,0,0,0]
[null,null,null,"Reversal of Impairment loss - non-exchange revenue - prop rates",0,0,0,0,0,0,0,0,0,0]
[null,null,null,"Reversal of Impairment loss - non-exchange revenue - serv charges",0,0,0,0,0,0,0,0,0,0]
[null,null,null,"Reversal of Impairment loss - non-exchange revenue - serv charges - electricity",0,0,0,0,0,0,0,0,0,0]
[null,null,null,"Reversal of Impairment loss - non-exchange revenue - serv charges - waste management",0,0,0,0,0,0,0,0,0,0]
[null,null,null,"Reversal of Impairment loss - non-exchange revenue - serv charges - waste water mangement",0,0,0,0,0,0,0,0,0,0]
[null,null,null,"Reversal of Impairment loss - non-exchange revenue - serv charges - water",0,0,0,0,0,0,0,0,0,0]
[null,null,null,"Reversal of Impairment loss - exchange revenue - waste management",0,0,0,0,0,0,0,0,0,0]
[null,null,null,"Reversal of Impairment loss - exchange revenue - waste water management",0,0,0,0,0,0,0,0,0,0]
[null,null,null,"Reversal of Impairment loss - exchange revenue - water",0,0,0,0,0,0,0,0,0,0]
[null,null,null,"Reversal of Impairment loss - exchange revenue - other",0,0,0,0,0,0,0,0,0,0]
["","","","Non-Cash Total",0,0,0,0,0,0,0,0,0,0]
["","Expenditure / Debt impairment Total","","",0,0,0,0,0,0,0,0,0,0]
["3600","Expenditure / Depreciation and amortisation","Non-Cash","Amortisation - intangible assets",0,0,0,0,0,0,0,0,0,0]
[null,null,null,"Depreciation - biological or cultivated assets",0,0,0,0,0,0,0,0,0,0]
[null,null,null,"Depreciation - heritage assets",0,0,0,0,0,0,0,0,0,0]
[null,null,null,"Depreciation - intangible assets",0,0,0,0,0,0,0,0,0,0]
[null,null,null,"Depreciation - investment property",0,0,0,0,0,0,0,0,0,0]
[null,null,null,"Depreciation - living resources",0,0,0,0,0,0,0,0,0,0]
[null,null,null,"Depreciation - PPE",0,0,0,0,0,0,0,0,0,0]
[null,null,null,"Depreciation - Land",0,0,0,0,0,0,0,0,0,0]
[null,null,null,"Impairment loss - biological or cultivated assets",0,0,0,0,0,0,0,0,0,0]
[null,null,null,"Impairment loss - heritage assets",0,0,0,0,0,0,0,0,0,0]
[null,null,null,"Impairment loss - intangible assets",0,0,0,0,0,0,0,0,0,0]
[null,null,null,"Impairment loss - investment property",0,0,0,0,0,0,0,0,0,0]
[null,null,null,"Impairment loss - living resources",0,0,0,0,0,0,0,0,0,0]
[null,null,null,"Impairment loss - PPE",0,0,0,0,0,0,0,0,0,0]
[null,null,null,"Impairment loss - PPE - construction WIP",0,0,0,0,0,0,0,0,0,0]
[null,null,null,"Reversal impairment loss - biological or cultivated assets",0,0,0,0,0,0,0,0,0,0]
[null,null,null,"Reversal impairment loss - investment property",0,0,0,0,0,0,0,0,0,0]
[null,null,null,"Reversal impairment loss - living resources",0,0,0,0,0,0,0,0,0,0]
[null,null,null,"Reversal impairment loss - PPE",0,0,0,0,0,0,0,0,0,0]
[null,null,null,"Reversal impairment loss - PPE - construction WIP",0,0,0,0,0,0,0,0,0,0]
[null,null,null,"Reversal of impairment loss - heritage assets",0,0,0,0,0,0,0,0,0,0]
[null,null,null,"Reversal of impairment loss - intangible assets",0,0,0,0,0,0,0,0,0,0]
["","","","Non-Cash Total",0,0,0,0,0,0,0,0,0,0]
["","Expenditure / Depreciation and amortisation Total","","",0,0,0,0,0,0,0,0,0,0]
["3700","Expenditure / Interest","Cash","Direct cash payment",0,0,0,0,0,0,0,0,0,0]
["","","","Cash Total",0,0,0,0,0,0,0,0,0,0]
[null,null,"Non-Cash","Accrual of finance charges - discounting of financial instruments",0,0,0,0,0,0,0,0,0,0]
[null,null,null,"Accrual of finance charges - interest costs intercompany/parentsubsidiary transactions",0,0,0,0,0,0,0,0,0,0]
[null,null,null,"Accrual of finance charges - interest costs long service awards",0,0,0,0,0,0,0,0,0,0]
[null,null,null,"Accrual of finance charges - interest costs non-current provisions",0,0,0,0,0,0,0,0,0,0]
["","","","Non-Cash Total",0,0,0,0,0,0,0,0,0,0]
["","Expenditure / Interest Total","","",0,0,0,0,0,0,0,0,0,0]
["3800","Expenditure / Contracted services","Non-Cash","Creditor Accrual - contracted services accrued through payables from exchange transactions",0,0,0,0,0,0,0,0,0,0]
["","","","Non-Cash Total",0,0,0,0,0,0,0,0,0,0]
["","Expenditure / Contracted services Total","","",0,0,0,0,0,0,0,0,0,0]
["3900","Expenditure / Transfers and subsidies","Cash","Capital monetary allocation",0,0,0,0,0,0,0,0,0,0]
[null,null,null,"Capital monetary allocation made to municipal entities.",0,0,0,0,0,0,0,0,0,0]
[null,null,null,"Operational monetary allocations",0,0,0,0,0,0,0,0,0,0]
[null,null,null,"Operational monetary allocations made to municipal entities.",0,0,0,0,0,0,0,0,0,0]
["","","","Cash Total",0,0,0,0,0,0,0,0,0,0]
[null,null,"Non-Cash","Capital allocation in-kind",0,0,0,0,0,0,0,0,0,0]
[null,null,null,"Capital allocation in-kind made to municipal entities.",0,0,0,0,0,0,0,0,0,0]
[null,null,null,"Operational allocation in-kind",0,0,0,0,0,0,0,0,0,0]
[null,null,null,"Operational allocation in-kind made to municipal entities.",0,0,0,0,0,0,0,0,0,0]
["","","","Non-Cash Total",0,0,0,0,0,0,0,0,0,0]
["","Expenditure / Transfers and subsidies Total","","",0,0,0,0,0,0,0,0,0,0]
["4000","Expenditure / Irrecoverable debts written off","Non-Cash","Bad debt written off",0,0,0,0,0,0,0,0,0,0]
[null,null,null,"Irrecoverable debt written off - receivables exchange revenue - electricity",0,0,0,0,0,0,0,0,0,0]
[null,null,null,"Irrecoverable debt written off - receivables exchange revenue - other",0,0,0,0,0,0,0,0,0,0]
[null,null,null,"Irrecoverable debt written off - receivables exchange revenue - waste management",0,0,0,0,0,0,0,0,0,0]
[null,null,null,"Irrecoverable debt written off - receivables exchange revenue - waste water management",0,0,0,0,0,0,0,0,0,0]
[null,null,null,"Irrecoverable debt written off - receivables exchange revenue - water",0,0,0,0,0,0,0,0,0,0]
[null,null,null,"Irrecoverable debt written off - receivables non-exchange revenue - other",0,0,0,0,0,0,0,0,0,0]
[null,null,null,"Irrecoverable debt written off - receivables non-exchange revenue - property rates",0,0,0,0,0,0,0,0,0,0]
[null,null,null,"Irrecoverable debt written off - receivables non-exchange revenue - service charges",0,0,0,0,0,0,0,0,0,0]
[null,null,null,"Irrecoverable debt written off - receivables non-exchange revenue - service charges - electricity",0,0,0,0,0,0,0,0,0,0]
[null,null,null,"Irrecoverable debt written off - receivables non-exchange revenue - service charges - waste management",0,0,0,0,0,0,0,0,0,0]
[null,null,null,"Irrecoverable debt written off - receivables non-exchange revenue - service charges - waste water management",0,0,0,0,0,0,0,0,0,0]
[null,null,null,"Irrecoverable debt written off - receivables non-exchange revenue - service charges - water",0,0,0,0,0,0,0,0,0,0]
["","","","Non-Cash Total",0,0,0,0,0,0,0,0,0,0]
["","Expenditure / Irrecoverable debts written off Total","","",0,0,0,0,0,0,0,0,0,0]
["4100","Expenditure / Operational costs","Cash","Direct cash payment",0,0,0,0,0,0,0,0,0,0]
["","","","Cash Total",0,0,0,0,0,0,0,0,0,0]
[null,null,"Non-Cash","Contribution to provisions",0,0,0,0,0,0,0,0,0,0]
[null,null,null,"Creditor accrual - expenditure: discontinued operations",0,0,0,0,0,0,0,0,0,0]
[null,null,null,"Creditor accrual - operational costs accrued through payables from exchange transactions",0,0,0,0,0,0,0,0,0,0]
[null,null,null,"Creditor accrual - operational costs accrued through payables from non-exchange transactions",0,0,0,0,0,0,0,0,0,0]
["","","","Non-Cash Total",0,0,0,0,0,0,0,0,0,0]
["","Expenditure / Operational costs Total","","",0,0,0,0,0,0,0,0,0,0]
["4200","Expenditure / Losses on disposal of Assets","Non-Cash","Losses - discontinued operations",0,0,0,0,0,0,0,0,0,0]
[null,null,null,"Losses - disposal biological assets",0,0,0,0,0,0,0,0,0,0]
[null,null,null,"Losses - disposal heritage assets",0,0,0,0,0,0,0,0,0,0]
[null,null,null,"Losses - disposal intangible assets",0,0,0,0,0,0,0,0,0,0]
[null,null,null,"Losses - disposal investment property",0,0,0,0,0,0,0,0,0,0]
[null,null,null,"Losses - disposal living resources",0,0,0,0,0,0,0,0,0,0]
[null,null,null,"Losses - disposal PPE",0,0,0,0,0,0,0,0,0,0]
["","","","Non-Cash Total",0,0,0,0,0,0,0,0,0,0]
["","Expenditure / Losses on disposal of Assets Total","","",0,0,0,0,0,0,0,0,0,0]
["4300","Expenditure / Other Losses","Non-Cash","Inventory - decrease in net realisable value",0,0,0,0,0,0,0,0,0,0]
[null,null,null,"Inventory - water losses:apparent losses:customer meter inaccuracies",0,0,0,0,0,0,0,0,0,0]
[null,null,null,"Inventory - water losses:apparent losses:unauthoried consumption",0,0,0,0,0,0,0,0,0,0]
[null,null,null,"Inventory - water losses:data transfer and management errors",0,0,0,0,0,0,0,0,0,0]
[null,null,null,"Inventory - water losses:real losses:leakage and overflows at storage tanks/reservoirs",0,0,0,0,0,0,0,0,0,0]
[null,null,null,"Inventory - water Losses:real losses:leakage on service connections up to the point of customer meter",0,0,0,0,0,0,0,0,0,0]
[null,null,null,"Inventory - water losses:real losses:leakage on transmission and distribution mains",0,0,0,0,0,0,0,0,0,0]
[null,null,null,"Inventory - water losses:unavoidable annual real losses",0,0,0,0,0,0,0,0,0,0]
[null,null,null,"Losses - disposal PPE",0,0,0,0,0,0,0,0,0,0]
[null,null,null,"Losses - foreign exchange",0,0,0,0,0,0,0,0,0,0]
[null,null,null,"Losses fair value adjustments - actuarial assesments - leave gratuity",0,0,0,0,0,0,0,0,0,0]
[null,null,null,"Losses fair value adjustments - actuarial assesments - long service awards",0,0,0,0,0,0,0,0,0,0]
[null,null,null,"Losses fair value adjustments - actuarial assesments - medical aid",0,0,0,0,0,0,0,0,0,0]
[null,null,null,"Losses fair value adjustments - actuarial assesments - pension funds",0,0,0,0,0,0,0,0,0,0]
[null,null,null,"Losses fair value adjustments - heritage assets",0,0,0,0,0,0,0,0,0,0]
[null,null,null,"Losses fair value adjustments - interest rate swaps",0,0,0,0,0,0,0,0,0,0]
[null,null,null,"Losses fair value adjustments - investment property",0,0,0,0,0,0,0,0,0,0]
[null,null,null,"Losses fair value adjustments - investments",0,0,0,0,0,0,0,0,0,0]
[null,null,null,"Losses fair value adjustments - living resources",0,0,0,0,0,0,0,0,0,0]
["","","","Non-Cash Total",0,0,0,0,0,0,0,0,0,0]
["","Expenditure / Other Losses Total","","",0,0,0,0,0,0,0,0,0,0]
["4600","Non-Exchange Revenue / Transfers and subsidies - capital (monetary allocations)","Cash","Cash - transfers and subsidies - capital (monetary allocations) - departmental agencies and accounts",0,0,0,0,0,0,0,0,0,0]
[null,null,null,"Cash - transfers and subsidies - capital (monetary allocations) - district municipalities",0,0,0,0,0,0,0,0,0,0]
[null,null,null,"Cash - transfers and subsidies - capital (monetary allocations) - foreign gov & international organisations",0,0,0,0,0,0,0,0,0,0]
[null,null,null,"Cash - transfers and subsidies - capital (monetary allocations) - higher education institutions",0,0,0,0,0,0,0,0,0,0]
[null,null,null,"Cash - transfers and subsidies - capital (monetary allocations) - households",0,0,0,0,0,0,0,0,0,0]
[null,null,null,"Cash - transfers and subsidies - capital (monetary allocations) - national government",0,0,0,0,0,0,0,0,0,0]
[null,null,null,"Cash - transfers and subsidies - capital (monetary allocations) - non-profit institutions",0,0,0,0,0,0,0,0,0,0]
[null,null,null,"Cash - transfers and subsidies - capital (monetary allocations) - parent municipality",0,0,0,0,0,0,0,0,0,0]
[null,null,null,"Cash - transfers and subsidies - capital (monetary allocations) - private enterprises",0,0,0,0,0,0,0,0,0,0]
[null,null,null,"Cash - transfers and subsidies - capital (monetary allocations) - provincial governments",0,0,0,0,0,0,0,0,0,0]
[null,null,null,"Cash - transfers and subsidies - capital (monetary allocations) - public corporations",0,0,0,0,0,0,0,0,0,0]
["","","","Cash Total",0,0,0,0,0,0,0,0,0,0]
["","Non-Exchange Revenue / Transfers and subsidies - capital (monetary allocations) Total","","",0,0,0,0,0,0,0,0,0,0]
["4700","Non-Exchange Revenue / Transfers and subsidies - capital (in-kind)","Non-Cash","Allocations in-kind (donated assets) - departmental agencies and accounts",0,0,0,0,0,0,0,0,0,0]
[null,null,null,"Allocations in-kind (donated assets) - district municipalities",0,0,0,0,0,0,0,0,0,0]
[null,null,null,"Allocations in-kind (donated assets) - foreign gov & international organisation",0,0,0,0,0,0,0,0,0,0]
[null,null,null,"Allocations in-kind (donated assets) - higher educational institutions",0,0,0,0,0,0,0,0,0,0]
[null,null,null,"Allocations in-kind (donated assets) - households",0,0,0,0,0,0,0,0,0,0]
[null,null,null,"Allocations in-kind (donated assets) - national government",0,0,0,0,0,0,0,0,0,0]
[null,null,null,"Allocations in-kind (donated assets) - non-profit institutions",0,0,0,0,0,0,0,0,0,0]
[null,null,null,"Allocations in-kind (donated assets) - parent municipality",0,0,0,0,0,0,0,0,0,0]
[null,null,null,"Allocations in-kind (donated assets) - private enterprises",0,0,0,0,0,0,0,0,0,0]
[null,null,null,"Allocations in-kind (donated assets) - provincial government",0,0,0,0,0,0,0,0,0,0]
[null,null,null,"Allocations in-kind (donated assets) - public corporations",0,0,0,0,0,0,0,0,0,0]
[null,null,null,"Allocations in-kind (donated assets) - local municipalities",0,0,0,0,0,0,0,0,0,0]
["","","","Non-Cash Total",0,0,0,0,0,0,0,0,0,0]
["","Non-Exchange Revenue / Transfers and subsidies - capital (in-kind) Total","","",0,0,0,0,0,0,0,0,0,0]
["4900","Expenditure / Income Tax","Non-Cash","Taxation - continuing operations",0,0,0,0,0,0,0,0,0,0]
[null,null,null,"Taxation - discontinued operations",0,0,0,0,0,0,0,0,0,0]
["","","","Non-Cash Total",0,0,0,0,0,0,0,0,0,0]
["","Expenditure / Income Tax Total","","",0,0,0,0,0,0,0,0,0,0]
["5100","Expenditure / Share of Surplus/Deficit attributable to Joint Venture","Non-Cash","Expenditure - accrual share of surplus/deficit attributable to joint venture",0,0,0,0,0,0,0,0,0,0]
["","","","Non-Cash Total",0,0,0,0,0,0,0,0,0,0]
["","Expenditure / Share of Surplus/Deficit attributable to Joint Venture Total","","",0,0,0,0,0,0,0,0,0,0]
["5200","Expenditure / Share of Surplus/Deficit attributable to Minorities","Non-Cash","Expenditure - accrual share of surplus/deficit attributable to minorities",0,0,0,0,0,0,0,0,0,0]
["","","","Non-Cash Total",0,0,0,0,0,0,0,0,0,0]
["","Expenditure / Share of Surplus/Deficit attributable to Minorities Total","","",0,0,0,0,0,0,0,0,0,0]
["5400","Expenditure / Share of Surplus/Deficit attributable to Associate","Non-Cash","Expenditure - accrual share of surplus/deficit attributable to associate",0,0,0,0,0,0,0,0,0,0]
["","","","Non-Cash Total",0,0,0,0,0,0,0,0,0,0]
["","Expenditure / Share of Surplus/Deficit attributable to Associate Total","","",0,0,0,0,0,0,0,0,0,0]
["5500","Expenditure / Intercompany/Parent subsidiary transactions","Non-Cash","Expenditure - intercompany/parent-subsidiary transactions",0,0,0,0,0,0,0,0,0,0]
["","","","Non-Cash Total",0,0,0,0,0,0,0,0,0,0]
["","Expenditure / Intercompany/Parent subsidiary transactions Total","","",0,0,0,0,0,0,0,0,0,0]
["Grand Total","","","",0,0,0,0,0,0,0,0,0,0]

{"sheet":"A5-Capex","index":13,"n_rows":83,"n_cols":12,"rows_kept":83,"cut":false,"hidden":false,"merged":[[1,9,1,11],[1,5,1,8],[82,0,82,11],[77,0,77,11],[76,0,76,11],[78,0,78,11]]}
[" "]
[{"$f":"Vdesc","v":"Vote Description"},{"$f":"head27","v":"Ref"},{"$f":"head1b","v":"2021/22"},{"$f":"head1A","v":"2022/23"},{"$f":"Head1","v":"2023/24"},{"$f":"Head2","v":"Current Year 2024/25"},null,null,null,{"$f":"Head3","v":"2025/26 Medium Term Revenue & Expenditure Framework"}]
["R thousand",1,{"$f":"Head5","v":"Audited Outcome"},{"$f":"Head5","v":"Audited Outcome"},{"$f":"Head5","v":"Audited Outcome"},{"$f":"Head6","v":"Original Budget"},{"$f":"Head7","v":"Adjusted Budget"},{"$f":"Head8","v":"Full Year Forecast"},{"$f":"Head5b","v":"Pre-audit outcome"},{"$f":"Head9","v":"Budget Year 2025/26"},{"$f":"Head10","v":"Budget Year +1 2026/27"},{"$f":"Head11","v":"Budget Year +2 2027/28"}]
["Capital expenditure - Vote"]
["Multi-year expenditure  to be appropriated",2]
[{"$f":"A5A!A6","v":"Vote 01 - Executive & Council"},null,{"$f":"A5A!C6","v":0},{"$f":"A5A!D6","v":0},{"$f":"A5A!E6","v":0},{"$f":"A5A!F6","v":0},{"$f":"A5A!G6","v":0},{"$f":"A5A!H6","v":0},{"$f":"A5A!I6","v":0},{"$f":"A5A!J6","v":0},{"$f":"A5A!K6","v":0},{"$f":"A5A!L6","v":0}]
[{"$f":"A5A!A7","v":"Vote 02 - Finance And Administration"},null,{"$f":"A5A!C7","v":0},{"$f":"A5A!D7","v":0},{"$f":"A5A!E7","v":0},{"$f":"A5A!F7","v":0},{"$f":"A5A!G7","v":0},{"$f":"A5A!H7","v":0},{"$f":"A5A!I7","v":0},{"$f":"A5A!J7","v":0},{"$f":"A5A!K7","v":0},{"$f":"A5A!L7","v":0}]
[{"$f":"A5A!A8","v":"Vote 03 - Community Service"},null,{"$f":"A5A!C8","v":0},{"$f":"A5A!D8","v":0},{"$f":"A5A!E8","v":0},{"$f":"A5A!F8","v":0},{"$f":"A5A!G8","v":0},{"$f":"A5A!H8","v":0},{"$f":"A5A!I8","v":0},{"$f":"A5A!J8","v":0},{"$f":"A5A!K8","v":0},{"$f":"A5A!L8","v":0}]
[{"$f":"A5A!A9","v":"Vote 04 - Public And Safety"},null,{"$f":"A5A!C9","v":0},{"$f":"A5A!D9","v":0},{"$f":"A5A!E9","v":0},{"$f":"A5A!F9","v":0},{"$f":"A5A!G9","v":0},{"$f":"A5A!H9","v":0},{"$f":"A5A!I9","v":0},{"$f":"A5A!J9","v":0},{"$f":"A5A!K9","v":0},{"$f":"A5A!L9","v":0}]
[{"$f":"A5A!A10","v":"Vote 05 - Waste Management"},null,{"$f":"A5A!C10","v":0},{"$f":"A5A!D10","v":0},{"$f":"A5A!E10","v":0},{"$f":"A5A!F10","v":0},{"$f":"A5A!G10","v":0},{"$f":"A5A!H10","v":0},{"$f":"A5A!I10","v":0},{"$f":"A5A!J10","v":18617000},{"$f":"A5A!K10","v":500000},{"$f":"A5A!L10","v":522000}]
[{"$f":"A5A!A13","v":"Vote 06 - Roads  Services"},null,{"$f":"A5A!C13","v":0},{"$f":"A5A!D13","v":0},{"$f":"A5A!E13","v":0},{"$f":"A5A!F13","v":0},{"$f":"A5A!G13","v":0},{"$f":"A5A!H13","v":0},{"$f":"A5A!I13","v":0},{"$f":"A5A!J13","v":0},{"$f":"A5A!K13","v":0},{"$f":"A5A!L13","v":0}]
[{"$f":"A5A!A14","v":"Vote 07 - Econominc Development And Planning"},null,{"$f":"A5A!C14","v":0},{"$f":"A5A!D14","v":0},{"$f":"A5A!E14","v":0},{"$f":"A5A!F14","v":0},{"$f":"A5A!G14","v":0},{"$f":"A5A!H14","v":0},{"$f":"A5A!I14","v":0},{"$f":"A5A!J14","v":0},{"$f":"A5A!K14","v":0},{"$f":"A5A!L14","v":0}]
[{"$f":"'Org structure'!A9","v":"Vote 08 - "},null,{"$f":"A5A!C15","v":0},{"$f":"A5A!D15","v":0},{"$f":"A5A!E15","v":0},{"$f":"A5A!F15","v":0},{"$f":"A5A!G15","v":0},{"$f":"A5A!H15","v":0},{"$f":"A5A!I15","v":0},{"$f":"A5A!J15","v":0},{"$f":"A5A!K15","v":0},{"$f":"A5A!L15","v":0}]
[{"$f":"'Org structure'!A10","v":"Vote 09 - "},null,{"$f":"A5A!C16","v":0},{"$f":"A5A!D16","v":0},{"$f":"A5A!E16","v":0},{"$f":"A5A!F16","v":0},{"$f":"A5A!G16","v":0},{"$f":"A5A!H16","v":0},{"$f":"A5A!I16","v":0},{"$f":"A5A!J16","v":0},{"$f":"A5A!K16","v":0},{"$f":"A5A!L16","v":0}]
[{"$f":"'Org structure'!A11","v":"Vote 10 - "},null,{"$f":"A5A!C17","v":0},{"$f":"A5A!D17","v":0},{"$f":"A5A!E17","v":0},{"$f":"A5A!F17","v":0},{"$f":"A5A!G17","v":0},{"$f":"A5A!H17","v":0},{"$f":"A5A!I17","v":0},{"$f":"A5A!J17","v":0},{"$f":"A5A!K17","v":0},{"$f":"A5A!L17","v":0}]
[{"$f":"'Org structure'!A12","v":"Vote 11 - "},null,{"$f":"A5A!C18","v":0},{"$f":"A5A!D18","v":0},{"$f":"A5A!E18","v":0},{"$f":"A5A!F18","v":0},{"$f":"A5A!G18","v":0},{"$f":"A5A!H18","v":0},{"$f":"A5A!I18","v":0},{"$f":"A5A!J18","v":0},{"$f":"A5A!K18","v":0},{"$f":"A5A!L18","v":0}]
[{"$f":"'Org structure'!A13","v":"Vote 12 - "},null,{"$f":"A5A!C19","v":0},{"$f":"A5A!D19","v":0},{"$f":"A5A!E19","v":0},{"$f":"A5A!F19","v":0},{"$f":"A5A!G19","v":0},{"$f":"A5A!H19","v":0},{"$f":"A5A!I19","v":0},{"$f":"A5A!J19","v":0},{"$f":"A5A!K19","v":0},{"$f":"A5A!L19","v":0}]
[{"$f":"'Org structure'!A14","v":"Vote 13 - "},null,{"$f":"A5A!C20","v":0},{"$f":"A5A!D20","v":0},{"$f":"A5A!E20","v":0},{"$f":"A5A!F20","v":0},{"$f":"A5A!G20","v":0},{"$f":"A5A!H20","v":0},{"$f":"A5A!I20","v":0},{"$f":"A5A!J20","v":0},{"$f":"A5A!K20","v":0},{"$f":"A5A!L20","v":0}]
[{"$f":"'Org structure'!A15","v":"Vote 14 - "},null,{"$f":"A5A!C21","v":0},{"$f":"A5A!D21","v":0},{"$f":"A5A!E21","v":0},{"$f":"A5A!F21","v":0},{"$f":"A5A!G21","v":0},{"$f":"A5A!H21","v":0},{"$f":"A5A!I21","v":0},{"$f":"A5A!J21","v":0},{"$f":"A5A!K21","v":0},{"$f":"A5A!L21","v":0}]
[{"$f":"'Org structure'!A16","v":"Vote 15 - Other"},null,{"$f":"A5A!C22","v":0},{"$f":"A5A!D22","v":0},{"$f":"A5A!E22","v":0},{"$f":"A5A!F22","v":0},{"$f":"A5A!G22","v":0},{"$f":"A5A!H22","v":0},{"$f":"A5A!I22","v":0},{"$f":"A5A!J22","v":0},{"$f":"A5A!K22","v":0},{"$f":"A5A!L22","v":0}]
["Capital multi-year expenditure sub-total",7,{"$f":"SUM(C6:C20)","v":0},{"$f":"SUM(D6:D20)","v":0},0,0,0,{"$f":"SUM(H6:H20)","v":0},0,18617000,500000,522000]
[]
["Single-year expenditure to be appropriated",2]
[{"$f":"A5A!A27","v":"Vote 01 - Executive & Council"},null,{"$f":"A5A!C27","v":0},{"$f":"A5A!D27","v":0},{"$f":"A5A!E27","v":0},{"$f":"A5A!F27","v":0},{"$f":"A5A!G27","v":0},{"$f":"A5A!H27","v":0},{"$f":"A5A!I27","v":0},{"$f":"A5A!J27","v":0},{"$f":"A5A!K27","v":0},{"$f":"A5A!L27","v":0}]
[{"$f":"A5A!A28","v":"Vote 02 - Finance And Administration"},null,{"$f":"A5A!C28","v":140969},{"$f":"A5A!D28","v":0},{"$f":"A5A!E28","v":0},{"$f":"A5A!F28","v":0},{"$f":"A5A!G28","v":0},{"$f":"A5A!H28","v":0},{"$f":"A5A!I28","v":0},{"$f":"A5A!J28","v":0},{"$f":"A5A!K28","v":0},{"$f":"A5A!L28","v":0}]
[{"$f":"A5A!A30","v":"Vote 03 - Community Service"},null,{"$f":"A5A!C30","v":0},{"$f":"A5A!D30","v":0},{"$f":"A5A!E30","v":0},{"$f":"A5A!F30","v":0},{"$f":"A5A!G30","v":0},{"$f":"A5A!H30","v":0},{"$f":"A5A!I30","v":0},{"$f":"A5A!J30","v":0},{"$f":"A5A!K30","v":0},{"$f":"A5A!L30","v":0}]
[{"$f":"A5A!A31","v":"Vote 04 - Public And Safety"},null,{"$f":"A5A!C31","v":7154745.8700000001},{"$f":"A5A!D31","v":108585},{"$f":"A5A!E31","v":209230.94},{"$f":"A5A!F31","v":5600000},{"$f":"A5A!G31","v":1500000},{"$f":"A5A!H31","v":1500000},{"$f":"A5A!I31","v":1306223.58},{"$f":"A5A!J31","v":5700000},{"$f":"A5A!K31","v":11000000},{"$f":"A5A!L31","v":6723000}]
[{"$f":"A5A!A33","v":"Vote 05 - Waste Management"},null,{"$f":"A5A!C33","v":531085.55000000005},{"$f":"A5A!D33","v":217091},{"$f":"A5A!E33","v":24979542.159999996},{"$f":"A5A!F33","v":18689531},{"$f":"A5A!G33","v":88328920},{"$f":"A5A!H33","v":88328920},{"$f":"A5A!I33","v":47472360.57},{"$f":"A5A!J33","v":9300000},{"$f":"A5A!K33","v":22100000},{"$f":"A5A!L33","v":27871400}]
[{"$f":"A5A!A37","v":"Vote 06 - Roads  Services"},null,{"$f":"A5A!C37","v":246957.28999999998},{"$f":"A5A!D37","v":0},{"$f":"A5A!E37","v":0},{"$f":"A5A!F37","v":250000},{"$f":"A5A!G37","v":350000},{"$f":"A5A!H37","v":350000},{"$f":"A5A!I37","v":148500},{"$f":"A5A!J37","v":0},{"$f":"A5A!K37","v":0},{"$f":"A5A!L37","v":0}]
[{"$f":"A5A!A40","v":"Vote 07 - Econominc Development And Planning"},null,{"$f":"A5A!C40","v":0},{"$f":"A5A!D40","v":198000},{"$f":"A5A!E40","v":59389874.32},{"$f":"A5A!F40","v":50369000},{"$f":"A5A!G40","v":55330250},{"$f":"A5A!H40","v":55330250},{"$f":"A5A!I40","v":45305925.090000004},{"$f":"A5A!J40","v":53347800},{"$f":"A5A!K40","v":59105000},{"$f":"A5A!L40","v":61761000}]
[{"$f":"'Org structure'!A9","v":"Vote 08 - "},null,{"$f":"A5A!C43","v":0},{"$f":"A5A!D43","v":0},{"$f":"A5A!E43","v":0},{"$f":"A5A!F43","v":0},{"$f":"A5A!G43","v":0},{"$f":"A5A!H43","v":0},{"$f":"A5A!I43","v":0},{"$f":"A5A!J43","v":0},{"$f":"A5A!K43","v":0},{"$f":"A5A!L43","v":0}]
[{"$f":"'Org structure'!A10","v":"Vote 09 - "},null,{"$f":"A5A!C44","v":0},{"$f":"A5A!D44","v":0},{"$f":"A5A!E44","v":0},{"$f":"A5A!F44","v":0},{"$f":"A5A!G44","v":0},{"$f":"A5A!H44","v":0},{"$f":"A5A!I44","v":0},{"$f":"A5A!J44","v":0},{"$f":"A5A!K44","v":0},{"$f":"A5A!L44","v":0}]
[{"$f":"'Org structure'!A11","v":"Vote 10 - "},null,{"$f":"A5A!C45","v":0},{"$f":"A5A!D45","v":0},{"$f":"A5A!E45","v":0},{"$f":"A5A!F45","v":0},{"$f":"A5A!G45","v":0},{"$f":"A5A!H45","v":0},{"$f":"A5A!I45","v":0},{"$f":"A5A!J45","v":0},{"$f":"A5A!K45","v":0},{"$f":"A5A!L45","v":0}]
[{"$f":"'Org structure'!A12","v":"Vote 11 - "},null,{"$f":"A5A!C46","v":0},{"$f":"A5A!D46","v":0},{"$f":"A5A!E46","v":0},{"$f":"A5A!F46","v":0},{"$f":"A5A!G46","v":0},{"$f":"A5A!H46","v":0},{"$f":"A5A!I46","v":0},{"$f":"A5A!J46","v":0},{"$f":"A5A!K46","v":0},{"$f":"A5A!L46","v":0}]
[{"$f":"'Org structure'!A13","v":"Vote 12 - "},null,{"$f":"A5A!C47","v":0},{"$f":"A5A!D47","v":0},{"$f":"A5A!E47","v":0},{"$f":"A5A!F47","v":0},{"$f":"A5A!G47","v":0},{"$f":"A5A!H47","v":0},{"$f":"A5A!I47","v":0},{"$f":"A5A!J47","v":0},{"$f":"A5A!K47","v":0},{"$f":"A5A!L47","v":0}]
[{"$f":"'Org structure'!A14","v":"Vote 13 - "},null,{"$f":"A5A!C48","v":0},{"$f":"A5A!D48","v":0},{"$f":"A5A!E48","v":0},{"$f":"A5A!F48","v":0},{"$f":"A5A!G48","v":0},{"$f":"A5A!H48","v":0},{"$f":"A5A!I48","v":0},{"$f":"A5A!J48","v":0},{"$f":"A5A!K48","v":0},{"$f":"A5A!L48","v":0}]
[{"$f":"'Org structure'!A15","v":"Vote 14 - "},null,{"$f":"A5A!C49","v":0},{"$f":"A5A!D49","v":0},{"$f":"A5A!E49","v":0},{"$f":"A5A!F49","v":0},{"$f":"A5A!G49","v":0},{"$f":"A5A!H49","v":0},{"$f":"A5A!I49","v":0},{"$f":"A5A!J49","v":0},{"$f":"A5A!K49","v":0},{"$f":"A5A!L49","v":0}]
[{"$f":"'Org structure'!A16","v":"Vote 15 - Other"},null,{"$f":"A5A!C50","v":0},{"$f":"A5A!D50","v":0},{"$f":"A5A!E50","v":0},{"$f":"A5A!F50","v":0},{"$f":"A5A!G50","v":0},{"$f":"A5A!H50","v":0},{"$f":"A5A!I50","v":0},{"$f":"A5A!J50","v":0},{"$f":"A5A!K50","v":0},{"$f":"A5A!L50","v":0}]
["Capital single-year expenditure sub-total",null,{"$f":"SUM(C24:C38)","v":8073757.71},{"$f":"SUM(D24:D38)","v":523676},84578647.420000002,74908531,145509170,145509170,94233009.24000001,68347800,92205000,96355400]
["Total Capital Expenditure - Vote",null,{"$f":"C39+C21","v":8073757.71},{"$f":"D39+D21","v":523676},84578647.420000002,74908531,145509170,145509170,94233009.24000001,86964800,92705000,96877400]
[]
["Capital Expenditure - Functional"]
["Governance and administration",null,{"$f":"SUM(C44:C46)","v":7295714.8700000001},{"$f":"SUM(D44:D46)","v":108585},209230.94,5600000,1500000,1500000,1306223.58,5700000,11000000,6723000]
["Executive and council",null,140969,0,0,0,0,0,0,0,0,0]
["Finance and administration",null,7154745.8700000001,108585,209230.94,5600000,1500000,1500000,1306223.58,5700000,11000000,6723000]
["Internal audit"]
["Community and public safety",null,{"$f":"SUM(C48:C52)","v":153900},{"$f":"SUM(D48:D52)","v":0},0,0,200000,200000,0,0,0,0]
["Community and social services"]
["Sport and recreation"]
["Public safety",null,153900,0,0,0,200000,200000,0,0,0,0]
["Housing"]
["Health"]
["Economic and environmental services",null,{"$f":"SUM(C54:C56)","v":48000},{"$f":"SUM(D54:D56)","v":198000},63211634.149999999,66085000,114547238,114547238,86296993.770000011,69064800,59105000,61761000]
["Planning and development",null,0,198000,59389874.32,50369000,55330250,55330250,45305925.090000004,53347800,59105000,61761000]
["Road transport",null,48000,0,3821759.83,15716000,59216988,59216988,40991068.68,15717000,0,0]
["Environmental protection"]
["Trading services",null,{"$f":"SUM(C58:C61)","v":576142.84},{"$f":"SUM(D58:D61)","v":217091},21157782.329999998,3223531,29261932,29261932,6629791.8899999997,12200000,22600000,28393400]
["Energy sources",null,483085.55,217091,21157782.329999998,2973531,29111932,29111932,6481291.8899999997,12200000,22600000,28393400]
["Water management"]
["Waste water management"]
["Waste management",null,93057.29,0,0,250000,150000,150000,148500,0,0,0]
["Other"]
["Total Capital Expenditure - Functional",3,{"$f":"C43+C47+C53+C57+C62","v":8073757.71},{"$f":"D43+D47+D53+D57+D62","v":523676},84578647.419999987,74908531,145509170,145509170,94233009.24000001,86964800,92705000,{"$f":"L43+L47+L53+L57+L62","v":96877400}]
[]
["Funded by:"]
["National Government",null,0,0,83484427.590000004,65785000,125178416,125178416,86296993.769999996,67564800,75105000,78484000]
["Provincial Government"]
["District Municipality"]
["Transfers and subsidies - capital (monetary allocations) (Nat / Prov Departm Agencies, Households, Non-profit Institutions, Private Enterprises, Public Corporatons, Higher Educ Institutions)",null,0,0,0,0,0,0,0,0,0,0]
["Transfers recognised - capital",4,{"$f":"SUM(C66:C69)","v":0},0,83484427.590000004,65785000,125178416,125178416,86296993.769999996,67564800,75105000,78484000]
[]
["Borrowing",6,0,0,0,0,0,0,0,0,0,0]
["Internally generated funds",null,8073757.71,523676,1094219.83,9123531,20330754,20330754,7936015.4699999997,19400000,17600000,18393400]
["Total Capital Funding",7,{"$f":"+C70+C72+C73","v":8073757.71},{"$f":"+D70+D72+D73","v":523676},84578647.420000002,74908531,145509170,145509170,94233009.239999995,86964800,92705000,96877400]
[{"$f":"head27a","v":"References"}]
["1. Municipalities may choose to appropriate for capital expenditure for three years or for one year (if one year appropriation projected expenditure required for yr2 and yr3)."]
["2. Include capital component of PPP unitary payment. Note that capital transfers are only appropriated to municipalities for the budget year"]
["3. Capital expenditure by functional classification must reconcile to the appropriations by vote"]
["4. Must reconcile to supporting table SA20 and to Budgeted Financial Performance (revenue and expenditure)"]
[]
["6. Include finance leases and PPP capital funding component of unitary payment - total borrowing/repayments to reconcile to changes in Table SA17"]
["7. Total Capital Funding must balance with Total Capital Expenditure"]
["8. Include any capitalised interest (MFMA section 46) as part of relevant capital budget"]

{"sheet":"A5A","index":14,"n_rows":52,"n_cols":24,"rows_kept":52,"cut":false,"hidden":false,"merged":[[1,5,1,8],[1,9,1,11],[1,13,1,16],[1,17,1,20],[1,21,1,23]]}
[{"$f":"muni&\" - \"&Approve5","v":"LIM351 Blouberg - Table A5 Budgeted Capital Expenditure by vote, functional classification and funding"}]
[{"$f":"Vdesc","v":"Vote Description"},{"$f":"head27","v":"Ref"},{"$f":"head1b","v":"2021/22"},{"$f":"head1A","v":"2022/23"},{"$f":"Head1","v":"2023/24"},{"$f":"Head2","v":"Current Year 2024/25"},null,null,null,{"$f":"Head3","v":"2025/26 Medium Term Revenue & Expenditure Framework"},null,null,null,{"$f":"\"Multi-year appropriation for \"&Head9&\n\"\n in the \"&Head2A&\" Annual Budget\"","v":"Multi-year appropriation for Budget Year 2025/26\n in the 2024/25 Annual Budget"},null,null,null,{"$f":"\"Multi-year appropriation for \"&RIGHT(Head10,7)&\n\"\n in the \"&Head2A&\" Annual Budget\"","v":"Multi-year appropriation for 2026/27\n in the 2024/25 Annual Budget"},null,null,null,"New multi-year appropriations \n(funds for new and existing projects) "]
["R thousand",1,{"$f":"Head5","v":"Audited Outcome"},{"$f":"Head5","v":"Audited Outcome"},{"$f":"Head5","v":"Audited Outcome"},{"$f":"Head6","v":"Original Budget"},{"$f":"Head7","v":"Adjusted Budget"},{"$f":"Head8","v":"Full Year Forecast"},{"$f":"Head5b","v":"Pre-audit outcome"},{"$f":"Head9","v":"Budget Year 2025/26"},{"$f":"Head10","v":"Budget Year +1 2026/27"},{"$f":"Head11","v":"Budget Year +2 2027/28"},null,{"$f":"\"Appropriation for \"&RIGHT(Head9,7)","v":"Appropriation for 2025/26"},{"$f":"\"Adjustments in \"&Head2A","v":"Adjustments in 2024/25"},{"$f":"\"Downward adjustments for \"&RIGHT(Head9,7)","v":"Downward adjustments for 2025/26"},"Appropriation carried forward",{"$f":"\"Appropriation for \"&RIGHT(Head9,7)","v":"Appropriation for 2025/26"},{"$f":"\"Adjustments in \"&Head2A","v":"Adjustments in 2024/25"},{"$f":"\"Downward adjustments for \"&RIGHT(Head9,7)","v":"Downward adjustments for 2025/26"},"Appropriation carried forward",{"$f":"Head9","v":"Budget Year 2025/26"},{"$f":"Head10","v":"Budget Year +1 2026/27"},{"$f":"Head11","v":"Budget Year +2 2027/28"}]
["Capital expenditure - Municipal Vote"]
["Multi-year expenditure appropriation",2]
[{"$f":"'Org structure'!A2","v":"Vote 01 - Executive & Council"},null,0,0,0,0,0,0,0,0,0,0,null,0,0,0,0,0,0,0,0,0,0,{"$error":"#N/A"}]
[{"$f":"'Org structure'!A3","v":"Vote 02 - Finance And Administration"},null,0,0,0,0,0,0,0,0,0,0,null,0,0,0,0,0,0,0,0,0,0,{"$error":"#N/A"}]
[{"$f":"'Org structure'!A4","v":"Vote 03 - Community Service"},null,0,0,0,0,0,0,0,0,0,0,null,0,0,0,0,0,0,0,0,0,0,{"$error":"#N/A"}]
[{"$f":"'Org structure'!A5","v":"Vote 04 - Public And Safety"},null,0,0,0,0,0,0,0,0,0,0,null,0,0,0,0,0,0,0,0,0,0,{"$error":"#N/A"}]
[{"$f":"'Org structure'!A6","v":"Vote 05 - Waste Management"},null,{"$f":"SUM(C11:C12)","v":0},0,0,0,0,0,0,18617000,500000,522000,null,{"$f":"SUM(N11:N12)","v":18617000},0,0,18617000,500000,0,0,500000,0,0,522000]
[{"$f":"'Org structure'!E12","v":"05.2 - Electrical Services"},null,0,0,0,0,0,0,0,{"$f":"Q11+V11","v":2900000},{"$f":"U11+W11","v":500000},{"$f":"X11","v":522000},null,2900000,0,0,{"$f":"SUM(N11:P11)","v":2900000},500000,0,0,{"$f":"SUM(R11:T11)","v":500000},0,0,522000]
[{"$f":"'Org structure'!E15","v":"05.5 - Roads Services"},null,0,0,0,0,0,0,0,{"$f":"Q12+V12","v":15717000},{"$f":"U12+W12","v":0},{"$f":"X12","v":0},null,15717000,0,0,{"$f":"SUM(N12:P12)","v":15717000},0,0,0,{"$f":"SUM(R12:T12)","v":0},0,0,0]
[{"$f":"'Org structure'!A7","v":"Vote 06 - Roads  Services"},null,0,0,0,0,0,0,0,0,0,0,null,0,0,0,0,0,0,0,0,0,0,{"$error":"#N/A"}]
[{"$f":"'Org structure'!A8","v":"Vote 07 - Econominc Development And Planning"},null,0,0,0,0,0,0,0,0,0,0,null,0,0,0,0,0,0,0,0,0,0,{"$error":"#N/A"}]
[{"$f":"'Org structure'!A9","v":"Vote 08 - "},null,0,0,0,0,0,0,0,0,0,0,null,0,0,0,0,0,0,0,0,0,0,0]
[{"$f":"'Org structure'!A10","v":"Vote 09 - "},null,0,0,0,0,0,0,0,0,0,0,null,0,0,0,0,0,0,0,0,0,0,0]
[{"$f":"'Org structure'!A11","v":"Vote 10 - "},null,0,0,0,0,0,0,0,0,0,0,null,0,0,0,0,0,0,0,0,0,0,0]
[{"$f":"'Org structure'!A12","v":"Vote 11 - "},null,0,0,0,0,0,0,0,0,0,0,null,0,0,0,0,0,0,0,0,0,0,0]
[{"$f":"'Org structure'!A13","v":"Vote 12 - "},null,0,0,0,0,0,0,0,0,0,0,null,0,0,0,0,0,0,0,0,0,0,0]
[{"$f":"'Org structure'!A14","v":"Vote 13 - "},null,0,0,0,0,0,0,0,0,0,0,null,0,0,0,0,0,0,0,0,0,0,0]
[{"$f":"'Org structure'!A15","v":"Vote 14 - "},null,0,0,0,0,0,0,0,0,0,0,null,0,0,0,0,0,0,0,0,0,0,0]
[{"$f":"'Org structure'!A16","v":"Vote 15 - Other"},null,0,0,0,0,0,0,0,0,0,0,null,0,0,0,0,0,0,0,0,0,0,0]
["Capital multi-year expenditure sub-total",null,{"$f":"C6+C7+C8+C9+C10+C13+C14+C15+C16+C17+C18+C19+C20+C21+C22","v":0},0,0,0,0,0,0,18617000,500000,522000,null,{"$f":"N6+N7+N8+N9+N10+N13+N14+N15+N16+N17+N18+N19+N20+N21+N22","v":18617000},0,0,18617000,500000,0,0,500000,0,0,{"$error":"#N/A"}]
[]
["Capital expenditure - Municipal Vote"]
["Single-year expenditure appropriation",2]
[{"$f":"'Org structure'!A2","v":"Vote 01 - Executive & Council"},null,0,0,0,0,0,0,0,0,0,0]
[{"$f":"'Org structure'!A3","v":"Vote 02 - Finance And Administration"},null,{"$f":"SUM(C29:C29)","v":140969},0,0,0,0,0,0,0,0,0]
[{"$f":"'Org structure'!E5","v":"02.1 - Municipal Manager"},null,140969,0,0,0,0,0,0,0,0,0]
[{"$f":"'Org structure'!A4","v":"Vote 03 - Community Service"},null,0,0,0,0,0,0,0,0,0,0]
[{"$f":"'Org structure'!A5","v":"Vote 04 - Public And Safety"},null,{"$f":"SUM(C32:C32)","v":7154745.8700000001},108585,209230.94,5600000,1500000,1500000,1306223.58,5700000,11000000,6723000]
[{"$f":"'Org structure'!E9","v":"04.1 - Corporate Services Administration"},null,7154745.8700000001,108585,209230.94,5600000,1500000,1500000,1306223.58,5700000,11000000,6723000]
[{"$f":"'Org structure'!A6","v":"Vote 05 - Waste Management"},null,{"$f":"SUM(C34:C36)","v":531085.55000000005},217091,24979542.159999996,18689531,88328920,88328920,47472360.57,9300000,22100000,27871400]
[{"$f":"'Org structure'!E11","v":"05.1 - Technical Services Administration"},null,0,0,0,0,0,0,0,6300000,5000000,10000000]
[{"$f":"'Org structure'!E12","v":"05.2 - Electrical Services"},null,483085.55,217091,21157782.329999998,2973531,29111932,29111932,6481291.8899999997,3000000,17100000,17871400]
[{"$f":"'Org structure'!E15","v":"05.5 - Roads Services"},null,48000,0,3821759.83,15716000,59216988,59216988,40991068.68,0,0,0]
[{"$f":"'Org structure'!A7","v":"Vote 06 - Roads  Services"},null,{"$f":"SUM(C38:C39)","v":246957.28999999998},0,0,250000,350000,350000,148500,0,0,0]
[{"$f":"'Org structure'!E17","v":"06.1 - Community Services Administration"},null,93057.29,0,0,250000,150000,150000,148500,0,0,0]
[{"$f":"'Org structure'!E18","v":"06.2 - Traffic Services"},null,153900,0,0,0,200000,200000,0,0,0,0]
[{"$f":"'Org structure'!A8","v":"Vote 07 - Econominc Development And Planning"},null,{"$f":"SUM(C41:C42)","v":0},198000,59389874.32,50369000,55330250,55330250,45305925.090000004,53347800,59105000,61761000]
[{"$f":"'Org structure'!E22","v":"07.1 - Project Management Unit"},null,0,0,59389874.32,49769000,54730250,54730250,45305925.090000004,53347800,59105000,61761000]
[{"$f":"'Org structure'!E23","v":"07.2 - Economic Development And Planning"},null,0,198000,0,600000,600000,600000,0,0,0,0]
[{"$f":"'Org structure'!A9","v":"Vote 08 - "},null,0,0,0,0,0,0,0,0,0,0]
[{"$f":"'Org structure'!A10","v":"Vote 09 - "},null,0,0,0,0,0,0,0,0,0,0]
[{"$f":"'Org structure'!A11","v":"Vote 10 - "},null,0,0,0,0,0,0,0,0,0,0]
[{"$f":"'Org structure'!A12","v":"Vote 11 - "},null,0,0,0,0,0,0,0,0,0,0]
[{"$f":"'Org structure'!A13","v":"Vote 12 - "},null,0,0,0,0,0,0,0,0,0,0]
[{"$f":"'Org structure'!A14","v":"Vote 13 - "},null,0,0,0,0,0,0,0,0,0,0]
[{"$f":"'Org structure'!A15","v":"Vote 14 - "},null,0,0,0,0,0,0,0,0,0,0]
[{"$f":"'Org structure'!A16","v":"Vote 15 - Other"},null,0,0,0,0,0,0,0,0,0,0]
["Capital single-year expenditure sub-total",null,{"$f":"C27+C28+C30+C31+C33+C37+C40+C43+C44+C45+C46+C47+C48+C49+C50","v":8073757.71},523676,84578647.420000002,74908531,145509170,145509170,94233009.24000001,68347800,92205000,96355400]
["Total Capital Expenditure",null,{"$f":"C23+C51","v":8073757.71},523676,84578647.420000002,74908531,145509170,145509170,94233009.24000001,86964800,92705000,96877400]

{"sheet":"A6-FinPos","index":15,"n_rows":61,"n_cols":12,"rows_kept":61,"cut":false,"hidden":false,"merged":[[1,9,1,11],[1,5,1,8]]}
[{"$f":"muni&\" - \"&Approve6","v":"LIM351 Blouberg - Table A6 Budgeted Financial Position"}]
[{"$f":"desc","v":"Description"},{"$f":"head27","v":"Ref"},{"$f":"head1b","v":"2021/22"},{"$f":"head1A","v":"2022/23"},{"$f":"Head1","v":"2023/24"},{"$f":"Head2","v":"Current Year 2024/25"},null,null,null,{"$f":"Head3","v":"2025/26 Medium Term Revenue & Expenditure Framework"}]
["R thousand",null,{"$f":"Head5","v":"Audited Outcome"},{"$f":"Head5","v":"Audited Outcome"},{"$f":"Head5","v":"Audited Outcome"},{"$f":"Head6","v":"Original Budget"},{"$f":"Head7","v":"Adjusted Budget"},{"$f":"Head8","v":"Full Year Forecast"},{"$f":"Head5b","v":"Pre-audit outcome"},{"$f":"Head9","v":"Budget Year 2025/26"},{"$f":"Head10","v":"Budget Year +1 2026/27"},{"$f":"Head11","v":"Budget Year +2 2027/28"}]
["ASSETS"]
["Current assets"]
["Cash and cash equivalents",null,89472523.859999999,101842673.14,186024594.59,204752687,264172904,264172904,133300747.42,250044989,292257123,301431778]
["Trade and other receivables from exchange transactions",1,{"$f":"'SA3'!C20","v":10973132.950000003},{"$f":"'SA3'!D20","v":13515517.219999999},{"$f":"'SA3'!E20","v":10991355.620000005},{"$f":"'SA3'!F20","v":4649905},{"$f":"'SA3'!G20","v":4649905},{"$f":"'SA3'!H20","v":4649905},{"$f":"'SA3'!I20","v":25352791.289999999},{"$f":"'SA3'!J20","v":14802767},{"$f":"'SA3'!K20","v":15190612},{"$f":"'SA3'!L20","v":18857611}]
["Receivables from non-exchange transactions",1,{"$f":"'SA3'!C29","v":-25249958.640000001},{"$f":"'SA3'!D29","v":18188266.009999994},{"$f":"'SA3'!E29","v":57755090.030000001},{"$f":"'SA3'!F29","v":35928077},{"$f":"'SA3'!G29","v":37570931},{"$f":"'SA3'!H29","v":37570931},{"$f":"'SA3'!I29","v":119474709.78},{"$f":"'SA3'!J29","v":94864078},{"$f":"'SA3'!K29","v":99132960},{"$f":"'SA3'!L29","v":101208553}]
["Current portion of non-current receivables"]
["Inventory",2,{"$f":"'SA3'!C132","v":2603082.8499999996},{"$f":"'SA3'!D132","v":2897361.8499999996},{"$f":"'SA3'!E132","v":1853961.8499999996},{"$f":"'SA3'!F132","v":1853961.8499999996},{"$f":"'SA3'!G132","v":1853961.8499999996},{"$f":"'SA3'!H132","v":1853961.8499999996},{"$f":"'SA3'!I132","v":2276007.9099999997},{"$f":"'SA3'!J132","v":1853961.8499999996},{"$f":"'SA3'!K132","v":1853961.8499999996},{"$f":"'SA3'!L132","v":1853961.8499999996}]
["VAT",null,17124383.050000001,21796330.440000001,27744880.440000001,2930660,2930660,2930660,33099663.75,27714139,28961275,29685308]
["Other current assets",null,777797.53,-938056,-938056,12768748,12768748,12768748,-916407.42,0,0,0]
["Total current assets",null,{"$f":"SUM(C6:C12)","v":95700961.599999994},{"$f":"SUM(D6:D12)","v":157302092.66},283431826.53000003,262884038.84999999,323947109.85000002,323947109.85000002,312587512.73000002,389279934.85000002,437395931.85000002,453037211.85000002]
["Non current assets"]
["Investments",null,0,4864603.53,11399735.57,10708603,0,0,8523768.5099999998,0,0,0]
["Investment property",null,8950501.0899999999,9433600.0099999998,9916000.0099999998,9516517,9516517,9516517,9916000.0099999998,9916001,10362221,10621276]
["Property, plant and equipment",3,{"$f":"'SA3'!C138","v":977360372.46000004},{"$f":"'SA3'!D138","v":1062002549.8300002},{"$f":"'SA3'!E138","v":1111879283.0900002},{"$f":"'SA3'!F138","v":1117417188},{"$f":"'SA3'!G138","v":1188017827},{"$f":"'SA3'!H138","v":1188017827},{"$f":"'SA3'!I138","v":1206112292.3300002},{"$f":"'SA3'!J138","v":1422516518},{"$f":"'SA3'!K138","v":1488356546},{"$f":"'SA3'!L138","v":1527420236}]
["Biological assets"]
["Living and non-living resources"]
["Heritage assets",null,0,0,0,0,0,0,0,0,0,0]
["Intangible assets",null,240698.21,174803.45,108884.85,783368,783368,783368,108884.85,489961,512009,524811]
["Trade and other receivables from exchange transactions"]
["Non-current receivables from non-exchange transactions"]
["Other non-current assets"]
["Total non current assets",null,{"$f":"SUM(C15:C24)","v":986551571.76000011},{"$f":"SUM(D15:D24)","v":1076475556.8200002},1133303903.52,1138425676,1198317712,1198317712,1224660945.7,1432922480,1499230776,1538566323]
["TOTAL ASSETS",null,{"$f":"C13+C25","v":1082252533.3600001},{"$f":"D13+D25","v":1233777649.4800003},{"$f":"E13+E25","v":1416735730.05},{"$f":"F13+F25","v":1401309714.8499999},1522264821.8499999,1522264821.8499999,1537248458.4300001,1822202414.8499999,1936626707.8499999,1991603534.8499999]
["LIABILITIES"]
["Current liabilities"]
["Bank overdraft"]
["Financial liabilities",null,{"$f":"'SA3'!C144","v":0},{"$f":"'SA3'!D144","v":0},{"$f":"'SA3'!E144","v":6537705.1699999999},{"$f":"'SA3'!F144","v":9322788},{"$f":"'SA3'!G144","v":9322788},{"$f":"'SA3'!H144","v":9322788},{"$f":"'SA3'!I144","v":6537705.1699999999},{"$f":"'SA3'!J144","v":15860494},{"$f":"'SA3'!K144","v":16574216},{"$f":"'SA3'!L144","v":16988572}]
["Consumer deposits",null,-8680.44,-7959.44,-7959.44,0,0,0,-7959.44,-7960,-8318,-8526]
["Trade and other payables from exchange transactions",4,50691062.780000001,72030665.829999998,98974851.849999994,35483462,35483462,35483462,58963074.939999998,71590274,70846833,70818008]
["Trade and other payables from non-exchange transactions",5,24315315.170000002,20158138.510000002,59646502.420000002,23000000,23000000,23000000,21280117.989999998,11135395,1186488,9775520]
["Provision",null,0,0,2591202.14,2200906,2200906,2200906,2591202.14,2591203,2707807,2775502]
["VAT",null,14482627.859999999,21467660.359999999,30837994.359999999,5300000,5300000,5300000,38193904.049999997,27221645,28446620,29157785]
["Other current liabilities"]
["Total current liabilities",null,{"$f":"SUM(C29:C36)","v":89480325.370000005},{"$f":"SUM(D29:D36)","v":113648505.26000001},198580296.5,75307156,75307156,75307156,127558044.84999999,128391051,119753646,129506861]
["Non current liabilities"]
["Financial liabilities",6,{"$f":"'SA3'!C156","v":774315.49},{"$f":"'SA3'!D156","v":14187045.300000001},{"$f":"'SA3'!E156","v":2768429.12},{"$f":"'SA3'!F156","v":4864257},{"$f":"'SA3'!G156","v":4864257},{"$f":"'SA3'!H156","v":4864257},{"$f":"'SA3'!I156","v":2768429.12},{"$f":"'SA3'!J156","v":4864257},{"$f":"'SA3'!K156","v":5083150},{"$f":"'SA3'!L156","v":5210228}]
["Provision",7,{"$f":"'SA3'!C170","v":23221539.68},{"$f":"'SA3'!D170","v":24246164.68},{"$f":"'SA3'!E170","v":16860685},{"$f":"'SA3'!F170","v":22339560},{"$f":"'SA3'!G170","v":22339560},{"$f":"'SA3'!H170","v":22339560},{"$f":"'SA3'!I170","v":16860685},{"$f":"'SA3'!J170","v":16860685},{"$f":"'SA3'!K170","v":17619416},{"$f":"'SA3'!L170","v":18059902}]
["Long term portion of trade payables",null,{"$f":"'SA3'!C158","v":0},{"$f":"'SA3'!D158","v":0},{"$f":"'SA3'!E158","v":0},{"$f":"'SA3'!F158","v":0},{"$f":"'SA3'!G158","v":0},{"$f":"'SA3'!H158","v":0},{"$f":"'SA3'!I158","v":0},{"$f":"'SA3'!J158","v":0},{"$f":"'SA3'!K158","v":0},{"$f":"'SA3'!L158","v":0}]
["Other non-current liabilities"]
["Total non current liabilities",null,{"$f":"SUM(C39:C42)","v":23995855.169999998},{"$f":"SUM(D39:D42)","v":38433209.980000004},19629114.120000001,27203817,27203817,27203817,19629114.120000001,21724942,22702566,23270130]
["TOTAL LIABILITIES",null,{"$f":"C37+C43","v":113476180.54000001},{"$f":"D37+D43","v":152081715.24000001},{"$f":"E37+E43","v":218209410.62},{"$f":"F37+F43","v":102510973},102510973,102510973,147187158.97,150115993,{"$f":"K37+K43","v":142456212},152776991]
["NET ASSETS",null,{"$f":"C26-C44","v":968776352.82000017},1081695934.2400002,1198526319.4299998,1298798741.8499999,1419753848.8499999,1419753848.8499999,1390061299.46,1672086421.8499999,1794170495.8499999,1838826543.8499999]
["COMMUNITY WEALTH/EQUITY"]
["Accumulated surplus/(deficit)",8,{"$f":"'SA3'!C182","v":1055035249.62},{"$f":"'SA3'!D182","v":1077456476.2},{"$f":"'SA3'!E182","v":1200040776.4099998},{"$f":"'SA3'!F182","v":1339316667},{"$f":"'SA3'!G182","v":1457959774},{"$f":"'SA3'!H182","v":1457959774},{"$f":"'SA3'!I182","v":1391582936.6700001},{"$f":"'SA3'!J182","v":1652401899},{"$f":"'SA3'!K182","v":1794592356},{"$f":"'SA3'!L182","v":1839297800}]
["Reserves and funds",9,{"$f":"'SA3'!C189","v":0},{"$f":"'SA3'!D189","v":0},{"$f":"'SA3'!E189","v":0},{"$f":"'SA3'!F189","v":0},{"$f":"'SA3'!G189","v":0},{"$f":"'SA3'!H189","v":0},{"$f":"'SA3'!I189","v":0},{"$f":"'SA3'!J189","v":0},{"$f":"'SA3'!K189","v":0},{"$f":"'SA3'!L189","v":0}]
["Other"]
["TOTAL COMMUNITY WEALTH/EQUITY",10,{"$f":"SUM(C47:C49)","v":1055035249.62},{"$f":"SUM(D47:D49)","v":1077456476.2},1200040776.4099998,1339316667,1457959774,1457959774,1391582936.6700001,1652401899,1794592356,1839297800]
[{"$f":"head27a","v":"References"}]
["1. Detail breakdown in Table SA3 for Trade receivables from Exchange and Non-exchange transactions"]
["2. Include completed low cost housing to be transferred to beneficiaries within 12 months detail provided in Table SA3"]
["3. Include 'Construction-work-in-progress' (disclosed separately in annual financial statements) detail in SA3"]
["4. Detail breakdown in Table SA3. "]
["5. Detail breakdown in Table SA3. "]
["6. Detail breakdown in Table SA3. "]
["7 Detail breakdown in Table SA3. "]
["8. Detail breakdown in Table SA3. "]
["9. Detail breakdown in Table SA3. Includes reserves to be funded by statute."]
["10. Net assets must balance with Total Community Wealth/Equity"]

{"sheet":"A6 Inventory","index":16,"n_rows":78,"n_cols":12,"rows_kept":78,"cut":false,"hidden":false,"merged":[[0,0,0,11],[1,5,1,8],[1,9,1,11]]}
[]
["Store Type","Classification",{"$f":"head1b","v":"2021/22"},{"$f":"head1A","v":"2022/23"},{"$f":"Head1","v":"2023/24"},{"$f":"Head2","v":"Current Year 2024/25"},null,null,null,{"$f":"Head3","v":"2025/26 Medium Term Revenue & Expenditure Framework"}]
["R thousands","",{"$f":"Head5","v":"Audited Outcome"},{"$f":"Head5","v":"Audited Outcome"},{"$f":"Head5","v":"Audited Outcome"},{"$f":"Head6","v":"Original Budget"},{"$f":"Head7","v":"Adjusted Budget"},{"$f":"Head8","v":"Full Year Forecast"},{"$f":"Head5b","v":"Pre-audit outcome"},{"$f":"Head9","v":"Budget Year 2025/26"},{"$f":"Head10","v":"Budget Year +1 2026/27"},{"$f":"Head11","v":"Budget Year +2 2027/28"}]
["Agricultural","Opening balance - Agricultural",{"$f":"'SA3'!C66","v":0},{"$f":"'SA3'!D66","v":0},{"$f":"'SA3'!E66","v":0},{"$f":"'SA3'!F66","v":0},{"$f":"'SA3'!G66","v":0},{"$f":"'SA3'!H66","v":0},{"$f":"'SA3'!I66","v":0},{"$f":"'SA3'!J66","v":0},{"$f":"'SA3'!K66","v":0},{"$f":"'SA3'!L66","v":0}]
[null,"Acquisitions - Agricultural",{"$f":"'SA3'!C67","v":0},{"$f":"'SA3'!D67","v":0},{"$f":"'SA3'!E67","v":0},{"$f":"'SA3'!F67","v":0},{"$f":"'SA3'!G67","v":0},{"$f":"'SA3'!H67","v":0},{"$f":"'SA3'!I67","v":0},{"$f":"'SA3'!J67","v":0},{"$f":"'SA3'!K67","v":0},{"$f":"'SA3'!L67","v":0}]
[null,"Adjustments - Agricultural",{"$f":"'SA3'!C68","v":0},{"$f":"'SA3'!D68","v":0},{"$f":"'SA3'!E68","v":0},{"$f":"'SA3'!F68","v":0},{"$f":"'SA3'!G68","v":0},{"$f":"'SA3'!H68","v":0},{"$f":"'SA3'!I68","v":0},{"$f":"'SA3'!J68","v":0},{"$f":"'SA3'!K68","v":0},{"$f":"'SA3'!L68","v":0}]
[null,"Issues - Agricultural",{"$f":"'SA3'!C69","v":0},{"$f":"'SA3'!D69","v":0},{"$f":"'SA3'!E69","v":0},{"$f":"'SA3'!F69","v":0},{"$f":"'SA3'!G69","v":0},{"$f":"'SA3'!H69","v":0},{"$f":"'SA3'!I69","v":0},{"$f":"'SA3'!J69","v":0},{"$f":"'SA3'!K69","v":0},{"$f":"'SA3'!L69","v":0}]
[null,"Write Off - Agricultural",{"$f":"'SA3'!C70","v":0},{"$f":"'SA3'!D70","v":0},{"$f":"'SA3'!E70","v":0},{"$f":"'SA3'!F70","v":0},{"$f":"'SA3'!G70","v":0},{"$f":"'SA3'!H70","v":0},{"$f":"'SA3'!I70","v":0},{"$f":"'SA3'!J70","v":0},{"$f":"'SA3'!K70","v":0},{"$f":"'SA3'!L70","v":0}]
[null,"Correction of Prior period errors - Agricultural",{"$f":"'SA3'!C71","v":0},{"$f":"'SA3'!D71","v":0},{"$f":"'SA3'!E71","v":0},{"$f":"'SA3'!F71","v":0},{"$f":"'SA3'!G71","v":0},{"$f":"'SA3'!H71","v":0},{"$f":"'SA3'!I71","v":0},{"$f":"'SA3'!J71","v":0},{"$f":"'SA3'!K71","v":0},{"$f":"'SA3'!L71","v":0}]
["Agricultural Total","",{"$f":"SUM(C4:C9)","v":0},{"$f":"SUM(D4:D9)","v":0},0,0,0,0,0,0,0,0]
["Consumables Standard Rated","Opening balance - Consumables Standard Rated",{"$f":"'SA3'!C76","v":3448774.35},{"$f":"'SA3'!D76","v":1345372.3499999996},{"$f":"'SA3'!E76","v":1679943.3499999996},{"$f":"'SA3'!F76","v":1107931.3499999996},{"$f":"'SA3'!G76","v":1107931.3499999996},{"$f":"'SA3'!H76","v":1107931.3499999996},{"$f":"'SA3'!I76","v":1107931.3499999996},{"$f":"'SA3'!J76","v":1107931.3499999996},{"$f":"'SA3'!K76","v":1107931.3499999996},{"$f":"'SA3'!L76","v":1107931.3499999996}]
[null,"Acquisitions - Consumables Standard Rated",{"$f":"'SA3'!C77","v":4317087},{"$f":"'SA3'!D77","v":14160273},{"$f":"'SA3'!E77","v":2666429},{"$f":"'SA3'!F77","v":5337183},{"$f":"'SA3'!G77","v":5337183},{"$f":"'SA3'!H77","v":5337183},{"$f":"'SA3'!I77","v":3012275},{"$f":"'SA3'!J77","v":2650699},{"$f":"'SA3'!K77","v":3569227},{"$f":"'SA3'!L77","v":3658457}]
[null,"Adjustments - Consumables Standard Rated",{"$f":"'SA3'!C78","v":-6420489},{"$f":"'SA3'!D78","v":-3569119},{"$f":"'SA3'!E78","v":-3238441},{"$f":"'SA3'!F78","v":-5337183},{"$f":"'SA3'!G78","v":-5337183},{"$f":"'SA3'!H78","v":-5337183},{"$f":"'SA3'!I78","v":-2590228.94},{"$f":"'SA3'!J78","v":-2650699},{"$f":"'SA3'!K78","v":-3569227},{"$f":"'SA3'!L78","v":-3658457}]
[null,"Issues - Consumables Standard Rated",{"$f":"'SA3'!C79","v":0},{"$f":"'SA3'!D79","v":0},{"$f":"'SA3'!E79","v":0},{"$f":"'SA3'!F79","v":0},{"$f":"'SA3'!G79","v":0},{"$f":"'SA3'!H79","v":0},{"$f":"'SA3'!I79","v":0},{"$f":"'SA3'!J79","v":0},{"$f":"'SA3'!K79","v":0},{"$f":"'SA3'!L79","v":0}]
[null,"Write Off - Consumables Standard Rated",{"$f":"'SA3'!C80","v":0},{"$f":"'SA3'!D80","v":-10256583},{"$f":"'SA3'!E80","v":0},{"$f":"'SA3'!F80","v":0},{"$f":"'SA3'!G80","v":0},{"$f":"'SA3'!H80","v":0},{"$f":"'SA3'!I80","v":0},{"$f":"'SA3'!J80","v":0},{"$f":"'SA3'!K80","v":0},{"$f":"'SA3'!L80","v":0}]
[null,"Correction of Prior period errors - Consumables Standard Rated",{"$f":"'SA3'!C81","v":0},{"$f":"'SA3'!D81","v":0},{"$f":"'SA3'!E81","v":0},{"$f":"'SA3'!F81","v":0},{"$f":"'SA3'!G81","v":0},{"$f":"'SA3'!H81","v":0},{"$f":"'SA3'!I81","v":0},{"$f":"'SA3'!J81","v":0},{"$f":"'SA3'!K81","v":0},{"$f":"'SA3'!L81","v":0}]
["Consumables Standard Rated Total","",{"$f":"SUM(C11:C16)","v":1345372.3499999996},{"$f":"SUM(D11:D16)","v":1679943.3499999996},1107931.3499999996,1107931.3499999996,1107931.3499999996,1107931.3499999996,1529977.4099999997,1107931.3499999996,1107931.3499999996,1107931.3499999996]
["Consumables Zero Rated","Opening balance - Consumables Zero Rated",{"$f":"'SA3'!C84","v":0},{"$f":"'SA3'!D84","v":0},{"$f":"'SA3'!E84","v":0},{"$f":"'SA3'!F84","v":0},{"$f":"'SA3'!G84","v":0},{"$f":"'SA3'!H84","v":0},{"$f":"'SA3'!I84","v":0},{"$f":"'SA3'!J84","v":0},{"$f":"'SA3'!K84","v":0},{"$f":"'SA3'!L84","v":0}]
[null,"Acquisitions - Consumables Zero Rated",{"$f":"'SA3'!C85","v":0},{"$f":"'SA3'!D85","v":0},{"$f":"'SA3'!E85","v":0},{"$f":"'SA3'!F85","v":0},{"$f":"'SA3'!G85","v":0},{"$f":"'SA3'!H85","v":0},{"$f":"'SA3'!I85","v":0},{"$f":"'SA3'!J85","v":0},{"$f":"'SA3'!K85","v":0},{"$f":"'SA3'!L85","v":0}]
[null,"Adjustments - Consumables Zero Rated",{"$f":"'SA3'!C86","v":0},{"$f":"'SA3'!D86","v":0},{"$f":"'SA3'!E86","v":0},{"$f":"'SA3'!F86","v":0},{"$f":"'SA3'!G86","v":0},{"$f":"'SA3'!H86","v":0},{"$f":"'SA3'!I86","v":0},{"$f":"'SA3'!J86","v":0},{"$f":"'SA3'!K86","v":0},{"$f":"'SA3'!L86","v":0}]
[null,"Issues - Consumables Zero Rated",{"$f":"'SA3'!C87","v":0},{"$f":"'SA3'!D87","v":0},{"$f":"'SA3'!E87","v":0},{"$f":"'SA3'!F87","v":0},{"$f":"'SA3'!G87","v":0},{"$f":"'SA3'!H87","v":0},{"$f":"'SA3'!I87","v":0},{"$f":"'SA3'!J87","v":0},{"$f":"'SA3'!K87","v":0},{"$f":"'SA3'!L87","v":0}]
[null,"Write Off - Consumables Zero Rated",{"$f":"'SA3'!C88","v":0},{"$f":"'SA3'!D88","v":0},{"$f":"'SA3'!E88","v":0},{"$f":"'SA3'!F88","v":0},{"$f":"'SA3'!G88","v":0},{"$f":"'SA3'!H88","v":0},{"$f":"'SA3'!I88","v":0},{"$f":"'SA3'!J88","v":0},{"$f":"'SA3'!K88","v":0},{"$f":"'SA3'!L88","v":0}]
[null,"Correction of Prior period errors - Consumables Zero Rated",{"$f":"'SA3'!C89","v":0},{"$f":"'SA3'!D89","v":0},{"$f":"'SA3'!E89","v":0},{"$f":"'SA3'!F89","v":0},{"$f":"'SA3'!G89","v":0},{"$f":"'SA3'!H89","v":0},{"$f":"'SA3'!I89","v":0},{"$f":"'SA3'!J89","v":0},{"$f":"'SA3'!K89","v":0},{"$f":"'SA3'!L89","v":0}]
["Consumables Zero Rated Total","",{"$f":"SUM(C18:C23)","v":0},{"$f":"SUM(D18:D23)","v":0},0,0,0,0,0,0,0,0]
["Finished Goods","Opening balance - Finished Goods",{"$f":"'SA3'!C102","v":0},{"$f":"'SA3'!D102","v":0},{"$f":"'SA3'!E102","v":0},{"$f":"'SA3'!F102","v":0},{"$f":"'SA3'!G102","v":0},{"$f":"'SA3'!H102","v":0},{"$f":"'SA3'!I102","v":0},{"$f":"'SA3'!J102","v":0},{"$f":"'SA3'!K102","v":0},{"$f":"'SA3'!L102","v":0}]
[null,"Acquisitions - Finished Goods",{"$f":"'SA3'!C103","v":0},{"$f":"'SA3'!D103","v":0},{"$f":"'SA3'!E103","v":0},{"$f":"'SA3'!F103","v":0},{"$f":"'SA3'!G103","v":0},{"$f":"'SA3'!H103","v":0},{"$f":"'SA3'!I103","v":0},{"$f":"'SA3'!J103","v":0},{"$f":"'SA3'!K103","v":0},{"$f":"'SA3'!L103","v":0}]
[null,"Adjustments - Finished Goods",{"$f":"'SA3'!C104","v":0},{"$f":"'SA3'!D104","v":0},{"$f":"'SA3'!E104","v":0},{"$f":"'SA3'!F104","v":0},{"$f":"'SA3'!G104","v":0},{"$f":"'SA3'!H104","v":0},{"$f":"'SA3'!I104","v":0},{"$f":"'SA3'!J104","v":0},{"$f":"'SA3'!K104","v":0},{"$f":"'SA3'!L104","v":0}]
[null,"Issues -Finished Goods",{"$f":"'SA3'!C105","v":0},{"$f":"'SA3'!D105","v":0},{"$f":"'SA3'!E105","v":0},{"$f":"'SA3'!F105","v":0},{"$f":"'SA3'!G105","v":0},{"$f":"'SA3'!H105","v":0},{"$f":"'SA3'!I105","v":0},{"$f":"'SA3'!J105","v":0},{"$f":"'SA3'!K105","v":0},{"$f":"'SA3'!L105","v":0}]
[null,"Write Off - Finished Goods",{"$f":"'SA3'!C106","v":0},{"$f":"'SA3'!D106","v":0},{"$f":"'SA3'!E106","v":0},{"$f":"'SA3'!F106","v":0},{"$f":"'SA3'!G106","v":0},{"$f":"'SA3'!H106","v":0},{"$f":"'SA3'!I106","v":0},{"$f":"'SA3'!J106","v":0},{"$f":"'SA3'!K106","v":0},{"$f":"'SA3'!L106","v":0}]
[null,"Correction of Prior period errors - Finished Goods",{"$f":"'SA3'!C98","v":0},{"$f":"'SA3'!D98","v":0},{"$f":"'SA3'!E98","v":0},{"$f":"'SA3'!F98","v":0},{"$f":"'SA3'!G98","v":0},{"$f":"'SA3'!H98","v":0},{"$f":"'SA3'!I98","v":0},{"$f":"'SA3'!J98","v":0},{"$f":"'SA3'!K98","v":0},{"$f":"'SA3'!L98","v":0}]
["Finished Goods Total","",{"$f":"SUM(C25:C30)","v":0},{"$f":"SUM(D25:D30)","v":0},0,0,0,0,0,0,0,0]
["Housing Stock","Opening balance - Housing Stock",{"$f":"'SA3'!C117","v":0},{"$f":"'SA3'!D117","v":0},{"$f":"'SA3'!E117","v":0},{"$f":"'SA3'!F117","v":0},{"$f":"'SA3'!G117","v":0},{"$f":"'SA3'!H117","v":0},{"$f":"'SA3'!I117","v":0},{"$f":"'SA3'!J117","v":0},{"$f":"'SA3'!K117","v":0},{"$f":"'SA3'!L117","v":0}]
[null,"Acquisitions - Housing Stock",{"$f":"'SA3'!C118","v":0},{"$f":"'SA3'!D118","v":0},{"$f":"'SA3'!E118","v":0},{"$f":"'SA3'!F118","v":0},{"$f":"'SA3'!G118","v":0},{"$f":"'SA3'!H118","v":0},{"$f":"'SA3'!I118","v":0},{"$f":"'SA3'!J118","v":0},{"$f":"'SA3'!K118","v":0},{"$f":"'SA3'!L118","v":0}]
[null,"Sales - Housing Stock",{"$f":"'SA3'!C119","v":0},{"$f":"'SA3'!D119","v":0},{"$f":"'SA3'!E119","v":0},{"$f":"'SA3'!F119","v":0},{"$f":"'SA3'!G119","v":0},{"$f":"'SA3'!H119","v":0},{"$f":"'SA3'!I119","v":0},{"$f":"'SA3'!J119","v":0},{"$f":"'SA3'!K119","v":0},{"$f":"'SA3'!L119","v":0}]
[null,"Transfer - Housing stock",{"$f":"'SA3'!C120","v":0},{"$f":"'SA3'!D120","v":0},{"$f":"'SA3'!E120","v":0},{"$f":"'SA3'!F120","v":0},{"$f":"'SA3'!G120","v":0},{"$f":"'SA3'!H120","v":0},{"$f":"'SA3'!I120","v":0},{"$f":"'SA3'!J120","v":0},{"$f":"'SA3'!K120","v":0},{"$f":"'SA3'!L120","v":0}]
[null,"Correction of Prior period errors - Housing stock",{"$f":"'SA3'!C121","v":0},{"$f":"'SA3'!D121","v":0},{"$f":"'SA3'!E121","v":0},{"$f":"'SA3'!F121","v":0},{"$f":"'SA3'!G121","v":0},{"$f":"'SA3'!H121","v":0},{"$f":"'SA3'!I121","v":0},{"$f":"'SA3'!J121","v":0},{"$f":"'SA3'!K121","v":0},{"$f":"'SA3'!L121","v":0}]
["Housing Stock Total","",{"$f":"SUM(C32:C36)","v":0},{"$f":"SUM(D32:D36)","v":0},0,0,0,0,0,0,0,0]
["Land","Opening balance - Land",{"$f":"'SA3'!C125","v":1194558.5},{"$f":"'SA3'!D125","v":1257710.5},{"$f":"'SA3'!E125","v":1217418.5},{"$f":"'SA3'!F125","v":746030.5},{"$f":"'SA3'!G125","v":746030.5},{"$f":"'SA3'!H125","v":746030.5},{"$f":"'SA3'!I125","v":746030.5},{"$f":"'SA3'!J125","v":746030.5},{"$f":"'SA3'!K125","v":746030.5},{"$f":"'SA3'!L125","v":746030.5}]
[null,"Acquisitions - Land",{"$f":"'SA3'!C126","v":63152},{"$f":"'SA3'!D126","v":-40292},{"$f":"'SA3'!E126","v":0},{"$f":"'SA3'!F126","v":0},{"$f":"'SA3'!G126","v":0},{"$f":"'SA3'!H126","v":0},{"$f":"'SA3'!I126","v":0},{"$f":"'SA3'!J126","v":0},{"$f":"'SA3'!K126","v":0},{"$f":"'SA3'!L126","v":0}]
[null,"Sales - land",{"$f":"'SA3'!C127","v":0},{"$f":"'SA3'!D127","v":0},{"$f":"'SA3'!E127","v":-471388},{"$f":"'SA3'!F127","v":0},{"$f":"'SA3'!G127","v":0},{"$f":"'SA3'!H127","v":0},{"$f":"'SA3'!I127","v":0},{"$f":"'SA3'!J127","v":0},{"$f":"'SA3'!K127","v":0},{"$f":"'SA3'!L127","v":0}]
[null,"Adjustments - Land",{"$f":"'SA3'!C128","v":0},{"$f":"'SA3'!D128","v":0},{"$f":"'SA3'!E128","v":0},{"$f":"'SA3'!F128","v":0},{"$f":"'SA3'!G128","v":0},{"$f":"'SA3'!H128","v":0},{"$f":"'SA3'!I128","v":0},{"$f":"'SA3'!J128","v":0},{"$f":"'SA3'!K128","v":0},{"$f":"'SA3'!L128","v":0}]
[null,"Correction of Prior period errors - Land",{"$f":"'SA3'!C129","v":0},{"$f":"'SA3'!D129","v":0},{"$f":"'SA3'!E129","v":0},{"$f":"'SA3'!F129","v":0},{"$f":"'SA3'!G129","v":0},{"$f":"'SA3'!H129","v":0},{"$f":"'SA3'!I129","v":0},{"$f":"'SA3'!J129","v":0},{"$f":"'SA3'!K129","v":0},{"$f":"'SA3'!L129","v":0}]
[null,"Transfers - Land",{"$f":"'SA3'!C130","v":0},{"$f":"'SA3'!D130","v":0},{"$f":"'SA3'!E130","v":0},{"$f":"'SA3'!F130","v":0},{"$f":"'SA3'!G130","v":0},{"$f":"'SA3'!H130","v":0},{"$f":"'SA3'!I130","v":0},{"$f":"'SA3'!J130","v":0},{"$f":"'SA3'!K130","v":0},{"$f":"'SA3'!L130","v":0}]
["Land Total","",{"$f":"SUM(C38:C43)","v":1257710.5},{"$f":"SUM(D38:D43)","v":1217418.5},746030.5,746030.5,746030.5,746030.5,746030.5,746030.5,746030.5,746030.5]
["Materials and Supplies","Opening balance - Materials and Supplies",{"$f":"'SA3'!C102","v":0},{"$f":"'SA3'!D102","v":0},{"$f":"'SA3'!E102","v":0},{"$f":"'SA3'!F102","v":0},{"$f":"'SA3'!G102","v":0},{"$f":"'SA3'!H102","v":0},{"$f":"'SA3'!I102","v":0},{"$f":"'SA3'!J102","v":0},{"$f":"'SA3'!K102","v":0},{"$f":"'SA3'!L102","v":0}]
[null,"Acquisitions - Materials and Supplies",{"$f":"'SA3'!C103","v":0},{"$f":"'SA3'!D103","v":0},{"$f":"'SA3'!E103","v":0},{"$f":"'SA3'!F103","v":0},{"$f":"'SA3'!G103","v":0},{"$f":"'SA3'!H103","v":0},{"$f":"'SA3'!I103","v":0},{"$f":"'SA3'!J103","v":0},{"$f":"'SA3'!K103","v":0},{"$f":"'SA3'!L103","v":0}]
[null,"Adjustments - Materials and Supplies",{"$f":"'SA3'!C104","v":0},{"$f":"'SA3'!D104","v":0},{"$f":"'SA3'!E104","v":0},{"$f":"'SA3'!F104","v":0},{"$f":"'SA3'!G104","v":0},{"$f":"'SA3'!H104","v":0},{"$f":"'SA3'!I104","v":0},{"$f":"'SA3'!J104","v":0},{"$f":"'SA3'!K104","v":0},{"$f":"'SA3'!L104","v":0}]
[null,"Issues - Materials and Supplies",{"$f":"'SA3'!C105","v":0},{"$f":"'SA3'!D105","v":0},{"$f":"'SA3'!E105","v":0},{"$f":"'SA3'!F105","v":0},{"$f":"'SA3'!G105","v":0},{"$f":"'SA3'!H105","v":0},{"$f":"'SA3'!I105","v":0},{"$f":"'SA3'!J105","v":0},{"$f":"'SA3'!K105","v":0},{"$f":"'SA3'!L105","v":0}]
[null,"Write Off - Materials and Supplies",{"$f":"'SA3'!C106","v":0},{"$f":"'SA3'!D106","v":0},{"$f":"'SA3'!E106","v":0},{"$f":"'SA3'!F106","v":0},{"$f":"'SA3'!G106","v":0},{"$f":"'SA3'!H106","v":0},{"$f":"'SA3'!I106","v":0},{"$f":"'SA3'!J106","v":0},{"$f":"'SA3'!K106","v":0},{"$f":"'SA3'!L106","v":0}]
[null,"Correction of Prior period errors - Materials and Supplies",{"$f":"'SA3'!C107","v":0},{"$f":"'SA3'!D107","v":0},{"$f":"'SA3'!E107","v":0},{"$f":"'SA3'!F107","v":0},{"$f":"'SA3'!G107","v":0},{"$f":"'SA3'!H107","v":0},{"$f":"'SA3'!I107","v":0},{"$f":"'SA3'!J107","v":0},{"$f":"'SA3'!K107","v":0},{"$f":"'SA3'!L107","v":0}]
["Materials and Supplies Total","",{"$f":"SUM(C45:C50)","v":0},{"$f":"SUM(D45:D50)","v":0},0,0,0,0,0,0,0,0]
["Water","Opening balance - Water",{"$f":"'SA3'!C33","v":0},{"$f":"'SA3'!D33","v":0},{"$f":"'SA3'!E33","v":0},{"$f":"'SA3'!F33","v":0},{"$f":"'SA3'!G33","v":0},{"$f":"'SA3'!H33","v":0},{"$f":"'SA3'!I33","v":0},{"$f":"'SA3'!J33","v":0},{"$f":"'SA3'!K33","v":0},{"$f":"'SA3'!L33","v":0}]
[null,"Acquisitions - Water bulk purchases",{"$f":"'SA3'!C36","v":0},{"$f":"'SA3'!D36","v":0},{"$f":"'SA3'!E36","v":0},{"$f":"'SA3'!F36","v":0},{"$f":"'SA3'!G36","v":0},{"$f":"'SA3'!H36","v":0},{"$f":"'SA3'!I36","v":0},{"$f":"'SA3'!J36","v":0},{"$f":"'SA3'!K36","v":0},{"$f":"'SA3'!L36","v":0}]
[null,"Acquisitions - Water natural sources",{"$f":"'SA3'!C37","v":0},{"$f":"'SA3'!D37","v":0},{"$f":"'SA3'!E37","v":0},{"$f":"'SA3'!F37","v":0},{"$f":"'SA3'!G37","v":0},{"$f":"'SA3'!H37","v":0},{"$f":"'SA3'!I37","v":0},{"$f":"'SA3'!J37","v":0},{"$f":"'SA3'!K37","v":0},{"$f":"'SA3'!L37","v":0}]
[null,"Acquisitions - Water treatment works",{"$f":"'SA3'!C35","v":0},{"$f":"'SA3'!D35","v":0},{"$f":"'SA3'!E35","v":0},{"$f":"'SA3'!F35","v":0},{"$f":"'SA3'!G35","v":0},{"$f":"'SA3'!H35","v":0},{"$f":"'SA3'!I35","v":0},{"$f":"'SA3'!J35","v":0},{"$f":"'SA3'!K35","v":0},{"$f":"'SA3'!L35","v":0}]
[null,"Billed Authorised Consumption:Billed Metered Consumption:Free Basic Water",{"$f":"'SA3'!C41","v":0},{"$f":"'SA3'!D41","v":0},{"$f":"'SA3'!E41","v":0},{"$f":"'SA3'!F41","v":0},{"$f":"'SA3'!G41","v":0},{"$f":"'SA3'!H41","v":0},{"$f":"'SA3'!I41","v":0},{"$f":"'SA3'!J41","v":0},{"$f":"'SA3'!K41","v":0},{"$f":"'SA3'!L41","v":0}]
[null,"Billed Authorised Consumption:Billed Metered Consumption:Revenue Water",{"$f":"'SA3'!C43","v":0},{"$f":"'SA3'!D43","v":0},{"$f":"'SA3'!E43","v":0},{"$f":"'SA3'!F43","v":0},{"$f":"'SA3'!G43","v":0},{"$f":"'SA3'!H43","v":0},{"$f":"'SA3'!I43","v":0},{"$f":"'SA3'!J43","v":0},{"$f":"'SA3'!K43","v":0},{"$f":"'SA3'!L43","v":0}]
[null,"Billed Authorised Consumption:Billed Metered Consumption:Subsidised Water",{"$f":"'SA3'!C42","v":0},{"$f":"'SA3'!D42","v":0},{"$f":"'SA3'!E42","v":0},{"$f":"'SA3'!F42","v":0},{"$f":"'SA3'!G42","v":0},{"$f":"'SA3'!H42","v":0},{"$f":"'SA3'!I42","v":0},{"$f":"'SA3'!J42","v":0},{"$f":"'SA3'!K42","v":0},{"$f":"'SA3'!L42","v":0}]
[null,"Billed Authorised Consumption:Billed Unmetered Consumption:Free Basic Water",{"$f":"'SA3'!C45","v":0},{"$f":"'SA3'!D45","v":0},{"$f":"'SA3'!E45","v":0},{"$f":"'SA3'!F45","v":0},{"$f":"'SA3'!G45","v":0},{"$f":"'SA3'!H45","v":0},{"$f":"'SA3'!I45","v":0},{"$f":"'SA3'!J45","v":0},{"$f":"'SA3'!K45","v":0},{"$f":"'SA3'!L45","v":0}]
[null,"Billed Authorised Consumption:Billed Unmetered Consumption:Revenue Water",{"$f":"'SA3'!C47","v":0},{"$f":"'SA3'!D47","v":0},{"$f":"'SA3'!E47","v":0},{"$f":"'SA3'!F47","v":0},{"$f":"'SA3'!G47","v":0},{"$f":"'SA3'!H47","v":0},{"$f":"'SA3'!I47","v":0},{"$f":"'SA3'!J47","v":0},{"$f":"'SA3'!K47","v":0},{"$f":"'SA3'!L47","v":0}]
[null,"Billed Authorised Consumption:Billed Unmetered Consumption:Subsidised Water",{"$f":"'SA3'!C46","v":0},{"$f":"'SA3'!D46","v":0},{"$f":"'SA3'!E46","v":0},{"$f":"'SA3'!F46","v":0},{"$f":"'SA3'!G46","v":0},{"$f":"'SA3'!H46","v":0},{"$f":"'SA3'!I46","v":0},{"$f":"'SA3'!J46","v":0},{"$f":"'SA3'!K46","v":0},{"$f":"'SA3'!L46","v":0}]
[null,"Data Transfer and Management Errors",{"$f":"'SA3'!C59","v":0},{"$f":"'SA3'!D59","v":0},{"$f":"'SA3'!E59","v":0},{"$f":"'SA3'!F59","v":0},{"$f":"'SA3'!G59","v":0},{"$f":"'SA3'!H59","v":0},{"$f":"'SA3'!I59","v":0},{"$f":"'SA3'!J59","v":0},{"$f":"'SA3'!K59","v":0},{"$f":"'SA3'!L59","v":0}]
[null,"Non-revenue Water",{"$f":"'SA3'!C61","v":0},{"$f":"'SA3'!D61","v":0},{"$f":"'SA3'!E61","v":0},{"$f":"'SA3'!F61","v":0},{"$f":"'SA3'!G61","v":0},{"$f":"'SA3'!H61","v":0},{"$f":"'SA3'!I61","v":0},{"$f":"'SA3'!J61","v":0},{"$f":"'SA3'!K61","v":0},{"$f":"'SA3'!L61","v":0}]
[null,"Unavoidable Annual Real Losses",{"$f":"'SA3'!C60","v":0},{"$f":"'SA3'!D60","v":0},{"$f":"'SA3'!E60","v":0},{"$f":"'SA3'!F60","v":0},{"$f":"'SA3'!G60","v":0},{"$f":"'SA3'!H60","v":0},{"$f":"'SA3'!I60","v":0},{"$f":"'SA3'!J60","v":0},{"$f":"'SA3'!K60","v":0},{"$f":"'SA3'!L60","v":0}]
[null,"Unbilled Authorised Consumption:Unbilled Metered Consumption",{"$f":"'SA3'!C49","v":0},{"$f":"'SA3'!D49","v":0},{"$f":"'SA3'!E49","v":0},{"$f":"'SA3'!F49","v":0},{"$f":"'SA3'!G49","v":0},{"$f":"'SA3'!H49","v":0},{"$f":"'SA3'!I49","v":0},{"$f":"'SA3'!J49","v":0},{"$f":"'SA3'!K49","v":0},{"$f":"'SA3'!L49","v":0}]
[null,"Unbilled Authorised Consumption:Unbilled Unmetered Consumption",{"$f":"'SA3'!C50","v":0},{"$f":"'SA3'!D50","v":0},{"$f":"'SA3'!E50","v":0},{"$f":"'SA3'!F50","v":0},{"$f":"'SA3'!G50","v":0},{"$f":"'SA3'!H50","v":0},{"$f":"'SA3'!I50","v":0},{"$f":"'SA3'!J50","v":0},{"$f":"'SA3'!K50","v":0},{"$f":"'SA3'!L50","v":0}]
[null,"Water Losses:Apparent Losses:Customer Meter Inaccuracies",{"$f":"'SA3'!C54","v":0},{"$f":"'SA3'!D54","v":0},{"$f":"'SA3'!E54","v":0},{"$f":"'SA3'!F54","v":0},{"$f":"'SA3'!G54","v":0},{"$f":"'SA3'!H54","v":0},{"$f":"'SA3'!I54","v":0},{"$f":"'SA3'!J54","v":0},{"$f":"'SA3'!K54","v":0},{"$f":"'SA3'!L54","v":0}]
[null,"Water Losses:Apparent Losses:Unauthorised Consumption",{"$f":"'SA3'!C53","v":0},{"$f":"'SA3'!D53","v":0},{"$f":"'SA3'!E53","v":0},{"$f":"'SA3'!F53","v":0},{"$f":"'SA3'!G53","v":0},{"$f":"'SA3'!H53","v":0},{"$f":"'SA3'!I53","v":0},{"$f":"'SA3'!J53","v":0},{"$f":"'SA3'!K53","v":0},{"$f":"'SA3'!L53","v":0}]
[null,"Water Losses:Real Losses:Leakage and Overflows at Storage Tanks/Reservoirs",{"$f":"'SA3'!C57","v":0},{"$f":"'SA3'!D57","v":0},{"$f":"'SA3'!E57","v":0},{"$f":"'SA3'!F57","v":0},{"$f":"'SA3'!G57","v":0},{"$f":"'SA3'!H57","v":0},{"$f":"'SA3'!I57","v":0},{"$f":"'SA3'!J57","v":0},{"$f":"'SA3'!K57","v":0},{"$f":"'SA3'!L57","v":0}]
[null,"Water Losses:Real Losses:Leakage on Service Connections up to the point of Customer Meter",{"$f":"'SA3'!C58","v":0},{"$f":"'SA3'!D58","v":0},{"$f":"'SA3'!E58","v":0},{"$f":"'SA3'!F58","v":0},{"$f":"'SA3'!G58","v":0},{"$f":"'SA3'!H58","v":0},{"$f":"'SA3'!I58","v":0},{"$f":"'SA3'!J58","v":0},{"$f":"'SA3'!K58","v":0},{"$f":"'SA3'!L58","v":0}]
[null,"Water Losses:Real Losses:Leakage on Transmission and Distribution Mains",{"$f":"'SA3'!C56","v":0},{"$f":"'SA3'!D56","v":0},{"$f":"'SA3'!E56","v":0},{"$f":"'SA3'!F56","v":0},{"$f":"'SA3'!G56","v":0},{"$f":"'SA3'!H56","v":0},{"$f":"'SA3'!I56","v":0},{"$f":"'SA3'!J56","v":0},{"$f":"'SA3'!K56","v":0},{"$f":"'SA3'!L56","v":0}]
[null,"Correction of Prior period errors - Water",{"$f":"'SA3'!C62","v":0},{"$f":"'SA3'!D62","v":0},{"$f":"'SA3'!E62","v":0},{"$f":"'SA3'!F62","v":0},{"$f":"'SA3'!G62","v":0},{"$f":"'SA3'!H62","v":0},{"$f":"'SA3'!I62","v":0},{"$f":"'SA3'!J62","v":0},{"$f":"'SA3'!K62","v":0},{"$f":"'SA3'!L62","v":0}]
["Water Total","",{"$f":"SUM(C52:C72)","v":0},{"$f":"SUM(D52:D72)","v":0},0,0,0,0,0,0,0,0]
["Work-in-progress","Opening balance - WIP",{"$f":"'SA3'!C111","v":0},{"$f":"'SA3'!D111","v":0},{"$f":"'SA3'!E111","v":0},{"$f":"'SA3'!F111","v":0},{"$f":"'SA3'!G111","v":0},{"$f":"'SA3'!H111","v":0},{"$f":"'SA3'!I111","v":0},{"$f":"'SA3'!J111","v":0},{"$f":"'SA3'!K111","v":0},{"$f":"'SA3'!L111","v":0}]
[null,"Materials - WIP",{"$f":"'SA3'!C112","v":0},0,0,0,0,0,0,0,0,0]
[null,"Transfer - WIP",{"$f":"'SA3'!C113","v":0},{"$f":"'SA3'!D113","v":0},{"$f":"'SA3'!E113","v":0},{"$f":"'SA3'!F113","v":0},{"$f":"'SA3'!G113","v":0},{"$f":"'SA3'!H113","v":0},{"$f":"'SA3'!I113","v":0},{"$f":"'SA3'!J113","v":0},{"$f":"'SA3'!K113","v":0},{"$f":"'SA3'!L113","v":0}]
["Work-in-progress Total","",{"$f":"SUM(C74:C76)","v":0},{"$f":"SUM(D74:D76)","v":0},0,0,0,0,0,0,0,0]
["Grand Total","",{"$f":"+C73+C51+C44+C37+C31+C24+C17+C10","v":2603082.8499999996},{"$f":"+D73+D51+D44+D37+D31+D24+D17+D10","v":2897361.8499999996},1853961.8499999996,1853961.8499999996,1853961.8499999996,1853961.8499999996,2276007.9099999997,1853961.8499999996,1853961.8499999996,1853961.8499999996]

{"sheet":"A7-CFlow","index":17,"n_rows":51,"n_cols":12,"rows_kept":51,"cut":false,"hidden":false,"merged":[[1,9,1,11],[1,5,1,8]]}
[{"$f":"muni&\" - \"&Approve7","v":"LIM351 Blouberg - Table A7 Budgeted Cash Flows"}]
[{"$f":"desc","v":"Description"},{"$f":"head27","v":"Ref"},{"$f":"head1b","v":"2021/22"},{"$f":"head1A","v":"2022/23"},{"$f":"Head1","v":"2023/24"},{"$f":"Head2","v":"Current Year 2024/25"},null,null,null,{"$f":"Head3","v":"2025/26 Medium Term Revenue & Expenditure Framework"}]
["R thousand",null,{"$f":"Head5","v":"Audited Outcome"},{"$f":"Head5","v":"Audited Outcome"},{"$f":"Head5","v":"Audited Outcome"},{"$f":"Head6","v":"Original Budget"},{"$f":"Head7","v":"Adjusted Budget"},{"$f":"Head8","v":"Full Year Forecast"},{"$f":"Head5b","v":"Pre-audit outcome"},{"$f":"Head9","v":"Budget Year 2025/26"},{"$f":"Head10","v":"Budget Year +1 2026/27"},{"$f":"Head11","v":"Budget Year +2 2027/28"}]
["CASH FLOW FROM OPERATING ACTIVITIES"]
["Receipts"]
["Property rates",null,57952874.740000002,34034099.25,45142804.840000004,32857088,31214234,31214234,9380457.9700000007,{"$f":"'SA30'!N5","v":29030103},{"$f":"'SA30'!O5","v":30336458},{"$f":"'SA30'!P5","v":31497603}]
["Service charges",null,31249716.989999998,27637574.280000001,32988116.100000001,57824150,58024150,58024150,34529210.25,{"$f":"'SA30'!N6+'SA30'!N7+'SA30'!N8+'SA30'!N9","v":63465487},{"$f":"'SA30'!O6+'SA30'!O7+'SA30'!O8+'SA30'!O9","v":66595707},{"$f":"'SA30'!P6+'SA30'!P7+'SA30'!P8+'SA30'!P9","v":63038522}]
["Other revenue",null,61000042.789999999,192307650.86000001,230097920.31,12975762,18175313,18175313,125046523.36,{"$f":"'SA30'!N11+'SA30'!N15+'SA30'!N16+'SA30'!N17+'SA30'!N19+'SA30'!N29","v":15795571},{"$f":"'SA30'!O11+'SA30'!O15+'SA30'!O16+'SA30'!O17+'SA30'!O19+'SA30'!O29","v":16506371},{"$f":"'SA30'!P11+'SA30'!P15+'SA30'!P16+'SA30'!P17+'SA30'!P19+'SA30'!P29","v":16919042}]
["Transfers and Subsidies - Operational",1,213922000,70482920.629999995,237376778.06,250671000,250671000,250671000,250137000,{"$f":"'SA30'!N18","v":249480000},{"$f":"'SA30'!O18","v":246404000},{"$f":"'SA30'!P18","v":257523000}]
["Transfers and Subsidies - Capital",1,86764000,104336000,139159000,67485000,126168202,126168202,67485000,{"$f":"'SA30'!N23+'SA30'!N24","v":70241000},{"$f":"'SA30'!O23+'SA30'!O24","v":75105000},{"$f":"'SA30'!P23+'SA30'!P24","v":78484000}]
["Interest",null,833521.92,276960.99,3104351.95,8063596,11063596,11063596,2043596.23,{"$f":"'SA30'!N12+'SA30'!N13","v":11550395},{"$f":"'SA30'!O12+'SA30'!O13","v":12070162},{"$f":"'SA30'!P12+'SA30'!P13","v":12371917}]
["Dividends",null,null,null,null,null,null,null,null,{"$f":"'SA30'!N14","v":0},{"$f":"'SA30'!O14","v":0},{"$f":"'SA30'!P14","v":0}]
["Payments"]
["Suppliers and employees",null,-504192538.20999998,-560914469.49000001,-568465959.59000003,-350217718,-349240307,-349240307,-578409571.87,{"$f":"-('SA30'!N35+'SA30'!N36+'SA30'!N38+'SA30'!N39+'SA30'!N40+'SA30'!N41+'SA30'!N44+'SA30'!N50)","v":-345366056},{"$f":"-('SA30'!O35+'SA30'!O36+'SA30'!O38+'SA30'!O39+'SA30'!O40+'SA30'!O41+'SA30'!O44+'SA30'!O50)","v":-347177038},{"$f":"-('SA30'!P35+'SA30'!P36+'SA30'!P38+'SA30'!P39+'SA30'!P40+'SA30'!P41+'SA30'!P44+'SA30'!P50)","v":-358998217}]
["Interest",null,null,null,null,null,null,null,null,{"$f":"-('SA30'!N37)","v":0},{"$f":"-('SA30'!O37)","v":0},{"$f":"-('SA30'!P37)","v":0}]
["Transfers and Subsidies",1,null,null,null,null,null,null,null,{"$f":"-('SA30'!N42+'SA30'!N43)","v":0},{"$f":"-('SA30'!O42+'SA30'!O43)","v":0},{"$f":"-('SA30'!P42+'SA30'!P43)","v":0}]
["NET CASH FROM/(USED) OPERATING ACTIVITIES",null,{"$f":"SUM(C6:C12)+SUM(C14:C16)","v":-52470381.769999981},{"$f":"SUM(D6:D12)+SUM(D14:D16)","v":-131839263.48000002},119403011.66999996,79658878,146076188,146076188,{"$f":"SUM(I6:I12)+SUM(I14:I16)","v":-89787784.060000002},94196500,99840660,100835867]
[]
["CASH FLOWS FROM INVESTING ACTIVITIES"]
["Receipts"]
["Proceeds on disposal of PPE",null,0,0,1559867.83,0,0,0,0,{"$f":"'SA30'!N25","v":2000000},{"$f":"'SA30'!O25","v":2090000},{"$f":"'SA30'!P25","v":2142250}]
[]
["Decrease (increase) in non-current receivables",null,null,null,null,null,null,null,null,{"$f":"'SA30'!N30","v":0},{"$f":"'SA30'!O30","v":0},{"$f":"'SA30'!P30","v":0}]
["Decrease (increase) in non-current investments",null,0,-226630.17,-6308501.8700000001,6535132.04,0,0,2875967.06,{"$f":"'SA30'!N31","v":0},{"$f":"'SA30'!O31","v":0},{"$f":"'SA30'!P31","v":0}]
["Payments"]
["Capital assets",null,-8073757.71,-523676,-84578647.420000002,-74908531,-145509170,-145509170,-90749042.019999996,{"$f":"-('SA30'!N48)","v":-86964800},{"$f":"-('SA30'!O48)","v":-92705000},{"$f":"-('SA30'!P48)","v":-96877400}]
["NET CASH FROM/(USED) INVESTING ACTIVITIES",null,{"$f":"+C21+C23+C24+C26","v":-8073757.71},{"$f":"+D21+D23+D24+D26","v":-750306.17},-89327281.460000008,-68373398.959999993,-145509170,-145509170,-87873074.959999993,-84964800,-90615000,-94735150]
[]
["CASH FLOWS FROM FINANCING ACTIVITIES"]
["Receipts"]
["Short term loans",null,0,0,6537705.1699999999,0,0,0,0,{"$f":"'SA30'!N26","v":0},{"$f":"'SA30'!O26","v":0},{"$f":"'SA30'!P26","v":0}]
["Borrowing long term/refinancing",null,null,null,null,null,null,null,null,{"$f":"'SA30'!N27","v":0},{"$f":"'SA30'!O27","v":0},{"$f":"'SA30'!P27","v":0}]
["Increase (decrease) in consumer deposits",null,null,null,null,null,null,null,null,{"$f":"'SA30'!N28","v":0},{"$f":"'SA30'!O28","v":0},{"$f":"'SA30'!P28","v":0}]
["Payments"]
["Repayment of borrowing",null,null,null,null,null,null,null,null,{"$f":"-('SA30'!N49)","v":0},{"$f":"-('SA30'!O49)","v":0},{"$f":"-('SA30'!P49)","v":0}]
["NET CASH FROM/(USED) FINANCING ACTIVITIES",null,{"$f":"SUM(C31:C33)+C35","v":0},{"$f":"SUM(D31:D33)+D35","v":0},6537705.1699999999,0,0,0,0,0,0,0]
[]
["NET INCREASE/ (DECREASE) IN CASH HELD",null,{"$f":"C17+C27+C36","v":-60544139.479999982},-132589569.65000002,36613435.379999951,11285479.040000007,567018,567018,-177660859.01999998,9231700,9225660,6100717]
["Cash/cash equivalents at the year begin:",2,41330602.880000003,84834550.5,101842673.14,197491091,197491091,197491091,0,{"$f":"'SA30'!N54","v":186024594},{"$f":"J40","v":195256294},{"$f":"K40","v":204481954}]
["Cash/cash equivalents at the year end:",2,{"$f":"C38+C39","v":-19213536.599999979},{"$f":"D38+D39","v":-47755019.150000021},{"$f":"E38+E39","v":138456108.51999995},{"$f":"F38+F39","v":208776570.04000002},198058109,198058109,-177660859.01999998,195256294,204481954,210582671]
[{"$f":"head27a","v":"References"}]
["1. Local/District municipalities to include transfers from/to District/Local Municipalities"]
["2. Cash equivalents includes investments with maturities of 3 months or less"]
["3. The MTREF is populated directly from SA30."]
["Total receipts",null,{"$f":"SUM(C6:C12)+SUM(C21:C23)","v":451722156.44},429075206.00999999,689428839.09000003,429876596,495316495,495316495,488621787.81,441562556,449107698,461976334]
["Total payments",null,{"$f":"SUM(C14:C16)+C26","v":-512266295.91999996},-561438145.49000001,-653044607.00999999,-425126249,-494749477,-494749477,-669158613.88999999,-432330856,-439882038,-455875617]
[null,null,{"$f":"C45+C46","v":-60544139.479999959},{"$f":"D45+D46","v":-132362939.48000002},36384232.080000043,4750347,567018,567018,-180536826.07999998,9231700,9225660,6100717]
["Borrowings & investments & c.deposits",null,{"$f":"C24+C32+C33","v":0},{"$f":"D24+D32+D33","v":-226630.17},-6308501.8700000001,6535132.04,0,0,2875967.06,0,0,0]
[{"$f":"A35","v":"Repayment of borrowing"},null,{"$f":"C35","v":0},{"$f":"D35","v":0},0,0,0,0,{"$f":"I35","v":0},0,0,0]
[null,null,{"$f":"C47+C48+C49","v":-60544139.479999959},{"$f":"D47+D48+D49","v":-132589569.65000002},30075730.210000042,11285479.039999999,567018,567018,-177660859.01999998,9231700,9225660,6100717]
[null,null,{"$f":"C38-C50","v":0},0,6537705.1699999087,0,0,0,0,0,0,0]

{"sheet":"A8-ResRecon","index":18,"n_rows":57,"n_cols":12,"rows_kept":57,"cut":false,"hidden":false,"merged":[[1,9,1,11],[1,5,1,8]]}
[{"$f":"muni&\" - \"&Approve8","v":"LIM351 Blouberg - Table A8 Cash backed reserves/accumulated surplus reconciliation"}]
[{"$f":"desc","v":"Description"},{"$f":"head27","v":"Ref"},{"$f":"head1b","v":"2021/22"},{"$f":"head1A","v":"2022/23"},{"$f":"Head1","v":"2023/24"},{"$f":"Head2","v":"Current Year 2024/25"},null,null,null,{"$f":"Head3","v":"2025/26 Medium Term Revenue & Expenditure Framework"}]
["R thousand",null,{"$f":"Head5","v":"Audited Outcome"},{"$f":"Head5","v":"Audited Outcome"},{"$f":"Head5","v":"Audited Outcome"},{"$f":"Head6","v":"Original Budget"},{"$f":"Head7","v":"Adjusted Budget"},{"$f":"Head8","v":"Full Year Forecast"},{"$f":"Head5b","v":"Pre-audit outcome"},{"$f":"Head9","v":"Budget Year 2025/26"},{"$f":"Head10","v":"Budget Year +1 2026/27"},{"$f":"Head11","v":"Budget Year +2 2027/28"}]
["Cash and investments available"]
[{"$f":"LEFT('A7-CFlow'!A40,37)","v":"Cash/cash equivalents at the year end"},1,{"$f":"'A7-CFlow'!C40","v":-19213536.599999979},{"$f":"'A7-CFlow'!D40","v":-47755019.150000021},{"$f":"'A7-CFlow'!E40","v":138456108.51999995},{"$f":"'A7-CFlow'!F40","v":208776570.04000002},{"$f":"'A7-CFlow'!G40","v":198058109},{"$f":"'A7-CFlow'!H40","v":198058109},{"$f":"'A7-CFlow'!I40","v":-177660859.01999998},{"$f":"'A7-CFlow'!J40","v":195256294},{"$f":"'A7-CFlow'!K40","v":204481954},{"$f":"'A7-CFlow'!L40","v":210582671}]
["Other current investments  > 90 days",null,{"$f":"'A6-FinPos'!C6-'A6-FinPos'!C29-'A8-ResRecon'!C5","v":108686060.45999998},{"$f":"'A6-FinPos'!D6-'A6-FinPos'!D29-'A8-ResRecon'!D5","v":149597692.29000002},{"$f":"'A6-FinPos'!E6-'A6-FinPos'!E29-'A8-ResRecon'!E5","v":47568486.070000052},{"$f":"'A6-FinPos'!F6-'A6-FinPos'!F29-'A8-ResRecon'!F5","v":-4023883.0400000215},{"$f":"'A6-FinPos'!G6-'A6-FinPos'!G29-'A8-ResRecon'!G5","v":66114795},{"$f":"'A6-FinPos'!H6-'A6-FinPos'!H29-'A8-ResRecon'!H5","v":66114795},{"$f":"'A6-FinPos'!I6-'A6-FinPos'!I29-'A8-ResRecon'!I5","v":310961606.44},{"$f":"'A6-FinPos'!J6-'A6-FinPos'!J29-'A8-ResRecon'!J5","v":54788695},{"$f":"'A6-FinPos'!K6-'A6-FinPos'!K29-'A8-ResRecon'!K5","v":87775169},{"$f":"'A6-FinPos'!L6-'A6-FinPos'!L29-'A8-ResRecon'!L5","v":90849107}]
["Non current Investments",1,{"$f":"'A6-FinPos'!C15","v":0},{"$f":"'A6-FinPos'!D15","v":4864603.53},{"$f":"'A6-FinPos'!E15","v":11399735.57},{"$f":"'A6-FinPos'!F15","v":10708603},{"$f":"'A6-FinPos'!G15","v":0},{"$f":"'A6-FinPos'!H15","v":0},{"$f":"'A6-FinPos'!I15","v":8523768.5099999998},{"$f":"'A6-FinPos'!J15","v":0},{"$f":"'A6-FinPos'!K15","v":0},{"$f":"'A6-FinPos'!L15","v":0}]
["Cash and investments available:",null,{"$f":"SUM(C5:C7)","v":89472523.859999999},{"$f":"SUM(D5:D7)","v":106707276.67},197424330.16,215461290,264172904,264172904,141824515.93000001,250044989,292257123,301431778]
[]
["Application of cash and investments"]
["Unspent conditional transfers",null,{"$f":"'SA3'!C149","v":24315315.170000002},{"$f":"'SA3'!D149","v":20158138.510000002},{"$f":"'SA3'!E149","v":59646502.420000002},{"$f":"'SA3'!F149","v":23000000},{"$f":"'SA3'!G149","v":23000000},{"$f":"'SA3'!H149","v":23000000},{"$f":"'SA3'!I149","v":21280117.989999998},{"$f":"'SA3'!J149","v":11135395},{"$f":"'SA3'!K149","v":1186488},{"$f":"'SA3'!L149","v":9775520}]
["Unspent borrowing"]
["Statutory requirements",2,-2641755.19,-328670.08000000002,3093113.92,2369340,2369340,2369340,5094240.3,-492494,-514655,-527523]
["Other working capital requirements",3,{"$f":"-C34","v":59382062.780000001},{"$f":"-D34","v":41420665.829999998},58892851.849999994,{"$f":"-F34","v":22669462},27292462,27292462,10267074.939999998,-6643726,-10926167,-11502992]
["Other provisions",null,0,0,2591202.14,2200906,2200906,2200906,2591202.14,2591203,2707807,2775502]
["Long term investments committed",4,{"$f":"C44","v":0},{"$f":"D44","v":0},0,0,0,0,0,0,0,0]
["Reserves to be backed by cash/investments",5]
["Total Application of cash and investments:",null,{"$f":"SUM(C11:C17)","v":81055622.760000005},{"$f":"SUM(D11:D17)","v":61250134.260000005},124223670.33,50239708,54862708,54862708,39232635.369999997,6590378,-7546527,520507]
["Surplus(shortfall) - Excluding Non-Current Creditors Trf to Debt Relief Benefits",null,{"$f":"C8-C18","v":8416901.099999994},{"$f":"D8-D18","v":45457142.409999996},73200659.829999998,165221582,209310196,209310196,102591880.56,243454611,299803650,300911271]
["Creditors transferred to Debt Relief - Non-Current portion",null,{"$f":"'SA3'!C162","v":0},{"$f":"'SA3'!D162","v":0},{"$f":"'SA3'!E162","v":0},{"$f":"'SA3'!F162","v":0},{"$f":"'SA3'!G162","v":0},{"$f":"'SA3'!H162","v":0},{"$f":"'SA3'!I162","v":0},{"$f":"'SA3'!J162","v":0},{"$f":"'SA3'!K162","v":0},{"$f":"'SA3'!L162","v":0}]
["Surplus(shortfall) - Including Non-Current Creditors Trf to Debt Relief Benefits",null,{"$f":"SUM(C19:C20)","v":8416901.099999994},{"$f":"SUM(D19:D20)","v":45457142.409999996},73200659.829999998,165221582,209310196,209310196,102591880.56,243454611,299803650,300911271]
[{"$f":"head27a","v":"References"}]
["1. Must reconcile with Budgeted Cash Flows"]
["2. For example: VAT, taxation"]
["3. Council approval for policy required - include sufficient working capital (e.g. allowing for a % of current debtors > 90 days as uncollectable)"]
["4. For example: sinking fund requirements for borrowing"]
["5. Council approval required for each reserve created and basis of cash backing of reserves - Total Reserves to be backed by cash/investments excl Valuation reserve"]
[]
[]
["Other working capital requirements"]
["Debtors",null,{"$f":"IF(ISERROR(ROUND(C37*C38,-3)),0,(ROUND(C37*C38,-3)))","v":-8691000},{"$f":"IF(ISERROR(ROUND(D37*D38,-3)),0,(ROUND(D37*D38,-3)))","v":30610000},40082000,12814000,8191000,8191000,48696000,78234000,81773000,82321000]
[]
["Creditors due",null,{"$f":"'SA3'!C147+'SA3'!C148","v":50691062.780000001},{"$f":"'SA3'!D147+'SA3'!D148","v":72030665.829999998},{"$f":"'SA3'!E147+'SA3'!E148","v":98974851.849999994},{"$f":"'SA3'!F147+'SA3'!F148","v":35483462},{"$f":"'SA3'!G147+'SA3'!G148","v":35483462},{"$f":"'SA3'!H147+'SA3'!H148","v":35483462},{"$f":"'SA3'!I147+'SA3'!I148","v":58963074.939999998},{"$f":"'SA3'!J147+'SA3'!J148","v":71590274},{"$f":"'SA3'!K147+'SA3'!K148","v":70846833},{"$f":"'SA3'!L147+'SA3'!L148","v":70818008}]
["Total",null,{"$f":"C31-C33","v":-59382062.780000001},{"$f":"D31-D33","v":-41420665.829999998},-58892851.849999994,-22669462,-27292462,-27292462,-10267074.939999998,6643726,10926167,11502992]
[]
["Debtors collection assumptions"]
["Balance outstanding - debtors",null,{"$f":"'A6-FinPos'!C7+'A6-FinPos'!C8+'A6-FinPos'!C9+'A6-FinPos'!C22+'A6-FinPos'!C23","v":-14276825.689999998},{"$f":"'A6-FinPos'!D7+'A6-FinPos'!D8+'A6-FinPos'!D9+'A6-FinPos'!D22+'A6-FinPos'!D23","v":31703783.229999993},{"$f":"'A6-FinPos'!E7+'A6-FinPos'!E8+'A6-FinPos'!E9+'A6-FinPos'!E22+'A6-FinPos'!E23","v":68746445.650000006},{"$f":"'A6-FinPos'!F7+'A6-FinPos'!F8+'A6-FinPos'!F9+'A6-FinPos'!F22+'A6-FinPos'!F23","v":40577982},{"$f":"'A6-FinPos'!G7+'A6-FinPos'!G8+'A6-FinPos'!G9+'A6-FinPos'!G22+'A6-FinPos'!G23","v":42220836},{"$f":"'A6-FinPos'!H7+'A6-FinPos'!H8+'A6-FinPos'!H9+'A6-FinPos'!H22+'A6-FinPos'!H23","v":42220836},{"$f":"'A6-FinPos'!I7+'A6-FinPos'!I8+'A6-FinPos'!I9+'A6-FinPos'!I22+'A6-FinPos'!I23","v":144827501.06999999},{"$f":"'A6-FinPos'!J7+'A6-FinPos'!J8+'A6-FinPos'!J9+'A6-FinPos'!J22+'A6-FinPos'!J23","v":109666845},{"$f":"'A6-FinPos'!K7+'A6-FinPos'!K8+'A6-FinPos'!K9+'A6-FinPos'!K22+'A6-FinPos'!K23","v":114323572},{"$f":"'A6-FinPos'!L7+'A6-FinPos'!L8+'A6-FinPos'!L9+'A6-FinPos'!L22+'A6-FinPos'!L23","v":120066164}]
["Estimate of debtors collection rate",null,{"$f":"IF(ISERROR('SA10'!D10),0,('SA10'!D10))","v":0.60873269124332896},{"$f":"IF(ISERROR('SA10'!E10),0,('SA10'!E10))","v":0.96548527545661922},{"$f":"IF(ISERROR('SA10'!F10),0,('SA10'!F10))","v":0.58303763013100307},{"$f":"IF(ISERROR('SA10'!G10),0,('SA10'!G10))","v":0.3157799589971953},{"$f":"IF(ISERROR('SA10'!H10),0,('SA10'!H10))","v":0.19401140688926163},{"$f":"IF(ISERROR('SA10'!I10),0,('SA10'!I10))","v":0.19401140688926163},{"$f":"IF(ISERROR('SA10'!J10),0,('SA10'!J10))","v":0.33623327501673522},{"$f":"IF(ISERROR('SA10'!K10),0,('SA10'!K10))","v":0.7133768181765332},{"$f":"IF(ISERROR('SA10'!L10),0,('SA10'!L10))","v":0.71528012935740737},{"$f":"IF(ISERROR('SA10'!M10),0,('SA10'!M10))","v":0.68563327462402801}]
[]
[]
[null,null,null,null,null,null,null,null,null,null,"`"]
[{"$f":"A16","v":"Long term investments committed"}]
["Balance (Insert description; eg sinking fund)"]
[null,null,{"$f":"SUM(C43:C43)","v":0},0,0,0,0,0,0,0,0,0]
[{"$f":"A17","v":"Reserves to be backed by cash/investments"}]
["Housing Development Fund",null,{"$f":"'SA3'!C184","v":0},{"$f":"'SA3'!D184","v":0},{"$f":"'SA3'!E184","v":0},{"$f":"'SA3'!F184","v":0},{"$f":"'SA3'!G184","v":0},{"$f":"'SA3'!H184","v":0},{"$f":"'SA3'!I184","v":0},{"$f":"'SA3'!J184","v":0},{"$f":"'SA3'!K184","v":0},{"$f":"'SA3'!L184","v":0}]
["Capital replacement",null,{"$f":"'SA3'!C185","v":0},{"$f":"'SA3'!D185","v":0},{"$f":"'SA3'!E185","v":0},{"$f":"'SA3'!F185","v":0},{"$f":"'SA3'!G185","v":0},{"$f":"'SA3'!H185","v":0},{"$f":"'SA3'!I185","v":0},{"$f":"'SA3'!J185","v":0},{"$f":"'SA3'!K185","v":0},{"$f":"'SA3'!L185","v":0}]
["Self-insurance",null,{"$f":"'SA3'!C186","v":0},{"$f":"'SA3'!D186","v":0},{"$f":"'SA3'!E186","v":0},{"$f":"'SA3'!F186","v":0},{"$f":"'SA3'!G186","v":0},{"$f":"'SA3'!H186","v":0},{"$f":"'SA3'!I186","v":0},{"$f":"'SA3'!J186","v":0},{"$f":"'SA3'!K186","v":0},{"$f":"'SA3'!L186","v":0}]
["Compensation for Occupational Injuries and Diseases"]
["Employee Benefit reserve"]
["Non-current Provisions reserve"]
["Valuation roll reserve"]
["Investment in associate account"]
["Capitalisation"]
[null,6,{"$f":"SUM(C46:C54)","v":0},{"$f":"SUM(D46:D54)","v":0},0,0,0,0,0,0,0,0]
["Note:"]
["6. Above reserves do not include Revaluation reserve. Revaluation reserve not required to be cash backed"]

{"sheet":"A9-Asset","index":19,"n_rows":234,"n_cols":11,"rows_kept":234,"cut":false,"hidden":false,"merged":[[1,5,1,7],[1,8,1,10]]}
[{"$f":"muni&\" - \"&Approve9","v":"LIM351 Blouberg - Table A9 Asset Management"}]
[{"$f":"desc","v":"Description"},{"$f":"head27","v":"Ref"},{"$f":"head1b","v":"2021/22"},{"$f":"head1A","v":"2022/23"},{"$f":"Head1","v":"2023/24"},{"$f":"Head2","v":"Current Year 2024/25"},null,null,{"$f":"Head3","v":"2025/26 Medium Term Revenue & Expenditure Framework"}]
["R thousand",null,{"$f":"Head5","v":"Audited Outcome"},{"$f":"Head5","v":"Audited Outcome"},{"$f":"Head5","v":"Audited Outcome"},{"$f":"Head6","v":"Original Budget"},{"$f":"Head7","v":"Adjusted Budget"},{"$f":"Head8","v":"Full Year Forecast"},{"$f":"Head9","v":"Budget Year 2025/26"},{"$f":"Head10","v":"Budget Year +1 2026/27"},{"$f":"Head11","v":"Budget Year +2 2027/28"}]
["CAPITAL EXPENDITURE"]
["Total New Assets",1,{"$f":"C15+C18+C19+C22+C25+C26+SUM(C29:C35)+C38","v":7980700.0700000003},{"$f":"D15+D18+D19+D22+D25+D26+SUM(D29:D35)+D38","v":523676},83740756.639999986,58092531,138521026,138521026,77664800,86605000,85729000]
["Roads Infrastructure",null,{"$f":"SA34a!C7","v":0},{"$f":"SA34a!D7","v":0},{"$f":"SA34a!E7","v":61048681.079999998},{"$f":"SA34a!F7","v":39776144},{"$f":"SA34a!G7","v":108943694},{"$f":"SA34a!H7","v":108943694},{"$f":"SA34a!I7","v":59610396},{"$f":"SA34a!J7","v":59105000},{"$f":"SA34a!K7","v":61761000}]
["Storm water Infrastructure",null,{"$f":"SA34a!C12","v":0},{"$f":"SA34a!D12","v":0},{"$f":"SA34a!E12","v":0},{"$f":"SA34a!F12","v":0},{"$f":"SA34a!G12","v":0},{"$f":"SA34a!H12","v":0},{"$f":"SA34a!I12","v":0},{"$f":"SA34a!J12","v":0},{"$f":"SA34a!K12","v":0}]
["Electrical Infrastructure",null,{"$f":"SA34a!C16","v":483085.55},{"$f":"SA34a!D16","v":217091},{"$f":"SA34a!E16","v":20272793.439999998},{"$f":"SA34a!F16","v":2073531},{"$f":"SA34a!G16","v":17719802},{"$f":"SA34a!H16","v":17719802},{"$f":"SA34a!I16","v":0},{"$f":"SA34a!J16","v":16000000},{"$f":"SA34a!K16","v":16723000}]
["Water Supply Infrastructure",null,{"$f":"SA34a!C26","v":0},{"$f":"SA34a!D26","v":0},{"$f":"SA34a!E26","v":0},{"$f":"SA34a!F26","v":0},{"$f":"SA34a!G26","v":0},{"$f":"SA34a!H26","v":0},{"$f":"SA34a!I26","v":0},{"$f":"SA34a!J26","v":0},{"$f":"SA34a!K26","v":0}]
["Sanitation Infrastructure",null,{"$f":"SA34a!C37","v":0},{"$f":"SA34a!D37","v":0},{"$f":"SA34a!E37","v":0},{"$f":"SA34a!F37","v":0},{"$f":"SA34a!G37","v":0},{"$f":"SA34a!H37","v":0},{"$f":"SA34a!I37","v":0},{"$f":"SA34a!J37","v":0},{"$f":"SA34a!K37","v":0}]
["Solid Waste Infrastructure",null,{"$f":"SA34a!C44","v":0},{"$f":"SA34a!D44","v":0},{"$f":"SA34a!E44","v":0},{"$f":"SA34a!F44","v":0},{"$f":"SA34a!G44","v":0},{"$f":"SA34a!H44","v":0},{"$f":"SA34a!I44","v":0},{"$f":"SA34a!J44","v":0},{"$f":"SA34a!K44","v":0}]
["Rail Infrastructure",null,{"$f":"SA34a!C52","v":0},{"$f":"SA34a!D52","v":0},{"$f":"SA34a!E52","v":0},{"$f":"SA34a!F52","v":0},{"$f":"SA34a!G52","v":0},{"$f":"SA34a!H52","v":0},{"$f":"SA34a!I52","v":0},{"$f":"SA34a!J52","v":0},{"$f":"SA34a!K52","v":0}]
["Coastal Infrastructure",null,{"$f":"SA34a!C62","v":0},{"$f":"SA34a!D62","v":0},{"$f":"SA34a!E62","v":0},{"$f":"SA34a!F62","v":0},{"$f":"SA34a!G62","v":0},{"$f":"SA34a!H62","v":0},{"$f":"SA34a!I62","v":0},{"$f":"SA34a!J62","v":0},{"$f":"SA34a!K62","v":0}]
["Information and Communication Infrastructure",null,{"$f":"SA34a!C68","v":0},{"$f":"SA34a!D68","v":0},{"$f":"SA34a!E68","v":0},{"$f":"SA34a!F68","v":0},{"$f":"SA34a!G68","v":0},{"$f":"SA34a!H68","v":0},{"$f":"SA34a!I68","v":0},{"$f":"SA34a!J68","v":0},{"$f":"SA34a!K68","v":0}]
["Infrastructure",null,{"$f":"SUM(C6:C14)","v":483085.55},{"$f":"SUM(D6:D14)","v":217091},81321474.519999996,41849675,126663496,126663496,59610396,75105000,78484000]
["Community Facilities",null,{"$f":"SA34a!C75","v":0},{"$f":"SA34a!D75","v":0},{"$f":"SA34a!E75","v":2162953.0699999998},{"$f":"SA34a!F75","v":0},{"$f":"SA34a!G75","v":3619079},{"$f":"SA34a!H75","v":3619079},{"$f":"SA34a!I75","v":0},{"$f":"SA34a!J75","v":0},{"$f":"SA34a!K75","v":0}]
["Sport and Recreation Facilities",null,{"$f":"SA34a!C98","v":0},{"$f":"SA34a!D98","v":0},{"$f":"SA34a!E98","v":0},{"$f":"SA34a!F98","v":0},{"$f":"SA34a!G98","v":0},{"$f":"SA34a!H98","v":0},{"$f":"SA34a!I98","v":0},{"$f":"SA34a!J98","v":0},{"$f":"SA34a!K98","v":0}]
["Community Assets",null,{"$f":"SUM(C16:C17)","v":0},{"$f":"SUM(D16:D17)","v":0},2162953.0699999998,0,3619079,3619079,0,0,0]
["Heritage Assets",null,{"$f":"SA34a!C103","v":0},{"$f":"SA34a!D103","v":0},{"$f":"SA34a!E103","v":0},{"$f":"SA34a!F103","v":0},{"$f":"SA34a!G103","v":0},{"$f":"SA34a!H103","v":0},{"$f":"SA34a!I103","v":0},{"$f":"SA34a!J103","v":0},{"$f":"SA34a!K103","v":0}]
["Revenue Generating",null,{"$f":"SA34a!C111","v":0},{"$f":"SA34a!D111","v":0},{"$f":"SA34a!E111","v":0},{"$f":"SA34a!F111","v":0},{"$f":"SA34a!G111","v":0},{"$f":"SA34a!H111","v":0},{"$f":"SA34a!I111","v":0},{"$f":"SA34a!J111","v":0},{"$f":"SA34a!K111","v":0}]
["Non-revenue Generating",null,{"$f":"SA34a!C114","v":0},{"$f":"SA34a!D114","v":0},{"$f":"SA34a!E114","v":0},{"$f":"SA34a!F114","v":0},{"$f":"SA34a!G114","v":0},{"$f":"SA34a!H114","v":0},{"$f":"SA34a!I114","v":0},{"$f":"SA34a!J114","v":0},{"$f":"SA34a!K114","v":0}]
["Investment properties",null,{"$f":"SUM(C20:C21)","v":0},{"$f":"SUM(D20:D21)","v":0},0,0,0,0,0,0,0]
["Operational Buildings",null,{"$f":"SA34a!C119","v":-0.35},{"$f":"SA34a!D119","v":0},{"$f":"SA34a!E119","v":0},{"$f":"SA34a!F119","v":0},{"$f":"SA34a!G119","v":0},{"$f":"SA34a!H119","v":0},{"$f":"SA34a!I119","v":0},{"$f":"SA34a!J119","v":0},{"$f":"SA34a!K119","v":0}]
["Housing",null,{"$f":"SA34a!C131","v":0},{"$f":"SA34a!D131","v":0},{"$f":"SA34a!E131","v":0},{"$f":"SA34a!F131","v":0},{"$f":"SA34a!G131","v":0},{"$f":"SA34a!H131","v":0},{"$f":"SA34a!I131","v":0},{"$f":"SA34a!J131","v":0},{"$f":"SA34a!K131","v":0}]
["Other Assets",null,{"$f":"SUM(C23:C24)","v":-0.35},{"$f":"SUM(D23:D24)","v":0},0,0,0,0,0,0,0]
["Biological or Cultivated Assets",null,{"$f":"SA34a!C136","v":0},{"$f":"SA34a!D136","v":0},{"$f":"SA34a!E136","v":0},{"$f":"SA34a!F136","v":0},{"$f":"SA34a!G136","v":0},{"$f":"SA34a!H136","v":0},{"$f":"SA34a!I136","v":0},{"$f":"SA34a!J136","v":0},{"$f":"SA34a!K136","v":0}]
["Servitudes",null,{"$f":"SA34a!C140","v":0},{"$f":"SA34a!D140","v":0},{"$f":"SA34a!E140","v":0},{"$f":"SA34a!F140","v":0},{"$f":"SA34a!G140","v":0},{"$f":"SA34a!H140","v":0},{"$f":"SA34a!I140","v":0},{"$f":"SA34a!J140","v":0},{"$f":"SA34a!K140","v":0}]
["Licences and Rights",null,{"$f":"SA34a!C141","v":0},{"$f":"SA34a!D141","v":0},{"$f":"SA34a!E141","v":0},{"$f":"SA34a!F141","v":600000},{"$f":"SA34a!G141","v":600000},{"$f":"SA34a!H141","v":600000},{"$f":"SA34a!I141","v":0},{"$f":"SA34a!J141","v":0},{"$f":"SA34a!K141","v":0}]
["Intangible Assets",null,{"$f":"SUM(C27:C28)","v":0},{"$f":"SUM(D27:D28)","v":0},0,600000,600000,600000,0,0,0]
["Computer Equipment",null,{"$f":"SA34a!C149","v":1381760.19},{"$f":"SA34a!D149","v":108585},{"$f":"SA34a!E149","v":209230.94},{"$f":"SA34a!F149","v":700000},{"$f":"SA34a!G149","v":730000},{"$f":"SA34a!H149","v":730000},{"$f":"SA34a!I149","v":100000},{"$f":"SA34a!J149","v":2000000},{"$f":"SA34a!K149","v":0}]
["Furniture and Office Equipment",null,{"$f":"SA34a!C152","v":63581.68},{"$f":"SA34a!D152","v":0},{"$f":"SA34a!E152","v":0},{"$f":"SA34a!F152","v":1088451},{"$f":"SA34a!G152","v":788451},{"$f":"SA34a!H152","v":788451},{"$f":"SA34a!I152","v":550000},{"$f":"SA34a!J152","v":4000000},{"$f":"SA34a!K152","v":6723000}]
["Machinery and Equipment",null,{"$f":"SA34a!C155","v":298895},{"$f":"SA34a!D155","v":198000},{"$f":"SA34a!E155","v":47098.11},{"$f":"SA34a!F155","v":150000},{"$f":"SA34a!G155","v":5350000},{"$f":"SA34a!H155","v":5350000},{"$f":"SA34a!I155","v":2900000},{"$f":"SA34a!J155","v":500000},{"$f":"SA34a!K155","v":522000}]
["Transport Assets",null,{"$f":"SA34a!C158","v":5753378},{"$f":"SA34a!D158","v":0},{"$f":"SA34a!E158","v":0},{"$f":"SA34a!F158","v":13704405},{"$f":"SA34a!G158","v":770000},{"$f":"SA34a!H158","v":770000},{"$f":"SA34a!I158","v":14504404},{"$f":"SA34a!J158","v":5000000},{"$f":"SA34a!K158","v":0}]
["Land",null,{"$f":"SA34a!C161","v":0},{"$f":"SA34a!D161","v":0},{"$f":"SA34a!E161","v":0},{"$f":"SA34a!F161","v":0},{"$f":"SA34a!G161","v":0},{"$f":"SA34a!H161","v":0},{"$f":"SA34a!I161","v":0},{"$f":"SA34a!J161","v":0},{"$f":"SA34a!K161","v":0}]
["Zoo's, Marine and Non-biological Animals",null,{"$f":"SA34a!C164","v":0},{"$f":"SA34a!D164","v":0},{"$f":"SA34a!E164","v":0},{"$f":"SA34a!F164","v":0},{"$f":"SA34a!G164","v":0},{"$f":"SA34a!H164","v":0},{"$f":"SA34a!I164","v":0},{"$f":"SA34a!J164","v":0},{"$f":"SA34a!K164","v":0}]
["Mature"," ",{"$f":"SA34a!C168","v":0},{"$f":"SA34a!D168","v":0},{"$f":"SA34a!E168","v":0},{"$f":"SA34a!F168","v":0},{"$f":"SA34a!G168","v":0},{"$f":"SA34a!H168","v":0},{"$f":"SA34a!I168","v":0},{"$f":"SA34a!J168","v":0},{"$f":"SA34a!K168","v":0}]
["Immature"," ",{"$f":"SA34a!C171","v":0},{"$f":"SA34a!D171","v":0},{"$f":"SA34a!E171","v":0},{"$f":"SA34a!F171","v":0},{"$f":"SA34a!G171","v":0},{"$f":"SA34a!H171","v":0},{"$f":"SA34a!I171","v":0},{"$f":"SA34a!J171","v":0},{"$f":"SA34a!K171","v":0}]
["Living Resources","",{"$f":"SUM(C36:C37)","v":0},{"$f":"SUM(D36:D37)","v":0},0,0,0,0,0,0,0]
[]
["Total Renewal of Existing Assets",2,{"$f":"C50+C53+C54+C57+C60+C61+SUM(C64:C70)+C73","v":0},{"$f":"D50+D53+D54+D57+D60+D61+SUM(D64:D70)+D73","v":0},837890.78,16616000,6988144,6988144,3000000,1100000,1148400]
["Roads Infrastructure",null,{"$f":"SA34b!C7","v":0},{"$f":"SA34b!D7","v":0},{"$f":"SA34b!E7","v":0},{"$f":"SA34b!F7","v":15716000},{"$f":"SA34b!G7","v":796014},{"$f":"SA34b!H7","v":796014},{"$f":"SA34b!I7","v":0},{"$f":"SA34b!J7","v":0},{"$f":"SA34b!K7","v":0}]
["Storm water Infrastructure",null,{"$f":"SA34b!C12","v":0},{"$f":"SA34b!D12","v":0},{"$f":"SA34b!E12","v":0},{"$f":"SA34b!F12","v":0},{"$f":"SA34b!G12","v":0},{"$f":"SA34b!H12","v":0},{"$f":"SA34b!I12","v":0},{"$f":"SA34b!J12","v":0},{"$f":"SA34b!K12","v":0}]
["Electrical Infrastructure",null,{"$f":"SA34b!C16","v":0},{"$f":"SA34b!D16","v":0},{"$f":"SA34b!E16","v":837890.78},{"$f":"SA34b!F16","v":900000},{"$f":"SA34b!G16","v":6192130},{"$f":"SA34b!H16","v":6192130},{"$f":"SA34b!I16","v":3000000},{"$f":"SA34b!J16","v":1100000},{"$f":"SA34b!K16","v":1148400}]
["Water Supply Infrastructure",null,{"$f":"SA34b!C26","v":0},{"$f":"SA34b!D26","v":0},{"$f":"SA34b!E26","v":0},{"$f":"SA34b!F26","v":0},{"$f":"SA34b!G26","v":0},{"$f":"SA34b!H26","v":0},{"$f":"SA34b!I26","v":0},{"$f":"SA34b!J26","v":0},{"$f":"SA34b!K26","v":0}]
["Sanitation Infrastructure",null,{"$f":"SA34b!C37","v":0},{"$f":"SA34b!D37","v":0},{"$f":"SA34b!E37","v":0},{"$f":"SA34b!F37","v":0},{"$f":"SA34b!G37","v":0},{"$f":"SA34b!H37","v":0},{"$f":"SA34b!I37","v":0},{"$f":"SA34b!J37","v":0},{"$f":"SA34b!K37","v":0}]
["Solid Waste Infrastructure",null,{"$f":"SA34b!C44","v":0},{"$f":"SA34b!D44","v":0},{"$f":"SA34b!E44","v":0},{"$f":"SA34b!F44","v":0},{"$f":"SA34b!G44","v":0},{"$f":"SA34b!H44","v":0},{"$f":"SA34b!I44","v":0},{"$f":"SA34b!J44","v":0},{"$f":"SA34b!K44","v":0}]
["Rail Infrastructure",null,{"$f":"SA34b!C52","v":0},{"$f":"SA34b!D52","v":0},{"$f":"SA34b!E52","v":0},{"$f":"SA34b!F52","v":0},{"$f":"SA34b!G52","v":0},{"$f":"SA34b!H52","v":0},{"$f":"SA34b!I52","v":0},{"$f":"SA34b!J52","v":0},{"$f":"SA34b!K52","v":0}]
["Coastal Infrastructure",null,{"$f":"SA34b!C62","v":0},{"$f":"SA34b!D62","v":0},{"$f":"SA34b!E62","v":0},{"$f":"SA34b!F62","v":0},{"$f":"SA34b!G62","v":0},{"$f":"SA34b!H62","v":0},{"$f":"SA34b!I62","v":0},{"$f":"SA34b!J62","v":0},{"$f":"SA34b!K62","v":0}]
["Information and Communication Infrastructure",null,{"$f":"SA34b!C68","v":0},{"$f":"SA34b!D68","v":0},{"$f":"SA34b!E68","v":0},{"$f":"SA34b!F68","v":0},{"$f":"SA34b!G68","v":0},{"$f":"SA34b!H68","v":0},{"$f":"SA34b!I68","v":0},{"$f":"SA34b!J68","v":0},{"$f":"SA34b!K68","v":0}]
["Infrastructure",null,{"$f":"SUM(C41:C49)","v":0},{"$f":"SUM(D41:D49)","v":0},837890.78,16616000,6988144,6988144,3000000,1100000,1148400]
["Community Facilities",null,{"$f":"SA34b!C75","v":0},{"$f":"SA34b!D75","v":0},{"$f":"SA34b!E75","v":0},{"$f":"SA34b!F75","v":0},{"$f":"SA34b!G75","v":0},{"$f":"SA34b!H75","v":0},{"$f":"SA34b!I75","v":0},{"$f":"SA34b!J75","v":0},{"$f":"SA34b!K75","v":0}]
["Sport and Recreation Facilities",null,{"$f":"SA34b!C98","v":0},{"$f":"SA34b!D98","v":0},{"$f":"SA34b!E98","v":0},{"$f":"SA34b!F98","v":0},{"$f":"SA34b!G98","v":0},{"$f":"SA34b!H98","v":0},{"$f":"SA34b!I98","v":0},{"$f":"SA34b!J98","v":0},{"$f":"SA34b!K98","v":0}]
["Community Assets",null,{"$f":"SUM(C51:C52)","v":0},{"$f":"SUM(D51:D52)","v":0},0,0,0,0,0,0,0]
["Heritage Assets",null,{"$f":"SA34b!C103","v":0},{"$f":"SA34b!D103","v":0},{"$f":"SA34b!E103","v":0},{"$f":"SA34b!F103","v":0},{"$f":"SA34b!G103","v":0},{"$f":"SA34b!H103","v":0},{"$f":"SA34b!I103","v":0},{"$f":"SA34b!J103","v":0},{"$f":"SA34b!K103","v":0}]
["Revenue Generating",null,{"$f":"SA34b!C111","v":0},{"$f":"SA34b!D111","v":0},{"$f":"SA34b!E111","v":0},{"$f":"SA34b!F111","v":0},{"$f":"SA34b!G111","v":0},{"$f":"SA34b!H111","v":0},{"$f":"SA34b!I111","v":0},{"$f":"SA34b!J111","v":0},{"$f":"SA34b!K111","v":0}]
["Non-revenue Generating",null,{"$f":"SA34b!C114","v":0},{"$f":"SA34b!D114","v":0},{"$f":"SA34b!E114","v":0},{"$f":"SA34b!F114","v":0},{"$f":"SA34b!G114","v":0},{"$f":"SA34b!H114","v":0},{"$f":"SA34b!I114","v":0},{"$f":"SA34b!J114","v":0},{"$f":"SA34b!K114","v":0}]
["Investment properties",null,{"$f":"SUM(C55:C56)","v":0},{"$f":"SUM(D55:D56)","v":0},0,0,0,0,0,0,0]
["Operational Buildings",null,{"$f":"SA34b!C119","v":0},{"$f":"SA34b!D119","v":0},{"$f":"SA34b!E119","v":0},{"$f":"SA34b!F119","v":0},{"$f":"SA34b!G119","v":0},{"$f":"SA34b!H119","v":0},{"$f":"SA34b!I119","v":0},{"$f":"SA34b!J119","v":0},{"$f":"SA34b!K119","v":0}]
["Housing",null,{"$f":"SA34b!C131","v":0},{"$f":"SA34b!D131","v":0},{"$f":"SA34b!E131","v":0},{"$f":"SA34b!F131","v":0},{"$f":"SA34b!G131","v":0},{"$f":"SA34b!H131","v":0},{"$f":"SA34b!I131","v":0},{"$f":"SA34b!J131","v":0},{"$f":"SA34b!K131","v":0}]
["Other Assets",null,{"$f":"SUM(C58:C59)","v":0},{"$f":"SUM(D58:D59)","v":0},0,0,0,0,0,0,0]
["Biological or Cultivated Assets",null,{"$f":"SA34b!C136","v":0},{"$f":"SA34b!D136","v":0},{"$f":"SA34b!E136","v":0},{"$f":"SA34b!F136","v":0},{"$f":"SA34b!G136","v":0},{"$f":"SA34b!H136","v":0},{"$f":"SA34b!I136","v":0},{"$f":"SA34b!J136","v":0},{"$f":"SA34b!K136","v":0}]
["Servitudes",null,{"$f":"SA34b!C140","v":0},{"$f":"SA34b!D140","v":0},{"$f":"SA34b!E140","v":0},{"$f":"SA34b!F140","v":0},{"$f":"SA34b!G140","v":0},{"$f":"SA34b!H140","v":0},{"$f":"SA34b!I140","v":0},{"$f":"SA34b!J140","v":0},{"$f":"SA34b!K140","v":0}]
["Licences and Rights",null,{"$f":"SA34b!C141","v":0},{"$f":"SA34b!D141","v":0},{"$f":"SA34b!E141","v":0},{"$f":"SA34b!F141","v":0},{"$f":"SA34b!G141","v":0},{"$f":"SA34b!H141","v":0},{"$f":"SA34b!I141","v":0},{"$f":"SA34b!J141","v":0},{"$f":"SA34b!K141","v":0}]
["Intangible Assets",null,{"$f":"SUM(C62:C63)","v":0},{"$f":"SUM(D62:D63)","v":0},0,0,0,0,0,0,0]
["Computer Equipment",null,{"$f":"SA34b!C149","v":0},{"$f":"SA34b!D149","v":0},{"$f":"SA34b!E149","v":0},{"$f":"SA34b!F149","v":0},{"$f":"SA34b!G149","v":0},{"$f":"SA34b!H149","v":0},{"$f":"SA34b!I149","v":0},{"$f":"SA34b!J149","v":0},{"$f":"SA34b!K149","v":0}]
["Furniture and Office Equipment",null,{"$f":"SA34b!C152","v":0},{"$f":"SA34b!D152","v":0},{"$f":"SA34b!E152","v":0},{"$f":"SA34b!F152","v":0},{"$f":"SA34b!G152","v":0},{"$f":"SA34b!H152","v":0},{"$f":"SA34b!I152","v":0},{"$f":"SA34b!J152","v":0},{"$f":"SA34b!K152","v":0}]
["Machinery and Equipment",null,{"$f":"SA34b!C155","v":0},{"$f":"SA34b!D155","v":0},{"$f":"SA34b!E155","v":0},{"$f":"SA34b!F155","v":0},{"$f":"SA34b!G155","v":0},{"$f":"SA34b!H155","v":0},{"$f":"SA34b!I155","v":0},{"$f":"SA34b!J155","v":0},{"$f":"SA34b!K155","v":0}]
["Transport Assets",null,{"$f":"SA34b!C158","v":0},{"$f":"SA34b!D158","v":0},{"$f":"SA34b!E158","v":0},{"$f":"SA34b!F158","v":0},{"$f":"SA34b!G158","v":0},{"$f":"SA34b!H158","v":0},{"$f":"SA34b!I158","v":0},{"$f":"SA34b!J158","v":0},{"$f":"SA34b!K158","v":0}]
["Land",null,{"$f":"SA34b!C161","v":0},{"$f":"SA34b!D161","v":0},{"$f":"SA34b!E161","v":0},{"$f":"SA34b!F161","v":0},{"$f":"SA34b!G161","v":0},{"$f":"SA34b!H161","v":0},{"$f":"SA34b!I161","v":0},{"$f":"SA34b!J161","v":0},{"$f":"SA34b!K161","v":0}]
["Zoo's, Marine and Non-biological Animals",null,{"$f":"SA34b!C164","v":0},{"$f":"SA34b!D164","v":0},{"$f":"SA34b!E164","v":0},{"$f":"SA34b!F164","v":0},{"$f":"SA34b!G164","v":0},{"$f":"SA34b!H164","v":0},{"$f":"SA34b!I164","v":0},{"$f":"SA34b!J164","v":0},{"$f":"SA34b!K164","v":0}]
["Mature"," ",{"$f":"SA34b!C168","v":0},{"$f":"SA34b!D168","v":0},{"$f":"SA34b!E168","v":0},{"$f":"SA34b!F168","v":0},{"$f":"SA34b!G168","v":0},{"$f":"SA34b!H168","v":0},{"$f":"SA34b!I168","v":0},{"$f":"SA34b!J168","v":0},{"$f":"SA34b!K168","v":0}]
["Immature"," ",{"$f":"SA34b!C171","v":0},{"$f":"SA34b!D171","v":0},{"$f":"SA34b!E171","v":0},{"$f":"SA34b!F171","v":0},{"$f":"SA34b!G171","v":0},{"$f":"SA34b!H171","v":0},{"$f":"SA34b!I171","v":0},{"$f":"SA34b!J171","v":0},{"$f":"SA34b!K171","v":0}]
["Living Resources","",{"$f":"SUM(C71:C72)","v":0},0,0,0,0,0,0,0,0]
[]
["Total Upgrading of Existing Assets",6,{"$f":"C85+C88+C89+C92+C95+C96+SUM(C99:C105)+C108","v":93057.64},{"$f":"D85+D88+D89+D92+D95+D96+SUM(D99:D105)+D108","v":0},0,200000,0,0,6300000,5000000,10000000]
["Roads Infrastructure",null,{"$f":"SA34e!C7","v":0},{"$f":"SA34e!D7","v":0},{"$f":"SA34e!E7","v":0},{"$f":"SA34e!F7","v":0},{"$f":"SA34e!G7","v":0},{"$f":"SA34e!H7","v":0},{"$f":"SA34e!I7","v":0},{"$f":"SA34e!J7","v":0},{"$f":"SA34e!K7","v":0}]
["Storm water Infrastructure",null,{"$f":"SA34e!C12","v":0},{"$f":"SA34e!D12","v":0},{"$f":"SA34e!E12","v":0},{"$f":"SA34e!F12","v":0},{"$f":"SA34e!G12","v":0},{"$f":"SA34e!H12","v":0},{"$f":"SA34e!I12","v":0},{"$f":"SA34e!J12","v":0},{"$f":"SA34e!K12","v":0}]
["Electrical Infrastructure",null,{"$f":"SA34e!C16","v":0},{"$f":"SA34e!D16","v":0},{"$f":"SA34e!E16","v":0},{"$f":"SA34e!F16","v":0},{"$f":"SA34e!G16","v":0},{"$f":"SA34e!H16","v":0},{"$f":"SA34e!I16","v":0},{"$f":"SA34e!J16","v":0},{"$f":"SA34e!K16","v":0}]
["Water Supply Infrastructure",null,{"$f":"SA34e!C26","v":0},{"$f":"SA34e!D26","v":0},{"$f":"SA34e!E26","v":0},{"$f":"SA34e!F26","v":0},{"$f":"SA34e!G26","v":0},{"$f":"SA34e!H26","v":0},{"$f":"SA34e!I26","v":0},{"$f":"SA34e!J26","v":0},{"$f":"SA34e!K26","v":0}]
["Sanitation Infrastructure",null,{"$f":"SA34e!C37","v":0},{"$f":"SA34e!D37","v":0},{"$f":"SA34e!E37","v":0},{"$f":"SA34e!F37","v":0},{"$f":"SA34e!G37","v":0},{"$f":"SA34e!H37","v":0},{"$f":"SA34e!I37","v":0},{"$f":"SA34e!J37","v":0},{"$f":"SA34e!K37","v":0}]
["Solid Waste Infrastructure",null,{"$f":"SA34e!C44","v":0},{"$f":"SA34e!D44","v":0},{"$f":"SA34e!E44","v":0},{"$f":"SA34e!F44","v":0},{"$f":"SA34e!G44","v":0},{"$f":"SA34e!H44","v":0},{"$f":"SA34e!I44","v":0},{"$f":"SA34e!J44","v":0},{"$f":"SA34e!K44","v":0}]
["Rail Infrastructure",null,{"$f":"SA34e!C52","v":0},{"$f":"SA34e!D52","v":0},{"$f":"SA34e!E52","v":0},{"$f":"SA34e!F52","v":0},{"$f":"SA34e!G52","v":0},{"$f":"SA34e!H52","v":0},{"$f":"SA34e!I52","v":0},{"$f":"SA34e!J52","v":0},{"$f":"SA34e!K52","v":0}]
["Coastal Infrastructure",null,{"$f":"SA34e!C62","v":0},{"$f":"SA34e!D62","v":0},{"$f":"SA34e!E62","v":0},{"$f":"SA34e!F62","v":0},{"$f":"SA34e!G62","v":0},{"$f":"SA34e!H62","v":0},{"$f":"SA34e!I62","v":0},{"$f":"SA34e!J62","v":0},{"$f":"SA34e!K62","v":0}]
["Information and Communication Infrastructure",null,{"$f":"SA34e!C68","v":0},{"$f":"SA34e!D68","v":0},{"$f":"SA34e!E68","v":0},{"$f":"SA34e!F68","v":0},{"$f":"SA34e!G68","v":0},{"$f":"SA34e!H68","v":0},{"$f":"SA34e!I68","v":0},{"$f":"SA34e!J68","v":0},{"$f":"SA34e!K68","v":0}]
["Infrastructure",null,{"$f":"SUM(C76:C84)","v":0},0,0,0,0,0,0,0,0]
["Community Facilities",null,{"$f":"SA34e!C75","v":0},{"$f":"SA34e!D75","v":0},{"$f":"SA34e!E75","v":0},{"$f":"SA34e!F75","v":0},{"$f":"SA34e!G75","v":0},{"$f":"SA34e!H75","v":0},{"$f":"SA34e!I75","v":0},{"$f":"SA34e!J75","v":0},{"$f":"SA34e!K75","v":0}]
["Sport and Recreation Facilities",null,{"$f":"SA34e!C98","v":0},{"$f":"SA34e!D98","v":0},{"$f":"SA34e!E98","v":0},{"$f":"SA34e!F98","v":0},{"$f":"SA34e!G98","v":0},{"$f":"SA34e!H98","v":0},{"$f":"SA34e!I98","v":0},{"$f":"SA34e!J98","v":0},{"$f":"SA34e!K98","v":0}]
["Community Assets",null,{"$f":"SUM(C86:C87)","v":0},0,0,0,0,0,0,0,0]
["Heritage Assets",null,{"$f":"SA34e!C103","v":0},{"$f":"SA34e!D103","v":0},{"$f":"SA34e!E103","v":0},{"$f":"SA34e!F103","v":0},{"$f":"SA34e!G103","v":0},{"$f":"SA34e!H103","v":0},{"$f":"SA34e!I103","v":0},{"$f":"SA34e!J103","v":0},{"$f":"SA34e!K103","v":0}]
["Revenue Generating",null,{"$f":"SA34e!C111","v":0},{"$f":"SA34e!D111","v":0},{"$f":"SA34e!E111","v":0},{"$f":"SA34e!F111","v":0},{"$f":"SA34e!G111","v":0},{"$f":"SA34e!H111","v":0},{"$f":"SA34e!I111","v":0},{"$f":"SA34e!J111","v":0},{"$f":"SA34e!K111","v":0}]
["Non-revenue Generating",null,{"$f":"SA34e!C114","v":0},{"$f":"SA34e!D114","v":0},{"$f":"SA34e!E114","v":0},{"$f":"SA34e!F114","v":0},{"$f":"SA34e!G114","v":0},{"$f":"SA34e!H114","v":0},{"$f":"SA34e!I114","v":0},{"$f":"SA34e!J114","v":0},{"$f":"SA34e!K114","v":0}]
["Investment properties",null,{"$f":"SUM(C90:C91)","v":0},0,0,0,0,0,0,0,0]
["Operational Buildings",null,{"$f":"SA34e!C119","v":0},{"$f":"SA34e!D119","v":0},{"$f":"SA34e!E119","v":0},{"$f":"SA34e!F119","v":0},{"$f":"SA34e!G119","v":0},{"$f":"SA34e!H119","v":0},{"$f":"SA34e!I119","v":6300000},{"$f":"SA34e!J119","v":5000000},{"$f":"SA34e!K119","v":10000000}]
["Housing",null,{"$f":"SA34e!C131","v":0},{"$f":"SA34e!D131","v":0},{"$f":"SA34e!E131","v":0},{"$f":"SA34e!F131","v":0},{"$f":"SA34e!G131","v":0},{"$f":"SA34e!H131","v":0},{"$f":"SA34e!I131","v":0},{"$f":"SA34e!J131","v":0},{"$f":"SA34e!K131","v":0}]
["Other Assets",null,{"$f":"SUM(C93:C94)","v":0},0,0,0,0,0,6300000,5000000,10000000]
["Biological or Cultivated Assets",null,{"$f":"SA34e!C136","v":0},{"$f":"SA34e!D136","v":0},{"$f":"SA34e!E136","v":0},{"$f":"SA34e!F136","v":0},{"$f":"SA34e!G136","v":0},{"$f":"SA34e!H136","v":0},{"$f":"SA34e!I136","v":0},{"$f":"SA34e!J136","v":0},{"$f":"SA34e!K136","v":0}]
["Servitudes",null,{"$f":"SA34e!C140","v":0},{"$f":"SA34e!D140","v":0},{"$f":"SA34e!E140","v":0},{"$f":"SA34e!F140","v":0},{"$f":"SA34e!G140","v":0},{"$f":"SA34e!H140","v":0},{"$f":"SA34e!I140","v":0},{"$f":"SA34e!J140","v":0},{"$f":"SA34e!K140","v":0}]
["Licences and Rights",null,{"$f":"SA34e!C141","v":0},{"$f":"SA34e!D141","v":0},{"$f":"SA34e!E141","v":0},{"$f":"SA34e!F141","v":0},{"$f":"SA34e!G141","v":0},{"$f":"SA34e!H141","v":0},{"$f":"SA34e!I141","v":0},{"$f":"SA34e!J141","v":0},{"$f":"SA34e!K141","v":0}]
["Intangible Assets",null,{"$f":"SUM(C97:C98)","v":0},0,0,0,0,0,0,0,0]
["Computer Equipment",null,{"$f":"SA34e!C149","v":0},{"$f":"SA34e!D149","v":0},{"$f":"SA34e!E149","v":0},{"$f":"SA34e!F149","v":0},{"$f":"SA34e!G149","v":0},{"$f":"SA34e!H149","v":0},{"$f":"SA34e!I149","v":0},{"$f":"SA34e!J149","v":0},{"$f":"SA34e!K149","v":0}]
["Furniture and Office Equipment",null,{"$f":"SA34e!C152","v":0},{"$f":"SA34e!D152","v":0},{"$f":"SA34e!E152","v":0},{"$f":"SA34e!F152","v":0},{"$f":"SA34e!G152","v":0},{"$f":"SA34e!H152","v":0},{"$f":"SA34e!I152","v":0},{"$f":"SA34e!J152","v":0},{"$f":"SA34e!K152","v":0}]
["Machinery and Equipment",null,{"$f":"SA34e!C155","v":93057.64},{"$f":"SA34e!D155","v":0},{"$f":"SA34e!E155","v":0},{"$f":"SA34e!F155","v":200000},{"$f":"SA34e!G155","v":0},{"$f":"SA34e!H155","v":0},{"$f":"SA34e!I155","v":0},{"$f":"SA34e!J155","v":0},{"$f":"SA34e!K155","v":0}]
["Transport Assets",null,{"$f":"SA34e!C158","v":0},{"$f":"SA34e!D158","v":0},{"$f":"SA34e!E158","v":0},{"$f":"SA34e!F158","v":0},{"$f":"SA34e!G158","v":0},{"$f":"SA34e!H158","v":0},{"$f":"SA34e!I158","v":0},{"$f":"SA34e!J158","v":0},{"$f":"SA34e!K158","v":0}]
["Land",null,{"$f":"SA34e!C161","v":0},{"$f":"SA34e!D161","v":0},{"$f":"SA34e!E161","v":0},{"$f":"SA34e!F161","v":0},{"$f":"SA34e!G161","v":0},{"$f":"SA34e!H161","v":0},{"$f":"SA34e!I161","v":0},{"$f":"SA34e!J161","v":0},{"$f":"SA34e!K161","v":0}]
["Zoo's, Marine and Non-biological Animals",null,{"$f":"SA34e!C164","v":0},{"$f":"SA34e!D164","v":0},{"$f":"SA34e!E164","v":0},{"$f":"SA34e!F164","v":0},{"$f":"SA34e!G164","v":0},{"$f":"SA34e!H164","v":0},{"$f":"SA34e!I164","v":0},{"$f":"SA34e!J164","v":0},{"$f":"SA34e!K164","v":0}]
["Mature"," ",{"$f":"SA34e!C168","v":0},{"$f":"SA34e!D168","v":0},{"$f":"SA34e!E168","v":0},{"$f":"SA34e!F168","v":0},{"$f":"SA34e!G168","v":0},{"$f":"SA34e!H168","v":0},{"$f":"SA34e!I168","v":0},{"$f":"SA34e!J168","v":0},{"$f":"SA34e!K168","v":0}]
["Immature"," ",{"$f":"SA34b!C171","v":0},{"$f":"SA34b!D171","v":0},{"$f":"SA34b!E171","v":0},{"$f":"SA34b!F171","v":0},{"$f":"SA34b!G171","v":0},{"$f":"SA34b!H171","v":0},{"$f":"SA34b!I171","v":0},{"$f":"SA34b!J171","v":0},{"$f":"SA34b!K171","v":0}]
["Living Resources","",{"$f":"SUM(C106:C107)","v":0},{"$f":"SUM(D106:D107)","v":0},0,0,0,0,0,0,0]
[]
["Total Capital Expenditure",4,{"$f":"+C5+C40+C75","v":8073757.71},{"$f":"+D5+D40+D75","v":523676},84578647.419999987,74908531,145509170,145509170,86964800,92705000,96877400]
["Roads Infrastructure",null,{"$f":"+C6+C41+C76","v":0},0,61048681.079999998,55492144,109739708,109739708,59610396,59105000,61761000]
["Storm water Infrastructure",null,{"$f":"+C7+C42+C77","v":0},0,0,0,0,0,0,0,0]
["Electrical Infrastructure",null,{"$f":"+C8+C43+C78","v":483085.55},217091,21110684.219999999,2973531,23911932,23911932,3000000,17100000,17871400]
["Water Supply Infrastructure",null,{"$f":"+C9+C44+C79","v":0},0,0,0,0,0,0,0,0]
["Sanitation Infrastructure",null,{"$f":"+C10+C45+C80","v":0},0,0,0,0,0,0,0,0]
["Solid Waste Infrastructure",null,{"$f":"+C11+C46+C81","v":0},0,0,0,0,0,0,0,0]
["Rail Infrastructure",null,{"$f":"+C12+C47+C82","v":0},0,0,0,0,0,0,0,0]
["Coastal Infrastructure",null,{"$f":"+C13+C48+C83","v":0},0,0,0,0,0,0,0,0]
["Information and Communication Infrastructure",null,{"$f":"+C14+C49+C84","v":0},0,0,0,0,0,0,0,0]
["Infrastructure",null,{"$f":"SUM(C111:C119)","v":483085.55},{"$f":"SUM(D111:D119)","v":217091},82159365.299999997,58465675,133651640,133651640,62610396,76205000,79632400]
["Community Facilities",null,{"$f":"+C16+C51+C86","v":0},0,2162953.0699999998,0,3619079,3619079,0,0,0]
["Sport and Recreation Facilities",null,{"$f":"+C17+C52+C87","v":0},0,0,0,0,0,0,0,0]
["Community Assets",null,{"$f":"SUM(C121:C122)","v":0},{"$f":"SUM(D121:D122)","v":0},2162953.0699999998,0,3619079,3619079,0,0,0]
["Heritage Assets",null,{"$f":"+C19+C54+C89","v":0},0,0,0,0,0,0,0,0]
["Revenue Generating",null,{"$f":"+C20+C55+C90","v":0},0,0,0,0,0,0,0,0]
["Non-revenue Generating",null,{"$f":"+C21+C56+C91","v":0},0,0,0,0,0,0,0,0]
["Investment properties",null,{"$f":"SUM(C125:C126)","v":0},{"$f":"SUM(D125:D126)","v":0},0,0,0,0,0,0,0]
["Operational Buildings",null,{"$f":"+C23+C58+C93","v":-0.35},0,0,0,0,0,6300000,5000000,10000000]
["Housing",null,{"$f":"+C24+C59+C94","v":0},0,0,0,0,0,0,0,0]
["Other Assets",null,{"$f":"SUM(C128:C129)","v":-0.35},0,0,0,0,0,6300000,5000000,10000000]
["Biological or Cultivated Assets",null,{"$f":"+C26+C61+C96","v":0},0,0,0,0,0,0,0,0]
["Servitudes",null,{"$f":"+C27+C62+C97","v":0},0,0,0,0,0,0,0,0]
["Licences and Rights",null,{"$f":"+C28+C63+C98","v":0},0,0,600000,600000,600000,0,0,0]
["Intangible Assets",null,{"$f":"SUM(C132:C133)","v":0},{"$f":"SUM(D132:D133)","v":0},0,600000,600000,600000,0,0,0]
["Computer Equipment",null,{"$f":"+C30+C65+C100","v":1381760.19},108585,209230.94,700000,730000,730000,100000,2000000,0]
["Furniture and Office Equipment",null,{"$f":"+C31+C66+C101","v":63581.68},0,0,1088451,788451,788451,550000,4000000,6723000]
["Machinery and Equipment",null,{"$f":"+C32+C67+C102","v":391952.64000000001},198000,47098.11,350000,5350000,5350000,2900000,500000,522000]
["Transport Assets",null,{"$f":"+C33+C68+C103","v":5753378},0,0,13704405,770000,770000,14504404,5000000,0]
["Land",null,{"$f":"+C34+C69+C104","v":0},0,0,0,0,0,0,0,0]
["Zoo's, Marine and Non-biological Animals",null,{"$f":"+C35+C70+C105","v":0},0,0,0,0,0,0,0,0]
["Mature"," ",{"$f":"+C36+C71+C106","v":0},{"$f":"+D36+D71+D106","v":0},0,0,0,0,0,0,0]
["Immature"," ",{"$f":"+C37+C72+C107","v":0},{"$f":"+D37+D72+D107","v":0},0,0,0,0,0,0,0]
["Living Resources","",{"$f":"SUM(C141:C142)","v":0},0,0,0,0,0,0,0,0]
["TOTAL CAPITAL EXPENDITURE - Asset class",null,{"$f":"+C5+C40+C75","v":8073757.71},{"$f":"+D5+D40+D75","v":523676},84578647.419999987,74908531,145509170,145509170,86964800,92705000,96877400]
[]
["ASSET REGISTER SUMMARY - PPE (WDV)",5,{"$f":"C156+C159+C160+C163+C166+C167+C170+C171+C172+C173+C174+C175+C176+C179","v":778068844.07000005},{"$f":"D156+D159+D160+D163+D166+D167+D170+D171+D172+D173+D174+D175+D176+D179","v":912847317.20000005},957867714.82000017,1111180398,1053571993,1053571993,1344210167,1393714273,1428910532]
["Roads Infrastructure",null,191169247.65000001,197850143.02000001,262289974.08000001,255112379,200416249,200416249,262289973,274093022,280945348]
["Storm water Infrastructure",null,23961836.609999999,83668729.609999999,83668729.609999999,24441073,24441073,24441073,83668730,87433823,89619669]
["Electrical Infrastructure",null,399436687.54000002,392304681.08999997,379748064.25999999,-346684456,-341392326,-341392326,-347014624,-364665282,-373761014]
["Water Supply Infrastructure",null,77600,77600,77600,0,0,0,0,0,0]
["Sanitation Infrastructure"]
["Solid Waste Infrastructure",null,-903636.29,-903636.29,-903636.29,0,0,0,-903637,-944300,-967908]
["Rail Infrastructure"]
["Coastal Infrastructure"]
["Information and Communication Infrastructure"]
["Infrastructure",null,{"$f":"SUM(C147:C155)","v":613741735.50999999},{"$f":"SUM(D147:D155)","v":672997517.43000007},724880731.66000009,-67131004,-116535004,-116535004,-1959558,-4082737,-4163905]
[]
[]
["Community Assets",null,117606915.03,177351542.16999999,173848363.61000001,44981638,44981638,44981638,180001803,186518384,196056344]
["Heritage Assets",null,0,0,0,0,0,0,0,0,0]
[]
[]
["Investment properties",null,8950501.0899999999,9433600.0099999998,9916000.0099999998,9516517,9516517,9516517,9916001,10362221,10621276]
[]
[]
["Other Assets",null,771176.03,2075523.86,2075523.86,0,0,0,0,0,0]
["Biological or Cultivated Assets"]
[]
[]
["Intangible Assets",null,240698.21,174803.45,108884.85,783368,783368,783368,489961,512009,524811]
["Computer Equipment",null,4148136.22,3468827.45,1308369.19,919311,949311,949311,1408368,3367245,1401425]
["Furniture and Office Equipment",null,2607064.75,2630803.98,2235730.89,1107869163,1107569163,1107569163,1109259482,1162601409,1194289445]
["Machinery and Equipment",null,5217582.5,17498850.809999999,17213523.079999998,537000,5537000,5537000,4309117,1972528,2031341]
["Transport Assets",null,17028744.73,19459558.039999999,18254013.129999999,13704405,770000,770000,32758418,24075443,19552330]
["Land",null,7756290,7756290,8026574.54,0,0,0,8026575,8387771,8597465]
["Zoo's, Marine and Non-biological Animals"]
[]
[]
["Living Resources"]
["TOTAL ASSET REGISTER SUMMARY - PPE (WDV)",5,{"$f":"C156+C159+C160+C163+C166+C167+C170+C171+C172+C173+C174+C175+C176+C179","v":778068844.07000005},{"$f":"D156+D159+D160+D163+D166+D167+D170+D171+D172+D173+D174+D175+D176+D179","v":912847317.20000005},957867714.82000017,{"$f":"F156+F159+F160+F163+F166+F167+F170+F171+F172+F173+F174+F175+F176+F179","v":1111180398},{"$f":"G156+G159+G160+G163+G166+G167+G170+G171+G172+G173+G174+G175+G176+G179","v":1053571993},1053571993,1344210167,1393714273,1428910532]
[]
["EXPENDITURE OTHER ITEMS",null,{"$f":"SUM(C183:C184)","v":47168528.189999998},{"$f":"SUM(D183:D184)","v":40989114.099999994},44101257.920000002,39444651,36827651,36827651,38503785,40131951,41135254]
["Depreciation",7,{"$f":"SA34d!C175","v":30420608.43},{"$f":"SA34d!D175","v":35157656.589999996},{"$f":"SA34d!E175","v":33819527.289999999},{"$f":"SA34d!F175","v":33513635},{"$f":"SA34d!G175","v":33513635},{"$f":"SA34d!H175","v":33513635},{"$f":"SA34d!I175","v":34988257},{"$f":"SA34d!J175","v":36562722},{"$f":"SA34d!K175","v":37476791}]
["Repairs and Maintenance by Asset Class",3,{"$f":"C194+C197+C198+C201+C204+C205+SUM(C208:C214)+C217","v":16747919.76},{"$f":"D194+D197+D198+D201+D204+D205+SUM(D208:D214)+D217","v":5831457.5099999998},10281730.629999999,5931016,3314016,3314016,3515528,3569229,3658463]
["Roads Infrastructure",null,{"$f":"SA34c!C7","v":1541980.1},{"$f":"SA34c!D7","v":1593427.18},{"$f":"SA34c!E7","v":314763},{"$f":"SA34c!F7","v":300014},{"$f":"SA34c!G7","v":100014},{"$f":"SA34c!H7","v":100014},{"$f":"SA34c!I7","v":710000},{"$f":"SA34c!J7","v":741950},{"$f":"SA34c!K7","v":760501}]
["Storm water Infrastructure",null,{"$f":"SA34c!C12","v":9452853.0500000007},{"$f":"SA34c!D12","v":0},{"$f":"SA34c!E12","v":3477657.36},{"$f":"SA34c!F12","v":0},{"$f":"SA34c!G12","v":0},{"$f":"SA34c!H12","v":0},{"$f":"SA34c!I12","v":0},{"$f":"SA34c!J12","v":0},{"$f":"SA34c!K12","v":0}]
["Electrical Infrastructure",null,{"$f":"SA34c!C16","v":2171308.31},{"$f":"SA34c!D16","v":1375938.77},{"$f":"SA34c!E16","v":2443950.85},{"$f":"SA34c!F16","v":2000000},{"$f":"SA34c!G16","v":426000},{"$f":"SA34c!H16","v":426000},{"$f":"SA34c!I16","v":300000},{"$f":"SA34c!J16","v":313500},{"$f":"SA34c!K16","v":321338}]
["Water Supply Infrastructure",null,{"$f":"SA34c!C26","v":0},{"$f":"SA34c!D26","v":0},{"$f":"SA34c!E26","v":0},{"$f":"SA34c!F26","v":0},{"$f":"SA34c!G26","v":0},{"$f":"SA34c!H26","v":0},{"$f":"SA34c!I26","v":0},{"$f":"SA34c!J26","v":0},{"$f":"SA34c!K26","v":0}]
["Sanitation Infrastructure",null,{"$f":"SA34c!C37","v":0},{"$f":"SA34c!D37","v":0},{"$f":"SA34c!E37","v":0},{"$f":"SA34c!F37","v":0},{"$f":"SA34c!G37","v":0},{"$f":"SA34c!H37","v":0},{"$f":"SA34c!I37","v":0},{"$f":"SA34c!J37","v":0},{"$f":"SA34c!K37","v":0}]
["Solid Waste Infrastructure",null,{"$f":"SA34c!C44","v":0},{"$f":"SA34c!D44","v":0},{"$f":"SA34c!E44","v":0},{"$f":"SA34c!F44","v":0},{"$f":"SA34c!G44","v":0},{"$f":"SA34c!H44","v":0},{"$f":"SA34c!I44","v":0},{"$f":"SA34c!J44","v":0},{"$f":"SA34c!K44","v":0}]
["Rail Infrastructure",null,{"$f":"SA34c!C52","v":0},{"$f":"SA34c!D52","v":0},{"$f":"SA34c!E52","v":0},{"$f":"SA34c!F52","v":0},{"$f":"SA34c!G52","v":0},{"$f":"SA34c!H52","v":0},{"$f":"SA34c!I52","v":0},{"$f":"SA34c!J52","v":0},{"$f":"SA34c!K52","v":0}]
["Coastal Infrastructure",null,{"$f":"SA34c!C62","v":0},{"$f":"SA34c!D62","v":0},{"$f":"SA34c!E62","v":0},{"$f":"SA34c!F62","v":0},{"$f":"SA34c!G62","v":0},{"$f":"SA34c!H62","v":0},{"$f":"SA34c!I62","v":0},{"$f":"SA34c!J62","v":0},{"$f":"SA34c!K62","v":0}]
["Information and Communication Infrastructure",null,{"$f":"SA34c!C68","v":0},{"$f":"SA34c!D68","v":0},{"$f":"SA34c!E68","v":0},{"$f":"SA34c!F68","v":100000},{"$f":"SA34c!G68","v":100000},{"$f":"SA34c!H68","v":100000},{"$f":"SA34c!I68","v":100000},{"$f":"SA34c!J68","v":104500},{"$f":"SA34c!K68","v":107113}]
["Infrastructure",null,{"$f":"SUM(C185:C193)","v":13166141.460000001},{"$f":"SUM(D185:D193)","v":2969365.95},6236371.21,2400014,626014,626014,1110000,1159950,1188952]
["Community Facilities",null,{"$f":"SA34c!C75","v":453487.79000000004},{"$f":"SA34c!D75","v":84505.9},{"$f":"SA34c!E75","v":184865},{"$f":"SA34c!F75","v":200000},{"$f":"SA34c!G75","v":200000},{"$f":"SA34c!H75","v":200000},{"$f":"SA34c!I75","v":304400},{"$f":"SA34c!J75","v":213598},{"$f":"SA34c!K75","v":218939}]
["Sport and Recreation Facilities",null,{"$f":"SA34c!C98","v":75300},{"$f":"SA34c!D98","v":0},{"$f":"SA34c!E98","v":159460},{"$f":"SA34c!F98","v":100000},{"$f":"SA34c!G98","v":50000},{"$f":"SA34c!H98","v":50000},{"$f":"SA34c!I98","v":100000},{"$f":"SA34c!J98","v":104500},{"$f":"SA34c!K98","v":107113}]
["Community Assets",null,{"$f":"SUM(C195:C196)","v":528787.79},84505.9,344325,300000,250000,250000,404400,318098,326052]
["Heritage Assets",null,{"$f":"SA34c!C103","v":0},{"$f":"SA34c!D103","v":0},{"$f":"SA34c!E103","v":0},{"$f":"SA34c!F103","v":0},{"$f":"SA34c!G103","v":0},{"$f":"SA34c!H103","v":0},{"$f":"SA34c!I103","v":0},{"$f":"SA34c!J103","v":0},{"$f":"SA34c!K103","v":0}]
["Revenue Generating",null,{"$f":"SA34c!C111","v":0},{"$f":"SA34c!D111","v":0},{"$f":"SA34c!E111","v":0},{"$f":"SA34c!F111","v":0},{"$f":"SA34c!G111","v":0},{"$f":"SA34c!H111","v":0},{"$f":"SA34c!I111","v":0},{"$f":"SA34c!J111","v":0},{"$f":"SA34c!K111","v":0}]
["Non-revenue Generating",null,{"$f":"SA34c!C114","v":0},{"$f":"SA34c!D114","v":0},{"$f":"SA34c!E114","v":0},{"$f":"SA34c!F114","v":0},{"$f":"SA34c!G114","v":0},{"$f":"SA34c!H114","v":0},{"$f":"SA34c!I114","v":0},{"$f":"SA34c!J114","v":0},{"$f":"SA34c!K114","v":0}]
["Investment properties",null,{"$f":"SUM(C199:C200)","v":0},0,0,0,0,0,0,0,0]
["Operational Buildings",null,{"$f":"SA34c!C119","v":473995.77},{"$f":"SA34c!D119","v":151226.98000000001},{"$f":"SA34c!E119","v":427632.25},{"$f":"SA34c!F119","v":1477281},{"$f":"SA34c!G119","v":744281},{"$f":"SA34c!H119","v":744281},{"$f":"SA34c!I119","v":232882},{"$f":"SA34c!J119","v":243362},{"$f":"SA34c!K119","v":249446}]
["Housing",null,{"$f":"SA34c!C131","v":0},{"$f":"SA34c!D131","v":0},{"$f":"SA34c!E131","v":0},{"$f":"SA34c!F131","v":0},{"$f":"SA34c!G131","v":0},{"$f":"SA34c!H131","v":0},{"$f":"SA34c!I131","v":0},{"$f":"SA34c!J131","v":0},{"$f":"SA34c!K131","v":0}]
["Other Assets",null,{"$f":"SUM(C202:C203)","v":473995.77},151226.98000000001,427632.25,1477281,744281,744281,232882,243362,249446]
["Biological or Cultivated Assets",null,{"$f":"SA34c!C136","v":0},{"$f":"SA34c!D136","v":0},{"$f":"SA34c!E136","v":0},{"$f":"SA34c!F136","v":0},{"$f":"SA34c!G136","v":0},{"$f":"SA34c!H136","v":0},{"$f":"SA34c!I136","v":0},{"$f":"SA34c!J136","v":0},{"$f":"SA34c!K136","v":0}]
["Servitudes",null,{"$f":"SA34c!C140","v":0},{"$f":"SA34c!D140","v":0},{"$f":"SA34c!E140","v":0},{"$f":"SA34c!F140","v":0},{"$f":"SA34c!G140","v":0},{"$f":"SA34c!H140","v":0},{"$f":"SA34c!I140","v":0},{"$f":"SA34c!J140","v":0},{"$f":"SA34c!K140","v":0}]
["Licences and Rights",null,{"$f":"SA34c!C141","v":0},{"$f":"SA34c!D141","v":0},{"$f":"SA34c!E141","v":0},{"$f":"SA34c!F141","v":0},{"$f":"SA34c!G141","v":0},{"$f":"SA34c!H141","v":0},{"$f":"SA34c!I141","v":0},{"$f":"SA34c!J141","v":0},{"$f":"SA34c!K141","v":0}]
["Intangible Assets",null,{"$f":"SUM(C206:C207)","v":0},0,0,0,0,0,0,0,0]
["Computer Equipment",null,{"$f":"SA34c!C149","v":180549.6},{"$f":"SA34c!D149","v":322955},{"$f":"SA34c!E149","v":216000},{"$f":"SA34c!F149","v":367351},{"$f":"SA34c!G149","v":347351},{"$f":"SA34c!H149","v":347351},{"$f":"SA34c!I149","v":362635},{"$f":"SA34c!J149","v":378954},{"$f":"SA34c!K149","v":388427}]
["Furniture and Office Equipment",null,{"$f":"SA34c!C152","v":-52543.5},{"$f":"SA34c!D152","v":0},{"$f":"SA34c!E152","v":49760},{"$f":"SA34c!F152","v":124722},{"$f":"SA34c!G152","v":74722},{"$f":"SA34c!H152","v":74722},{"$f":"SA34c!I152","v":78010},{"$f":"SA34c!J152","v":81521},{"$f":"SA34c!K152","v":83559}]
["Machinery and Equipment",null,{"$f":"SA34c!C155","v":20565},{"$f":"SA34c!D155","v":85594.63},{"$f":"SA34c!E155","v":0},{"$f":"SA34c!F155","v":50000},{"$f":"SA34c!G155","v":30000},{"$f":"SA34c!H155","v":30000},{"$f":"SA34c!I155","v":31320},{"$f":"SA34c!J155","v":32730},{"$f":"SA34c!K155","v":33548}]
["Transport Assets",null,{"$f":"SA34c!C158","v":2430423.64},{"$f":"SA34c!D158","v":2217809.0499999998},{"$f":"SA34c!E158","v":3007642.17},{"$f":"SA34c!F158","v":1211648},{"$f":"SA34c!G158","v":1241648},{"$f":"SA34c!H158","v":1241648},{"$f":"SA34c!I158","v":1296281},{"$f":"SA34c!J158","v":1354614},{"$f":"SA34c!K158","v":1388479}]
["Land",null,{"$f":"SA34c!C161","v":0},{"$f":"SA34c!D161","v":0},{"$f":"SA34c!E161","v":0},{"$f":"SA34c!F161","v":0},{"$f":"SA34c!G161","v":0},{"$f":"SA34c!H161","v":0},{"$f":"SA34c!I161","v":0},{"$f":"SA34c!J161","v":0},{"$f":"SA34c!K161","v":0}]
["Zoo's, Marine and Non-biological Animals",null,{"$f":"SA34c!C164","v":0},{"$f":"SA34c!D164","v":0},{"$f":"SA34c!E164","v":0},{"$f":"SA34c!F164","v":0},{"$f":"SA34c!G164","v":0},{"$f":"SA34c!H164","v":0},{"$f":"SA34c!I164","v":0},{"$f":"SA34c!J164","v":0},{"$f":"SA34c!K164","v":0}]
["Mature"," ",{"$f":"SA34c!C168","v":0},{"$f":"SA34c!D168","v":0},{"$f":"SA34c!E168","v":0},{"$f":"SA34c!F168","v":0},{"$f":"SA34c!G168","v":0},{"$f":"SA34c!H168","v":0},{"$f":"SA34c!I168","v":0},{"$f":"SA34c!J168","v":0},{"$f":"SA34c!K168","v":0}]
["Immature"," ",{"$f":"SA34c!C171","v":0},{"$f":"SA34c!D171","v":0},{"$f":"SA34c!E171","v":0},{"$f":"SA34c!F171","v":0},{"$f":"SA34c!G171","v":0},{"$f":"SA34c!H171","v":0},{"$f":"SA34c!I171","v":0},{"$f":"SA34c!J171","v":0},{"$f":"SA34c!K171","v":0}]
["Living Resources","",{"$f":"SUM(C215:C216)","v":0},0,0,0,0,0,0,0,0]
[]
["TOTAL EXPENDITURE OTHER ITEMS",null,{"$f":"SUM(C183:C184)","v":47168528.189999998},{"$f":"SUM(D183:D184)","v":40989114.099999994},44101257.920000002,39444651,36827651,36827651,38503785,40131951,41135254]
[]
["Renewal and upgrading of Existing Assets as % of total capex",null,{"$f":"IF(ISERROR((C40+C75)/C144),0,((C40+C75)/C144))","v":1.1525939140425358E-2},{"$f":"IF(ISERROR((D40+D75)/D144),0,((D40+D75)/D144))","v":0},9.9066467194634661E-3,0.22448711482541286,4.8025454340781412E-2,4.8025454340781412E-2,0.10693981932919985,6.5800118655951673E-2,0.11507740711455923]
["Renewal and upgrading of Existing Assets as % of deprecn",null,{"$f":"IF(ISERROR((C40+C75)/C183),0,((C40+C75)/C183))","v":3.059032833420551E-3},{"$f":"IF(ISERROR((D40+D75)/D183),0,((D40+D75)/D183))","v":0},2.4775354570013567E-2,0.50176592303401291,0.20851644412789003,0.20851644412789003,0.26580346657451387,0.16683659384003194,0.2974747757885674]
["R&M as a % of PPE & Investment Property",null,{"$f":"IF(ISERROR((C184-C198-C205-C208-C217)/(C180-C160-C170-C179-C167)),0,((C184-C198-C205-C208-C217)/(C180-C160-C170-C179-C167)))","v":2.1531645324408755E-2},{"$f":"IF(ISERROR((D184-D198-D205-D208-D217)/(D180-D160-D170-D179-D167)),0,((D184-D198-D205-D208-D217)/(D180-D160-D170-D179-D167)))","v":6.3894304059181487E-3},1.0735197951995967E-2,5.3413471395902419E-3,3.1478455611163164E-3,3.1478455611163164E-3,2.6162648922762421E-3,2.5618886016969609E-3,2.561257051378771E-3]
["Renewal and upgrading and R&M as a % of PPE and Investment Property",null,{"$f":"IF(ISERROR((C40+C75+C184-C198-C205-C208-C217)/(C180-C160-C170-C179-C167)),0,((C40+C75+C184-C198-C205-C208-C217)/(C180-C160-C170-C179-C167)))","v":2.165128311393244E-2},{"$f":"IF(ISERROR((D40+D75+D184-D198-D205-D208-D217)/(D180-D160-D170-D179-D167)),0,((D40+D75+D184-D198-D205-D208-D217)/(D180-D160-D170-D179-D167)))","v":6.3894304059181487E-3},1.1610043219698949E-2,2.0485479864801152E-2,9.7855920508259676E-3,9.7855920508259676E-3,9.5373485810333943E-3,6.9402909038051921E-3,1.0366151650993716E-2]
[]
[{"$f":"head27a","v":"References"}]
["1. Detail of new assets provided in Table SA34a"]
["2. Detail of renewal of existing assets provided in Table SA34b"]
["3. Detail of Repairs and Maintenance by Asset Class provided in Table SA34c"]
["4. Must reconcile to total capital expenditure on Budgeted Capital Expenditure"]
["5. Must reconcile to 'Budgeted Financial Position' (written down value)"]
["6. Detail of upgrading of existing assets provided in Table SA34e"]
["7. Detail of depreciation provided in Table SA34d"]
[null,null,7.1428571428571425E-2]

{"sheet":"A10-SerDel","index":20,"n_rows":89,"n_cols":11,"rows_kept":89,"cut":false,"hidden":false,"merged":[[1,5,1,7],[1,8,1,10],[1,0,2,0],[1,1,2,1]]}
[{"$f":"muni&\" - \"&Approve10","v":"LIM351 Blouberg - Table A10 Basic service delivery measurement"}]
[{"$f":"desc","v":"Description"},{"$f":"head27","v":"Ref"},{"$f":"head1b","v":"2021/22"},{"$f":"head1A","v":"2022/23"},{"$f":"Head1","v":"2023/24"},{"$f":"Head2","v":"Current Year 2024/25"},null,null,{"$f":"Head3","v":"2025/26 Medium Term Revenue & Expenditure Framework"}]
[null,null,{"$f":"Head5A","v":"Outcome"},{"$f":"Head5A","v":"Outcome"},{"$f":"Head5A","v":"Outcome"},{"$f":"Head6","v":"Original Budget"},{"$f":"Head7","v":"Adjusted Budget"},{"$f":"Head8","v":"Full Year Forecast"},{"$f":"Head9","v":"Budget Year 2025/26"},{"$f":"Head10","v":"Budget Year +1 2026/27"},{"$f":"Head11","v":"Budget Year +2 2027/28"}]
["Household service targets",1]
["Water:"]
["Piped water inside dwelling",null,{"$f":"'SA9'!E67","v":0},{"$f":"'SA9'!F67","v":0},{"$f":"'SA9'!G67","v":0},{"$f":"'SA9'!H67","v":0},{"$f":"'SA9'!I67","v":0},{"$f":"'SA9'!J67","v":0},{"$f":"'SA9'!K67","v":0},{"$f":"'SA9'!L67","v":0},{"$f":"'SA9'!M67","v":0}]
["Piped water inside yard (but not in dwelling)",null,{"$f":"'SA9'!E68","v":0},{"$f":"'SA9'!F68","v":0},{"$f":"'SA9'!G68","v":0},{"$f":"'SA9'!H68","v":0},{"$f":"'SA9'!I68","v":0},{"$f":"'SA9'!J68","v":0},{"$f":"'SA9'!K68","v":0},{"$f":"'SA9'!L68","v":0},{"$f":"'SA9'!M68","v":0}]
["Using public tap (at least min.service level)",2,{"$f":"'SA9'!E69","v":0},{"$f":"'SA9'!F69","v":0},{"$f":"'SA9'!G69","v":0},{"$f":"'SA9'!H69","v":0},{"$f":"'SA9'!I69","v":0},{"$f":"'SA9'!J69","v":0},{"$f":"'SA9'!K69","v":0},{"$f":"'SA9'!L69","v":0},{"$f":"'SA9'!M69","v":0}]
["Other water supply (at least min.service level)",4,{"$f":"'SA9'!E70","v":0},{"$f":"'SA9'!F70","v":0},{"$f":"'SA9'!G70","v":0},{"$f":"'SA9'!H70","v":0},{"$f":"'SA9'!I70","v":0},{"$f":"'SA9'!J70","v":0},{"$f":"'SA9'!K70","v":0},{"$f":"'SA9'!L70","v":0},{"$f":"'SA9'!M70","v":0}]
["Minimum Service Level and Above sub-total",null,{"$f":"SUM(C6:C9)","v":0},{"$f":"SUM(D6:D9)","v":0},0,0,0,0,0,0,0]
["Using public tap (< min.service level)",3,{"$f":"'SA9'!E72","v":0},{"$f":"'SA9'!F72","v":0},{"$f":"'SA9'!G72","v":0},{"$f":"'SA9'!H72","v":0},{"$f":"'SA9'!I72","v":0},{"$f":"'SA9'!J72","v":0},{"$f":"'SA9'!K72","v":0},{"$f":"'SA9'!L72","v":0},{"$f":"'SA9'!M72","v":0}]
["Other water supply (< min.service level)",{"$f":"B9","v":4},{"$f":"'SA9'!E73","v":0},{"$f":"'SA9'!F73","v":0},{"$f":"'SA9'!G73","v":0},{"$f":"'SA9'!H73","v":0},{"$f":"'SA9'!I73","v":0},{"$f":"'SA9'!J73","v":0},{"$f":"'SA9'!K73","v":0},{"$f":"'SA9'!L73","v":0},{"$f":"'SA9'!M73","v":0}]
["No water supply",null,{"$f":"'SA9'!E74","v":0},{"$f":"'SA9'!F74","v":0},{"$f":"'SA9'!G74","v":0},{"$f":"'SA9'!H74","v":0},{"$f":"'SA9'!I74","v":0},{"$f":"'SA9'!J74","v":0},{"$f":"'SA9'!K74","v":0},{"$f":"'SA9'!L74","v":0},{"$f":"'SA9'!M74","v":0}]
["Below Minimum Service Level sub-total",null,{"$f":"SUM(C11:C13)","v":0},{"$f":"SUM(D11:D13)","v":0},0,0,0,0,0,0,0]
["Total number of households",5,{"$f":"C10+C14","v":0},{"$f":"D10+D14","v":0},0,0,0,0,0,0,0]
["Sanitation/sewerage:"]
["Flush toilet (connected to sewerage)",null,{"$f":"'SA9'!E78","v":0},{"$f":"'SA9'!F78","v":0},{"$f":"'SA9'!G78","v":0},{"$f":"'SA9'!H78","v":0},{"$f":"'SA9'!I78","v":0},{"$f":"'SA9'!J78","v":0},{"$f":"'SA9'!K78","v":0},{"$f":"'SA9'!L78","v":0},{"$f":"'SA9'!M78","v":0}]
["Flush toilet (with septic tank)",null,{"$f":"'SA9'!E79","v":0},{"$f":"'SA9'!F79","v":0},{"$f":"'SA9'!G79","v":0},{"$f":"'SA9'!H79","v":0},{"$f":"'SA9'!I79","v":0},{"$f":"'SA9'!J79","v":0},{"$f":"'SA9'!K79","v":0},{"$f":"'SA9'!L79","v":0},{"$f":"'SA9'!M79","v":0}]
["Chemical toilet",null,{"$f":"'SA9'!E80","v":0},{"$f":"'SA9'!F80","v":0},{"$f":"'SA9'!G80","v":0},{"$f":"'SA9'!H80","v":0},{"$f":"'SA9'!I80","v":0},{"$f":"'SA9'!J80","v":0},{"$f":"'SA9'!K80","v":0},{"$f":"'SA9'!L80","v":0},{"$f":"'SA9'!M80","v":0}]
["Pit toilet (ventilated)",null,{"$f":"'SA9'!E81","v":0},{"$f":"'SA9'!F81","v":0},{"$f":"'SA9'!G81","v":0},{"$f":"'SA9'!H81","v":0},{"$f":"'SA9'!I81","v":0},{"$f":"'SA9'!J81","v":0},{"$f":"'SA9'!K81","v":0},{"$f":"'SA9'!L81","v":0},{"$f":"'SA9'!M81","v":0}]
["Other toilet provisions (> min.service level)",null,{"$f":"'SA9'!E82","v":0},{"$f":"'SA9'!F82","v":0},{"$f":"'SA9'!G82","v":0},{"$f":"'SA9'!H82","v":0},{"$f":"'SA9'!I82","v":0},{"$f":"'SA9'!J82","v":0},{"$f":"'SA9'!K82","v":0},{"$f":"'SA9'!L82","v":0},{"$f":"'SA9'!M82","v":0}]
[{"$f":"$A$10","v":"Minimum Service Level and Above sub-total"},null,{"$f":"SUM(C17:C21)","v":0},{"$f":"SUM(D17:D21)","v":0},0,0,0,0,0,0,0]
["Bucket toilet",null,{"$f":"'SA9'!E84","v":0},{"$f":"'SA9'!F84","v":0},{"$f":"'SA9'!G84","v":0},{"$f":"'SA9'!H84","v":0},{"$f":"'SA9'!I84","v":0},{"$f":"'SA9'!J84","v":0},{"$f":"'SA9'!K84","v":0},{"$f":"'SA9'!L84","v":0},{"$f":"'SA9'!M84","v":0}]
["Other toilet provisions (< min.service level)",null,{"$f":"'SA9'!E85","v":0},{"$f":"'SA9'!F85","v":0},{"$f":"'SA9'!G85","v":0},{"$f":"'SA9'!H85","v":0},{"$f":"'SA9'!I85","v":0},{"$f":"'SA9'!J85","v":0},{"$f":"'SA9'!K85","v":0},{"$f":"'SA9'!L85","v":0},{"$f":"'SA9'!M85","v":0}]
["No toilet provisions",null,{"$f":"'SA9'!E86","v":0},{"$f":"'SA9'!F86","v":0},{"$f":"'SA9'!G86","v":0},{"$f":"'SA9'!H86","v":0},{"$f":"'SA9'!I86","v":0},{"$f":"'SA9'!J86","v":0},{"$f":"'SA9'!K86","v":0},{"$f":"'SA9'!L86","v":0},{"$f":"'SA9'!M86","v":0}]
[{"$f":"$A$14","v":"Below Minimum Service Level sub-total"},null,{"$f":"SUM(C23:C25)","v":0},{"$f":"SUM(D23:D25)","v":0},0,0,0,0,0,0,0]
[{"$f":"$A$15","v":"Total number of households"},{"$f":"$B$15","v":5},{"$f":"C22+C26","v":0},{"$f":"D22+D26","v":0},0,0,0,0,0,0,0]
["Energy:"]
["Electricity (at least min.service level)",null,{"$f":"'SA9'!E90","v":0},{"$f":"'SA9'!F90","v":0},{"$f":"'SA9'!G90","v":0},{"$f":"'SA9'!H90","v":5340},{"$f":"'SA9'!I90","v":5340},{"$f":"'SA9'!J90","v":5340},{"$f":"'SA9'!K90","v":5210},{"$f":"'SA9'!L90","v":5410},{"$f":"'SA9'!M90","v":0}]
["Electricity - prepaid (min.service level)",null,{"$f":"'SA9'!E91","v":0},{"$f":"'SA9'!F91","v":0},{"$f":"'SA9'!G91","v":0},{"$f":"'SA9'!H91","v":0},{"$f":"'SA9'!I91","v":0},{"$f":"'SA9'!J91","v":0},{"$f":"'SA9'!K91","v":0},{"$f":"'SA9'!L91","v":0},{"$f":"'SA9'!M91","v":0}]
[{"$f":"$A$10","v":"Minimum Service Level and Above sub-total"},null,{"$f":"SUM(C29:C30)","v":0},{"$f":"SUM(D29:D30)","v":0},0,5340,5340,5340,5210,5410,0]
["Electricity (< min.service level)",null,{"$f":"'SA9'!E93","v":0},{"$f":"'SA9'!F93","v":0},{"$f":"'SA9'!G93","v":0},{"$f":"'SA9'!H93","v":0},{"$f":"'SA9'!I93","v":0},{"$f":"'SA9'!J93","v":0},{"$f":"'SA9'!K93","v":0},{"$f":"'SA9'!L93","v":0},{"$f":"'SA9'!M93","v":0}]
["Electricity - prepaid (< min. service level)",null,{"$f":"'SA9'!E94","v":0},{"$f":"'SA9'!F94","v":0},{"$f":"'SA9'!G94","v":0},{"$f":"'SA9'!H94","v":0},{"$f":"'SA9'!I94","v":0},{"$f":"'SA9'!J94","v":0},{"$f":"'SA9'!K94","v":0},{"$f":"'SA9'!L94","v":0},{"$f":"'SA9'!M94","v":0}]
["Other energy sources",null,{"$f":"'SA9'!E95","v":0},{"$f":"'SA9'!F95","v":0},{"$f":"'SA9'!G95","v":0},{"$f":"'SA9'!H95","v":0},{"$f":"'SA9'!I95","v":0},{"$f":"'SA9'!J95","v":0},{"$f":"'SA9'!K95","v":0},{"$f":"'SA9'!L95","v":0},{"$f":"'SA9'!M95","v":0}]
[{"$f":"$A$14","v":"Below Minimum Service Level sub-total"},null,{"$f":"SUM(C32:C34)","v":0},{"$f":"SUM(D32:D34)","v":0},0,0,0,0,0,0,0]
[{"$f":"$A$15","v":"Total number of households"},{"$f":"$B$15","v":5},{"$f":"C31+C35","v":0},{"$f":"D31+D35","v":0},0,5340,5340,5340,5210,5410,0]
["Refuse:"]
["Removed at least once a week",null,{"$f":"'SA9'!E99","v":0},{"$f":"'SA9'!F99","v":0},{"$f":"'SA9'!G99","v":0},{"$f":"'SA9'!H99","v":0},{"$f":"'SA9'!I99","v":0},{"$f":"'SA9'!J99","v":0},{"$f":"'SA9'!K99","v":0},{"$f":"'SA9'!L99","v":0},{"$f":"'SA9'!M99","v":0}]
[{"$f":"$A$10","v":"Minimum Service Level and Above sub-total"},null,{"$f":"SUM(C38)","v":0},{"$f":"SUM(D38)","v":0},0,0,0,0,0,0,0]
["Removed less frequently than once a week",null,{"$f":"'SA9'!E101","v":0},{"$f":"'SA9'!F101","v":0},{"$f":"'SA9'!G101","v":0},{"$f":"'SA9'!H101","v":0},{"$f":"'SA9'!I101","v":0},{"$f":"'SA9'!J101","v":0},{"$f":"'SA9'!K101","v":0},{"$f":"'SA9'!L101","v":0},{"$f":"'SA9'!M101","v":0}]
["Using communal refuse dump",null,{"$f":"'SA9'!E102","v":0},{"$f":"'SA9'!F102","v":0},{"$f":"'SA9'!G102","v":0},{"$f":"'SA9'!H102","v":0},{"$f":"'SA9'!I102","v":0},{"$f":"'SA9'!J102","v":0},{"$f":"'SA9'!K102","v":0},{"$f":"'SA9'!L102","v":0},{"$f":"'SA9'!M102","v":0}]
["Using own refuse dump",null,{"$f":"'SA9'!E103","v":0},{"$f":"'SA9'!F103","v":0},{"$f":"'SA9'!G103","v":0},{"$f":"'SA9'!H103","v":0},{"$f":"'SA9'!I103","v":0},{"$f":"'SA9'!J103","v":0},{"$f":"'SA9'!K103","v":0},{"$f":"'SA9'!L103","v":0},{"$f":"'SA9'!M103","v":0}]
["Other rubbish disposal",null,{"$f":"'SA9'!E104","v":0},{"$f":"'SA9'!F104","v":0},{"$f":"'SA9'!G104","v":0},{"$f":"'SA9'!H104","v":0},{"$f":"'SA9'!I104","v":0},{"$f":"'SA9'!J104","v":0},{"$f":"'SA9'!K104","v":0},{"$f":"'SA9'!L104","v":0},{"$f":"'SA9'!M104","v":0}]
["No rubbish disposal",null,{"$f":"'SA9'!E105","v":0},{"$f":"'SA9'!F105","v":0},{"$f":"'SA9'!G105","v":0},{"$f":"'SA9'!H105","v":0},{"$f":"'SA9'!I105","v":0},{"$f":"'SA9'!J105","v":0},{"$f":"'SA9'!K105","v":0},{"$f":"'SA9'!L105","v":0},{"$f":"'SA9'!M105","v":0}]
[{"$f":"$A$14","v":"Below Minimum Service Level sub-total"},null,{"$f":"SUM(C40:C44)","v":0},{"$f":"SUM(D40:D44)","v":0},0,0,0,0,0,0,0]
[{"$f":"$A$15","v":"Total number of households"},{"$f":"$B$15","v":5},{"$f":"C39+C45","v":0},{"$f":"D39+D45","v":0},0,0,0,0,0,0,0]
[]
["Households receiving Free Basic Service",7]
["Water (6 kilolitres per household per month)",null,{"$f":"'SA9'!E263","v":0},{"$f":"'SA9'!F263","v":0},{"$f":"'SA9'!G263","v":0},{"$f":"'SA9'!H263","v":0},{"$f":"'SA9'!I263","v":0},{"$f":"'SA9'!J263","v":0},{"$f":"'SA9'!K263","v":0},{"$f":"'SA9'!L263","v":0},{"$f":"'SA9'!M263","v":0}]
["Sanitation (free minimum level service)",null,{"$f":"'SA9'!E275","v":0},{"$f":"'SA9'!F275","v":0},{"$f":"'SA9'!G275","v":0},{"$f":"'SA9'!H275","v":0},{"$f":"'SA9'!I275","v":0},{"$f":"'SA9'!J275","v":0},{"$f":"'SA9'!K275","v":0},{"$f":"'SA9'!L275","v":0},{"$f":"'SA9'!M275","v":0}]
["Electricity/other energy (50kwh per household per month)",null,{"$f":"'SA9'!E251","v":0},{"$f":"'SA9'!F251","v":0},{"$f":"'SA9'!G251","v":0},{"$f":"'SA9'!H251","v":5340},{"$f":"'SA9'!I251","v":5340},{"$f":"'SA9'!J251","v":5340},{"$f":"'SA9'!K251","v":5201},{"$f":"'SA9'!L251","v":5451},{"$f":"'SA9'!M251","v":0}]
["Refuse (removed at least once a week)",null,{"$f":"'SA9'!E287","v":0},{"$f":"'SA9'!F287","v":0},{"$f":"'SA9'!G287","v":0},{"$f":"'SA9'!H287","v":0},{"$f":"'SA9'!I287","v":0},{"$f":"'SA9'!J287","v":0},{"$f":"'SA9'!K287","v":0},{"$f":"'SA9'!L287","v":0},{"$f":"'SA9'!M287","v":0}]
["Informal Settlements",null,{"$f":"'SA9'!E253+'SA9'!E255+'SA9'!E257+'SA9'!E259+'SA9'!E265+'SA9'!E2267+'SA9'!E269+'SA9'!E271+'SA9'!E277+'SA9'!E279+'SA9'!E281+'SA9'!E283+'SA9'!E289+'SA9'!E291+'SA9'!E293+'SA9'!E295","v":0},{"$f":"'SA9'!F253+'SA9'!F255+'SA9'!F257+'SA9'!F259+'SA9'!F265+'SA9'!F2267+'SA9'!F269+'SA9'!F271+'SA9'!F277+'SA9'!F279+'SA9'!F281+'SA9'!F283+'SA9'!F289+'SA9'!F291+'SA9'!F293+'SA9'!F295","v":0},{"$f":"'SA9'!G253+'SA9'!G255+'SA9'!G257+'SA9'!G259+'SA9'!G265+'SA9'!G2267+'SA9'!G269+'SA9'!G271+'SA9'!G277+'SA9'!G279+'SA9'!G281+'SA9'!G283+'SA9'!G289+'SA9'!G291+'SA9'!G293+'SA9'!G295","v":0},{"$f":"'SA9'!H253+'SA9'!H255+'SA9'!H257+'SA9'!H259+'SA9'!H265+'SA9'!H2267+'SA9'!H269+'SA9'!H271+'SA9'!H277+'SA9'!H279+'SA9'!H281+'SA9'!H283+'SA9'!H289+'SA9'!H291+'SA9'!H293+'SA9'!H295","v":0},{"$f":"'SA9'!I253+'SA9'!I255+'SA9'!I257+'SA9'!I259+'SA9'!I265+'SA9'!I2267+'SA9'!I269+'SA9'!I271+'SA9'!I277+'SA9'!I279+'SA9'!I281+'SA9'!I283+'SA9'!I289+'SA9'!I291+'SA9'!I293+'SA9'!I295","v":0},{"$f":"'SA9'!J253+'SA9'!J255+'SA9'!J257+'SA9'!J259+'SA9'!J265+'SA9'!J2267+'SA9'!J269+'SA9'!J271+'SA9'!J277+'SA9'!J279+'SA9'!J281+'SA9'!J283+'SA9'!J289+'SA9'!J291+'SA9'!J293+'SA9'!J295","v":0},{"$f":"'SA9'!K253+'SA9'!K255+'SA9'!K257+'SA9'!K259+'SA9'!K265+'SA9'!K2267+'SA9'!K269+'SA9'!K271+'SA9'!K277+'SA9'!K279+'SA9'!K281+'SA9'!K283+'SA9'!K289+'SA9'!K291+'SA9'!K293+'SA9'!K295","v":0},{"$f":"'SA9'!L253+'SA9'!L255+'SA9'!L257+'SA9'!L259+'SA9'!L265+'SA9'!L2267+'SA9'!L269+'SA9'!L271+'SA9'!L277+'SA9'!L279+'SA9'!L281+'SA9'!L283+'SA9'!L289+'SA9'!L291+'SA9'!L293+'SA9'!L295","v":0},{"$f":"'SA9'!M253+'SA9'!M255+'SA9'!M257+'SA9'!M259+'SA9'!M265+'SA9'!M2267+'SA9'!M269+'SA9'!M271+'SA9'!M277+'SA9'!M279+'SA9'!M281+'SA9'!M283+'SA9'!M289+'SA9'!M291+'SA9'!M293+'SA9'!M295","v":0}]
["Cost of Free Basic Services provided - Formal Settlements (R'000)"]
["Water (6 kilolitres per indigent household per month)",null,{"$f":"'SA1'!C22","v":0},{"$f":"'SA1'!D22","v":0},{"$f":"'SA1'!E22","v":0},{"$f":"'SA1'!F22","v":0},{"$f":"'SA1'!G22","v":0},{"$f":"'SA1'!H22","v":0},{"$f":"'SA1'!J22","v":0},{"$f":"'SA1'!K22","v":0},{"$f":"'SA1'!L22","v":0}]
["Sanitation (free sanitation service to indigent households)",null,{"$f":"'SA1'!C28","v":0},{"$f":"'SA1'!D28","v":0},{"$f":"'SA1'!E28","v":0},{"$f":"'SA1'!F28","v":0},{"$f":"'SA1'!G28","v":0},{"$f":"'SA1'!H28","v":0},{"$f":"'SA1'!J28","v":0},{"$f":"'SA1'!K28","v":0},{"$f":"'SA1'!L28","v":0}]
["Electricity/other energy (50kwh per indigent household per month)",null,{"$f":"'SA1'!C16","v":3754.52},{"$f":"'SA1'!D16","v":4401.72},{"$f":"'SA1'!E16","v":5545.08},{"$f":"'SA1'!F16","v":3147000},{"$f":"'SA1'!G16","v":3147000},{"$f":"'SA1'!H16","v":3147000},{"$f":"'SA1'!J16","v":4741468},{"$f":"'SA1'!K16","v":4959576},{"$f":"'SA1'!L16","v":5078606}]
["Refuse (removed once a week for indigent households)",null,{"$f":"'SA1'!C35","v":15423.25},{"$f":"'SA1'!D35","v":20055},{"$f":"'SA1'!E35","v":20055},{"$f":"'SA1'!F35","v":530000},{"$f":"'SA1'!G35","v":130000},{"$f":"'SA1'!H35","v":130000},{"$f":"'SA1'!J35","v":40560},{"$f":"'SA1'!K35","v":42426},{"$f":"'SA1'!L35","v":43486}]
["Cost of Free Basic Services provided - Informal Formal Settlements (R'000)",null,{"$f":"'SA9'!E260+'SA9'!E272+'SA9'!E284+'SA9'!E296","v":0},{"$f":"'SA9'!F260+'SA9'!F272+'SA9'!F284+'SA9'!F296","v":0},{"$f":"'SA9'!G260+'SA9'!G272+'SA9'!G284+'SA9'!G296","v":0},{"$f":"'SA9'!H260+'SA9'!H272+'SA9'!H284+'SA9'!H296","v":530000},{"$f":"'SA9'!I260+'SA9'!I272+'SA9'!I284+'SA9'!I296","v":530000},{"$f":"'SA9'!J260+'SA9'!J272+'SA9'!J284+'SA9'!J296","v":530000},{"$f":"'SA9'!K260+'SA9'!K272+'SA9'!K284+'SA9'!K296","v":554380},{"$f":"'SA9'!L260+'SA9'!L272+'SA9'!L284+'SA9'!L296","v":579327},{"$f":"'SA9'!M260+'SA9'!M272+'SA9'!M284+'SA9'!M296","v":0}]
["Total cost of FBS provided  ",8,{"$f":"SUM(C55:C59)","v":19177.77},{"$f":"SUM(D55:D59)","v":24456.720000000001},25600.080000000002,4207000,3807000,3807000,5336408,5581329,5122092]
[]
["Highest level of free service provided per household"]
["Property rates (R value threshold)"]
["Water (kilolitres per household per month)"]
["Sanitation (kilolitres per household per month)"]
["Sanitation (Rand per household per month)"]
["Electricity (kwh per household per month)"]
["Refuse (average litres per week)"]
["Revenue  cost of subsidised services provided (R'000)",9]
["Property rates (tariff adjustment) ( impermissable values per section 17 of MPRA)"]
["Property rates  exemptions, reductions and rebates and impermissable values in excess of section 17 of MPRA)",null,{"$f":"'SA1'!C9","v":2981107.94},{"$f":"'SA1'!D9","v":7823351.5499999998},{"$f":"'SA1'!E9","v":35293690.609999999},{"$f":"'SA1'!F9","v":7586249},{"$f":"'SA1'!G9","v":12261484},{"$f":"'SA1'!H9","v":12261484},{"$f":"'SA1'!J9","v":13396907},{"$f":"'SA1'!K9","v":13999767},{"$f":"'SA1'!L9","v":14349761}]
["Water (in excess of 6 kilolitres per indigent household per month)",null,{"$f":"'SA1'!C21","v":0},{"$f":"'SA1'!D21","v":0},{"$f":"'SA1'!E21","v":0},{"$f":"'SA1'!F21","v":0},{"$f":"'SA1'!G21","v":0},{"$f":"'SA1'!H21","v":0},{"$f":"'SA1'!J21","v":0},{"$f":"'SA1'!K21","v":0},{"$f":"'SA1'!L21","v":0}]
["Sanitation (in excess of free sanitation service to indigent households)",null,{"$f":"'SA1'!C27","v":0},{"$f":"'SA1'!D27","v":0},{"$f":"'SA1'!E27","v":0},{"$f":"'SA1'!F27","v":0},{"$f":"'SA1'!G27","v":0},{"$f":"'SA1'!H27","v":0},{"$f":"'SA1'!J27","v":0},{"$f":"'SA1'!K27","v":0},{"$f":"'SA1'!L27","v":0}]
["Electricity/other energy (in excess of 50 kwh per indigent household per month)",null,{"$f":"'SA1'!C15","v":0},{"$f":"'SA1'!D15","v":0},{"$f":"'SA1'!E15","v":0},{"$f":"'SA1'!F15","v":0},{"$f":"'SA1'!G15","v":0},{"$f":"'SA1'!H15","v":0},{"$f":"'SA1'!J15","v":0},{"$f":"'SA1'!K15","v":0},{"$f":"'SA1'!L15","v":0}]
["Refuse (in excess of one removal a week for indigent households)",null,{"$f":"'SA1'!C34","v":0},{"$f":"'SA1'!D34","v":0},{"$f":"'SA1'!E34","v":0},{"$f":"'SA1'!F34","v":0},{"$f":"'SA1'!G34","v":0},{"$f":"'SA1'!H34","v":0},{"$f":"'SA1'!J34","v":0},{"$f":"'SA1'!K34","v":0},{"$f":"'SA1'!L34","v":0}]
["Municipal Housing - rental rebates"]
["Housing - top structure subsidies",6]
["Other"]
["Total revenue cost of subsidised services provided ",null,{"$f":"SUM(C70:C78)","v":2981107.94},{"$f":"SUM(D70:D78)","v":7823351.5499999998},35293690.609999999,7586249,12261484,12261484,13396907,{"$f":"SUM(J70:J78)","v":13999767},{"$f":"SUM(K70:K78)","v":14349761}]
[{"$f":"head27a","v":"References"}]
["1. Include services provided by another entity; e.g. Eskom"]
["2. Stand distance <= 200m from dwelling"]
["3. Stand distance > 200m from dwelling"]
["4. Borehole, spring, rain-water tank etc."]
["5. Must agree to total number of households in municipal area (informal settlements receiving services must be included)"]
["6. Include value of subsidy provided by municipality above provincial subsidy level"]
["7. Show number of households receiving at least these levels of services completely free (informal settlements must be included)"]
["8. Must reflect the cost to the municipality of providing the Free Basic Service"]
["9. Reflect the cost of free or subsidised services in excess to the National policy that are not funded from the Free Basic Services component of the Equitable Share"]

{"sheet":"SA1","index":21,"n_rows":181,"n_cols":12,"rows_kept":181,"cut":false,"hidden":false,"merged":[[1,9,1,11],[1,5,1,8],[1,0,2,0],[1,1,2,1]]}
[{"$f":"muni&\" - \"&TableA1","v":"LIM351 Blouberg - Supporting Table SA1 Supportinging detail to 'Budgeted Financial Performance'"}]
[{"$f":"desc","v":"Description"},{"$f":"head27","v":"Ref"},{"$f":"head1b","v":"2021/22"},{"$f":"head1A","v":"2022/23"},{"$f":"Head1","v":"2023/24"},{"$f":"Head2","v":"Current Year 2024/25"},null,null,null,{"$f":"Head3","v":"2025/26 Medium Term Revenue & Expenditure Framework"}]
[null,null,{"$f":"Head5","v":"Audited Outcome"},{"$f":"Head5","v":"Audited Outcome"},{"$f":"Head5","v":"Audited Outcome"},{"$f":"Head6","v":"Original Budget"},{"$f":"Head7","v":"Adjusted Budget"},{"$f":"Head8","v":"Full Year Forecast"},{"$f":"Head5b","v":"Pre-audit outcome"},{"$f":"Head9","v":"Budget Year 2025/26"},{"$f":"Head10","v":"Budget Year +1 2026/27"},{"$f":"Head11","v":"Budget Year +2 2027/28"}]
["R thousand"]
["REVENUE ITEMS:"]
["Non-exchange revenue by source"]
[{"$f":"'A4-FinPerf RE'!A5","v":"Exchange Revenue"},6]
["Total Property Rates",null,32478118.829999998,33052338.690000001,104254421.25,42172656,82017181,82017181,84050436.870000005,89791908,93832544,98178358]
["Less Revenue Foregone (exemptions, reductions and rebates and impermissable values in excess of section 17 of MPRA)",null,2981107.94,7823351.5499999998,35293690.609999999,7586249,12261484,12261484,11507956.609999999,13396907,13999767,14349761]
["Net Property Rates",null,{"$f":"C8-C9","v":29497010.889999997},{"$f":"D8-D9","v":25228987.140000001},68960730.640000001,34586407,69755697,69755697,72542480.260000005,76395001,79832777,83828597]
[]
["Exchange revenue service charges"]
[{"$f":"'A4-FinPerf RE'!A6","v":"Service charges - Electricity"},6]
[{"$f":"\"Total \"&A13","v":"Total Service charges - Electricity"},null,29120084.75,31893859.890000001,35454874.039999999,58455333,58655333,58655333,39516643.049999997,66064687,69042340,70763439]
["Less Revenue Foregone (in excess of 50 kwh per indigent household per month)"]
["Less Cost of Free Basis Services (50 kwh per indigent household per month)",null,{"$f":"'SA9'!E250","v":3754.52},{"$f":"'SA9'!F250","v":4401.72},{"$f":"'SA9'!G250","v":5545.08},{"$f":"'SA9'!H250","v":3147000},{"$f":"'SA9'!I250","v":3147000},{"$f":"'SA9'!J250","v":3147000},5082.99,{"$f":"'SA9'!K250","v":4741468},{"$f":"'SA9'!L250","v":4959576},{"$f":"'SA9'!M250","v":5078606}]
[{"$f":"\"Net \"& A13","v":"Net Service charges - Electricity"},null,{"$f":"C14-C15-C16","v":29116330.23},{"$f":"D14-D15-D16","v":31889458.170000002},35449328.960000001,55308333,55508333,55508333,39511560.059999995,61323219,64082764,65684833]
[]
[{"$f":"'A4-FinPerf RE'!A7","v":"Service charges - Water"},6]
[{"$f":"\"Total \"&A19","v":"Total Service charges - Water"},null,0,0,0,0,0,0,29526.59,0,0,0]
["Less Revenue Foregone (in excess of 6 kilolitres per indigent household per month)",null,0,0,0,0,0,0,0,0,0,0]
["Less Cost of Free Basis Services (6 kilolitres per indigent household per month)",null,{"$f":"'SA9'!E262","v":0},{"$f":"'SA9'!F262","v":0},{"$f":"'SA9'!G262","v":0},{"$f":"'SA9'!H262","v":0},{"$f":"'SA9'!I262","v":0},{"$f":"'SA9'!J262","v":0},19320,{"$f":"'SA9'!K262","v":0},{"$f":"'SA9'!L262","v":0},{"$f":"'SA9'!M262","v":0}]
[{"$f":"\"Net \"& A19","v":"Net Service charges - Water"},null,{"$f":"C20-C21-C22","v":0},{"$f":"D20-D21-D22","v":0},0,0,0,0,10206.59,0,0,0]
[]
[{"$f":"'A4-FinPerf RE'!A8","v":"Service charges - Waste Water Management"}]
[{"$f":"\"Total \"&A25","v":"Total Service charges - Waste Water Management"},null,34961.4,19155.189999999999,0,0,0,0,6791.33,0,0,0]
["Less Revenue Foregone (in excess of free sanitation service to indigent households)"]
["Less Cost of Free Basis Services (free sanitation service to indigent households)",null,{"$f":"'SA9'!E274","v":0},{"$f":"'SA9'!F274","v":0},{"$f":"'SA9'!G274","v":0},{"$f":"'SA9'!H274","v":0},{"$f":"'SA9'!I274","v":0},{"$f":"'SA9'!J274","v":0},93892.89,{"$f":"'SA9'!K274","v":0},{"$f":"'SA9'!L274","v":0},{"$f":"'SA9'!M274","v":0}]
[{"$f":"\"Net \"& A25","v":"Net Service charges - Waste Water Management"},null,{"$f":"C26-C27-C28","v":34961.4},{"$f":"D26-D27-D28","v":19155.189999999999},0,0,0,0,{"$f":"I26-I27-I28","v":-87101.56},0,0,0]
[]
[{"$f":"'A4-FinPerf RE'!A9","v":"Service charges - Waste Management"},6]
["Total refuse removal revenue",null,1903316.59,1988470,2089298.52,3180000,2380000,2380000,2071171.2,3290560,3438676,1524643]
["Total landfill revenue"]
["Less Revenue Foregone (in excess of one removal a week to indigent households)"]
["Less Cost of Free Basis Services  (removed once a week to indigent households)",null,{"$f":"'SA9'!E286","v":15423.25},{"$f":"'SA9'!F286","v":20055},{"$f":"'SA9'!G286","v":20055},{"$f":"'SA9'!H286","v":530000},{"$f":"'SA9'!I286","v":130000},{"$f":"'SA9'!J286","v":130000},19580.75,{"$f":"'SA9'!K286","v":40560},{"$f":"'SA9'!L286","v":42426},{"$f":"'SA9'!M286","v":43486}]
[{"$f":"\"Net \"& A31","v":"Net Service charges - Waste Management"},null,{"$f":"SUM(C32:C33)-C34-C35","v":1887893.34},{"$f":"SUM(D32:D33)-D34-D35","v":1968415},2069243.52,2650000,2250000,2250000,2051590.45,3250000,3396250,1481157]
[]
[]
[]
[]
[]
[]
[]
[]
[]
[]
[]
[]
[]
[]
["EXPENDITURE ITEMS:"]
[{"$f":"'A4-FinPerf RE'!A35","v":"Employee related costs"}]
["Basic Salaries and Wages",2,67979361.739999995,69057406.439999998,73210627.760000005,75502405,75502405,75502405,72686007.329999998,83112516,83939119,86037600]
["Pension and UIF Contributions",null,16046223.68,16538287.09,17141440.57,20077074,20077074,20077074,16607644.039999999,20960482,21903705,22451294]
["Medical Aid Contributions",null,4566698.5199999996,5038151.5599999996,5402193.8399999999,4936837,4936837,4936837,5403447.0999999996,5154064,5385994,5520645]
["Overtime",null,3273366.85,5410245.8799999999,5187614.2699999996,1670100,1670100,1670100,2458207.62,1649585,1822047,1867601]
["Performance Bonus",null,5466032.1600000001,5280090.68,6426507.8499999996,8529933,8529933,8529933,6015809.8399999999,9005257,9305994,9538643]
["Motor Vehicle Allowance",null,16340366.59,16618893.640000001,17732458.510000002,22979764,22979764,22979764,17707999.48,23990882,25070471,25697232]
["Cellphone Allowance",null,2322770.3199999998,3131851.06,3246098.26,2987726,2987726,2987726,4680322.87,3215190,3259559,3341044]
["Housing Allowances",null,213156.71,269130.82,281532.24,419937,419937,419937,399278.06,438418,458146,469600]
["Other benefits and allowances",null,497083.5,885052.55,889299.23,620194,620194,620194,567626.21,497493,676631,693545]
["Payments in lieu of leave",null,1172289.83,1234794.3400000001,825921.55,2468012,2468012,2468012,395545.52,2576610,2692556,2759870]
["Long service awards",null,0,0,0,108358,108358,108358,121220.7,473126,118217,121172]
["Post-retirement benefit obligations",4,1808345,63567,1392871,0,0,0,0,0,0,0]
["Entertainment",null,0,0,0,0,0,0,0,0,0,0]
["Scarcity"]
["Acting and post related allowance",null,172574.07,516177.91,528162.41,454741,454741,454741,436254.96,374754,496116,508519]
["In kind benefits"]
["sub-total",5,{"$f":"SUM(C53:C68)","v":119858268.96999995},{"$f":"SUM(D53:D68)","v":124043648.97},132264727.49000001,140755081,140755081,140755081,127479363.73,151448377,155128555,159006765]
["Less: Employees costs capitalised to PPE",null,0,0,0,0,0,0,0,0,0,0]
[{"$f":"\"Total \"&A52","v":"Total Employee related costs"},1,{"$f":"C69-C70","v":119858268.96999995},{"$f":"D69-D70","v":124043648.97},132264727.49000001,140755081,140755081,140755081,127479363.73,151448377,155128555,159006765]
[]
[]
[]
[]
[]
[]
[{"$f":"'A4-FinPerf RE'!A40","v":"Depreciation and amortisation"}]
["Depreciation of Property, Plant & Equipment",null,30354713.670000002,30960623.739999998,33753608.689999998,33251135,33251135,33251135,0,34714207,36276339,37183249]
["Lease amortisation",null,65894.759999999995,65894.759999999995,65918.600000000006,262500,262500,262500,0,274050,286383,293542]
["Capital asset impairment",null,0,4131138.09,0,0,0,0,0,0,0,0]
[]
[{"$f":"\"Total \"&LEFT(A78,35)","v":"Total Depreciation and amortisation"},1,{"$f":"SUM(C79:C81)","v":30420608.430000003},{"$f":"SUM(D79:D81)","v":35157656.590000004},33819527.289999999,33513635,33513635,33513635,0,34988257,36562722,37476791]
[]
["Bulk purchases - electricity"]
["Electricity bulk purchases",null,50884659.640000001,52983493.469999999,58974105.390000001,61440000,64440000,64440000,56318256.350000001,67275360,70302752,72060320]
[]
["Total bulk purchases",1,{"$f":"SUM(C86:C87)","v":50884659.640000001},{"$f":"SUM(D86:D87)","v":52983493.469999999},58974105.390000001,61440000,64440000,64440000,56318256.350000001,67275360,70302752,72060320]
[]
["Transfers and grants"]
["Cash transfers and grants",null,{"$f":"'SA21'!C32","v":0},{"$f":"'SA21'!D32","v":0},{"$f":"'SA21'!E32","v":0},{"$f":"'SA21'!F32","v":0},{"$f":"'SA21'!G32","v":0},{"$f":"'SA21'!H32","v":0},{"$f":"'SA21'!I32","v":0},{"$f":"'SA21'!J32","v":0},{"$f":"'SA21'!K32","v":0},{"$f":"'SA21'!L32","v":0}]
["Non-cash transfers and grants",null,{"$f":"'SA21'!C65","v":49860},{"$f":"'SA21'!D65","v":0},{"$f":"'SA21'!E65","v":0},{"$f":"'SA21'!F65","v":0},{"$f":"'SA21'!G65","v":0},{"$f":"'SA21'!H65","v":0},{"$f":"'SA21'!I65","v":0},{"$f":"'SA21'!J65","v":0},{"$f":"'SA21'!K65","v":0},{"$f":"'SA21'!L65","v":0}]
["Total transfers and grants",1,{"$f":"SUM(C91:C92)","v":49860},{"$f":"SUM(D91:D92)","v":0},0,0,0,0,0,0,0,0]
[]
["Contracted Services"]
["Outsourced Services",null,23913021.59,27554709.239999998,34432571.200000003,37675359,37560015,37560015,29901619.98,29643188,22038863,22362531]
["Consultants and Professional Services",null,31551661.719999999,29617146.550000001,5852307.1900000004,10892603,9700534,9700534,6284570.0599999996,10648904,10203125,10458207]
["Contractors",null,5487480.3200000003,4047116.41,7276944.5599999996,5719354,2872354,2872354,2412177.86,2353247,2459145,2520625]
[]
[]
[]
[]
[]
[]
[]
[]
[]
[]
[]
[]
[]
[]
[]
[]
[]
[]
[]
[]
[]
[]
[]
[]
[]
[]
[]
[]
["Total contracted services",null,{"$f":"SUM(C96:C98)","v":60952163.630000003},{"$f":"SUM(D96:D98)","v":61218972.200000003},47561822.950000003,54287316,50132903,50132903,38598367.899999999,42645339,34701133,35341363]
[]
["Operational Costs"]
["Collection costs",null,1007342.82,1016241.81,1065451.43,1101450,1101450,1101450,0,1149914,1201660,1231702]
["Contributions to 'other' provisions",null,0,0,833265,0,0,0,0,0,0,0]
[]
["Audit fees",null,4559574.17,4370568.59,4754783.5999999996,5245000,5245000,5245000,5027323.46,5400000,5643000,5784075]
[]
[]
["Other Operational Costs",null,35392041.289999999,49641898.420000002,50363189.020000003,60054676,57501407,57501407,47081383.060000002,54481503,56700925,58118466]
[]
[]
[]
[]
[]
[]
[]
[]
[]
[]
[]
[]
[]
[]
[]
[]
[]
[]
[]
[]
["Total Operational Costs",1,{"$f":"+C130+C131+C133+C136","v":40958958.280000001},{"$f":"+D130+D131+D133+D136","v":55028708.82},57016689.050000004,66401126,63847857,63847857,52108706.520000003,61031417,63545585,65134243]
[]
["Repairs and Maintenance by Expenditure Item",8]
["Employee related costs"]
["Inventory Consumed (Project Maintenance)",null,0,0,0,0,0,0,0,0,0,0]
["Contracted Services",null,16552287.609999999,5640543.5899999999,10091392.34,5719368,3072368,3072368,2464377.86,3263247,3305595,3388239]
["Operational Costs",null,195632.15,190913.92000000001,190338.29,211648,241648,241648,212182.64,252281,263634,270224]
["Total Repairs and Maintenance Expenditure",9,{"$f":"SUM(C160:C163)","v":16747919.76},{"$f":"SUM(D160:D163)","v":5831457.5099999998},10281730.629999999,5931016,3314016,3314016,2676560.5,3515528,3569229,3658463]
[]
[" Inventory Consumed"]
["Inventory Consumed - Water",null,{"$f":"-'SA3'!C38","v":0},{"$f":"-'SA3'!D38","v":0},{"$f":"-'SA3'!E38","v":0},{"$f":"-'SA3'!F38","v":0},{"$f":"-'SA3'!G38","v":0},{"$f":"-'SA3'!H38","v":0},{"$f":"-'SA3'!I38","v":0},{"$f":"-'SA3'!J38","v":0},{"$f":"-'SA3'!K38","v":0},{"$f":"-'SA3'!L38","v":0}]
["Inventory Consumed - Other",null,{"$f":"-'SA3'!C68-'SA3'!C78-'SA3'!C86-'SA3'!C95-'SA3'!C104","v":6420489},{"$f":"-'SA3'!D68-'SA3'!D78-'SA3'!D86-'SA3'!D95-'SA3'!D104","v":3569119},{"$f":"-'SA3'!E68-'SA3'!E78-'SA3'!E86-'SA3'!E95-'SA3'!E104","v":3238441},{"$f":"-'SA3'!F68-'SA3'!F78-'SA3'!F86-'SA3'!F95-'SA3'!F104","v":5337183},{"$f":"-'SA3'!G68-'SA3'!G78-'SA3'!G86-'SA3'!G95-'SA3'!G104","v":5337183},{"$f":"-'SA3'!H68-'SA3'!H78-'SA3'!H86-'SA3'!H95-'SA3'!H104","v":5337183},{"$f":"-'SA3'!I68-'SA3'!I78-'SA3'!I86-'SA3'!I95-'SA3'!I104","v":2590228.94},{"$f":"-'SA3'!J68-'SA3'!J78-'SA3'!J86-'SA3'!J95-'SA3'!J104","v":2650699},{"$f":"-'SA3'!K68-'SA3'!K78-'SA3'!K86-'SA3'!K95-'SA3'!K104","v":3569227},{"$f":"-'SA3'!L68-'SA3'!L78-'SA3'!L86-'SA3'!L95-'SA3'!L104","v":3658457}]
["Total Inventory Consumed & Other Material",null,{"$f":"SUM(C167:C168)","v":6420489},{"$f":"SUM(D167:D168)","v":3569119},3238441,5337183,5337183,5337183,2590228.94,2650699,3569227,3658457]
[]
["check",null,{"$f":"C164-SA34c!C175","v":0},{"$f":"D164-SA34c!D175","v":0},{"$f":"E164-SA34c!E175","v":0},{"$f":"F164-SA34c!F175","v":0},{"$f":"G164-SA34c!G175","v":0},{"$f":"H164-SA34c!H175","v":0},null,{"$f":"J164-SA34c!I175","v":0},{"$f":"K164-SA34c!J175","v":0},{"$f":"L164-SA34c!K175","v":0}]
[{"$f":"head27a","v":"References"}]
["1. Must reconcile with 'Budgeted Financial Performance (Revenue and Expenditure)"]
["2. Must reconcile to supporting documentation on staff salaries"]
[]
["4. Expenditure to meet any 'unfunded obligations'"]
["5 This sub-total must agree with the total on SA22, but excluding councillor and board member items"]
["6. Include a note for each revenue item that is affected by 'revenue foregone'"]
[]
["8. Repairs and Maintenance is not a GRAP item. However to facilitate transparency, municipalities must provide a breakdown of the amounts included in the relevant GRAP items that will be spent on Repairs and Maintenance."]
["9. Must reconcile with Repairs and Maintenance by Asset Class (Total Repairs and Maintenance) on Table SA34c."]

{"sheet":"SA2","index":22,"n_rows":55,"n_cols":18,"rows_kept":55,"cut":false,"hidden":false,"merged":[[1,6,2,6],[1,7,2,7],[1,2,2,2],[1,3,2,3],[1,4,2,4],[1,5,2,5],[1,16,2,16],[1,17,2,17],[1,8,2,8],[1,9,2,9],[1,10,2,10],[1,11,2,11],[1,12,2,12],[1,13,2,13],[1,14,2,14],[1,15,2,15]]}
[{"$f":"muni&\" - \"&TableA2","v":"LIM351 Blouberg - Supporting Table SA2 Matrix Financial Performance Budget (revenue source/expenditure type and dept.)"}]
[{"$f":"desc","v":"Description"},{"$f":"head27","v":"Ref"},{"$f":"'A3-FinPerf V'!A5","v":"Vote 01 - Executive & Council"},{"$f":"'A3-FinPerf V'!A6","v":"Vote 02 - Finance And Administration"},{"$f":"'A3-FinPerf V'!A7","v":"Vote 03 - Community Service"},{"$f":"'A3-FinPerf V'!A8","v":"Vote 04 - Public And Safety"},{"$f":"'A3-FinPerf V'!A9","v":"Vote 05 - Waste Management"},{"$f":"'A3-FinPerf V'!A10","v":"Vote 06 - Roads  Services"},{"$f":"'A3-FinPerf V'!A11","v":"Vote 07 - Econominc Development And Planning"},{"$f":"'A3-FinPerf V'!A12","v":"Vote 08 - "},{"$f":"'A3-FinPerf V'!A13","v":"Vote 09 - "},{"$f":"'A3-FinPerf V'!A14","v":"Vote 10 - "},{"$f":"'A3-FinPerf V'!A15","v":"Vote 11 - "},{"$f":"'A3-FinPerf V'!A16","v":"Vote 12 - "},{"$f":"'A3-FinPerf V'!A17","v":"Vote 13 - "},{"$f":"'A3-FinPerf V'!A18","v":"Vote 14 - "},{"$f":"'A3-FinPerf V'!A19","v":"Vote 15 - Other"},"Total"]
["R thousand",1,"R'000","R'000","R'000","R'000","R'000","R'000",null,null,null,null,null,null,null,null,"R'000","R'000"]
["Revenue"]
["Exchange Revenue"]
["Service charges - Electricity",null,null,null,null,null,61323219,null,null,null,null,null,null,null,null,null,null,{"$f":"SUM(C6:Q6)","v":61323219}]
["Service charges - Water",null,null,null,null,null,0,null,null,null,null,null,null,null,null,null,null,{"$f":"SUM(C7:Q7)","v":0}]
["Service charges - Waste Water Management",null,null,null,null,null,0,null,null,null,null,null,null,null,null,null,null,0]
["Service charges - Waste Management",null,null,null,null,null,null,3250000,null,null,null,null,null,null,null,null,null,3250000]
["Sale of Goods and Rendering of Services",null,null,null,0,204828,null,33200,157347,null,null,null,null,null,null,null,null,395375]
["Agency services",null,null,null,null,null,null,150000,null,null,null,null,null,null,null,null,null,150000]
["Interest",null,null,null,null,null,null,null,null,null,null,null,null,null,null,null,null,0]
["Interest earned from Receivables",null,null,null,0,null,883000,317600,null,null,null,null,null,null,null,null,null,1200600]
["Interest earned from Current and Non Current Assets",null,null,null,11550395,null,null,null,null,null,null,null,null,null,null,null,null,11550395]
["Dividends",null,null,null,null,null,null,null,null,null,null,null,null,null,null,null,null,0]
["Rent on Land",null,null,null,914600,null,null,0,678600,null,null,null,null,null,null,null,null,1593200]
["Rental from Fixed Assets",null,null,null,0,null,null,null,null,null,null,null,null,null,null,null,null,0]
["Licence and permits",null,null,null,0,0,null,5475780,0,null,null,null,null,null,null,null,null,5475780]
["Special rating levies",null,null,null,null,null,null,null,null,null,null,null,null,null,null,null,null,0]
["Operational Revenue",null,null,0,0,307831,null,217000,2000000,null,null,null,null,null,null,null,null,2524831]
["Non-Exchange Revenue"]
["Property rates",null,null,null,76395001,null,null,null,null,null,null,null,null,null,null,null,null,{"$f":"SUM(C22:Q22)","v":76395001}]
["Surcharges and Taxes",null,null,null,null,null,null,null,null,null,null,null,null,null,null,null,null,0]
["Fines, penalties and forfeits",null,null,null,0,null,29467,2257112,null,null,null,null,null,null,null,null,null,2286579]
["Licences or permits",null,null,null,null,null,null,0,null,null,null,null,null,null,null,null,null,0]
["Transfer and subsidies - Operational",null,0,0,247711000,0,0,1769000,0,null,null,null,null,null,null,null,null,249480000]
["Interest",null,null,null,0,null,0,1586932,null,null,null,null,null,null,null,null,null,1586932]
["Fuel Levy",null,null,null,null,null,null,null,null,null,null,null,null,null,null,null,null,0]
["Operational Revenue",null,null,null,null,null,0,0,null,null,null,null,null,null,null,null,null,0]
["Gains on disposal of Assets",null,null,0,0,0,0,0,0,null,null,null,null,null,null,null,null,0]
["Other Gains",null,null,null,0,null,null,null,null,null,null,null,null,null,null,null,null,0]
["Discontinued Operations",null,null,null,null,null,null,null,null,null,null,null,null,null,null,null,null,0]
["Total Revenue (excluding capital transfers and contributions)",null,{"$f":"SUM(C6:C20)+SUM(C22:C32)","v":0},{"$f":"SUM(D6:D20)+SUM(D22:D32)","v":0},336570996,512659,62235686,15056624,2835947,0,0,0,0,0,0,0,0,417211912]
["Expenditure"]
["Employee related costs",null,0,20060234,22146451,36999596,26610594,33002194,12629308,null,null,null,null,null,null,null,null,{"$f":"SUM(C35:Q35)","v":151448377}]
["Remuneration of councillors",null,22965572,null,null,null,null,null,null,null,null,null,null,null,null,null,null,{"$f":"SUM(C36:Q36)","v":22965572}]
["Bulk purchases - electricity",null,null,null,null,null,67275360,null,null,null,null,null,null,null,null,null,null,67275360]
["Inventory consumed",null,null,null,0,2650699,0,0,null,null,null,null,null,null,null,null,null,2650699]
["Debt impairment",null,null,0,10187429,0,5432041,1863743,0,null,null,null,null,null,null,null,null,17483213]
["Depreciation and amortisation",null,null,26843,2638981,2014807,21136276,9164029,7321,null,null,null,null,null,null,null,null,34988257]
["Interest",null,null,null,null,0,null,null,null,null,null,null,null,null,null,null,null,0]
["Contracted services",null,1136059,1422868,7090584,4521085,1561246,25545097,1368400,null,null,null,null,null,null,null,null,42645339]
["Transfers and subsidies",null,0,null,null,0,null,null,0,null,null,null,null,null,null,null,null,0]
["Irrecoverable debts written off",null,null,null,0,null,0,0,null,null,null,null,null,null,null,null,null,0]
["Operational costs",null,1104710,8047543,7521922,38895652,1813525,1759465,1888600,null,null,null,null,null,null,null,null,61031417]
["Losses on disposal of Assets",null,null,0,0,0,0,0,0,null,null,null,null,null,null,null,null,0]
["Other Losses",null,null,null,0,0,null,null,null,null,null,null,null,null,null,null,null,0]
["Total Expenditure",null,{"$f":"SUM(C35:C47)","v":25206341},{"$f":"SUM(D35:D47)","v":29557488},49585367,85081839,123829042,71334528,15893629,0,0,0,0,0,0,0,0,{"$f":"SUM(R35:R47)","v":400488234}]
["Surplus/(Deficit)",null,{"$f":"+C33-C48","v":-25206341},{"$f":"+D33-D48","v":-29557488},286985629,-84569180,-61593356,-56277904,-13057682,0,0,0,0,0,0,0,0,16723678]
["Transfers and subsidies - capital (monetary allocations)",null,null,null,null,null,15717000,null,54524000,null,null,null,null,null,null,null,null,{"$f":"SUM(C50:Q50)","v":70241000}]
["Transfers and subsidies - capital (in-kind)",null,null,null,null,null,null,null,null,null,null,null,null,null,null,null,null,{"$f":"SUM(C51:Q51)","v":0}]
["Surplus/(Deficit) after capital transfers & contributions",null,{"$f":"SUM(C49:C51)","v":-25206341},{"$f":"SUM(D49:D51)","v":-29557488},286985629,-84569180,-45876356,-56277904,41466318,0,0,0,0,0,0,0,0,86964678]
[{"$f":"head27a","v":"References"}]
["1. Departmental columns to be based on municipal organisation structure"]
[null,null,null,null,null,null,null,null,null,null,null,null,null,null,null,null,null,{"$f":"'A4-FinPerf RE'!J52-R52","v":0}]

{"sheet":"SA3","index":23,"n_rows":201,"n_cols":12,"rows_kept":201,"cut":false,"hidden":false,"merged":[[1,1,2,1],[1,9,1,11],[1,5,1,8]]}
[{"$f":"muni&\" - \"&TableA3","v":"LIM351 Blouberg - Supporting Table SA3 Supportinging detail to 'Budgeted Financial Position'"}]
[{"$f":"desc","v":"Description"},{"$f":"head27","v":"Ref"},{"$f":"head1b","v":"2021/22"},{"$f":"head1A","v":"2022/23"},{"$f":"Head1","v":"2023/24"},{"$f":"Head2","v":"Current Year 2024/25"},null,null,null,{"$f":"Head3","v":"2025/26 Medium Term Revenue & Expenditure Framework"}]
["R thousand",null,{"$f":"Head5","v":"Audited Outcome"},{"$f":"Head5","v":"Audited Outcome"},{"$f":"Head5","v":"Audited Outcome"},{"$f":"Head6","v":"Original Budget"},{"$f":"Head7","v":"Adjusted Budget"},{"$f":"Head8","v":"Full Year Forecast"},{"$f":"Head5b","v":"Pre-audit outcome"},{"$f":"Head9","v":"Budget Year 2025/26"},{"$f":"Head10","v":"Budget Year +1 2026/27"},{"$f":"Head11","v":"Budget Year +2 2027/28"}]
[]
[]
["ASSETS"]
["Trade and other receivables from exchange transactions"," "]
["Electricity"," ",21315171.859999999,27518665.66,31724655.02,20792849,20792849,20792849,42656131.939999998,34698856,35982024,40168809]
["Water"," ",0,0,0,0,0,0,120077.35,0,0,0]
["Waste"," ",5090355.41,6968356.4900000002,8821082.1199999992,5491457,5491457,5491457,10468360.65,9658294,10092918,10345240]
["Waste Water"," ",0,0,0,0,0,0,-114046.5,0,0,0]
["Other trade receivables from exchange transactions"," ",1767727.62,3023932.56,3373507.34,0,0,0,5150156.71,3373508,3525316,3613449]
["Gross: Trade and other receivables from exchange transactions"," ",{"$f":"SUM(C8:C12)","v":28173254.890000001},{"$f":"SUM(D8:D12)","v":37510954.710000001},43919244.480000004,26284306,26284306,26284306,58280680.149999999,47730658,49600258,54127498]
["Less: Impairment for debt"," ",{"$f":"SUM(C15:C19)","v":-17200121.939999998},{"$f":"SUM(D15:D19)","v":-23995437.490000002},-32927888.859999999,-21634401,-21634401,-21634401,-32927888.859999999,-32927891,-34409646,-35269887]
["Impairment for Electricity"," ",-13281317.199999999,-17355009.350000001,-21404902.059999999,-17355009,-17355009,-17355009,-21404902.059999999,-21404903,-22368123,-22927326]
["Impairment for Water"," ",0,0,0,0,0,0,0,0,0,0]
["Impairment for Waste"," ",-2525553.7400000002,-4279392.78,-7844785.7599999998,-4279392,-4279392,-4279392,-7844785.7599999998,-7844786,-8197802,-8402747]
["Impairment for Waste Water"," ",0,0,0,0,0,0,0,0,0,0]
["Impairment for other trade receivalbes from exchange transactions"," ",-1393251,-2361035.36,-3678201.04,0,0,0,-3678201.04,-3678202,-3843721,-3939814]
["Total net Trade and other receivables from Exchange Transactions"," ",{"$f":"+C13+C14","v":10973132.950000003},{"$f":"+D13+D14","v":13515517.219999999},10991355.620000005,4649905,4649905,4649905,25352791.289999999,14802767,15190612,18857611]
[" "," "]
["Receivables from non-exchange transactions"," "]
["Property rates"," ",-26910992.02,79469592.519999996,100238234.72,91574195,93217049,93217049,161957854.47,156210775,163240261,166918535]
["Less: Impairment of Property rates"," ",1216433.3799999999,-62431196.960000001,-43616915.140000001,-49526193,-49526193,-49526193,-43616915.140000001,-62480468,-65292091,-66924392]
["Net Property rates"," ",{"$f":"+C23+C24","v":-25694558.640000001},{"$f":"+D23+D24","v":17038395.559999995},56621319.579999998,42048002,43690856,43690856,118340939.33,93730307,97948170,99994143]
["Other receivables from non-exchange transactions"," ",6444527.0499999998,7342879.0499999998,8053302.29,0,0,0,8053302.29,8053303,8415701,8626094]
["Impairment for other receivalbes from non-exchange transactions"," ",-5999927.0499999998,-6193008.5999999996,-6919531.8399999999,-6119925,-6119925,-6119925,-6919531.8399999999,-6919532,-7230911,-7411684]
["Net other receivables from non-exchange transactions"," ",{"$f":"+C26+C27","v":444600},{"$f":"+D26+D27","v":1149870.4500000002},1133770.4500000002,-6119925,-6119925,-6119925,1133770.4500000002,1133771,1184790,1214410]
["Total net Receivables from non-exchange transactions"," ",{"$f":"+C25+C28","v":-25249958.640000001},{"$f":"+D25+D28","v":18188266.009999994},57755090.030000001,35928077,37570931,37570931,119474709.78,94864078,99132960,101208553]
[" "," "]
["Inventory"]
["Water"]
["  Opening Balance",null,0,{"$f":"C63","v":0},{"$f":"D63","v":0},{"$f":"E63","v":0},{"$f":"E63","v":0},{"$f":"E63","v":0},{"$f":"E63","v":0},{"$f":"G63","v":0},{"$f":"J63","v":0},{"$f":"K63","v":0}]
["  System Input Volume",null,{"$f":"(SUM(C35:C37))","v":0},{"$f":"(SUM(D35:D37))","v":0},0,0,0,0,0,0,0,0]
["      Water Treatment Works",null,null,null,null,0,0,0,0,0,0,0]
["      Bulk Purchases",null,null,null,null,0,0,0,0,0,0,0]
["      Natural Sources",null,null,null,null,0,0,0,0,0,0,0]
["  Authorised Consumption",6,{"$f":"C39+C48","v":0},{"$f":"D39+D48","v":0},0,0,0,0,0,0,0,0]
["      Billed Authorised Consumption",null,{"$f":"C44+C40","v":0},{"$f":"D44+D40","v":0},0,0,0,0,0,0,0,0]
["         Billed Metered Consumption",null,{"$f":"SUM(C41:C43)","v":0},{"$f":"SUM(D41:D43)","v":0},0,0,0,0,0,0,0,0]
["          Free Basic Water",null,null,null,null,0,0,0,0,0,0,0]
["          Subsidised Water",null,null,null,null,0,0,0,0,0,0,0]
["          Revenue Water",null,null,null,null,0,0,0,0,0,0,0]
["         Billed Unmetered Consumption",null,{"$f":"SUM(C45:C47)","v":0},{"$f":"SUM(D45:D47)","v":0},0,0,0,0,0,0,0,0]
["          Free Basic Water",null,null,null,null,0,0,0,0,0,0,0]
["          Subsidised Water",null,null,null,null,0,0,0,0,0,0,0]
["          Revenue Water",null,null,null,null,0,0,0,0,0,0,0]
["     UnBilled Authorised Consumption",null,{"$f":"SUM(C49:C50)","v":0},{"$f":"SUM(D49:D50)","v":0},0,0,0,0,0,0,0,0]
["          Unbilled Metered Consumption",null,null,null,null,0,0,0,0,0,0,0]
["          Unbilled Unmetered Consumption",null,null,null,null,0,0,0,0,0,0,0]
["     Water Losses",null,{"$f":"C52+C55","v":0},{"$f":"D52+D55","v":0},0,0,0,0,0,0,0,0]
["         Apparent losses",null,{"$f":"SUM(C53:C54)","v":0},{"$f":"SUM(D53:D54)","v":0},0,0,0,0,0,0,0,0]
["           Unauthorised Consumption",null,null,null,null,0,0,0,0,0,0,0]
["           Customer Meter Inaccuracies",null,null,null,null,0,0,0,0,0,0,0]
["         Real losses",null,{"$f":"SUM(C56:C60)","v":0},{"$f":"SUM(D56:D60)","v":0},0,0,0,0,0,0,0,0]
["           Leakage on Transmission and Distribution Mains",null,null,null,null,0,0,0,0,0,0,0]
["           Leakage and Overflows at Storage Tanks/Reservoirs",null,null,null,null,0,0,0,0,0,0,0]
["           Leakage on Service Connections up to the point of Customer Meter",null,null,null,null,0,0,0,0,0,0,0]
["           Data Transfer and Management Errors",null,null,null,null,0,0,0,0,0,0,0]
["           Unavoidable Annual Real Losses",null,null,null,null,0,0,0,0,0,0,0]
["  Non-revenue Water",null,{"$f":"C48+C51","v":0},{"$f":"D48+D51","v":0},0,0,0,0,0,0,0,0]
["Correction of Prior period errors"]
["  Closing Balance Water",null,{"$f":"C33+C34+C38+C51+C62","v":0},{"$f":"D33+D34+D38+D51+D62","v":0},0,0,0,0,0,0,0,0]
[]
["Agricultural"]
["  Opening Balance"]
["      Acquisitions"]
["      Issues",7]
["      Adjustments",8]
["      Write-offs",9]
["Correction of Prior period errors"]
["  Closing balance - Agricultural",null,{"$f":"SUM(C66:C71)","v":0},{"$f":"SUM(D66:D71)","v":0},0,0,0,0,0,0,0,0]
[]
["Consumables"]
["Standard Rated"]
["  Opening Balance",null,3448774.35,{"$f":"C82","v":1345372.3499999996},{"$f":"D82","v":1679943.3499999996},{"$f":"E82","v":1107931.3499999996},{"$f":"E82","v":1107931.3499999996},{"$f":"E82","v":1107931.3499999996},{"$f":"E82","v":1107931.3499999996},{"$f":"G82","v":1107931.3499999996},{"$f":"J82","v":1107931.3499999996},{"$f":"K82","v":1107931.3499999996}]
["      Acquisitions",null,4317087,14160273,2666429,5337183,5337183,5337183,3012275,2650699,3569227,3658457]
["      Issues",7,-6420489,-3569119,-3238441,-5337183,-5337183,-5337183,-2590228.94,-2650699,-3569227,-3658457]
["      Adjustments",8,null,null,null,0,0,0,0,0,0,0]
["      Write-offs",9,null,-10256583,null,0,0,0,0,0,0,0]
["Correction of Prior period errors"]
["  Closing balance - Consumables Standard Rated",null,{"$f":"SUM(C76:C81)","v":1345372.3499999996},1679943.3499999996,1107931.3499999996,1107931.3499999996,1107931.3499999996,{"$f":"SUM(H76:H81)","v":1107931.3499999996},{"$f":"SUM(I76:I81)","v":1529977.4099999997},1107931.3499999996,1107931.3499999996,1107931.3499999996]
["Zero Rated"]
["  Opening Balance",null,0,{"$f":"C90","v":0},{"$f":"D90","v":0},{"$f":"E90","v":0},{"$f":"E90","v":0},{"$f":"E90","v":0},{"$f":"E90","v":0},{"$f":"G90","v":0},{"$f":"J90","v":0},{"$f":"K90","v":0}]
["      Acquisitions",null,null,null,null,0,0,0,0,0,0,0]
["      Issues",7,null,null,null,0,0,0,0,0,0,0]
["      Adjustments",8,null,null,null,0,0,0,0,0,0,0]
["      Write-offs",9,null,null,null,0,0,0,0,0,0,0]
["Correction of Prior period errors"]
["  Closing balance - Consumables Zero Rated",null,{"$f":"SUM(C84:C89)","v":0},{"$f":"SUM(D84:D89)","v":0},0,0,0,0,0,0,0,0]
[]
["Finished Goods"]
["  Opening Balance",null,null,{"$f":"C99","v":0},{"$f":"D99","v":0},{"$f":"E99","v":0},{"$f":"E99","v":0},{"$f":"E99","v":0},{"$f":"E99","v":0},{"$f":"G99","v":0},{"$f":"J99","v":0},{"$f":"K99","v":0}]
["      Acquisitions"]
["      Issues",7]
["      Adjustments",8]
["      Write-offs",9]
["Correction of Prior period errors"]
["  Closing balance - Finished Goods",null,{"$f":"SUM(C93:C98)","v":0},0,0,0,0,{"$f":"SUM(H93:H98)","v":0},{"$f":"SUM(I93:I98)","v":0},0,0,0]
[]
["Materials and Supplies"]
["  Opening Balance",null,0,{"$f":"C108","v":0},{"$f":"D108","v":0},{"$f":"E108","v":0},{"$f":"E108","v":0},{"$f":"E108","v":0},{"$f":"E108","v":0},{"$f":"G108","v":0},{"$f":"J108","v":0},{"$f":"K108","v":0}]
["      Acquisitions",null,null,null,null,0,0,0,0,0,0,0]
["      Issues",7,null,null,null,0,0,0,0,0,0,0]
["      Adjustments",8,null,null,null,0,0,0,0,0,0,0]
["      Write-offs",9,null,null,null,0,0,0,0,0,0,0]
["Correction of Prior period errors"]
["  Closing balance - Materials and Supplies",null,{"$f":"SUM(C102:C107)","v":0},{"$f":"SUM(D102:D107)","v":0},0,0,0,0,0,0,0,0]
[]
["Work-in-progress"]
["  Opening Balance",null,null,{"$f":"C114","v":0},{"$f":"D114","v":0},{"$f":"E114","v":0},{"$f":"E114","v":0},{"$f":"E114","v":0},{"$f":"E114","v":0},{"$f":"G114","v":0},{"$f":"J114","v":0},{"$f":"K114","v":0}]
["      Materials"]
["      Transfers"]
["  Closing balance - Work-in-progress",null,{"$f":"SUM(C111:C113)","v":0},0,0,0,0,0,0,0,0,0]
[]
["Housing Stock"]
["  Opening Balance",null,null,{"$f":"C122","v":0},{"$f":"D122","v":0},{"$f":"E122","v":0},{"$f":"E122","v":0},{"$f":"E122","v":0},{"$f":"E122","v":0},{"$f":"G122","v":0},{"$f":"J122","v":0},{"$f":"K122","v":0}]
["      Acquisitions"]
["      Transfers"]
["      Sales"]
["Correction of Prior period errors"]
["  Closing Balance - Housing Stock",null,{"$f":"+SUM(C117:C121)","v":0},{"$f":"+SUM(D117:D121)","v":0},0,0,0,0,0,0,0,0]
[]
["Land"]
["  Opening Balance",null,1194558.5,{"$f":"C131","v":1257710.5},{"$f":"D131","v":1217418.5},{"$f":"E131","v":746030.5},{"$f":"E131","v":746030.5},{"$f":"E131","v":746030.5},{"$f":"E131","v":746030.5},{"$f":"G131","v":746030.5},{"$f":"J131","v":746030.5},{"$f":"K131","v":746030.5}]
["      Acquisitions",null,63152,-40292,null,0,0,0,0,0,0,0]
["      Sales",null,null,null,-471388,0,0,0,0,0,0,0]
["      Adjustments",null,null,null,null,0,0,0,0,0,0,0]
["     Correction of  Prior period errors",null,null,null,null,0,0,0,0,0,0,0]
["     Transfers"]
["  Closing Balance - Land",null,{"$f":"SUM(C125:C130)","v":1257710.5},{"$f":"SUM(D125:D130)","v":1217418.5},746030.5,746030.5,746030.5,746030.5,746030.5,746030.5,746030.5,746030.5]
["Closing Balance - Inventory & Consumables",null,{"$f":"C63+C72+C82+C90+C99+C108+C114+C122+C131","v":2603082.8499999996},2897361.8499999996,1853961.8499999996,1853961.8499999996,1853961.8499999996,1853961.8499999996,2276007.9099999997,1853961.8499999996,1853961.8499999996,1853961.8499999996]
[]
["Property, plant and equipment (PPE)"]
["PPE at cost/valuation (excl. finance leases)",null,1520984056.73,1637448364.45,1713281335.8900001,1571064013,1641664652,1641664652,1807514345.1300001,1985204825,2076365827,2130129751]
["Leases recognised as PPE",3,982663.94,1199754.94,1199754.94,0,0,0,1199754.94,0,0,0]
["Less: Accumulated depreciation",null,544606348.21000004,576645569.55999994,602601807.74000001,453646825,453646825,453646825,602601807.74000001,562688307,588009281,602709515]
["Total Property, plant and equipment (PPE)",2,{"$f":"SUM(C135:C136)-C137","v":977360372.46000004},{"$f":"SUM(D135:D136)-D137","v":1062002549.8300002},1111879283.0900002,1117417188,1188017827,1188017827,1206112292.3300002,1422516518,1488356546,1527420236]
[]
["LIABILITIES"]
["Current liabilities - Borrowing"]
["Short term loans (other than bank overdraft)",null,0,0,6537705.1699999999,0,0,0,6537705.1699999999,6537706,6831902,7002700]
["Current portion of long-term liabilities",null,0,0,0,9322788,9322788,9322788,0,9322788,9742314,9985872]
["Total Current liabilities - Borrowing",null,{"$f":"SUM(C142:C143)","v":0},{"$f":"SUM(D142:D143)","v":0},6537705.1699999999,9322788,9322788,9322788,6537705.1699999999,15860494,16574216,16988572]
[]
["Trade and other payables "]
["Trade and other payables from exchange transactions",5,50691062.780000001,72030665.829999998,98974851.849999994,35483462,35483462,35483462,58963074.939999998,71590274,70846833,70818008]
["Other trade payables from exchange transactions"]
["Trade payables from Non-exchange transactions: Unspent conditional Grants",null,24315315.170000002,20158138.510000002,59646502.420000002,23000000,23000000,23000000,21280117.989999998,11135395,1186488,9775520]
["Trade payables from Non-exchange transactions: Other"]
["VAT",null,14482627.859999999,21467660.359999999,30837994.359999999,5300000,5300000,5300000,38193904.049999997,27221645,28446620,29157785]
["Total Trade and other payables",2,{"$f":"SUM(C147:C151)","v":89489005.810000002},{"$f":"SUM(D147:D151)","v":113656464.7},189459348.63,63783462,63783462,63783462,118437096.97999999,109947314,100479941,{"$f":"SUM(L147:L151)","v":109751313}]
["Non current liabilities - Financial liabilities"]
["Borrowing",4,0,14187045.300000001,2768429.12,4864257,4864257,4864257,2768429.12,4864257,5083150,5210228]
["Other financial liabilities",null,774315.49,0,0,0,0,0,0,0,0,0]
["Total Non current liabilities - Financial liabilities",null,{"$f":"SUM(C154:C155)","v":774315.49},{"$f":"SUM(D154:D155)","v":14187045.300000001},2768429.12,4864257,4864257,4864257,2768429.12,4864257,5083150,5210228]
[]
["Non current liabilities - Long Term  portion of trade payables"]
["Elelctricty Bulk Purchases"]
["Payables and Accruals - General"]
["Water Bulk Purchases"]
["Municipal Debt Relief"]
["Total Non current liabilities - Long Term  portion of trade payables",null,{"$f":"SUM(C159:C162)","v":0},{"$f":"SUM(D159:D162)","v":0},0,0,0,0,0,0,0,0]
[]
["Provisions - non-current"]
["Retirement benefits"]
[]
["Refuse landfill site rehabilitation",null,23221539.68,24246164.68,16860685,22339560,22339560,22339560,16860685,16860685,17619416,18059902]
["Other",null,0,0,0,0,0,0,0,0,0,0]
["Total Provisions non-current",null,{"$f":"+C166+C168+C169","v":23221539.68},{"$f":"+D166+D168+D169","v":24246164.68},16860685,22339560,22339560,22339560,{"$f":"+I166+I168+I169","v":16860685},{"$f":"+J166+J168+J169","v":16860685},17619416,18059902]
[]
["CHANGES IN NET ASSETS"]
[{"$f":"'A6-FinPos'!A47","v":"Accumulated surplus/(deficit)"}]
[{"$f":"A173&\" - opening balance\"","v":"Accumulated surplus/(deficit) - opening balance"},null,1031443279.22,1059619508.51,1079349822.9400001,1338627993,1353910924,1353910924,1198731266.8,1565437221,1702700232,1743261122]
["GRAP adjustments",null,0,0,0,0,0,0,0,0,0,0]
["Restated balance",null,{"$f":"SUM(C174:C175)","v":1031443279.22},{"$f":"SUM(D174:D175)","v":1059619508.51},{"$f":"SUM(E174:E175)","v":1079349822.9400001},{"$f":"SUM(F174:F175)","v":1338627993},1353910924,1353910924,1198731266.8,1565437221,1702700232,1743261122]
[{"$f":"'A4-FinPerf RE'!A49","v":"Surplus/(Deficit)"},null,{"$f":"'A4-FinPerf RE'!C57","v":23591970.399999931},{"$f":"'A4-FinPerf RE'!D57","v":16886954.539999992},{"$f":"'A4-FinPerf RE'!E57","v":120690953.46999991},{"$f":"'A4-FinPerf RE'!F57","v":688674},{"$f":"'A4-FinPerf RE'!G57","v":104048850},{"$f":"'A4-FinPerf RE'!H57","v":104048850},{"$f":"'A4-FinPerf RE'!I57","v":192851669.87},{"$f":"'A4-FinPerf RE'!J57","v":86964678},{"$f":"'A4-FinPerf RE'!K57","v":91892124},{"$f":"'A4-FinPerf RE'!L57","v":96036678}]
[]
["Transfers to/from Reserves",null,0,0,0,0,0,0,0,0,0,0]
["Depreciation offsets",null,0,0,0,0,0,0,0,0,0,0]
["Other adjustments",null,0,950013.15,0,0,0,0,0,0,0,0]
["Accumulated Surplus/(Deficit)",1,{"$f":"SUM(C176:C181)","v":1055035249.62},{"$f":"SUM(D176:D181)","v":1077456476.2},{"$f":"SUM(E176:E181)","v":1200040776.4099998},1339316667,1457959774,1457959774,1391582936.6700001,1652401899,1794592356,1839297800]
["Reserves"]
["Housing Development Fund"]
["Capital replacement",null,0,0,0,0,0,0,0,0,0,0]
["Self-insurance"]
["Other reserves"]
["Revaluation"]
["Total Reserves",2,{"$f":"SUM(C184:C188)","v":0},{"$f":"SUM(D184:D188)","v":0},0,0,0,0,0,0,0,0]
[{"$f":"'A6-FinPos'!A50","v":"TOTAL COMMUNITY WEALTH/EQUITY"},2,{"$f":"C182+C189","v":1055035249.62},{"$f":"D182+D189","v":1077456476.2},1200040776.4099998,1339316667,1457959774,1457959774,1391582936.6700001,1652401899,1794592356,1839297800]
[]
[{"$f":"head27a","v":"References"}]
[{"$f":"\"1. Must reconcile with \"&'Template names'!F103","v":"1. Must reconcile with Table A4 Budgeted Financial Performance (revenue and expenditure)"}]
[{"$f":"\"2. Must reconcile with \"&'Template names'!F105","v":"2. Must reconcile with Table A6 Budgeted Financial Position"}]
["3. Leases treated as assets to be depreciated as the same as purchased/constructed assets.  Includes PPP asset element accounted for as finance leases"]
["4. Borrowing must reconcile to Table A17"]
["5. Trade Payable should only include Trade Payables from Exchance Transactions (\"True Creditors\")"]
["6. Inventory Consumed - Water - included under \"Inventory Consumed\" on Table A4 - Detail to be submitted on Table SA1"]
["7. Inventry Consumed Other - included under \"Inventory Consumed\" on Table A4 - Detail to be submitted on Table SA1"]
["8. Inventory Transfers/Adjustments (Include under gains/losses on Table A4)"]
["9. Inventory Write-offs (Include under losses on Table A4)"]

{"sheet":"SA4","index":24,"n_rows":14,"n_cols":13,"rows_kept":14,"cut":false,"hidden":false,"merged":[[1,7,1,9],[1,10,1,12],[1,3,2,3]]}
[{"$f":"muni&\" - \"&TableA4","v":"LIM351 Blouberg - Supporting Table SA4 Reconciliation of IDP strategic objectives and budget (revenue)"}]
["Strategic Objective","Goal","Goal\nCode",{"$f":"head27","v":"Ref"},{"$f":"head1b","v":"2021/22"},{"$f":"head1A","v":"2022/23"},{"$f":"Head1","v":"2023/24"},{"$f":"Head2","v":"Current Year 2024/25"},null,null,{"$f":"Head3","v":"2025/26 Medium Term Revenue & Expenditure Framework"}]
["R thousand",null,null,null,{"$f":"Head5","v":"Audited Outcome"},{"$f":"Head5","v":"Audited Outcome"},{"$f":"Head5","v":"Audited Outcome"},{"$f":"Head6","v":"Original Budget"},{"$f":"Head7","v":"Adjusted Budget"},{"$f":"Head8","v":"Full Year Forecast"},{"$f":"Head9","v":"Budget Year 2025/26"},{"$f":"Head10","v":"Budget Year +1 2026/27"},{"$f":"Head11","v":"Budget Year +2 2027/28"}]
["SPATIAL PLANNING",null,null,null,0,0,0,0,0,0,0,0,0]
["GOOD GOVERNANCE AND PUBLIC PARTICIPATION",null,null,null,4408854.7699999996,6219635.7199999997,468400.48,310592,310592,310592,512659,535729,549122]
["FINANCIAL VIABILITY AND MANAGEMENT",null,null,null,880891.61,5870829.2400000002,8656006.0899999999,2518555,6518555,6518555,2835947,2963564,3037654]
["LOCAL ECONOMIC DEVELOPMENT",null,null,null,241305336.71000001,268688251.52999997,318023086.20999998,293420534,331689824,331689824,336570996,339262696,354703165]
["MUNICIPAL TRANSFORMATION AND ORGANISATION DEVELOMENT",null,null,null,6592254.8399999999,6859627.9699999997,6281680.0199999996,13570000,12270000,12270000,15056624,13846905,12193079]
["BASIC SERVICES AND INFRUSTRACTURE",null,null,null,36381427.219999999,32494266.170000002,40173734.729999997,56286558,56286558,56286558,62235686,65036292,66662200]
["Allocations to other priorities",null,null,2]
[{"$f":"'A4-FinPerf RE'!A33","v":"Total Revenue (excluding capital transfers and contributions)"},null,null,1,{"$f":"SUM(E4:E10)","v":289568765.14999998},320132610.63,373602907.52999997,366106239,407075529,407075529,417211912,421645186,437145220]
[{"$f":"head27a","v":"References"}]
[{"$f":"\"1. Total revenue must reconcile to \"&'Template names'!F103","v":"1. Total revenue must reconcile to Table A4 Budgeted Financial Performance (revenue and expenditure)"}]
["2. Balance of allocations not directly linked to an IDP strategic objective"]

{"sheet":"SA5","index":25,"n_rows":14,"n_cols":13,"rows_kept":14,"cut":false,"hidden":false,"merged":[[1,7,1,9],[1,10,1,12],[1,3,2,3]]}
[{"$f":"muni&\" - \"&TableA5","v":"LIM351 Blouberg - Supporting Table SA5 Reconciliation of IDP strategic objectives and budget (operating expenditure)"}]
["Strategic Objective","Goal","Goal\nCode",{"$f":"head27","v":"Ref"},{"$f":"head1b","v":"2021/22"},{"$f":"head1A","v":"2022/23"},{"$f":"Head1","v":"2023/24"},{"$f":"Head2","v":"Current Year 2024/25"},null,null,{"$f":"Head3","v":"2025/26 Medium Term Revenue & Expenditure Framework"}]
["R thousand",null,null,null,{"$f":"Head5","v":"Audited Outcome"},{"$f":"Head5","v":"Audited Outcome"},{"$f":"Head5","v":"Audited Outcome"},{"$f":"Head6","v":"Original Budget"},{"$f":"Head7","v":"Adjusted Budget"},{"$f":"Head8","v":"Full Year Forecast"},{"$f":"Head9","v":"Budget Year 2025/26"},{"$f":"Head10","v":"Budget Year +1 2026/27"},{"$f":"Head11","v":"Budget Year +2 2027/28"}]
["SPATIAL PLANNING",null,null,null,18394330.48,19739846.800000001,21767091.309999999,25208466,24678335,24678335,25206341,26392878,27052709]
["GOOD GOVERNANCE AND PUBLIC PARTICIPATION",null,null,null,57859291.060000002,72340528.549999997,66500231.579999998,83701715,83182415,83182415,82493780,86885255,89057397]
["FINANCIAL VIABILITY AND MANAGEMENT",null,null,null,12354003.310000001,13269096.300000001,18357436.039999999,14434740,13403121,13403121,13165229,13736766,14080185]
["LOCAL ECONOMIC DEVELOPMENT",null,null,null,37868758.25,106845656.36,23482496.289999999,68648838,68755345,68755345,51185367,51163432,57282829]
["MUNICIPAL TRANSFORMATION AND ORGANISATION DEVELOMENT",null,null,null,89517418.810000002,91060168.069999993,102510139.73,106318133,104360433,104360433,101580075,94622661,96753423]
["BASIC SERVICES AND INFRUSTRACTURE",null,null,null,108000886.65000001,110625047.36,117265569.40000001,134590673,132503234,132503234,126857442,131244325,134525437]
["Allocations to other priorities"]
[{"$f":"'A4-FinPerf RE'!A48","v":"Total Expenditure"},null,null,1,{"$f":"SUM(E4:E10)","v":323994688.56000006},413880343.44,349882964.35000002,432902565,426882883,426882883,400488234,404045317,418751980]
[{"$f":"head27a","v":"References"}]
[{"$f":"\"1. Total expenditure must reconcile to \"&'Template names'!F103","v":"1. Total expenditure must reconcile to Table A4 Budgeted Financial Performance (revenue and expenditure)"}]
["2. Balance of allocations not directly linked to an IDP strategic objective"]

{"sheet":"SA6","index":26,"n_rows":14,"n_cols":13,"rows_kept":14,"cut":false,"hidden":false,"merged":[[1,7,1,9],[1,10,1,12],[1,3,2,3]]}
[{"$f":"muni&\" - \"&TableA6","v":"LIM351 Blouberg - Supporting Table SA6 Reconciliation of IDP strategic objectives and budget (capital expenditure)"}]
["Strategic Objective","Goal","Goal Code",{"$f":"head27","v":"Ref"},{"$f":"head1b","v":"2021/22"},{"$f":"head1A","v":"2022/23"},{"$f":"Head1","v":"2023/24"},{"$f":"Head2","v":"Current Year 2024/25"},null,null,{"$f":"Head3","v":"2025/26 Medium Term Revenue & Expenditure Framework"}]
["R thousand",null,null,null,{"$f":"Head5","v":"Audited Outcome"},{"$f":"Head5","v":"Audited Outcome"},{"$f":"Head5","v":"Audited Outcome"},{"$f":"Head6","v":"Original Budget"},{"$f":"Head7","v":"Adjusted Budget"},{"$f":"Head8","v":"Full Year Forecast"},{"$f":"Head9","v":"Budget Year 2025/26"},{"$f":"Head10","v":"Budget Year +1 2026/27"},{"$f":"Head11","v":"Budget Year +2 2027/28"}]
["GOOD GOVERNANCE AND PUBLIC PARTICIPATION",null,null,null,7154745.8700000001,108585,209230.94,5600000,1500000,1500000,5700000,11000000,6723000]
["FINANCIAL VIABILITY AND MANAGEMENT",null,null,null,0,198000,0,600000,600000,600000,0,0,0]
["LOCAL ECONOMIC DEVELOPMENT",null,null,null,0,0,0,0,0,0,0,0,0]
["MUNICIPAL TRANSFORMATION AND ORGANISATION DEVELOMENT",null,null,null,387926.29,0,0,250000,350000,350000,0,0,0]
["BASIC SERVICES AND INFRUSTRACTURE",null,null,null,531085.55000000005,217091,84369416.480000004,68458531,143059170,143059170,81264800,81705000,90154400]
["Allocations to other priorities",null,null,3]
["Total Capital Expenditure",null,null,1,{"$f":"SUM(E4:E9)","v":8073757.71},523676,84578647.420000002,74908531,145509170,145509170,86964800,92705000,96877400]
[{"$f":"head27a","v":"References"}]
["1. Total capital expenditure must reconcile to Budgeted Capital Expenditure"]
["2. Goal code must be used on Table SA36"]
["3. Balance of allocations not directly linked to an IDP strategic objective"]

{"sheet":"SA7","index":27,"n_rows":35,"n_cols":11,"rows_kept":35,"cut":false,"hidden":false,"merged":[[1,1,2,1],[1,0,2,0],[1,5,1,7],[1,8,1,10],[33,0,33,10],[13,0,13,10],[18,0,19,0],[18,1,19,1],[18,5,18,7],[18,8,18,10]]}
[{"$f":"muni&\" - \"&TableA7","v":"LIM351 Blouberg - Supporting Table SA7 Measureable performance objectives"}]
["Description","Unit of measurement",{"$f":"head1b","v":"2021/22"},{"$f":"head1A","v":"2022/23"},{"$f":"Head1","v":"2023/24"},{"$f":"Head2","v":"Current Year 2024/25"},null,null,{"$f":"Head3","v":"2025/26 Medium Term Revenue & Expenditure Framework"}]
[null,null,{"$f":"Head5","v":"Audited Outcome"},{"$f":"Head5","v":"Audited Outcome"},{"$f":"Head5","v":"Audited Outcome"},{"$f":"Head6","v":"Original Budget"},{"$f":"Head7","v":"Adjusted Budget"},{"$f":"Head8","v":"Full Year Forecast"},{"$f":"Head9","v":"Budget Year 2025/26"},{"$f":"Head10","v":"Budget Year +1 2026/27"},{"$f":"Head11","v":"Budget Year +2 2027/28"}]
["05 - Waste Management"]
["Energy Sources"]
["Electricity"]
["Electricity (At Least Min.Service Level)","Households",0,0,0,5340,5340,5340,5210,5410,0]
["Formal Settlement Households Receiving Electricity","Households",0,0,0,5340,5340,5340,5201,5451,0]
["06 - Roads  Services"]
["Waste Management"]
["Solid Waste Disposal (Landfill Sites)"]
["Informal Settlements (R000)","Rand Value",0,0,0,530000,530000,530000,554380,579327,0]
[]
["1. Include a measurable performance objective for each revenue source (within a relevant function) and each vote (MFMA s17(3)(b))"]
["2. Include all Basic Services performance targets from 'Basic Service Delivery' to ensure Table SA7 represents all strategic responsibilities"]
["3. Only include prior year comparative information for individual measures where relevant activity occurred in that year/s"]
[]
[{"$f":"muni&\" - \"&\"Entities measureable performance objectives\"","v":"LIM351 Blouberg - Entities measureable performance objectives"}]
[{"$f":"A2","v":"Description"},"Unit of measurement",{"$f":"head1b","v":"2021/22"},{"$f":"head1A","v":"2022/23"},{"$f":"Head1","v":"2023/24"},{"$f":"Head2","v":"Current Year 2024/25"},null,null,{"$f":"Head3","v":"2025/26 Medium Term Revenue & Expenditure Framework"}]
[null,null,{"$f":"Head5","v":"Audited Outcome"},{"$f":"Head5","v":"Audited Outcome"},{"$f":"Head5","v":"Audited Outcome"},{"$f":"Head6","v":"Original Budget"},{"$f":"Head7","v":"Adjusted Budget"},{"$f":"Head8","v":"Full Year Forecast"},{"$f":"Head9","v":"Budget Year 2025/26"},{"$f":"Head10","v":"Budget Year +1 2026/27"},{"$f":"Head11","v":"Budget Year +2 2027/28"}]
["Entity 1 - (name of entity)"]
["Insert measure/s description"]
[]
[]
["Entity 2 - (name of entity)"]
[{"$f":"#REF!","v":{"$error":"#REF!"}}]
[]
[]
["Entity 3 - (name of entity)"]
[{"$f":"#REF!","v":{"$error":"#REF!"}}]
[]
[]
["And so on for the rest of the Entities"]
["1. Include a measurable performance objective as agreed with the parent municipality (MFMA s87(5)(d))"]
["2. Only include prior year comparative information for individual measures where relevant activity occurred in that year/s"]

{"sheet":"SA8","index":28,"n_rows":53,"n_cols":12,"rows_kept":53,"cut":false,"hidden":false,"merged":[[32,0,34,0],[1,0,2,0],[1,9,1,11],[1,1,2,1],[1,5,1,8],[25,0,28,0],[29,0,31,0]]}
[{"$f":"muni&\" - \"&TableA8","v":"LIM351 Blouberg - Supporting Table SA8 Performance indicators and benchmarks"}]
["Description of financial indicator","Basis of calculation",{"$f":"head1b","v":"2021/22"},{"$f":"head1A","v":"2022/23"},{"$f":"Head1","v":"2023/24"},{"$f":"Head2","v":"Current Year 2024/25"},null,null,null,{"$f":"Head3","v":"2025/26 Medium Term Revenue & Expenditure Framework"}]
[null,null,{"$f":"Head5","v":"Audited Outcome"},{"$f":"Head5","v":"Audited Outcome"},{"$f":"Head5","v":"Audited Outcome"},{"$f":"Head6","v":"Original Budget"},{"$f":"Head7","v":"Adjusted Budget"},{"$f":"Head8","v":"Full Year Forecast"},{"$f":"Head5b","v":"Pre-audit outcome"},{"$f":"Head9","v":"Budget Year 2025/26"},{"$f":"Head10","v":"Budget Year +1 2026/27"},{"$f":"Head11","v":"Budget Year +2 2027/28"}]
["Borrowing Management"]
[]
["Credit Rating",null,null,null,null,0,0,0,0]
["Capital Charges to Operating Expenditure","Interest & Principal Paid /Operating Expenditure",{"$f":"IF(ISERROR(('A4-FinPerf RE'!C41-'A7-CFlow'!C35)/'A4-FinPerf RE'!C48),0,(('A4-FinPerf RE'!C41-'A7-CFlow'!C35)/'A4-FinPerf RE'!C48))","v":0},{"$f":"IF(ISERROR(('A4-FinPerf RE'!D41-'A7-CFlow'!D35)/'A4-FinPerf RE'!D48),0,(('A4-FinPerf RE'!D41-'A7-CFlow'!D35)/'A4-FinPerf RE'!D48))","v":0},{"$f":"IF(ISERROR(('A4-FinPerf RE'!E41-'A7-CFlow'!E35)/'A4-FinPerf RE'!E48),0,(('A4-FinPerf RE'!E41-'A7-CFlow'!E35)/'A4-FinPerf RE'!E48))","v":1.2750512551620933E-2},{"$f":"IF(ISERROR(('A4-FinPerf RE'!F41-'A7-CFlow'!F35)/'A4-FinPerf RE'!F48),0,(('A4-FinPerf RE'!F41-'A7-CFlow'!F35)/'A4-FinPerf RE'!F48))","v":0},{"$f":"IF(ISERROR(('A4-FinPerf RE'!G41-'A7-CFlow'!G35)/'A4-FinPerf RE'!G48),0,(('A4-FinPerf RE'!G41-'A7-CFlow'!G35)/'A4-FinPerf RE'!G48))","v":0},{"$f":"IF(ISERROR(('A4-FinPerf RE'!H41-'A7-CFlow'!H35)/'A4-FinPerf RE'!H48),0,(('A4-FinPerf RE'!H41-'A7-CFlow'!H35)/'A4-FinPerf RE'!H48))","v":0},{"$f":"IF(ISERROR(('A4-FinPerf RE'!I41-'A7-CFlow'!I35)/'A4-FinPerf RE'!I48),0,(('A4-FinPerf RE'!I41-'A7-CFlow'!I35)/'A4-FinPerf RE'!I48))","v":0},{"$f":"IF(ISERROR(('A4-FinPerf RE'!J41-'A7-CFlow'!J35)/'A4-FinPerf RE'!J48),0,(('A4-FinPerf RE'!J41-'A7-CFlow'!J35)/'A4-FinPerf RE'!J48))","v":0},{"$f":"IF(ISERROR(('A4-FinPerf RE'!K41-'A7-CFlow'!K35)/'A4-FinPerf RE'!K48),0,(('A4-FinPerf RE'!K41-'A7-CFlow'!K35)/'A4-FinPerf RE'!K48))","v":0},{"$f":"IF(ISERROR(('A4-FinPerf RE'!L41-'A7-CFlow'!L35)/'A4-FinPerf RE'!L48),0,(('A4-FinPerf RE'!L41-'A7-CFlow'!L35)/'A4-FinPerf RE'!L48))","v":0}]
["Capital Charges to Own Revenue","Finance charges & Repayment of borrowing /Own Revenue",{"$f":"IF(ISERROR(('A4-FinPerf RE'!C41-'A7-CFlow'!C35)/('A4-FinPerf RE'!C33-'A4-FinPerf RE'!C30)),0,(('A4-FinPerf RE'!C41-'A7-CFlow'!C35)/('A4-FinPerf RE'!C33-'A4-FinPerf RE'!C30)))","v":0},{"$f":"IF(ISERROR(('A4-FinPerf RE'!D41-'A7-CFlow'!D35)/('A4-FinPerf RE'!D33-'A4-FinPerf RE'!D30)),0,(('A4-FinPerf RE'!D41-'A7-CFlow'!D35)/('A4-FinPerf RE'!D33-'A4-FinPerf RE'!D30)))","v":0},{"$f":"IF(ISERROR(('A4-FinPerf RE'!E41-'A7-CFlow'!E35)/('A4-FinPerf RE'!E33-'A4-FinPerf RE'!E30)),0,(('A4-FinPerf RE'!E41-'A7-CFlow'!E35)/('A4-FinPerf RE'!E33-'A4-FinPerf RE'!E30)))","v":1.1939148259786675E-2},{"$f":"IF(ISERROR(('A4-FinPerf RE'!F41-'A7-CFlow'!F35)/('A4-FinPerf RE'!F33-'A4-FinPerf RE'!F30)),0,(('A4-FinPerf RE'!F41-'A7-CFlow'!F35)/('A4-FinPerf RE'!F33-'A4-FinPerf RE'!F30)))","v":0},{"$f":"IF(ISERROR(('A4-FinPerf RE'!G41-'A7-CFlow'!G35)/('A4-FinPerf RE'!G33-'A4-FinPerf RE'!G30)),0,(('A4-FinPerf RE'!G41-'A7-CFlow'!G35)/('A4-FinPerf RE'!G33-'A4-FinPerf RE'!G30)))","v":0},{"$f":"IF(ISERROR(('A4-FinPerf RE'!H41-'A7-CFlow'!H35)/('A4-FinPerf RE'!H33-'A4-FinPerf RE'!H30)),0,(('A4-FinPerf RE'!H41-'A7-CFlow'!H35)/('A4-FinPerf RE'!H33-'A4-FinPerf RE'!H30)))","v":0},{"$f":"IF(ISERROR(('A4-FinPerf RE'!I41-'A7-CFlow'!I35)/('A4-FinPerf RE'!I33-'A4-FinPerf RE'!I30)),0,(('A4-FinPerf RE'!I41-'A7-CFlow'!I35)/('A4-FinPerf RE'!I33-'A4-FinPerf RE'!I30)))","v":0},{"$f":"IF(ISERROR(('A4-FinPerf RE'!J41-'A7-CFlow'!J35)/('A4-FinPerf RE'!J33-'A4-FinPerf RE'!J30)),0,(('A4-FinPerf RE'!J41-'A7-CFlow'!J35)/('A4-FinPerf RE'!J33-'A4-FinPerf RE'!J30)))","v":0},{"$f":"IF(ISERROR(('A4-FinPerf RE'!K41-'A7-CFlow'!K35)/('A4-FinPerf RE'!K33-'A4-FinPerf RE'!K30)),0,(('A4-FinPerf RE'!K41-'A7-CFlow'!K35)/('A4-FinPerf RE'!K33-'A4-FinPerf RE'!K30)))","v":0},{"$f":"IF(ISERROR(('A4-FinPerf RE'!L41-'A7-CFlow'!L35)/('A4-FinPerf RE'!L33-'A4-FinPerf RE'!L30)),0,(('A4-FinPerf RE'!L41-'A7-CFlow'!L35)/('A4-FinPerf RE'!L33-'A4-FinPerf RE'!L30)))","v":0}]
["Borrowed funding of 'own' capital expenditure","Borrowing/Capital expenditure excl. transfers and grants and contributions",{"$f":"IF(ISERROR(C53/C52),0,(C53/C52))","v":0},{"$f":"IF(ISERROR(D53/D52),0,(D53/D52))","v":0},{"$f":"IF(ISERROR(E53/E52),0,(E53/E52))","v":5.9747639283780947},0,0,0,0,0,0,0]
["Safety of Capital"]
["Gearing","Long Term Borrowing/ Funds & Reserves",{"$f":"IF(ISERROR(('A6-FinPos'!C41/'A6-FinPos'!C48)),0,(('A6-FinPos'!C41/'A6-FinPos'!C48)))","v":0},{"$f":"IF(ISERROR(('A6-FinPos'!D41/'A6-FinPos'!D48)),0,(('A6-FinPos'!D41/'A6-FinPos'!D48)))","v":0},{"$f":"IF(ISERROR(('A6-FinPos'!E41/'A6-FinPos'!E48)),0,(('A6-FinPos'!E41/'A6-FinPos'!E48)))","v":0},{"$f":"IF(ISERROR(('A6-FinPos'!F41/'A6-FinPos'!F48)),0,(('A6-FinPos'!F41/'A6-FinPos'!F48)))","v":0},{"$f":"IF(ISERROR(('A6-FinPos'!G41/'A6-FinPos'!G48)),0,(('A6-FinPos'!G41/'A6-FinPos'!G48)))","v":0},{"$f":"IF(ISERROR(('A6-FinPos'!H41/'A6-FinPos'!H48)),0,(('A6-FinPos'!H41/'A6-FinPos'!H48)))","v":0},{"$f":"IF(ISERROR(('A6-FinPos'!I41/'A6-FinPos'!I48)),0,(('A6-FinPos'!I41/'A6-FinPos'!I48)))","v":0},{"$f":"IF(ISERROR(('A6-FinPos'!J41/'A6-FinPos'!J48)),0,(('A6-FinPos'!J41/'A6-FinPos'!J48)))","v":0},{"$f":"IF(ISERROR(('A6-FinPos'!K41/'A6-FinPos'!K48)),0,(('A6-FinPos'!K41/'A6-FinPos'!K48)))","v":0},{"$f":"IF(ISERROR(('A6-FinPos'!L41/'A6-FinPos'!L48)),0,(('A6-FinPos'!L41/'A6-FinPos'!L48)))","v":0}]
["Liquidity"]
["Current Ratio","Current assets/current liabilities",{"$f":"IF(ISERROR('A6-FinPos'!C13/'A6-FinPos'!C37),0,('A6-FinPos'!C13/'A6-FinPos'!C37))","v":1.0695195977917797},{"$f":"IF(ISERROR('A6-FinPos'!D13/'A6-FinPos'!D37),0,('A6-FinPos'!D13/'A6-FinPos'!D37))","v":1.3841105283358655},{"$f":"IF(ISERROR('A6-FinPos'!E13/'A6-FinPos'!E37),0,('A6-FinPos'!E13/'A6-FinPos'!E37))","v":1.4272907812382083},{"$f":"IF(ISERROR('A6-FinPos'!F13/'A6-FinPos'!F37),0,('A6-FinPos'!F13/'A6-FinPos'!F37))","v":3.4908241502308228},{"$f":"IF(ISERROR('A6-FinPos'!G13/'A6-FinPos'!G37),0,('A6-FinPos'!G13/'A6-FinPos'!G37))","v":4.3016776499965026},{"$f":"IF(ISERROR('A6-FinPos'!H13/'A6-FinPos'!H37),0,('A6-FinPos'!H13/'A6-FinPos'!H37))","v":4.3016776499965026},{"$f":"IF(ISERROR('A6-FinPos'!I13/'A6-FinPos'!I37),0,('A6-FinPos'!I13/'A6-FinPos'!I37))","v":2.4505511439720067},{"$f":"IF(ISERROR('A6-FinPos'!J13/'A6-FinPos'!J37),0,('A6-FinPos'!J13/'A6-FinPos'!J37))","v":3.0319865116611595},{"$f":"IF(ISERROR('A6-FinPos'!K13/'A6-FinPos'!K37),0,('A6-FinPos'!K13/'A6-FinPos'!K37))","v":3.6524644255925205},{"$f":"IF(ISERROR('A6-FinPos'!L13/'A6-FinPos'!L37),0,('A6-FinPos'!L13/'A6-FinPos'!L37))","v":3.4981715127046438}]
["Current Ratio adjusted for aged debtors","Current assets less debtors > 90 days/current liabilities",{"$f":"IF(ISERROR(('A6-FinPos'!C13-'SA8'!C49)/'A6-FinPos'!C37),0,(('A6-FinPos'!C13-'SA8'!C49)/'A6-FinPos'!C37))","v":1.0695195977917797},{"$f":"IF(ISERROR(('A6-FinPos'!D13-'SA8'!D49)/'A6-FinPos'!D37),0,(('A6-FinPos'!D13-'SA8'!D49)/'A6-FinPos'!D37))","v":1.3841105283358655},{"$f":"IF(ISERROR(('A6-FinPos'!E13-'SA8'!E49)/'A6-FinPos'!E37),0,(('A6-FinPos'!E13-'SA8'!E49)/'A6-FinPos'!E37))","v":1.4272907812382083},{"$f":"IF(ISERROR(('A6-FinPos'!F13-'SA8'!F49)/'A6-FinPos'!F37),0,(('A6-FinPos'!F13-'SA8'!F49)/'A6-FinPos'!F37))","v":3.4908241502308228},{"$f":"IF(ISERROR(('A6-FinPos'!G13-'SA8'!G49)/'A6-FinPos'!G37),0,(('A6-FinPos'!G13-'SA8'!G49)/'A6-FinPos'!G37))","v":4.3016776499965026},{"$f":"IF(ISERROR(('A6-FinPos'!H13-'SA8'!H49)/'A6-FinPos'!H37),0,(('A6-FinPos'!H13-'SA8'!H49)/'A6-FinPos'!H37))","v":4.3016776499965026},{"$f":"IF(ISERROR(('A6-FinPos'!I13-'SA8'!I49)/'A6-FinPos'!I37),0,(('A6-FinPos'!I13-'SA8'!I49)/'A6-FinPos'!I37))","v":2.4505511439720067},{"$f":"IF(ISERROR(('A6-FinPos'!J13-'SA8'!J49)/'A6-FinPos'!J37),0,(('A6-FinPos'!J13-'SA8'!J49)/'A6-FinPos'!J37))","v":3.0319865116611595},{"$f":"IF(ISERROR(('A6-FinPos'!K13-'SA8'!K49)/'A6-FinPos'!K37),0,(('A6-FinPos'!K13-'SA8'!K49)/'A6-FinPos'!K37))","v":3.6524644255925205},{"$f":"IF(ISERROR(('A6-FinPos'!L13-'SA8'!L49)/'A6-FinPos'!L37),0,(('A6-FinPos'!L13-'SA8'!L49)/'A6-FinPos'!L37))","v":3.4981715127046438}]
["Liquidity Ratio","Monetary Assets/Current Liabilities",{"$f":"IF(ISERROR(('A6-FinPos'!C6+'A6-FinPos'!C7)/'A6-FinPos'!C37),0,(('A6-FinPos'!C6+'A6-FinPos'!C7)/'A6-FinPos'!C37))","v":1.1225446084897266},{"$f":"IF(ISERROR(('A6-FinPos'!D6+'A6-FinPos'!D7)/'A6-FinPos'!D37),0,(('A6-FinPos'!D6+'A6-FinPos'!D7)/'A6-FinPos'!D37))","v":1.0150436215248819},{"$f":"IF(ISERROR(('A6-FinPos'!E6+'A6-FinPos'!E7)/'A6-FinPos'!E37),0,(('A6-FinPos'!E6+'A6-FinPos'!E7)/'A6-FinPos'!E37))","v":0.99212234890584927},{"$f":"IF(ISERROR(('A6-FinPos'!F6+'A6-FinPos'!F7)/'A6-FinPos'!F37),0,(('A6-FinPos'!F6+'A6-FinPos'!F7)/'A6-FinPos'!F37))","v":2.7806466625827695},{"$f":"IF(ISERROR(('A6-FinPos'!G6+'A6-FinPos'!G7)/'A6-FinPos'!G37),0,(('A6-FinPos'!G6+'A6-FinPos'!G7)/'A6-FinPos'!G37))","v":3.5696847853343447},{"$f":"IF(ISERROR(('A6-FinPos'!H6+'A6-FinPos'!H7)/'A6-FinPos'!H37),0,(('A6-FinPos'!H6+'A6-FinPos'!H7)/'A6-FinPos'!H37))","v":3.5696847853343447},{"$f":"IF(ISERROR(('A6-FinPos'!I6+'A6-FinPos'!I7)/'A6-FinPos'!I37),0,(('A6-FinPos'!I6+'A6-FinPos'!I7)/'A6-FinPos'!I37))","v":1.2437752467636698},{"$f":"IF(ISERROR(('A6-FinPos'!J6+'A6-FinPos'!J7)/'A6-FinPos'!J37),0,(('A6-FinPos'!J6+'A6-FinPos'!J7)/'A6-FinPos'!J37))","v":2.0628209983264334},{"$f":"IF(ISERROR(('A6-FinPos'!K6+'A6-FinPos'!K7)/'A6-FinPos'!K37),0,(('A6-FinPos'!K6+'A6-FinPos'!K7)/'A6-FinPos'!K37))","v":2.5673350688629557},{"$f":"IF(ISERROR(('A6-FinPos'!L6+'A6-FinPos'!L7)/'A6-FinPos'!L37),0,(('A6-FinPos'!L6+'A6-FinPos'!L7)/'A6-FinPos'!L37))","v":2.4731461061356432}]
["Revenue Management"]
["Annual Debtors Collection Rate (Payment Level %)","Last 12 Mths Receipts/Last 12 Mths Billing",{"$f":"IF(ISERROR(('A7-CFlow'!B6+'A7-CFlow'!B7+'A7-CFlow'!B22+'A7-CFlow'!B23)/SUM('A4-FinPerf RE'!B5:B10)),0,('A7-CFlow'!B6+'A7-CFlow'!B7+'A7-CFlow'!B22+'A7-CFlow'!B23)/(SUM('A4-FinPerf RE'!B5:B10)))","v":0},{"$f":"IF(ISERROR(('A7-CFlow'!C6+'A7-CFlow'!C7+'A7-CFlow'!C22+'A7-CFlow'!C23)/SUM('A4-FinPerf RE'!C5:C10)),0,('A7-CFlow'!C6+'A7-CFlow'!C7+'A7-CFlow'!C22+'A7-CFlow'!C23)/(SUM('A4-FinPerf RE'!C5:C10)))","v":2.5015004705236152},{"$f":"IF(ISERROR(('A7-CFlow'!D6+'A7-CFlow'!D7+'A7-CFlow'!D22+'A7-CFlow'!D23)/SUM('A4-FinPerf RE'!D5:D10)),0,('A7-CFlow'!D6+'A7-CFlow'!D7+'A7-CFlow'!D22+'A7-CFlow'!D23)/(SUM('A4-FinPerf RE'!D5:D10)))","v":1.5281933950000892},{"$f":"IF(ISERROR(('A7-CFlow'!E6+'A7-CFlow'!E7+'A7-CFlow'!E22+'A7-CFlow'!E23)/SUM('A4-FinPerf RE'!E5:E10)),0,('A7-CFlow'!E6+'A7-CFlow'!E7+'A7-CFlow'!E22+'A7-CFlow'!E23)/(SUM('A4-FinPerf RE'!E5:E10)))","v":2.0494124730266736},{"$f":"IF(ISERROR(('A7-CFlow'!F6+'A7-CFlow'!F7+'A7-CFlow'!F22+'A7-CFlow'!F23)/SUM('A4-FinPerf RE'!F5:F10)),0,('A7-CFlow'!F6+'A7-CFlow'!F7+'A7-CFlow'!F22+'A7-CFlow'!F23)/(SUM('A4-FinPerf RE'!F5:F10)))","v":1.5534412734152421},{"$f":"IF(ISERROR(('A7-CFlow'!G6+'A7-CFlow'!G7+'A7-CFlow'!G22+'A7-CFlow'!G23)/SUM('A4-FinPerf RE'!G5:G10)),0,('A7-CFlow'!G6+'A7-CFlow'!G7+'A7-CFlow'!G22+'A7-CFlow'!G23)/(SUM('A4-FinPerf RE'!G5:G10)))","v":1.5209077386240339},{"$f":"IF(ISERROR(('A7-CFlow'!H6+'A7-CFlow'!H7+'A7-CFlow'!H22+'A7-CFlow'!H23)/SUM('A4-FinPerf RE'!H5:H10)),0,('A7-CFlow'!H6+'A7-CFlow'!H7+'A7-CFlow'!H22+'A7-CFlow'!H23)/(SUM('A4-FinPerf RE'!H5:H10)))","v":1.5209077386240339},{"$f":"IF(ISERROR(('A7-CFlow'!I6+'A7-CFlow'!I7+'A7-CFlow'!I22+'A7-CFlow'!I23)/SUM('A4-FinPerf RE'!I5:I10)),0,('A7-CFlow'!I6+'A7-CFlow'!I7+'A7-CFlow'!I22+'A7-CFlow'!I23)/(SUM('A4-FinPerf RE'!I5:I10)))","v":1.0396676509488494},{"$f":"IF(ISERROR(('A7-CFlow'!J6+'A7-CFlow'!J7+'A7-CFlow'!J22+'A7-CFlow'!J23)/SUM('A4-FinPerf RE'!J5:J10)),0,('A7-CFlow'!J6+'A7-CFlow'!J7+'A7-CFlow'!J22+'A7-CFlow'!J23)/(SUM('A4-FinPerf RE'!J5:J10)))","v":1.4236969634897747},{"$f":"IF(ISERROR(('A7-CFlow'!K6+'A7-CFlow'!K7+'A7-CFlow'!K22+'A7-CFlow'!K23)/SUM('A4-FinPerf RE'!K5:K10)),0,('A7-CFlow'!K6+'A7-CFlow'!K7+'A7-CFlow'!K22+'A7-CFlow'!K23)/(SUM('A4-FinPerf RE'!K5:K10)))","v":1.4277368174066587}]
["Current Debtors Collection Rate (Cash receipts % of Ratepayer & Other revenue)",null,{"$f":"IF(ISERROR(('A7-CFlow'!C6+'A7-CFlow'!C7)/SUM('A4-FinPerf RE'!C5:C10)),0,(('A7-CFlow'!C6+'A7-CFlow'!C7)/SUM('A4-FinPerf RE'!C5:C10)))","v":2.5015004705236152},{"$f":"IF(ISERROR(('A7-CFlow'!D6+'A7-CFlow'!D7)/SUM('A4-FinPerf RE'!D5:D10)),0,(('A7-CFlow'!D6+'A7-CFlow'!D7)/SUM('A4-FinPerf RE'!D5:D10)))","v":1.5281933950000892},{"$f":"IF(ISERROR(('A7-CFlow'!E6+'A7-CFlow'!E7)/SUM('A4-FinPerf RE'!E5:E10)),0,(('A7-CFlow'!E6+'A7-CFlow'!E7)/SUM('A4-FinPerf RE'!E5:E10)))","v":2.0494124730266736},{"$f":"IF(ISERROR(('A7-CFlow'!F6+'A7-CFlow'!F7)/SUM('A4-FinPerf RE'!F5:F10)),0,(('A7-CFlow'!F6+'A7-CFlow'!F7)/SUM('A4-FinPerf RE'!F5:F10)))","v":1.5534412734152421},{"$f":"IF(ISERROR(('A7-CFlow'!G6+'A7-CFlow'!G7)/SUM('A4-FinPerf RE'!G5:G10)),0,(('A7-CFlow'!G6+'A7-CFlow'!G7)/SUM('A4-FinPerf RE'!G5:G10)))","v":1.5209077386240339},{"$f":"IF(ISERROR(('A7-CFlow'!H6+'A7-CFlow'!H7)/SUM('A4-FinPerf RE'!H5:H10)),0,(('A7-CFlow'!H6+'A7-CFlow'!H7)/SUM('A4-FinPerf RE'!H5:H10)))","v":1.5209077386240339},{"$f":"IF(ISERROR(('A7-CFlow'!I6+'A7-CFlow'!I7)/SUM('A4-FinPerf RE'!I5:I10)),0,(('A7-CFlow'!I6+'A7-CFlow'!I7)/SUM('A4-FinPerf RE'!I5:I10)))","v":1.0396676509488494},{"$f":"IF(ISERROR(('A7-CFlow'!J6+'A7-CFlow'!J7)/SUM('A4-FinPerf RE'!J5:J10)),0,(('A7-CFlow'!J6+'A7-CFlow'!J7)/SUM('A4-FinPerf RE'!J5:J10)))","v":1.4236969634897747},{"$f":"IF(ISERROR(('A7-CFlow'!K6+'A7-CFlow'!K7)/SUM('A4-FinPerf RE'!K5:K10)),0,(('A7-CFlow'!K6+'A7-CFlow'!K7)/SUM('A4-FinPerf RE'!K5:K10)))","v":1.4277368174066587},{"$f":"IF(ISERROR(('A7-CFlow'!L6+'A7-CFlow'!L7)/SUM('A4-FinPerf RE'!L5:L10)),0,(('A7-CFlow'!L6+'A7-CFlow'!L7)/SUM('A4-FinPerf RE'!L5:L10)))","v":1.3986809486712319}]
["Outstanding Debtors to Revenue","Total Outstanding Debtors to Annual Revenue",{"$f":"IF(ISERROR(('A6-FinPos'!C8+'A6-FinPos'!C10+'A6-FinPos'!C11+'A6-FinPos'!C16)/'A4-FinPerf RE'!C33),0,(('A6-FinPos'!C8+'A6-FinPos'!C10+'A6-FinPos'!C11+'A6-FinPos'!C16)/'A4-FinPerf RE'!C33))","v":1.1838322231419724E-2},{"$f":"IF(ISERROR(('A6-FinPos'!D8+'A6-FinPos'!D10+'A6-FinPos'!D11+'A6-FinPos'!D16)/'A4-FinPerf RE'!D33),0,(('A6-FinPos'!D8+'A6-FinPos'!D10+'A6-FinPos'!D11+'A6-FinPos'!D16)/'A4-FinPerf RE'!D33))","v":0.16341839779161019},{"$f":"IF(ISERROR(('A6-FinPos'!E8+'A6-FinPos'!E10+'A6-FinPos'!E11+'A6-FinPos'!E16)/'A4-FinPerf RE'!E33),0,(('A6-FinPos'!E8+'A6-FinPos'!E10+'A6-FinPos'!E11+'A6-FinPos'!E16)/'A4-FinPerf RE'!E33))","v":0.2603564650314969},{"$f":"IF(ISERROR(('A6-FinPos'!F8+'A6-FinPos'!F10+'A6-FinPos'!F11+'A6-FinPos'!F16)/'A4-FinPerf RE'!F33),0,(('A6-FinPos'!F8+'A6-FinPos'!F10+'A6-FinPos'!F11+'A6-FinPos'!F16)/'A4-FinPerf RE'!F33))","v":0.1371984700047682},{"$f":"IF(ISERROR(('A6-FinPos'!G8+'A6-FinPos'!G10+'A6-FinPos'!G11+'A6-FinPos'!G16)/'A4-FinPerf RE'!G33),0,(('A6-FinPos'!G8+'A6-FinPos'!G10+'A6-FinPos'!G11+'A6-FinPos'!G16)/'A4-FinPerf RE'!G33))","v":0.12742615597018606},{"$f":"IF(ISERROR(('A6-FinPos'!H8+'A6-FinPos'!H10+'A6-FinPos'!H11+'A6-FinPos'!H16)/'A4-FinPerf RE'!H33),0,(('A6-FinPos'!H8+'A6-FinPos'!H10+'A6-FinPos'!H11+'A6-FinPos'!H16)/'A4-FinPerf RE'!H33))","v":0.12742615597018606},{"$f":"IF(ISERROR(('A6-FinPos'!I8+'A6-FinPos'!I10+'A6-FinPos'!I11+'A6-FinPos'!I16)/'A4-FinPerf RE'!I33),0,(('A6-FinPos'!I8+'A6-FinPos'!I10+'A6-FinPos'!I11+'A6-FinPos'!I16)/'A4-FinPerf RE'!I33))","v":0.431564712624456},{"$f":"IF(ISERROR(('A6-FinPos'!J8+'A6-FinPos'!J10+'A6-FinPos'!J11+'A6-FinPos'!J16)/'A4-FinPerf RE'!J33),0,(('A6-FinPos'!J8+'A6-FinPos'!J10+'A6-FinPos'!J11+'A6-FinPos'!J16)/'A4-FinPerf RE'!J33))","v":0.32201424740240875},{"$f":"IF(ISERROR(('A6-FinPos'!K8+'A6-FinPos'!K10+'A6-FinPos'!K11+'A6-FinPos'!K16)/'A4-FinPerf RE'!K33),0,(('A6-FinPos'!K8+'A6-FinPos'!K10+'A6-FinPos'!K11+'A6-FinPos'!K16)/'A4-FinPerf RE'!K33))","v":0.33276893110312894},{"$f":"IF(ISERROR(('A6-FinPos'!L8+'A6-FinPos'!L10+'A6-FinPos'!L11+'A6-FinPos'!L16)/'A4-FinPerf RE'!L33),0,(('A6-FinPos'!L8+'A6-FinPos'!L10+'A6-FinPos'!L11+'A6-FinPos'!L16)/'A4-FinPerf RE'!L33))","v":0.32796675404571507}]
["Longstanding Debtors Recovered","Debtors > 12 Mths Recovered/Total Debtors > 12 Months Old",0,0,0,1509386.02,1509386.02,1509386.02,0,0,0,0]
["Creditors Management"]
["Creditors System Efficiency","% of Creditors Paid Within Terms (within`MFMA' s 65(e))",0,0,0,1,1,1,0,0,0,0]
["Creditors to Cash and Investments",null,{"$f":"IF(ISERROR('SA3'!C147/'A7-CFlow'!C40),0,('SA3'!C147/'A7-CFlow'!C40))","v":-2.6382994362422614},{"$f":"IF(ISERROR('SA3'!D147/'A7-CFlow'!D40),0,('SA3'!D147/'A7-CFlow'!D40))","v":-1.5083370735073816},{"$f":"IF(ISERROR('SA3'!E147/'A7-CFlow'!E40),0,('SA3'!E147/'A7-CFlow'!E40))","v":0.71484640806370126},{"$f":"IF(ISERROR('SA3'!F147/'A7-CFlow'!F40),0,('SA3'!F147/'A7-CFlow'!F40))","v":0.16995902362607851},{"$f":"IF(ISERROR('SA3'!G147/'A7-CFlow'!G40),0,('SA3'!G147/'A7-CFlow'!G40))","v":0.17915682513155773},{"$f":"IF(ISERROR('SA3'!H147/'A7-CFlow'!H40),0,('SA3'!H147/'A7-CFlow'!H40))","v":0.17915682513155773},{"$f":"IF(ISERROR('SA3'!I147/'A7-CFlow'!I40),0,('SA3'!I147/'A7-CFlow'!I40))","v":-0.33188556705876499},{"$f":"IF(ISERROR('SA3'!J147/'A7-CFlow'!J40),0,('SA3'!J147/'A7-CFlow'!J40))","v":0.36664771482347197},{"$f":"IF(ISERROR('SA3'!K147/'A7-CFlow'!K40),0,('SA3'!K147/'A7-CFlow'!K40))","v":0.34646985523231061},{"$f":"IF(ISERROR('SA3'!L147/'A7-CFlow'!L40),0,('SA3'!L147/'A7-CFlow'!L40))","v":0.3362955159781405}]
[]
["Other Indicators"]
["Electricity Distribution Losses (2)","Total Volume Losses (kW) technical",0,0,0,2968039,2968039,2968039,0,0,0,0]
[null,"Total Volume Losses (kW) non technical"]
[null,"Total Cost of Losses (Rand '000)",0,0,0,26044675,26044675,26044675,0,0,0,0]
[null,"% Volume (units purchased and generated less units sold)/units purchased and generated",0,0,0,9.6999999999999993,9.6999999999999993,9.6999999999999993,0,0,0,0]
["Water Volumes :System input","Bulk Purchase"]
[null,"Water treatment works"]
[null,"Natural sources"]
["Water Distribution Losses (2)","Total Volume Losses (kℓ)"]
[null,"Total Cost of Losses (Rand '000)"]
[null,"% Volume (units purchased and generated less units sold)/units purchased and generated"]
["Employee costs","Employee costs/(Total Revenue - capital revenue)",{"$f":"IF(ISERROR('A4-FinPerf RE'!C35/'A4-FinPerf RE'!C33),0,('A4-FinPerf RE'!C35/'A4-FinPerf RE'!C33))","v":0.41391988154493109},{"$f":"IF(ISERROR('A4-FinPerf RE'!D35/'A4-FinPerf RE'!D33),0,('A4-FinPerf RE'!D35/'A4-FinPerf RE'!D33))","v":0.38747582986278789},{"$f":"IF(ISERROR('A4-FinPerf RE'!E35/'A4-FinPerf RE'!E33),0,('A4-FinPerf RE'!E35/'A4-FinPerf RE'!E33))","v":0.35402488798719872},{"$f":"IF(ISERROR('A4-FinPerf RE'!F35/'A4-FinPerf RE'!F33),0,('A4-FinPerf RE'!F35/'A4-FinPerf RE'!F33))","v":0.38446512516275366},{"$f":"IF(ISERROR('A4-FinPerf RE'!G35/'A4-FinPerf RE'!G33),0,('A4-FinPerf RE'!G35/'A4-FinPerf RE'!G33))","v":0.34577141334378764},{"$f":"IF(ISERROR('A4-FinPerf RE'!H35/'A4-FinPerf RE'!H33),0,('A4-FinPerf RE'!H35/'A4-FinPerf RE'!H33))","v":0.34577141334378764},{"$f":"IF(ISERROR('A4-FinPerf RE'!I35/'A4-FinPerf RE'!I33),0,('A4-FinPerf RE'!I35/'A4-FinPerf RE'!I33))","v":0.33390060817947254},{"$f":"IF(ISERROR('A4-FinPerf RE'!J35/'A4-FinPerf RE'!J33),0,('A4-FinPerf RE'!J35/'A4-FinPerf RE'!J33))","v":0.36300108564493722},{"$f":"IF(ISERROR('A4-FinPerf RE'!K35/'A4-FinPerf RE'!K33),0,('A4-FinPerf RE'!K35/'A4-FinPerf RE'!K33))","v":0.36791254863277389},{"$f":"IF(ISERROR('A4-FinPerf RE'!L35/'A4-FinPerf RE'!L33),0,('A4-FinPerf RE'!L35/'A4-FinPerf RE'!L33))","v":0.36373899959377343}]
["Remuneration","Total remuneration/(Total Revenue - capital revenue)",{"$f":"IF(ISERROR('SA22'!C122/'A4-FinPerf RE'!C33),0,('SA22'!C122/'A4-FinPerf RE'!C33))","v":0.47336675213915075},{"$f":"IF(ISERROR('SA22'!D122/'A4-FinPerf RE'!D33),0,('SA22'!D122/'A4-FinPerf RE'!D33))","v":0.44364715534759885},{"$f":"IF(ISERROR('SA22'!E122/'A4-FinPerf RE'!E33),0,('SA22'!E122/'A4-FinPerf RE'!E33))","v":0.40545038988444304},{"$f":"IF(ISERROR('SA22'!F122/'A4-FinPerf RE'!F33),0,('SA22'!F122/'A4-FinPerf RE'!F33))","v":0.44455059396024116},{"$f":"IF(ISERROR('SA22'!G122/'A4-FinPerf RE'!G33),0,('SA22'!G122/'A4-FinPerf RE'!G33))","v":0.39980970214497957},{"$f":"IF(ISERROR('SA22'!H122/'A4-FinPerf RE'!H33),0,('SA22'!H122/'A4-FinPerf RE'!H33))","v":0.39980970214497957},{"$f":"IF(ISERROR('SA22'!I122/'A4-FinPerf RE'!I33),0,('SA22'!I122/'A4-FinPerf RE'!I33))","v":0.45683412547797708},{"$f":"IF(ISERROR('SA22'!I122/'A4-FinPerf RE'!J33),0,('SA22'!I122/'A4-FinPerf RE'!J33))","v":0.4180464267281036},{"$f":"IF(ISERROR('SA22'!J122/'A4-FinPerf RE'!K33),0,('SA22'!J122/'A4-FinPerf RE'!K33))","v":0.42483012956775462},{"$f":"IF(ISERROR('SA22'!K122/'A4-FinPerf RE'!L33),0,('SA22'!K122/'A4-FinPerf RE'!L33))","v":0.42001092222854458}]
["Repairs & Maintenance","R&M/(Total Revenue excluding capital revenue)",{"$f":"IF(ISERROR('A9-Asset'!C184/'A4-FinPerf RE'!C33),0,('A9-Asset'!C184/'A4-FinPerf RE'!C33))","v":5.78374527077338E-2},{"$f":"IF(ISERROR('A9-Asset'!D184/'A4-FinPerf RE'!D33),0,('A9-Asset'!D184/'A4-FinPerf RE'!D33))","v":1.8215755959769528E-2},{"$f":"IF(ISERROR('A9-Asset'!E184/'A4-FinPerf RE'!E33),0,('A9-Asset'!E184/'A4-FinPerf RE'!E33))","v":2.7520478087217203E-2},{"$f":"IF(ISERROR('A9-Asset'!F184/'A4-FinPerf RE'!F33),0,('A9-Asset'!F184/'A4-FinPerf RE'!F33))","v":1.6200259291402026E-2},{"$f":"IF(ISERROR('A9-Asset'!G184/'A4-FinPerf RE'!G33),0,('A9-Asset'!G184/'A4-FinPerf RE'!G33))","v":8.141034682534307E-3},{"$f":"IF(ISERROR('A9-Asset'!H184/'A4-FinPerf RE'!H33),0,('A9-Asset'!H184/'A4-FinPerf RE'!H33))","v":8.141034682534307E-3},{"$f":"IF(ISERROR('A9-Asset'!I184/'A4-FinPerf RE'!I33),0,('A9-Asset'!I184/'A4-FinPerf RE'!I33))","v":9.2080545660561917E-3},{"$f":"IF(ISERROR('A9-Asset'!I184/'A4-FinPerf RE'!J33),0,('A9-Asset'!I184/'A4-FinPerf RE'!J33))","v":8.4262407157732356E-3},{"$f":"IF(ISERROR('A9-Asset'!J184/'A4-FinPerf RE'!K33),0,('A9-Asset'!J184/'A4-FinPerf RE'!K33))","v":8.4650059303653467E-3},{"$f":"IF(ISERROR('A9-Asset'!K184/'A4-FinPerf RE'!L33),0,('A9-Asset'!K184/'A4-FinPerf RE'!L33))","v":8.3689877702425759E-3}]
["Finance charges & Depreciation","FC&D/(Total Revenue - capital revenue)",{"$f":"IF(ISERROR(('A4-FinPerf RE'!C41+'A4-FinPerf RE'!C40)/'A4-FinPerf RE'!C33),0,(('A4-FinPerf RE'!C41+'A4-FinPerf RE'!C40)/'A4-FinPerf RE'!C33))","v":0.10505486810444413},{"$f":"IF(ISERROR(('A4-FinPerf RE'!D41+'A4-FinPerf RE'!D40)/'A4-FinPerf RE'!D33),0,(('A4-FinPerf RE'!D41+'A4-FinPerf RE'!D40)/'A4-FinPerf RE'!D33))","v":0.10982216563570965},{"$f":"IF(ISERROR(('A4-FinPerf RE'!E41+'A4-FinPerf RE'!E40)/'A4-FinPerf RE'!E33),0,(('A4-FinPerf RE'!E41+'A4-FinPerf RE'!E40)/'A4-FinPerf RE'!E33))","v":0.10241195539124021},{"$f":"IF(ISERROR(('A4-FinPerf RE'!F41+'A4-FinPerf RE'!F40)/'A4-FinPerf RE'!F33),0,(('A4-FinPerf RE'!F41+'A4-FinPerf RE'!F40)/'A4-FinPerf RE'!F33))","v":9.1540737168371494E-2},{"$f":"IF(ISERROR(('A4-FinPerf RE'!G41+'A4-FinPerf RE'!G40)/'A4-FinPerf RE'!G33),0,(('A4-FinPerf RE'!G41+'A4-FinPerf RE'!G40)/'A4-FinPerf RE'!G33))","v":8.2327805560623621E-2},{"$f":"IF(ISERROR(('A4-FinPerf RE'!H41+'A4-FinPerf RE'!H40)/'A4-FinPerf RE'!H33),0,(('A4-FinPerf RE'!H41+'A4-FinPerf RE'!H40)/'A4-FinPerf RE'!H33))","v":8.2327805560623621E-2},{"$f":"IF(ISERROR(('A4-FinPerf RE'!I41+'A4-FinPerf RE'!I40)/'A4-FinPerf RE'!I33),0,(('A4-FinPerf RE'!I41+'A4-FinPerf RE'!I40)/'A4-FinPerf RE'!I33))","v":0},{"$f":"IF(ISERROR(('A4-FinPerf RE'!J41+'A4-FinPerf RE'!J40)/'A4-FinPerf RE'!J33),0,(('A4-FinPerf RE'!J41+'A4-FinPerf RE'!J40)/'A4-FinPerf RE'!J33))","v":8.3862075826828267E-2},{"$f":"IF(ISERROR(('A4-FinPerf RE'!K41+'A4-FinPerf RE'!K40)/'A4-FinPerf RE'!K33),0,(('A4-FinPerf RE'!K41+'A4-FinPerf RE'!K40)/'A4-FinPerf RE'!K33))","v":8.6714430080081603E-2},{"$f":"IF(ISERROR(('A4-FinPerf RE'!L41+'A4-FinPerf RE'!L40)/'A4-FinPerf RE'!L33),0,(('A4-FinPerf RE'!L41+'A4-FinPerf RE'!L40)/'A4-FinPerf RE'!L33))","v":8.5730757847472291E-2}]
["IDP regulation financial viability indicators"]
["i. Debt coverage","(Total Operating Revenue - Operating Grants)/Debt service payments due within financial year)",{"$f":"IF(ISERROR(('A4-FinPerf RE'!C33-'A4-FinPerf RE'!C30)/('A7-CFlow'!D11-'A7-CFlow'!D35)),0,(('A4-FinPerf RE'!C33-'A4-FinPerf RE'!C30)/('A7-CFlow'!D11-'A7-CFlow'!D35)))","v":1045.5218446106796},{"$f":"IF(ISERROR(('A4-FinPerf RE'!D33-'A4-FinPerf RE'!D30)/('A7-CFlow'!E11-'A7-CFlow'!E35)),0,(('A4-FinPerf RE'!D33-'A4-FinPerf RE'!D30)/('A7-CFlow'!E11-'A7-CFlow'!E35)))","v":103.12381321003244},{"$f":"IF(ISERROR(('A4-FinPerf RE'!E33-'A4-FinPerf RE'!E30)/('A7-CFlow'!F11-'A7-CFlow'!F35)),0,(('A4-FinPerf RE'!E33-'A4-FinPerf RE'!E30)/('A7-CFlow'!F11-'A7-CFlow'!F35)))","v":46.138601152637108},{"$f":"IF(ISERROR(('A4-FinPerf RE'!F33-'A4-FinPerf RE'!F30)/('A7-CFlow'!G11-'A7-CFlow'!G35)),0,(('A4-FinPerf RE'!F33-'A4-FinPerf RE'!F30)/('A7-CFlow'!G11-'A7-CFlow'!G35)))","v":33.091070841704635},{"$f":"IF(ISERROR(('A4-FinPerf RE'!G33-'A4-FinPerf RE'!G30)/('A7-CFlow'!H11-'A7-CFlow'!H35)),0,(('A4-FinPerf RE'!G33-'A4-FinPerf RE'!G30)/('A7-CFlow'!H11-'A7-CFlow'!H35)))","v":36.794142609690375},{"$f":"IF(ISERROR(('A4-FinPerf RE'!H33-'A4-FinPerf RE'!H30)/('A7-CFlow'!I11-'A7-CFlow'!I35)),0,(('A4-FinPerf RE'!H33-'A4-FinPerf RE'!H30)/('A7-CFlow'!I11-'A7-CFlow'!I35)))","v":199.19567428444512},{"$f":"IF(ISERROR(('A4-FinPerf RE'!I33-'A4-FinPerf RE'!I30)/('A7-CFlow'!J11-'A7-CFlow'!J35)),0,(('A4-FinPerf RE'!I33-'A4-FinPerf RE'!I30)/('A7-CFlow'!J11-'A7-CFlow'!J35)))","v":33.054138356307298},{"$f":"IF(ISERROR(('A4-FinPerf RE'!J33-'A4-FinPerf RE'!J30)/('A7-CFlow'!K11-'A7-CFlow'!K35)),0,(('A4-FinPerf RE'!J33-'A4-FinPerf RE'!J30)/('A7-CFlow'!K11-'A7-CFlow'!K35)))","v":34.565560263399945},{"$f":"IF(ISERROR(('A4-FinPerf RE'!K33-'A4-FinPerf RE'!K30)/('A7-CFlow'!L11-'A7-CFlow'!L35)),0,(('A4-FinPerf RE'!K33-'A4-FinPerf RE'!K30)/('A7-CFlow'!L11-'A7-CFlow'!L35)))","v":34.080828864273826},{"$f":"IF(ISERROR(('A4-FinPerf RE'!L33-'A4-FinPerf RE'!L30)/('A7-CFlow'!L11-'A7-CFlow'!L35)),0,(('A4-FinPerf RE'!L33-'A4-FinPerf RE'!L30)/('A7-CFlow'!L11-'A7-CFlow'!L35)))","v":35.333668985978484}]
["ii.O/S Service Debtors to Revenue","Total outstanding service debtors/annual revenue received for services",{"$f":"IF(ISERROR(('A6-FinPos'!C8+'A6-FinPos'!C10+'A6-FinPos'!C11)/SUM('A4-FinPerf RE'!C5:C11)),0,(('A6-FinPos'!C8+'A6-FinPos'!C10+'A6-FinPos'!C11)/SUM('A4-FinPerf RE'!C5:C11)))","v":-0.1548667804337712},{"$f":"IF(ISERROR(('A6-FinPos'!D8+'A6-FinPos'!D10+'A6-FinPos'!D11)/SUM('A4-FinPerf RE'!D5:D11)),0,(('A6-FinPos'!D8+'A6-FinPos'!D10+'A6-FinPos'!D11)/SUM('A4-FinPerf RE'!D5:D11)))","v":1.0625935974779643},{"$f":"IF(ISERROR(('A6-FinPos'!E8+'A6-FinPos'!E10+'A6-FinPos'!E11)/SUM('A4-FinPerf RE'!E5:E11)),0,(('A6-FinPos'!E8+'A6-FinPos'!E10+'A6-FinPos'!E11)/SUM('A4-FinPerf RE'!E5:E11)))","v":2.2913365964547645},{"$f":"IF(ISERROR(('A6-FinPos'!F8+'A6-FinPos'!F10+'A6-FinPos'!F11)/SUM('A4-FinPerf RE'!F5:F11)),0,(('A6-FinPos'!F8+'A6-FinPos'!F10+'A6-FinPos'!F11)/SUM('A4-FinPerf RE'!F5:F11)))","v":0.69370092393440608},{"$f":"IF(ISERROR(('A6-FinPos'!G8+'A6-FinPos'!G10+'A6-FinPos'!G11)/SUM('A4-FinPerf RE'!G5:G11)),0,(('A6-FinPos'!G8+'A6-FinPos'!G10+'A6-FinPos'!G11)/SUM('A4-FinPerf RE'!G5:G11)))","v":0.71942196104410228},{"$f":"IF(ISERROR(('A6-FinPos'!H8+'A6-FinPos'!H10+'A6-FinPos'!H11)/SUM('A4-FinPerf RE'!H5:H11)),0,(('A6-FinPos'!H8+'A6-FinPos'!H10+'A6-FinPos'!H11)/SUM('A4-FinPerf RE'!H5:H11)))","v":0.71942196104410228},{"$f":"IF(ISERROR(('A6-FinPos'!I8+'A6-FinPos'!I10+'A6-FinPos'!I11)/SUM('A4-FinPerf RE'!I5:I11)),0,(('A6-FinPos'!I8+'A6-FinPos'!I10+'A6-FinPos'!I11)/SUM('A4-FinPerf RE'!I5:I11)))","v":3.6664574989188594},{"$f":"IF(ISERROR(('A6-FinPos'!J8+'A6-FinPos'!J10+'A6-FinPos'!J11)/SUM('A4-FinPerf RE'!J5:J11)),0,(('A6-FinPos'!J8+'A6-FinPos'!J10+'A6-FinPos'!J11)/SUM('A4-FinPerf RE'!J5:J11)))","v":1.9108548143714528},{"$f":"IF(ISERROR(('A6-FinPos'!K8+'A6-FinPos'!K10+'A6-FinPos'!K11)/SUM('A4-FinPerf RE'!K5:K11)),0,(('A6-FinPos'!K8+'A6-FinPos'!K10+'A6-FinPos'!K11)/SUM('A4-FinPerf RE'!K5:K11)))","v":1.9096288045969274},{"$f":"IF(ISERROR(('A6-FinPos'!L8+'A6-FinPos'!L10+'A6-FinPos'!L11)/SUM('A4-FinPerf RE'!L5:L11)),0,(('A6-FinPos'!L8+'A6-FinPos'!L10+'A6-FinPos'!L11)/SUM('A4-FinPerf RE'!L5:L11)))","v":1.9593730052628366}]
["iii. Cost coverage","(Available cash + Investments)/monthly fixed operational expenditure",{"$f":"IF(ISERROR('A7-CFlow'!C40/'SA8'!C50),0,('A7-CFlow'!C40/'SA8'!C50))","v":-0.80459453547097248},{"$f":"IF(ISERROR('A7-CFlow'!D40/'SA8'!D50),0,('A7-CFlow'!D40/'SA8'!D50))","v":-1.6081570128243301},{"$f":"IF(ISERROR('A7-CFlow'!E40/'SA8'!E50),0,('A7-CFlow'!E40/'SA8'!E50))","v":4.6911716165049482},{"$f":"IF(ISERROR('A7-CFlow'!F40/'SA8'!F50),0,('A7-CFlow'!F40/'SA8'!F50))","v":7.0737703813294042},{"$f":"IF(ISERROR('A7-CFlow'!G40/'SA8'!G50),0,('A7-CFlow'!G40/'SA8'!G50))","v":9.0580584375627069},{"$f":"IF(ISERROR('A7-CFlow'!H40/'SA8'!H50),0,('A7-CFlow'!H40/'SA8'!H50))","v":7.2617317090378233},{"$f":"IF(ISERROR('A7-CFlow'!I40/'SA8'!I50),0,('A7-CFlow'!I40/'SA8'!I50))","v":-6.4992633674572957},{"$f":"IF(ISERROR('A7-CFlow'!J40/'SA8'!J50),0,('A7-CFlow'!J40/'SA8'!J50))","v":6.8744121213825027},{"$f":"IF(ISERROR('A7-CFlow'!K40/'SA8'!K50),0,('A7-CFlow'!K40/'SA8'!K50))","v":0},{"$f":"IF(ISERROR('A7-CFlow'!L40/'SA8'!L50),0,('A7-CFlow'!L40/'SA8'!L50))","v":0}]
[{"$f":"head27a","v":"References"}]
["1. Consumer debtors > 12 months old are excluded from current assets"]
["2. Only include if services provided by the municipality"]
[]
["Calculation data"]
["Debtors > 90 days"]
["Monthly fixed operational expenditure",null,{"$f":"(('A4-FinPerf RE'!E35+'A4-FinPerf RE'!E36+'A4-FinPerf RE'!E39+'A4-FinPerf RE'!E41+'A4-FinPerf RE'!E37+'A4-FinPerf RE'!E42+'SA1'!E91+'A7-CFlow'!E35)+(('A4-FinPerf RE'!E38+'A4-FinPerf RE'!E45)*'SA8'!E51))/12","v":23879775.157499999},{"$f":"(('A4-FinPerf RE'!F35+'A4-FinPerf RE'!F36+'A4-FinPerf RE'!F39+'A4-FinPerf RE'!F41+'A4-FinPerf RE'!F37+'A4-FinPerf RE'!F42+'SA1'!F91+'A7-CFlow'!F35)+(('A4-FinPerf RE'!F38+'A4-FinPerf RE'!F45)*'SA8'!F51))/12","v":29695495.383333337},{"$f":"(('A4-FinPerf RE'!G35+'A4-FinPerf RE'!G36+'A4-FinPerf RE'!G39+'A4-FinPerf RE'!G41+'A4-FinPerf RE'!G37+'A4-FinPerf RE'!G42+'SA1'!G91+'A7-CFlow'!G35)+(('A4-FinPerf RE'!G38+'A4-FinPerf RE'!G45)*'SA8'!G51))/12","v":29514185.333333332},{"$f":"(('A4-FinPerf RE'!H35+'A4-FinPerf RE'!H36+'A4-FinPerf RE'!H39+'A4-FinPerf RE'!H41+'A4-FinPerf RE'!H37+'A4-FinPerf RE'!H42+'SA1'!H91+'A7-CFlow'!H35)+(('A4-FinPerf RE'!H38+'A4-FinPerf RE'!H45)*'SA8'!H51))/12","v":29514185.333333332},{"$f":"(('A4-FinPerf RE'!I35+'A4-FinPerf RE'!I36+'A4-FinPerf RE'!I39+'A4-FinPerf RE'!I41+'A4-FinPerf RE'!I37+'A4-FinPerf RE'!I42+'SA1'!I91+'A7-CFlow'!I35)+(('A4-FinPerf RE'!I38+'A4-FinPerf RE'!I45)*'SA8'!I51))/12","v":21865404.199499998},{"$f":"(('A4-FinPerf RE'!J35+'A4-FinPerf RE'!J36+'A4-FinPerf RE'!J39+'A4-FinPerf RE'!J41+'A4-FinPerf RE'!J37+'A4-FinPerf RE'!J42+'SA1'!J91+'A7-CFlow'!J35)+(('A4-FinPerf RE'!J38+'A4-FinPerf RE'!J45)*'SA8'!J51))/12","v":27274225.616666663},{"$f":"(('A4-FinPerf RE'!K35+'A4-FinPerf RE'!K36+'A4-FinPerf RE'!K39+'A4-FinPerf RE'!K41+'A4-FinPerf RE'!K37+'A4-FinPerf RE'!K42+'SA1'!K91+'A7-CFlow'!K35)+(('A4-FinPerf RE'!K38+'A4-FinPerf RE'!K45)*'SA8'!K51))/12","v":27335537.733333334},{"$f":"(('A4-FinPerf RE'!L35+'A4-FinPerf RE'!L36+'A4-FinPerf RE'!L39+'A4-FinPerf RE'!L41+'A4-FinPerf RE'!L37+'A4-FinPerf RE'!L42+'SA1'!L91+'A7-CFlow'!L35)+(('A4-FinPerf RE'!L38+'A4-FinPerf RE'!L45)*'SA8'!L51))/12","v":28403344.25},{"$f":"(('A4-FinPerf RE'!M35+'A4-FinPerf RE'!M36+'A4-FinPerf RE'!M39+'A4-FinPerf RE'!M41+'A4-FinPerf RE'!M37+'A4-FinPerf RE'!M42+'SA1'!M91+'A7-CFlow'!M35)+(('A4-FinPerf RE'!M38+'A4-FinPerf RE'!M45)*'SA8'!M51))/12","v":0},{"$f":"(('A4-FinPerf RE'!N35+'A4-FinPerf RE'!N36+'A4-FinPerf RE'!N39+'A4-FinPerf RE'!N41+'A4-FinPerf RE'!N37+'A4-FinPerf RE'!N42+'SA1'!N91+'A7-CFlow'!N35)+(('A4-FinPerf RE'!N38+'A4-FinPerf RE'!N45)*'SA8'!N51))/12","v":0}]
["Fixed operational expenditure % assumption",null,0.4,{"$f":"$C$51","v":0.4},{"$f":"$C$51","v":0.4},0.4,0.4,0.4,0.4,0.4,0.4,0.4]
["Own capex",null,{"$f":"'A5-Capex'!C40-'A5-Capex'!C70-'A5-Capex'!C72","v":8073757.71},{"$f":"'A5-Capex'!D40-'A5-Capex'!D70-'A5-Capex'!D72","v":523676},{"$f":"'A5-Capex'!E40-'A5-Capex'!E70-'A5-Capex'!E72","v":1094219.8299999982},{"$f":"'A5-Capex'!F40-'A5-Capex'!F70-'A5-Capex'!F72","v":9123531},{"$f":"'A5-Capex'!G40-'A5-Capex'!G70-'A5-Capex'!G72","v":20330754},{"$f":"'A5-Capex'!H40-'A5-Capex'!H70-'A5-Capex'!H72","v":20330754},{"$f":"'A5-Capex'!I40-'A5-Capex'!I70-'A5-Capex'!I72","v":7936015.4700000137},{"$f":"'A5-Capex'!J40-'A5-Capex'!J70-'A5-Capex'!J72","v":19400000},{"$f":"'A5-Capex'!K40-'A5-Capex'!K70-'A5-Capex'!K72","v":17600000},{"$f":"'A5-Capex'!L40-'A5-Capex'!L70-'A5-Capex'!L72","v":18393400}]
["Borrowing",null,{"$f":"'A7-CFlow'!C31+'A7-CFlow'!C32","v":0},{"$f":"'A7-CFlow'!D31+'A7-CFlow'!D32","v":0},{"$f":"'A7-CFlow'!E31+'A7-CFlow'!E32","v":6537705.1699999999},{"$f":"'A7-CFlow'!F31+'A7-CFlow'!F32","v":0},{"$f":"'A7-CFlow'!G31+'A7-CFlow'!G32","v":0},{"$f":"'A7-CFlow'!H31+'A7-CFlow'!H32","v":0},{"$f":"'A7-CFlow'!I31+'A7-CFlow'!I32","v":0},{"$f":"'A7-CFlow'!J31+'A7-CFlow'!J32","v":0},{"$f":"'A7-CFlow'!K31+'A7-CFlow'!K32","v":0},{"$f":"'A7-CFlow'!L31+'A7-CFlow'!L32","v":0}]

{"sheet":"SA9","index":29,"n_rows":310,"n_cols":13,"rows_kept":310,"cut":false,"hidden":false,"merged":[[108,10,108,12],[1,5,2,5],[62,7,62,9],[62,10,62,12],[108,0,109,0],[108,7,108,9],[1,0,2,0],[62,0,63,0],[1,3,2,3],[1,4,2,4],[1,10,1,12],[1,1,2,1],[1,2,2,2],[246,7,246,9],[246,10,246,12],[246,0,247,0],[154,0,155,0],[154,7,154,9],[200,7,200,9],[200,10,200,12],[154,10,154,12],[200,0,201,0]]}
[{"$f":"muni&\" - \"&TableA9","v":"LIM351 Blouberg - Supporting Table SA9 Social, economic and demographic statistics and assumptions"}]
["Description of economic indicator","Ref.","Basis of calculation",{"$f":"Head44","v":"2001 Census"},"2007 Survey",{"$f":"Head45","v":"2011 Census"},{"$f":"head1b","v":"2021/22"},{"$f":"head1A","v":"2022/23"},{"$f":"Head1","v":"2023/24"},{"$f":"Head2","v":"Current Year 2024/25"},{"$f":"Head3","v":"2025/26 Medium Term Revenue & Expenditure Framework"}]
[null,null,null,null,null,null,{"$f":"Head5A","v":"Outcome"},"Outcome","Outcome",{"$f":"Head6","v":"Original Budget"},"Outcome","Outcome","Outcome"]
["Demographics"]
["Population",null,null,0,0,0,0,0,0,140100,141100,142100,143100]
["Females aged 5 - 14",null,null,0,194119,194119,0,0,198000,199000,200000,210000,220000]
["Males aged 5 - 14",null,null,25900,31319,31319,0,0,34319,35319,36319,37319,38319]
["Females aged 15 - 34",null,null,28401,31556,31556,0,0,40566,41566,42566,43566,44566]
["Males aged 15 - 34",null,null,28401,31556,31556,0,0,44566,45566,46566,47566,48566]
["Unemployment",null,null,22714,27812,27812,0,0,308.12,318.12,328.12,328.12,328.12]
[]
["Monthly household income (no. of households)","1, 12"]
["No income"]
["R1 - R1 600"]
["R1 601 - R3 200"]
["R3 201 - R6 400"]
["R6 401 - R12 800"]
["R12 801 - R25 600"]
["R25 601 - R51 200"]
["R52 201 - R102 400"]
["R102 401 - R204 800"]
["R204 801 - R409 600"]
["R409 601 - R819 200"]
[" > R819 200"]
[]
[]
["Poverty profiles (no. of households)"]
["< R2 060 per household per month",13]
["Insert description",2]
[]
["Household/demographics (000)"]
["Number of people in municipal area"]
["Number of poor people in municipal area"]
["Number of households in municipal area"]
["Number of poor households in municipal area"]
["Definition of poor household (R per month)"]
[]
["Housing statistics",3]
["Formal"]
["Informal"]
["Total number of households",null,null,{"$f":"SUM(D39:D40)","v":0},{"$f":"SUM(E39:E40)","v":0},0,0,0,0,0,0,0,0]
["Dwellings provided by municipality",4]
["Dwellings provided by province/s"]
["Dwellings provided by private sector",5]
["Total new housing dwellings",null,null,{"$f":"SUM(D42:D44)","v":0},{"$f":"SUM(E42:E44)","v":0},0,0,0,0,0,0,0,0]
[]
["Economic",6]
["Inflation/inflation outlook (CPIX)"]
["Interest rate - borrowing"]
["Interest rate - investment"]
["Remuneration increases"]
["Consumption growth (electricity)"]
["Consumption growth (water)"]
[]
["Collection rates",7]
["Property tax/service charges"]
["Rental of facilities & equipment"]
["Interest - external investments"]
["Interest - debtors"]
["Revenue from agency services"]
[]
["Detail on the provision of municipal services for A10"]
["Total municipal services",null,null,null,{"$f":"head1b","v":"2021/22"},{"$f":"head1A","v":"2022/23"},{"$f":"Head1","v":"2023/24"},{"$f":"Head2","v":"Current Year 2024/25"},null,null,{"$f":"Head3","v":"2025/26 Medium Term Revenue & Expenditure Framework"}]
[null,"Ref.",null,null,{"$f":"Head5A","v":"Outcome"},{"$f":"Head5A","v":"Outcome"},{"$f":"Head5A","v":"Outcome"},{"$f":"Head6","v":"Original Budget"},{"$f":"Head7","v":"Adjusted Budget"},{"$f":"Head8","v":"Full Year Forecast"},{"$f":"Head9","v":"Budget Year 2025/26"},{"$f":"Head10","v":"Budget Year +1 2026/27"},{"$f":"Head11","v":"Budget Year +2 2027/28"}]
[null,null,"Household service targets (000)"]
[null,null,"Water:"]
[null,null,"Piped water inside dwelling",null,{"$f":"E113+E159+E205","v":0},{"$f":"F113+F159+F205","v":0},0,0,0,0,0,0,0]
[null,null,"Piped water inside yard (but not in dwelling)",null,{"$f":"E114+E160+E206","v":0},{"$f":"F114+F160+F206","v":0},0,0,0,0,0,0,0]
[null,8,"Using public tap (at least min.service level)",null,{"$f":"E115+E161+E207","v":0},0,0,0,0,0,0,0,0]
[null,10,"Other water supply (at least min.service level)",null,{"$f":"E116+E162+E208","v":0},0,0,0,0,0,0,0,0]
[null,null,"Minimum Service Level and Above sub-total",null,{"$f":"SUM(E67:E70)","v":0},{"$f":"SUM(F67:F70)","v":0},0,0,0,0,0,0,0]
[null,9,"Using public tap (< min.service level)",null,{"$f":"E118+E164+E210","v":0},{"$f":"F118+F164+F210","v":0},0,0,0,0,0,0,0]
[null,10,"Other water supply (< min.service level)",null,{"$f":"E119+E165+E211","v":0},0,0,0,0,0,0,0,0]
[null,null,"No water supply",null,0,0,0,0,0,0,0,0,0]
[null,null,"Below Minimum Service Level sub-total",null,{"$f":"SUM(E72:E74)","v":0},{"$f":"SUM(F72:F74)","v":0},0,0,0,0,0,0,0]
[null,null,"Total number of households",null,{"$f":"E71+E75","v":0},{"$f":"F71+F75","v":0},0,0,0,0,0,0,0]
[null,null,"Sanitation/sewerage:"]
[null,null,"Flush toilet (connected to sewerage)",null,{"$f":"E124+E170+E216","v":0},{"$f":"F124+F170+F216","v":0},0,0,0,0,0,0,0]
[null,null,"Flush toilet (with septic tank)",null,{"$f":"E125+E171+E217","v":0},{"$f":"F125+F171+F217","v":0},0,0,0,0,0,0,0]
[null,null,"Chemical toilet",null,{"$f":"E126+E172+E218","v":0},{"$f":"F126+F172+F218","v":0},0,0,0,0,0,0,0]
[null,null,"Pit toilet (ventilated)",null,{"$f":"E127+E173+E219","v":0},{"$f":"F127+F173+F219","v":0},0,0,0,0,0,0,0]
[null,null,"Other toilet provisions (> min.service level)",null,{"$f":"E128+E174+E220","v":0},{"$f":"F128+F174+F220","v":0},0,0,0,0,0,0,0]
[null,null,"Minimum Service Level and Above sub-total",null,{"$f":"SUM(E78:E82)","v":0},{"$f":"SUM(F78:F82)","v":0},0,0,0,0,0,0,0]
[null,null,"Bucket toilet",null,{"$f":"E130+E176+E222","v":0},{"$f":"F130+F176+F222","v":0},0,0,0,0,0,0,0]
[null,null,"Other toilet provisions (< min.service level)",null,{"$f":"E131+E177+E223","v":0},{"$f":"F131+F177+F223","v":0},0,0,0,0,0,0,0]
[null,null,"No toilet provisions",null,{"$f":"E132+E178+E224","v":0},0,0,0,0,0,0,0,0]
[null,null,"Below Minimum Service Level sub-total",null,{"$f":"SUM(E84:E86)","v":0},{"$f":"SUM(F84:F86)","v":0},0,0,0,0,0,0,0]
[null,null,"Total number of households",null,{"$f":"E83+E87","v":0},{"$f":"F83+F87","v":0},0,0,0,0,0,0,0]
[null,null,"Energy:"]
[null,null,"Electricity (at least min.service level)",null,{"$f":"E136+E182+E228","v":0},{"$f":"F136+F182+F228","v":0},0,5340,5340,5340,5210,5410,0]
[null,null,"Electricity - prepaid (min.service level)",null,{"$f":"E137+E183+E229","v":0},{"$f":"F137+F183+F229","v":0},0,0,0,0,0,0,0]
[null,null,"Minimum Service Level and Above sub-total",null,{"$f":"SUM(E90:E91)","v":0},{"$f":"SUM(F90:F91)","v":0},0,5340,5340,5340,5210,5410,0]
[null,null,"Electricity (< min.service level)",null,{"$f":"E139+E185+E231","v":0},{"$f":"F139+F185+F231","v":0},0,0,0,0,0,0,0]
[null,null,"Electricity - prepaid (< min. service level)",null,{"$f":"E140+E186+E232","v":0},{"$f":"F140+F186+F232","v":0},0,0,0,0,0,0,0]
[null,null,"Other energy sources",null,{"$f":"E141+E187+E233","v":0},{"$f":"F141+F187+F233","v":0},0,0,0,0,0,0,0]
[null,null,"Below Minimum Service Level sub-total",null,{"$f":"SUM(E93:E95)","v":0},{"$f":"SUM(F93:F95)","v":0},0,0,0,0,0,0,0]
[null,null,"Total number of households",null,{"$f":"E92+E96","v":0},{"$f":"F92+F96","v":0},0,5340,5340,5340,5210,5410,0]
[null,null,"Refuse:"]
[null,null,"Removed at least once a week",null,{"$f":"E145+E191+E237","v":0},{"$f":"F145+F191+F237","v":0},0,0,0,0,0,0,0]
[null,null,"Minimum Service Level and Above sub-total",null,{"$f":"SUM(E99)","v":0},{"$f":"SUM(F99)","v":0},0,0,0,0,0,0,0]
[null,null,"Removed less frequently than once a week",null,{"$f":"E147+E193+E239","v":0},{"$f":"F147+F193+F239","v":0},0,0,0,0,0,0,0]
[null,null,"Using communal refuse dump",null,{"$f":"E148+E194+E240","v":0},{"$f":"F148+F194+F240","v":0},0,0,0,0,0,0,0]
[null,null,"Using own refuse dump",null,{"$f":"E149+E195+E241","v":0},{"$f":"F149+F195+F241","v":0},0,0,0,0,0,0,0]
[null,null,"Other rubbish disposal",null,{"$f":"E150+E196+E242","v":0},{"$f":"F150+F196+F242","v":0},0,0,0,0,0,0,0]
[null,null,"No rubbish disposal",null,{"$f":"E151+E197+E243","v":0},{"$f":"F151+F197+F243","v":0},0,0,0,0,0,0,0]
[null,null,"Below Minimum Service Level sub-total",null,{"$f":"SUM(E101:E105)","v":0},0,0,0,0,0,0,0,0]
[null,null,"Total number of households",null,{"$f":"E100+E106","v":0},{"$f":"F100+F106","v":0},0,0,0,0,0,0,0]
[]
["Municipal in-house services",null,null,null,{"$f":"head1b","v":"2021/22"},{"$f":"head1A","v":"2022/23"},{"$f":"Head1","v":"2023/24"},{"$f":"Head2","v":"Current Year 2024/25"},null,null,{"$f":"Head3","v":"2025/26 Medium Term Revenue & Expenditure Framework"}]
[null,"Ref.",null,null,{"$f":"Head5A","v":"Outcome"},{"$f":"Head5A","v":"Outcome"},{"$f":"Head5A","v":"Outcome"},{"$f":"Head6","v":"Original Budget"},{"$f":"Head7","v":"Adjusted Budget"},{"$f":"Head8","v":"Full Year Forecast"},{"$f":"Head9","v":"Budget Year 2025/26"},{"$f":"Head10","v":"Budget Year +1 2026/27"},{"$f":"Head11","v":"Budget Year +2 2027/28"}]
[null,null,"Household service targets (000)"]
[null,null,"Water:"]
[null,null,"Piped water inside dwelling"]
[null,null,"Piped water inside yard (but not in dwelling)"]
[null,8,"Using public tap (at least min.service level)"]
[null,10,"Other water supply (at least min.service level)"]
[null,null,"Minimum Service Level and Above sub-total",null,{"$f":"SUM(E113:E116)","v":0},{"$f":"SUM(F113:F116)","v":0},0,0,0,0,0,0,0]
[null,9,"Using public tap (< min.service level)"]
[null,10,"Other water supply (< min.service level)"]
[null,null,"No water supply"]
[null,null,"Below Minimum Service Level sub-total",null,{"$f":"SUM(E118:E120)","v":0},{"$f":"SUM(F118:F120)","v":0},0,0,0,0,0,0,0]
[null,null,"Total number of households",null,{"$f":"E117+E121","v":0},{"$f":"F117+F121","v":0},0,0,0,0,0,0,0]
[null,null,"Sanitation/sewerage:"]
[null,null,"Flush toilet (connected to sewerage)"]
[null,null,"Flush toilet (with septic tank)"]
[null,null,"Chemical toilet"]
[null,null,"Pit toilet (ventilated)"]
[null,null,"Other toilet provisions (> min.service level)"]
[null,null,"Minimum Service Level and Above sub-total",null,{"$f":"SUM(E124:E128)","v":0},{"$f":"SUM(F124:F128)","v":0},0,0,0,0,0,0,0]
[null,null,"Bucket toilet"]
[null,null,"Other toilet provisions (< min.service level)"]
[null,null,"No toilet provisions"]
[null,null,"Below Minimum Service Level sub-total",null,{"$f":"SUM(E130:E132)","v":0},{"$f":"SUM(F130:F132)","v":0},0,0,0,0,0,0,0]
[null,null,"Total number of households",null,{"$f":"E129+E133","v":0},{"$f":"F129+F133","v":0},0,0,0,0,0,0,0]
[null,null,"Energy:"]
[null,null,"Electricity (at least min.service level)",null,0,0,0,5340,5340,5340,5210,5410,0]
[null,null,"Electricity - prepaid (min.service level)"]
[null,null,"Minimum Service Level and Above sub-total",null,{"$f":"SUM(E136:E137)","v":0},{"$f":"SUM(F136:F137)","v":0},0,5340,5340,5340,5210,5410,0]
[null,null,"Electricity (< min.service level)"]
[null,null,"Electricity - prepaid (< min. service level)"]
[null,null,"Other energy sources"]
[null,null,"Below Minimum Service Level sub-total",null,{"$f":"SUM(E139:E141)","v":0},{"$f":"SUM(F139:F141)","v":0},0,0,0,0,0,0,0]
[null,null,"Total number of households",null,{"$f":"E138+E142","v":0},{"$f":"F138+F142","v":0},0,5340,5340,5340,5210,5410,0]
[null,null,"Refuse:"]
[null,null,"Removed at least once a week"]
[null,null,"Minimum Service Level and Above sub-total",null,{"$f":"SUM(E145)","v":0},{"$f":"SUM(F145)","v":0},0,0,0,0,0,0,0]
[null,null,"Removed less frequently than once a week"]
[null,null,"Using communal refuse dump"]
[null,null,"Using own refuse dump"]
[null,null,"Other rubbish disposal"]
[null,null,"No rubbish disposal"]
[null,null,"Below Minimum Service Level sub-total",null,{"$f":"SUM(E147:E151)","v":0},{"$f":"SUM(F147:F151)","v":0},0,0,0,0,0,0,0]
[null,null,"Total number of households",null,{"$f":"E146+E152","v":0},{"$f":"F146+F152","v":0},0,0,0,0,0,0,0]
[]
["Municipal entity services",null,null,null,{"$f":"head1b","v":"2021/22"},{"$f":"head1A","v":"2022/23"},{"$f":"Head1","v":"2023/24"},{"$f":"Head2","v":"Current Year 2024/25"},null,null,{"$f":"Head3","v":"2025/26 Medium Term Revenue & Expenditure Framework"}]
[null,"Ref.",null,null,{"$f":"Head5A","v":"Outcome"},{"$f":"Head5A","v":"Outcome"},{"$f":"Head5A","v":"Outcome"},{"$f":"Head6","v":"Original Budget"},{"$f":"Head7","v":"Adjusted Budget"},{"$f":"Head8","v":"Full Year Forecast"},{"$f":"Head9","v":"Budget Year 2025/26"},{"$f":"Head10","v":"Budget Year +1 2026/27"},{"$f":"Head11","v":"Budget Year +2 2027/28"}]
[null,null,"Household service targets (000)"]
["Name of municipal entity",null,"Water:"]
[null,null,"Piped water inside dwelling"]
[null,null,"Piped water inside yard (but not in dwelling)"]
[null,8,"Using public tap (at least min.service level)"]
[null,10,"Other water supply (at least min.service level)"]
[null,null,"Minimum Service Level and Above sub-total",null,{"$f":"SUM(E159:E162)","v":0},{"$f":"SUM(F159:F162)","v":0},0,0,0,0,0,0,0]
[null,9,"Using public tap (< min.service level)"]
[null,10,"Other water supply (< min.service level)"]
[null,null,"No water supply"]
[null,null,"Below Minimum Service Level sub-total",null,{"$f":"SUM(E164:E166)","v":0},{"$f":"SUM(F164:F166)","v":0},0,0,0,0,0,0,0]
[null,null,"Total number of households",null,{"$f":"E163+E167","v":0},{"$f":"F163+F167","v":0},0,0,0,0,0,0,0]
["Name of municipal entity",null,"Sanitation/sewerage:"]
[null,null,"Flush toilet (connected to sewerage)"]
[null,null,"Flush toilet (with septic tank)"]
[null,null,"Chemical toilet"]
[null,null,"Pit toilet (ventilated)"]
[null,null,"Other toilet provisions (> min.service level)"]
[null,null,"Minimum Service Level and Above sub-total",null,{"$f":"SUM(E170:E174)","v":0},{"$f":"SUM(F170:F174)","v":0},0,0,0,0,0,0,0]
[null,null,"Bucket toilet"]
[null,null,"Other toilet provisions (< min.service level)"]
[null,null,"No toilet provisions"]
[null,null,"Below Minimum Service Level sub-total",null,{"$f":"SUM(E176:E178)","v":0},{"$f":"SUM(F176:F178)","v":0},0,0,0,0,0,0,0]
[null,null,"Total number of households",null,{"$f":"E175+E179","v":0},{"$f":"F175+F179","v":0},0,0,0,0,0,0,0]
["Name of municipal entity",null,"Energy:"]
[null,null,"Electricity (at least min.service level)"]
[null,null,"Electricity - prepaid (min.service level)"]
[null,null,"Minimum Service Level and Above sub-total",null,{"$f":"SUM(E182:E183)","v":0},{"$f":"SUM(F182:F183)","v":0},0,0,0,0,0,0,0]
[null,null,"Electricity (< min.service level)"]
[null,null,"Electricity - prepaid (< min. service level)"]
[null,null,"Other energy sources"]
[null,null,"Below Minimum Service Level sub-total",null,{"$f":"SUM(E185:E187)","v":0},{"$f":"SUM(F185:F187)","v":0},0,0,0,0,0,0,0]
[null,null,"Total number of households",null,{"$f":"E184+E188","v":0},{"$f":"F184+F188","v":0},0,0,0,0,0,0,0]
["Name of municipal entity",null,"Refuse:"]
[null,null,"Removed at least once a week"]
[null,null,"Minimum Service Level and Above sub-total",null,{"$f":"SUM(E191)","v":0},{"$f":"SUM(F191)","v":0},0,0,0,0,0,0,0]
[null,null,"Removed less frequently than once a week"]
[null,null,"Using communal refuse dump"]
[null,null,"Using own refuse dump"]
[null,null,"Other rubbish disposal"]
[null,null,"No rubbish disposal"]
[null,null,"Below Minimum Service Level sub-total",null,{"$f":"SUM(E193:E197)","v":0},{"$f":"SUM(F193:F197)","v":0},0,0,0,0,0,0,0]
[null,null,"Total number of households",null,{"$f":"E192+E198","v":0},{"$f":"F192+F198","v":0},0,0,0,0,0,0,0]
[]
["Services provided by 'external mechanisms'",null,null,null,{"$f":"head1b","v":"2021/22"},{"$f":"head1A","v":"2022/23"},{"$f":"Head1","v":"2023/24"},{"$f":"Head2","v":"Current Year 2024/25"},null,null,{"$f":"Head3","v":"2025/26 Medium Term Revenue & Expenditure Framework"}]
[null,"Ref.",null,null,{"$f":"Head5A","v":"Outcome"},{"$f":"Head5A","v":"Outcome"},{"$f":"Head5A","v":"Outcome"},{"$f":"Head6","v":"Original Budget"},{"$f":"Head7","v":"Adjusted Budget"},{"$f":"Head8","v":"Full Year Forecast"},{"$f":"Head9","v":"Budget Year 2025/26"},{"$f":"Head10","v":"Budget Year +1 2026/27"},{"$f":"Head11","v":"Budget Year +2 2027/28"}]
["Names of service providers",null,"Household service targets (000)"]
[null,null,"Water:"]
[null,null,"Piped water inside dwelling"]
[null,null,"Piped water inside yard (but not in dwelling)"]
[null,8,"Using public tap (at least min.service level)"]
[null,10,"Other water supply (at least min.service level)"]
[null,null,"Minimum Service Level and Above sub-total",null,{"$f":"SUM(E205:E208)","v":0},{"$f":"SUM(F205:F208)","v":0},0,0,0,0,0,0,0]
[null,9,"Using public tap (< min.service level)"]
[null,10,"Other water supply (< min.service level)"]
[null,null,"No water supply"]
[null,null,"Below Minimum Service Level sub-total",null,{"$f":"SUM(E210:E212)","v":0},{"$f":"SUM(F210:F212)","v":0},0,0,0,0,0,0,0]
[null,null,"Total number of households",null,{"$f":"E209+E213","v":0},{"$f":"F209+F213","v":0},0,0,0,0,0,0,0]
["Names of service providers",null,"Sanitation/sewerage:"]
[null,null,"Flush toilet (connected to sewerage)"]
[null,null,"Flush toilet (with septic tank)"]
[null,null,"Chemical toilet"]
[null,null,"Pit toilet (ventilated)"]
[null,null,"Other toilet provisions (> min.service level)"]
[null,null,"Minimum Service Level and Above sub-total",null,{"$f":"SUM(E216:E220)","v":0},{"$f":"SUM(F216:F220)","v":0},0,0,0,0,0,0,0]
[null,null,"Bucket toilet"]
[null,null,"Other toilet provisions (< min.service level)"]
[null,null,"No toilet provisions"]
[null,null,"Below Minimum Service Level sub-total",null,{"$f":"SUM(E222:E224)","v":0},{"$f":"SUM(F222:F224)","v":0},0,0,0,0,0,0,0]
[null,null,"Total number of households",null,{"$f":"E221+E225","v":0},{"$f":"F221+F225","v":0},0,0,0,0,0,0,0]
["Names of service providers",null,"Energy:"]
[null,null,"Electricity (at least min.service level)"]
[null,null,"Electricity - prepaid (min.service level)"]
[null,null,"Minimum Service Level and Above sub-total",null,{"$f":"SUM(E228:E229)","v":0},{"$f":"SUM(F228:F229)","v":0},0,0,0,0,0,0,0]
[null,null,"Electricity (< min.service level)"]
[null,null,"Electricity - prepaid (< min. service level)"]
[null,null,"Other energy sources"]
[null,null,"Below Minimum Service Level sub-total",null,{"$f":"SUM(E231:E233)","v":0},{"$f":"SUM(F231:F233)","v":0},0,0,0,0,0,0,0]
[null,null,"Total number of households",null,{"$f":"E230+E234","v":0},{"$f":"F230+F234","v":0},0,0,0,0,0,0,0]
["Names of service providers",null,"Refuse:"]
[null,null,"Removed at least once a week"]
[null,null,"Minimum Service Level and Above sub-total",null,{"$f":"SUM(E237)","v":0},{"$f":"SUM(F237)","v":0},0,0,0,0,0,0,0]
[null,null,"Removed less frequently than once a week"]
[null,null,"Using communal refuse dump"]
[null,null,"Using own refuse dump"]
[null,null,"Other rubbish disposal"]
[null,null,"No rubbish disposal"]
[null,null,"Below Minimum Service Level sub-total",null,{"$f":"SUM(E239:E243)","v":0},{"$f":"SUM(F239:F243)","v":0},0,0,0,0,0,0,0]
[null,null,"Total number of households",null,{"$f":"E238+E244","v":0},{"$f":"F238+F244","v":0},0,0,0,0,0,0,0]
[]
["Detail of Free Basic Services (FBS) provided",null,null,null,{"$f":"head1b","v":"2021/22"},{"$f":"head1A","v":"2022/23"},{"$f":"Head1","v":"2023/24"},{"$f":"Head2","v":"Current Year 2024/25"},null,null,{"$f":"Head3","v":"2025/26 Medium Term Revenue & Expenditure Framework"}]
[null,null,null,null,{"$f":"Head5A","v":"Outcome"},{"$f":"Head5A","v":"Outcome"},{"$f":"Head5A","v":"Outcome"},{"$f":"Head6","v":"Original Budget"},{"$f":"Head7","v":"Adjusted Budget"},{"$f":"Head8","v":"Full Year Forecast"},{"$f":"Head9","v":"Budget Year 2025/26"},{"$f":"Head10","v":"Budget Year +1 2026/27"},{"$f":"Head11","v":"Budget Year +2 2027/28"}]
["Electricity","Ref.","Location of households for each type of FBS"]
["Free Basic Electricity",null,"Formal settlements -  (50 kwh per indigent household per month Rands)",null,3754.52,4401.72,5545.08,3147000,3147000,3147000,4741468,4959576,5078606]
[null,null,"Number of HH receiving this type of FBS",null,0,0,0,5340,5340,5340,5201,5451,0]
[null,null,"Informal settlements (Rands)"]
[null,null,"Number of HH receiving this type of FBS"]
[null,null,"Informal settlements targeted for upgrading (Rands)"]
[null,null,"Number of HH receiving this type of FBS"]
[null,null,"Living in informal backyard rental agreement (Rands)"]
[null,null,"Number of HH receiving this type of FBS"]
[null,null,"Other (Rands)"]
[null,null,"Number of HH receiving this type of FBS"]
[null,null,"Total cost of FBS - Electricity for informal settlements",null,{"$f":"E252+E254+E256+E258","v":0},{"$f":"F252+F254+F256+F258","v":0},{"$f":"G252+G254+G256+G258","v":0},0,0,0,0,0,0]
["Water","Ref.","Location of households for each type of FBS"]
["List type of FBS service",null,"Formal settlements -  (6 kilolitre per indigent household per month Rands)",null,0,0,0,0,0,0,0,0,0]
[null,null,"Number of HH receiving this type of FBS"]
[null,null,"Informal settlements (Rands)"]
[null,null,"Number of HH receiving this type of FBS"]
[null,null,"Informal settlements targeted for upgrading (Rands)"]
[null,null,"Number of HH receiving this type of FBS"]
[null,null,"Living in informal backyard rental agreement (Rands)"]
[null,null,"Number of HH receiving this type of FBS"]
[null,null,"Other (Rands)"]
[null,null,"Number of HH receiving this type of FBS"]
[null,null,"Total cost of FBS - Water  for informal settlements",null,{"$f":"E264+E266+E268+E270","v":0},{"$f":"F264+F266+F268+F270","v":0},0,0,0,0,0,0,0]
["Sanitation","Ref.","Location of households for each type of FBS"]
["List type of FBS service",null,"Formal settlements -  (free sanitation service to indigent households)",null,0,0,0,0,0,0,0,0,0]
[null,null,"Number of HH receiving this type of FBS"]
[null,null,"Informal settlements (Rands)"]
[null,null,"Number of HH receiving this type of FBS"]
[null,null,"Informal settlements targeted for upgrading (Rands)"]
[null,null,"Number of HH receiving this type of FBS"]
[null,null,"Living in informal backyard rental agreement (Rands)"]
[null,null,"Number of HH receiving this type of FBS"]
[null,null,"Other (Rands)"]
[null,null,"Number of HH receiving this type of FBS"]
[null,null,"Total cost of FBS - Sanitation for informal settlements",null,{"$f":"E276+E278+E280+E282","v":0},{"$f":"F276+F278+F280+F282","v":0},0,0,0,0,0,0,0]
["Refuse Removal","Ref.","Location of households for each type of FBS"]
["List type of FBS service",null,"Formal settlements -  (removed once a week to indigent households)",null,15423.25,20055,20055,530000,130000,130000,40560,42426,43486]
[null,null,"Number of HH receiving this type of FBS"]
[null,null,"Informal settlements (Rands)",null,0,0,0,530000,530000,530000,554380,579327,0]
[null,null,"Number of HH receiving this type of FBS"]
[null,null,"Informal settlements targeted for upgrading (Rands)"]
[null,null,"Number of HH receiving this type of FBS"]
[null,null,"Living in informal backyard rental agreement (Rands)"]
[null,null,"Number of HH receiving this type of FBS"]
[null,null,"Other (Rands)"]
[null,null,"Number of HH receiving this type of FBS"]
[null,null,"Total cost of FBS - Refuse Removal for informal settlements",null,{"$f":"E288+E290+E292+E294","v":0},{"$f":"F288+F290+F292+F294","v":0},0,530000,530000,530000,554380,579327,0]
[{"$f":"head27a","v":"References"}]
["1. Monthly household income threshold. Should include all sources of income."]
["2. Show the poverty analysis the municipality uses to determine its indigents policy and the provision of services"]
["3. Include total of all housing units within the municipality"]
["4. Number of subsidised dwellings to be constructed by the municipality under agency agreement with province"]
["5. Provide estimate based on building approval information. Include any non-subsidised dwellings constructed by the municipality"]
["6. Insert actual or estimated % increases assumed as a basis for budget calculations"]
["7. Insert actual or estimated % collection rate assumed as a basis for budget calculations for each revenue group"]
["8. Stand distance <= 200m from dwelling"]
["9. Stand distance > 200m from dwelling"]
["10. Borehole, spring, rain-water tank etc."]
["11. Must agree to total number of households in municipal area"]
["12. Household income categories assume an average 4 person household. Stats SA - Census 2011 Questionnaire"]
["13. Based on National poverty line of R515 per capita per month (2008 prices), assuming an average household size of 4 persons"]

{"sheet":"SA10","index":30,"n_rows":132,"n_cols":13,"rows_kept":132,"cut":false,"hidden":false,"merged":[[1,0,2,0],[1,10,1,12],[1,1,2,1],[1,2,2,2],[1,6,1,9]]}
[{"$f":"muni &\" \" & TableA10","v":"LIM351 Blouberg Supporting Table SA10 Funding measurement"}]
[{"$f":"desc","v":"Description"},"MFMA section",{"$f":"head27","v":"Ref"},{"$f":"head1b","v":"2021/22"},{"$f":"head1A","v":"2022/23"},{"$f":"Head1","v":"2023/24"},{"$f":"Head2","v":"Current Year 2024/25"},null,null,null,{"$f":"Head3","v":"2025/26 Medium Term Revenue & Expenditure Framework"}]
[null,null,null,{"$f":"Head5","v":"Audited Outcome"},{"$f":"Head5","v":"Audited Outcome"},{"$f":"Head5","v":"Audited Outcome"},{"$f":"Head6","v":"Original Budget"},{"$f":"Head7","v":"Adjusted Budget"},{"$f":"Head8","v":"Full Year Forecast"},{"$f":"Head5b","v":"Pre-audit outcome"},{"$f":"Head9","v":"Budget Year 2025/26"},{"$f":"Head10","v":"Budget Year +1 2026/27"},{"$f":"Head11","v":"Budget Year +2 2027/28"}]
["Funding measures"]
[{"$f":"LEFT('A7-CFlow'!A40,37)&\" - R'000\"","v":"Cash/cash equivalents at the year end - R'000"},"18(1)b",1,{"$f":"'A7-CFlow'!C40","v":-19213536.599999979},{"$f":"'A7-CFlow'!D40","v":-47755019.150000021},{"$f":"'A7-CFlow'!E40","v":138456108.51999995},{"$f":"'A7-CFlow'!F40","v":208776570.04000002},{"$f":"'A7-CFlow'!G40","v":198058109},{"$f":"'A7-CFlow'!H40","v":198058109},{"$f":"'A7-CFlow'!I40","v":-177660859.01999998},{"$f":"'A7-CFlow'!J40","v":195256294},{"$f":"'A7-CFlow'!K40","v":204481954},{"$f":"'A7-CFlow'!L40","v":210582671}]
["Cash + investments at the yr end less applications - R'000","18(1)b",2,{"$f":"'A8-ResRecon'!C8-'A8-ResRecon'!C18","v":8416901.099999994},{"$f":"'A8-ResRecon'!D8-'A8-ResRecon'!D18","v":45457142.409999996},{"$f":"'A8-ResRecon'!E8-'A8-ResRecon'!E18","v":73200659.829999998},{"$f":"'A8-ResRecon'!F8-'A8-ResRecon'!F18","v":165221582},{"$f":"'A8-ResRecon'!G8-'A8-ResRecon'!G18","v":209310196},{"$f":"'A8-ResRecon'!H8-'A8-ResRecon'!H18","v":209310196},{"$f":"'A8-ResRecon'!I8-'A8-ResRecon'!I18","v":102591880.56},{"$f":"'A8-ResRecon'!J8-'A8-ResRecon'!J18","v":243454611},{"$f":"'A8-ResRecon'!K8-'A8-ResRecon'!K18","v":299803650},{"$f":"'A8-ResRecon'!L8-'A8-ResRecon'!L18","v":300911271}]
["Cash year end/monthly employee/supplier payments","18(1)b",3,{"$f":"IF(ISERROR('SA8'!C43),0,('SA8'!C43))","v":-0.80459453547097248},{"$f":"IF(ISERROR('SA8'!D43),0,('SA8'!D43))","v":-1.6081570128243301},{"$f":"IF(ISERROR('SA8'!E43),0,('SA8'!E43))","v":4.6911716165049482},{"$f":"IF(ISERROR('SA8'!F43),0,('SA8'!F43))","v":7.0737703813294042},{"$f":"IF(ISERROR('SA8'!G43),0,('SA8'!G43))","v":9.0580584375627069},{"$f":"IF(ISERROR('SA8'!H43),0,('SA8'!H43))","v":7.2617317090378233},{"$f":"IF(ISERROR('SA8'!I43),0,('SA8'!I43))","v":-6.4992633674572957},{"$f":"IF(ISERROR('SA8'!J43),0,('SA8'!J43))","v":6.8744121213825027},{"$f":"IF(ISERROR('SA8'!K43),0,('SA8'!K43))","v":0},{"$f":"IF(ISERROR('SA8'!L43),0,('SA8'!L43))","v":0}]
["Surplus/(Deficit) excluding depreciation offsets: R'000","18(1)",4,{"$f":"'A4-FinPerf RE'!C52+'SA3'!C180","v":23591970.399999931},{"$f":"'A4-FinPerf RE'!D52+'SA3'!D180","v":16886954.539999992},{"$f":"'A4-FinPerf RE'!E52+'SA3'!E180","v":120690953.46999991},{"$f":"'A4-FinPerf RE'!F52+'SA3'!F180","v":688674},{"$f":"'A4-FinPerf RE'!G52+'SA3'!G180","v":104048850},{"$f":"'A4-FinPerf RE'!H52+'SA3'!H180","v":104048850},{"$f":"'A4-FinPerf RE'!I52+'SA3'!I180","v":192851669.87},{"$f":"'A4-FinPerf RE'!J52+'SA3'!J180","v":86964678},{"$f":"'A4-FinPerf RE'!K52+'SA3'!K180","v":91892124},{"$f":"'A4-FinPerf RE'!L52+'SA3'!L180","v":96036678}]
["Service charge rev % change - macro CPIX target exclusive","18(1)a,(2)",5,"N.A.",{"$f":"IF(ISERROR(E36-E61),0,(E36-E61))","v":-8.3625210333789834E-2},{"$f":"IF(ISERROR(F36-F61),0,(F36-F61))","v":0.741496890278452},-0.19086640043366948,0.31786361493910947,-0.06,-0.16575537609469332,{"$f":"IF(ISERROR(K36-K61),0,(K36-K61))","v":4.5511448426498735E-2},-1.4999992196822853E-2,-3.4999991684304399E-2]
["Cash receipts % of Ratepayer & Other revenue","18(1)a,(2)",6,{"$f":"IF(ISERROR(D53/D54),0,(D53/D54))","v":0.60873269124332896},{"$f":"IF(ISERROR(E53/E54),0,(E53/E54))","v":0.96548527545661922},0.58303763013100307,0.3157799589971953,0.19401140688926163,0.19401140688926163,0.33623327501673522,0.7133768181765332,0.71528012935740737,0.68563327462402801]
["Debt impairment expense as a % of total billable revenue","18(1)a,(2)",7,{"$f":"IF(ISERROR('A4-FinPerf RE'!C39/'SA10'!D43),0,('A4-FinPerf RE'!C39/'SA10'!D43))","v":0},{"$f":"IF(ISERROR('A4-FinPerf RE'!D39/'SA10'!E43),0,('A4-FinPerf RE'!D39/'SA10'!E43))","v":2.130122474589748E-2},{"$f":"IF(ISERROR('A4-FinPerf RE'!E39/'SA10'!F43),0,('A4-FinPerf RE'!E39/'SA10'!F43))","v":0},{"$f":"IF(ISERROR('A4-FinPerf RE'!F39/'SA10'!G43),0,('A4-FinPerf RE'!F39/'SA10'!G43))","v":0.53131662588278927},{"$f":"IF(ISERROR('A4-FinPerf RE'!G39/'SA10'!H43),0,('A4-FinPerf RE'!G39/'SA10'!H43))","v":0.38560901102412026},{"$f":"IF(ISERROR('A4-FinPerf RE'!H39/'SA10'!I43),0,('A4-FinPerf RE'!H39/'SA10'!I43))","v":0.38560901102412026},{"$f":"IF(ISERROR('A4-FinPerf RE'!I39/'SA10'!J43),0,('A4-FinPerf RE'!I39/'SA10'!J43))","v":0},{"$f":"IF(ISERROR('A4-FinPerf RE'!J39/'SA10'!K43),0,('A4-FinPerf RE'!J39/'SA10'!K43))","v":0.1240223718509037},{"$f":"IF(ISERROR('A4-FinPerf RE'!K39/'SA10'!L43),0,('A4-FinPerf RE'!K39/'SA10'!L43))","v":0.11573455107880672},{"$f":"IF(ISERROR('A4-FinPerf RE'!L39/'SA10'!M43),0,('A4-FinPerf RE'!L39/'SA10'!M43))","v":0.14779073504138265}]
["Capital payments % of capital expenditure","18(1)c;19",8,{"$f":"IF(ISERROR(-'A7-CFlow'!C26/'A5-Capex'!C63),0,(-'A7-CFlow'!C26/'A5-Capex'!C63))","v":1},{"$f":"IF(ISERROR(-'A7-CFlow'!D26/'A5-Capex'!D63),0,(-'A7-CFlow'!D26/'A5-Capex'!D63))","v":1},{"$f":"IF(ISERROR(-'A7-CFlow'!E26/'A5-Capex'!E63),0,(-'A7-CFlow'!E26/'A5-Capex'!E63))","v":1.0000000000000002},{"$f":"IF(ISERROR(-'A7-CFlow'!F26/'A5-Capex'!F63),0,(-'A7-CFlow'!F26/'A5-Capex'!F63))","v":1},{"$f":"IF(ISERROR(-'A7-CFlow'!G26/'A5-Capex'!G63),0,(-'A7-CFlow'!G26/'A5-Capex'!G63))","v":1},{"$f":"IF(ISERROR(-'A7-CFlow'!H26/'A5-Capex'!H63),0,(-'A7-CFlow'!H26/'A5-Capex'!H63))","v":1},{"$f":"IF(ISERROR(-'A7-CFlow'!I26/'A5-Capex'!I63),0,(-'A7-CFlow'!I26/'A5-Capex'!I63))","v":0.96302816552184201},{"$f":"IF(ISERROR(-'A7-CFlow'!J26/'A5-Capex'!J63),0,(-'A7-CFlow'!J26/'A5-Capex'!J63))","v":1},{"$f":"IF(ISERROR(-'A7-CFlow'!K26/'A5-Capex'!K63),0,(-'A7-CFlow'!K26/'A5-Capex'!K63))","v":1},{"$f":"IF(ISERROR(-'A7-CFlow'!L26/'A5-Capex'!L63),0,(-'A7-CFlow'!L26/'A5-Capex'!L63))","v":1}]
["Borrowing receipts % of capital expenditure (excl. transfers)","18(1)c",9,{"$f":"IF(ISERROR('A7-CFlow'!C32/'SA10'!D52),0,('A7-CFlow'!C32/'SA10'!D52))","v":0},{"$f":"IF(ISERROR('A7-CFlow'!D32/'SA10'!E52),0,('A7-CFlow'!D32/'SA10'!E52))","v":0},{"$f":"IF(ISERROR('A7-CFlow'!E32/'SA10'!F52),0,('A7-CFlow'!E32/'SA10'!F52))","v":0},{"$f":"IF(ISERROR('A7-CFlow'!F32/'SA10'!G52),0,('A7-CFlow'!F32/'SA10'!G52))","v":0},{"$f":"IF(ISERROR('A7-CFlow'!G32/'SA10'!H52),0,('A7-CFlow'!G32/'SA10'!H52))","v":0},{"$f":"IF(ISERROR('A7-CFlow'!H32/'SA10'!I52),0,('A7-CFlow'!H32/'SA10'!I52))","v":0},{"$f":"IF(ISERROR('A7-CFlow'!I32/'SA10'!J52),0,('A7-CFlow'!I32/'SA10'!J52))","v":0},{"$f":"IF(ISERROR('A7-CFlow'!J32/'SA10'!K52),0,('A7-CFlow'!J32/'SA10'!K52))","v":0},{"$f":"IF(ISERROR('A7-CFlow'!K32/'SA10'!L52),0,('A7-CFlow'!K32/'SA10'!L52))","v":0},{"$f":"IF(ISERROR('A7-CFlow'!L32/'SA10'!M52),0,('A7-CFlow'!L32/'SA10'!M52))","v":0}]
["Grants % of Govt. legislated/gazetted allocations","18(1)a",10,null,null,null,null,null,null,null,{"$f":"IF(ISERROR(K56/K68),0,(K56/K68))","v":0.96450830502645657},{"$f":"IF(ISERROR(L56/L68),0,(L56/L68))","v":1.0280129689078747},{"$f":"IF(ISERROR(M56/M68),0,(M56/M68))","v":0}]
["Current consumer debtors % change - incr(decr)","18(1)a",11,"N.A.",{"$f":"IF(ISERROR(ROUND((SUM('A6-FinPos'!D7:D9)-SUM('A6-FinPos'!C7:C9))/SUM('A6-FinPos'!C7:C9),3)),0,(ROUND((SUM('A6-FinPos'!D7:D9)-SUM('A6-FinPos'!C7:C9))/SUM('A6-FinPos'!C7:C9),3)))","v":-3.2210000000000001},{"$f":"IF(ISERROR(ROUND((SUM('A6-FinPos'!E7:E9)-SUM('A6-FinPos'!D7:D9))/SUM('A6-FinPos'!D7:D9),3)),0,(ROUND((SUM('A6-FinPos'!E7:E9)-SUM('A6-FinPos'!D7:D9))/SUM('A6-FinPos'!D7:D9),3)))","v":1.1679999999999999},{"$f":"IF(ISERROR(ROUND((SUM('A6-FinPos'!F7:F9)-SUM('A6-FinPos'!E7:E9))/SUM('A6-FinPos'!E7:E9),3)),0,(ROUND((SUM('A6-FinPos'!F7:F9)-SUM('A6-FinPos'!E7:E9))/SUM('A6-FinPos'!E7:E9),3)))","v":-0.41},{"$f":"IF(ISERROR(ROUND((SUM('A6-FinPos'!G7:G9)-SUM('A6-FinPos'!F7:F9))/SUM('A6-FinPos'!F7:F9),3)),0,(ROUND((SUM('A6-FinPos'!G7:G9)-SUM('A6-FinPos'!F7:F9))/SUM('A6-FinPos'!F7:F9),3)))","v":0.04},{"$f":"IF(ISERROR(ROUND((SUM('A6-FinPos'!H7:H9)-SUM('A6-FinPos'!G7:G9))/SUM('A6-FinPos'!G7:G9),3)),0,(ROUND((SUM('A6-FinPos'!H7:H9)-SUM('A6-FinPos'!G7:G9))/SUM('A6-FinPos'!G7:G9),3)))","v":0},{"$f":"IF(ISERROR(ROUND((SUM('A6-FinPos'!I7:I9)-SUM('A6-FinPos'!H7:H9))/SUM('A6-FinPos'!H7:H9),3)),0,(ROUND((SUM('A6-FinPos'!I7:I9)-SUM('A6-FinPos'!H7:H9))/SUM('A6-FinPos'!H7:H9),3)))","v":2.4300000000000002},{"$f":"IF(ISERROR(ROUND((SUM('A6-FinPos'!J7:J9)-SUM('A6-FinPos'!I7:I9))/SUM('A6-FinPos'!I7:I9),3)),0,(ROUND((SUM('A6-FinPos'!J7:J9)-SUM('A6-FinPos'!I7:I9))/SUM('A6-FinPos'!I7:I9),3)))","v":-0.24299999999999999},{"$f":"IF(ISERROR(ROUND((SUM('A6-FinPos'!K7:K9)-SUM('A6-FinPos'!J7:J9))/SUM('A6-FinPos'!J7:J9),3)),0,(ROUND((SUM('A6-FinPos'!K7:K9)-SUM('A6-FinPos'!J7:J9))/SUM('A6-FinPos'!J7:J9),3)))","v":4.2000000000000003E-2},{"$f":"IF(ISERROR(ROUND((SUM('A6-FinPos'!L7:L9)-SUM('A6-FinPos'!K7:K9))/SUM('A6-FinPos'!K7:K9),3)),0,(ROUND((SUM('A6-FinPos'!L7:L9)-SUM('A6-FinPos'!K7:K9))/SUM('A6-FinPos'!K7:K9),3)))","v":0.05}]
["Long term receivables % change - incr(decr)","18(1)a",12,"N.A.",{"$f":"IF(ISERROR(ROUND((SUM('A6-FinPos'!D22:D23)-SUM('A6-FinPos'!C22:C23))/SUM('A6-FinPos'!C22:C23),3)),0,(ROUND((SUM('A6-FinPos'!D22:D23)-SUM('A6-FinPos'!C22:C23))/SUM('A6-FinPos'!C22:C23),3)))","v":0},{"$f":"IF(ISERROR(ROUND((SUM('A6-FinPos'!E22:E23)-SUM('A6-FinPos'!D22:D23))/SUM('A6-FinPos'!D22:D23),3)),0,(ROUND((SUM('A6-FinPos'!E22:E23)-SUM('A6-FinPos'!D22:D23))/SUM('A6-FinPos'!D22:D23),3)))","v":0},{"$f":"IF(ISERROR(ROUND((SUM('A6-FinPos'!F22:F23)-SUM('A6-FinPos'!E22:E23))/SUM('A6-FinPos'!E22:E23),3)),0,(ROUND((SUM('A6-FinPos'!F22:F23)-SUM('A6-FinPos'!E22:E23))/SUM('A6-FinPos'!E22:E23),3)))","v":0},{"$f":"IF(ISERROR(ROUND((SUM('A6-FinPos'!G22:G23)-SUM('A6-FinPos'!F22:F23))/SUM('A6-FinPos'!F22:F23),3)),0,(ROUND((SUM('A6-FinPos'!G22:G23)-SUM('A6-FinPos'!F22:F23))/SUM('A6-FinPos'!F22:F23),3)))","v":0},{"$f":"IF(ISERROR(ROUND((SUM('A6-FinPos'!H22:H23)-SUM('A6-FinPos'!G22:G23))/SUM('A6-FinPos'!G22:G23),3)),0,(ROUND((SUM('A6-FinPos'!H22:H23)-SUM('A6-FinPos'!G22:G23))/SUM('A6-FinPos'!G22:G23),3)))","v":0},{"$f":"IF(ISERROR(ROUND((SUM('A6-FinPos'!I22:I23)-SUM('A6-FinPos'!H22:H23))/SUM('A6-FinPos'!H22:H23),3)),0,(ROUND((SUM('A6-FinPos'!I22:I23)-SUM('A6-FinPos'!H22:H23))/SUM('A6-FinPos'!H22:H23),3)))","v":0},{"$f":"IF(ISERROR(ROUND((SUM('A6-FinPos'!J22:J23)-SUM('A6-FinPos'!I22:I23))/SUM('A6-FinPos'!I22:I23),3)),0,(ROUND((SUM('A6-FinPos'!J22:J23)-SUM('A6-FinPos'!I22:I23))/SUM('A6-FinPos'!I22:I23),3)))","v":0},{"$f":"IF(ISERROR(ROUND((SUM('A6-FinPos'!K22:K23)-SUM('A6-FinPos'!J22:J23))/SUM('A6-FinPos'!J22:J23),3)),0,(ROUND((SUM('A6-FinPos'!K22:K23)-SUM('A6-FinPos'!J22:J23))/SUM('A6-FinPos'!J22:J23),3)))","v":0},{"$f":"IF(ISERROR(ROUND((SUM('A6-FinPos'!L22:L23)-SUM('A6-FinPos'!K22:K23))/SUM('A6-FinPos'!K22:K23),3)),0,(ROUND((SUM('A6-FinPos'!L22:L23)-SUM('A6-FinPos'!K22:K23))/SUM('A6-FinPos'!K22:K23),3)))","v":0}]
["R&M % of Property Plant & Equipment","20(1)(vi)",13,{"$f":"'A9-Asset'!C223","v":2.1531645324408755E-2},{"$f":"'A9-Asset'!D223","v":6.3894304059181487E-3},{"$f":"'A9-Asset'!E223","v":1.0735197951995967E-2},{"$f":"'A9-Asset'!F223","v":5.3413471395902419E-3},{"$f":"'A9-Asset'!G223","v":3.1478455611163164E-3},{"$f":"'A9-Asset'!H223","v":3.1478455611163164E-3},{"$f":"'A9-Asset'!I223","v":2.6162648922762421E-3},{"$f":"'A9-Asset'!J223","v":2.5618886016969609E-3},{"$f":"'A9-Asset'!K223","v":2.561257051378771E-3},{"$f":"'A9-Asset'!L223","v":0}]
["Asset renewal % of capital budget",{"$f":"B17","v":"20(1)(vi)"},14,{"$f":"IF(ISERROR(D58/D57),0,(D58/D57))","v":0},0,9.9066467194634661E-3,0.22181719195641414,4.8025454340781412E-2,4.8025454340781412E-2,0,3.4496715912645116E-2,1.1865595167466695E-2,{"$f":"IF(ISERROR(M58/M57),0,((M58/M57)))","v":1.1854157935700174E-2}]
[]
[{"$f":"head27a","v":"References"}]
["1. Positive cash balances indicative of minimum compliance - subject to 2"]
["2. Deduct cash and investment applications (defined) from cash balances"]
["3. Indicative of sufficient liquidity to meet average monthly operating payments"]
["4. Indicative of funded operational requirements"]
["5. Indicative of adherence to macro-economic targets (prior to 2003/04 revenue not available for high capacity municipalities and later for other capacity classifications)"]
["6. Realistic average cash collection forecasts as % of annual billed revenue"]
["7. Realistic average increase in debt impairment (doubtful debt) provision"]
["8. Indicative of planned capital expenditure level & cash payment timing"]
["9. Indicative of compliance with borrowing 'only' for the capital budget - should not exceed 100% unless refinancing"]
["10. Substantiation of National/Province allocations included in budget"]
["11. Indicative of realistic current arrear debtor collection targets (prior to 2003/04 revenue not available for high capacity municipalities and later for other capacity classifications)"]
["12. Indicative of realistic long term arrear debtor collection targets (prior to 2003/04 revenue not available for high capacity municipalities and later for other capacity classifications)"]
["13. Indicative of a credible allowance for repairs & maintenance of assets - functioning assets revenue protection"]
["14. Indicative of a credible allowance for asset renewal (requires analysis of asset renewal projects as % of total capital projects - detailed capital plan) - functioning assets revenue protection"]
["Supporting indicators"]
["% incr total service charges (incl prop rates)","18(1)a",null,{"$f":"IF(ISERROR((D44/C44)-1),0,((D44/C44)-1))","v":0},-2.3625210333789837E-2,{"$f":"IF(ISERROR((F44/E44)-1),0,((F44/E44)-1))","v":0.80149689027845206},{"$f":"IF(ISERROR((G44/F44)-1),0,((G44/F44)-1))","v":-0.13086640043366948},{"$f":"IF(ISERROR((H44/G44)-1),0,((H44/G44)-1))","v":0.37786361493910947},{"$f":"IF(ISERROR((I44/H44)-1),0,((I44/H44)-1))","v":0},{"$f":"IF(ISERROR((J44/I44)-1),0,((J44/I44)-1))","v":-0.10575537609469332},{"$f":"IF(ISERROR((K44/H44)-1),0,((K44/H44)-1))","v":0.10551144842649873},{"$f":"IF(ISERROR((L44/K44)-1),0,((L44/K44)-1))","v":4.5000007803177144E-2},{"$f":"IF(ISERROR((M44/L44)-1),0,((M44/L44)-1))","v":2.5000008315695599E-2}]
["% incr Property Tax","18(1)a",null,0,-0.1446934323588337,{"$f":"IF(ISERROR((F45/E45)-1),0,((F45/E45)-1))","v":1.7333927540303149},-0.49846228891405497,1.0168529503512751,0,3.9950618800354221E-2,{"$f":"IF(ISERROR((K45/H45)-1),0,((K45/H45)-1))","v":9.5179380115720136E-2},4.5000012500817865E-2,5.0052373851406928E-2]
[{"$f":"\"% incr \"&'A4-FinPerf RE'!A6","v":"% incr Service charges - Electricity"},"18(1)a",null,0,9.5243044645190622E-2,0.11163158593108191,0.56020817946676305,3.6160916294476486E-3,0,-0.28818687349158922,0.104756992071803,4.5000002364520286E-2,{"$f":"IF(ISERROR((M46/L46)-1),0,((M46/L46)-1))","v":2.4999998439517945E-2}]
[{"$f":"\"% incr \"&'A4-FinPerf RE'!A7","v":"% incr Service charges - Water"},"18(1)a",null,0,0,0,0,0,0,0,0,0,0]
[{"$f":"\"% incr \"&'A4-FinPerf RE'!A8","v":"% incr Service charges - Waste Water Management"},"18(1)a",null,0,-0.45210460679492248,-1,0,0,0,0,0,0,0]
[{"$f":"\"% incr \"&'A4-FinPerf RE'!A9","v":"% incr Service charges - Waste Management"},"18(1)a",null,0,4.2651593865996595E-2,5.1223202424285574E-2,0.28066125344203074,-0.15094339622641506,0,-8.8182022222222267E-2,0.44444444444444442,4.4999999999999929E-2,-0.5638845785793154]
[{"$f":"\"% incr in \"&'A4-FinPerf RE'!A10","v":"% incr in Sale of Goods and Rendering of Services"},"18(1)a",null,0,0,0,0,0,{"$f":"IF(ISERROR((I50/H50)-1),0,((I50/H50)-1))","v":0},0,0,{"$f":"IF(ISERROR((L50/K50)-1),0,((L50/K50)-1))","v":0},0]
["Total billable revenue","18(1)a",null,{"$f":"SUM(D45:D50)","v":60536195.859999999},{"$f":"SUM(E45:E50)","v":59106015.5},106479303.11999999,92544740,127514030,127514030,114028735.8,140968220,147311791,150994587]
["Service charges",null,null,{"$f":"SUM(D45:D50)","v":60536195.859999999},{"$f":"SUM(E45:E50)","v":59106015.5},106479303.11999999,92544740,127514030,127514030,{"$f":"SUM(J45:J50)","v":114028735.8},140968220,147311791,150994587]
["Property rates",null,null,{"$f":"'A4-FinPerf RE'!C22","v":29497010.889999997},{"$f":"'A4-FinPerf RE'!D22","v":25228987.140000001},{"$f":"'A4-FinPerf RE'!E22","v":68960730.640000001},{"$f":"'A4-FinPerf RE'!F22","v":34586407},{"$f":"'A4-FinPerf RE'!G22","v":69755697},{"$f":"'A4-FinPerf RE'!H22","v":69755697},{"$f":"'A4-FinPerf RE'!I22","v":72542480.260000005},{"$f":"'A4-FinPerf RE'!J22","v":76395001},{"$f":"'A4-FinPerf RE'!K22","v":79832777},{"$f":"'A4-FinPerf RE'!L22","v":83828597}]
["Service charges - electricity revenue",null,null,{"$f":"'A4-FinPerf RE'!C6","v":29116330.23},{"$f":"'A4-FinPerf RE'!D6","v":31889458.170000002},{"$f":"'A4-FinPerf RE'!E6","v":35449328.960000001},{"$f":"'A4-FinPerf RE'!F6","v":55308333},{"$f":"'A4-FinPerf RE'!G6","v":55508333},{"$f":"'A4-FinPerf RE'!H6","v":55508333},{"$f":"'A4-FinPerf RE'!I6","v":39511560.059999995},{"$f":"'A4-FinPerf RE'!J6","v":61323219},{"$f":"'A4-FinPerf RE'!K6","v":64082764},{"$f":"'A4-FinPerf RE'!L6","v":65684833}]
["Service charges - water revenue",null,null,{"$f":"'A4-FinPerf RE'!C7","v":0},{"$f":"'A4-FinPerf RE'!D7","v":0},{"$f":"'A4-FinPerf RE'!E7","v":0},{"$f":"'A4-FinPerf RE'!F7","v":0},{"$f":"'A4-FinPerf RE'!G7","v":0},{"$f":"'A4-FinPerf RE'!H7","v":0},{"$f":"'A4-FinPerf RE'!I7","v":10206.59},{"$f":"'A4-FinPerf RE'!J7","v":0},{"$f":"'A4-FinPerf RE'!K7","v":0},{"$f":"'A4-FinPerf RE'!L7","v":0}]
["Service charges - sanitation revenue",null,null,{"$f":"'A4-FinPerf RE'!C8","v":34961.4},{"$f":"'A4-FinPerf RE'!D8","v":19155.189999999999},{"$f":"'A4-FinPerf RE'!E8","v":0},{"$f":"'A4-FinPerf RE'!F8","v":0},{"$f":"'A4-FinPerf RE'!G8","v":0},{"$f":"'A4-FinPerf RE'!H8","v":0},{"$f":"'A4-FinPerf RE'!I8","v":-87101.56},{"$f":"'A4-FinPerf RE'!J8","v":0},{"$f":"'A4-FinPerf RE'!K8","v":0},{"$f":"'A4-FinPerf RE'!L8","v":0}]
["Service charges - refuse removal",null,null,{"$f":"'A4-FinPerf RE'!C9","v":1887893.34},{"$f":"'A4-FinPerf RE'!D9","v":1968415},{"$f":"'A4-FinPerf RE'!E9","v":2069243.52},{"$f":"'A4-FinPerf RE'!F9","v":2650000},{"$f":"'A4-FinPerf RE'!G9","v":2250000},{"$f":"'A4-FinPerf RE'!H9","v":2250000},{"$f":"'A4-FinPerf RE'!I9","v":2051590.45},{"$f":"'A4-FinPerf RE'!J9","v":3250000},{"$f":"'A4-FinPerf RE'!K9","v":3396250},{"$f":"'A4-FinPerf RE'!L9","v":1481157}]
[]
[{"$f":"'A4-FinPerf RE'!A11","v":"Agency services"},null,null,{"$f":"'A4-FinPerf RE'!C11","v":0},{"$f":"'A4-FinPerf RE'!D11","v":0},{"$f":"'A4-FinPerf RE'!E11","v":0},{"$f":"'A4-FinPerf RE'!F11","v":314700},{"$f":"'A4-FinPerf RE'!G11","v":200000},{"$f":"'A4-FinPerf RE'!H11","v":200000},{"$f":"'A4-FinPerf RE'!I11","v":0},{"$f":"'A4-FinPerf RE'!J11","v":150000},{"$f":"'A4-FinPerf RE'!K11","v":156750},{"$f":"'A4-FinPerf RE'!L11","v":160669}]
["Capital expenditure excluding capital grant funding",null,null,{"$f":"'A5-Capex'!C63-'A5-Capex'!C70","v":8073757.71},{"$f":"'A5-Capex'!D63-'A5-Capex'!D70","v":523676},{"$f":"'A5-Capex'!E63-'A5-Capex'!E70","v":1094219.8299999833},{"$f":"'A5-Capex'!F63-'A5-Capex'!F70","v":9123531},{"$f":"'A5-Capex'!G63-'A5-Capex'!G70","v":20330754},{"$f":"'A5-Capex'!H63-'A5-Capex'!H70","v":20330754},{"$f":"'A5-Capex'!I63-'A5-Capex'!I70","v":7936015.4700000137},{"$f":"'A5-Capex'!J63-'A5-Capex'!J70","v":19400000},{"$f":"'A5-Capex'!K63-'A5-Capex'!K70","v":17600000},{"$f":"'A5-Capex'!L63-'A5-Capex'!L70","v":18393400}]
["Cash receipts from ratepayers","18(1)a",null,{"$f":"'A7-CFlow'!C6+'A7-CFlow'!C7+'A7-CFlow'!C8","v":150202634.52000001},{"$f":"'A7-CFlow'!D6+'A7-CFlow'!D7+'A7-CFlow'!D8","v":253979324.39000002},{"$f":"'A7-CFlow'!E6+'A7-CFlow'!E7+'A7-CFlow'!E8","v":308228841.25},{"$f":"'A7-CFlow'!F6+'A7-CFlow'!F7+'A7-CFlow'!F8","v":103657000},{"$f":"'A7-CFlow'!G6+'A7-CFlow'!G7+'A7-CFlow'!G8","v":107413697},{"$f":"'A7-CFlow'!H6+'A7-CFlow'!H7+'A7-CFlow'!H8","v":107413697},{"$f":"'A7-CFlow'!I6+'A7-CFlow'!I7+'A7-CFlow'!I8","v":168956191.57999998},{"$f":"'A7-CFlow'!J6+'A7-CFlow'!J7+'A7-CFlow'!J8","v":108291161},{"$f":"'A7-CFlow'!K6+'A7-CFlow'!K7+'A7-CFlow'!K8","v":113438536},{"$f":"'A7-CFlow'!L6+'A7-CFlow'!L7+'A7-CFlow'!L8","v":111455167}]
["Ratepayer & Other revenue","18(1)a",null,{"$f":"SUM('A4-FinPerf RE'!C6:C11+'A4-FinPerf RE'!C18+'A4-FinPerf RE'!C20+SUM('A4-FinPerf RE'!C22:C25)+'A4-FinPerf RE'!C29)","v":246746456.5},{"$f":"SUM('A4-FinPerf RE'!D6:D11+'A4-FinPerf RE'!D18+'A4-FinPerf RE'!D20+SUM('A4-FinPerf RE'!D22:D25)+'A4-FinPerf RE'!D29)","v":263058723.78},{"$f":"SUM('A4-FinPerf RE'!E6:E11+'A4-FinPerf RE'!E18+'A4-FinPerf RE'!E20+SUM('A4-FinPerf RE'!E22:E25)+'A4-FinPerf RE'!E29)","v":528660287.63999993},{"$f":"SUM('A4-FinPerf RE'!F6:F11+'A4-FinPerf RE'!F18+'A4-FinPerf RE'!F20+SUM('A4-FinPerf RE'!F22:F25)+'A4-FinPerf RE'!F29)","v":328257057},{"$f":"SUM('A4-FinPerf RE'!G6:G11+'A4-FinPerf RE'!G18+'A4-FinPerf RE'!G20+SUM('A4-FinPerf RE'!G22:G25)+'A4-FinPerf RE'!G29)","v":553646297},{"$f":"SUM('A4-FinPerf RE'!H6:H11+'A4-FinPerf RE'!H18+'A4-FinPerf RE'!H20+SUM('A4-FinPerf RE'!H22:H25)+'A4-FinPerf RE'!H29)","v":553646297},{"$f":"SUM('A4-FinPerf RE'!I6:I11+'A4-FinPerf RE'!I18+'A4-FinPerf RE'!I20+SUM('A4-FinPerf RE'!I22:I25)+'A4-FinPerf RE'!I29)","v":502496939.28000009},{"$f":"SUM('A4-FinPerf RE'!J6:J11)+'A4-FinPerf RE'!J18+'A4-FinPerf RE'!J20+SUM('A4-FinPerf RE'!J22:J25)+'A4-FinPerf RE'!J29","v":151800785},{"$f":"SUM('A4-FinPerf RE'!K6:K11)+'A4-FinPerf RE'!K18+'A4-FinPerf RE'!K20+SUM('A4-FinPerf RE'!K22:K25)+'A4-FinPerf RE'!K29","v":158593160},{"$f":"SUM('A4-FinPerf RE'!L6:L11)+'A4-FinPerf RE'!L18+'A4-FinPerf RE'!L20+SUM('A4-FinPerf RE'!L22:L25)+'A4-FinPerf RE'!L29","v":162557990}]
["Change in consumer debtors (current and non-current)",null,null,"N/A",{"$f":"SUM('A6-FinPos'!D7:D9)+SUM('A6-FinPos'!D22:D23)-(SUM('A6-FinPos'!C7:C9)+SUM('A6-FinPos'!C22:C23))","v":45980608.919999987},{"$f":"SUM('A6-FinPos'!E7:E9)+SUM('A6-FinPos'!E22:E23)-(SUM('A6-FinPos'!D7:D9)+SUM('A6-FinPos'!D22:D23))","v":37042662.420000017},{"$f":"SUM('A6-FinPos'!F7:F9)+SUM('A6-FinPos'!F22:F23)-(SUM('A6-FinPos'!E7:E9)+SUM('A6-FinPos'!E22:E23))","v":-28168463.650000006},{"$f":"SUM('A6-FinPos'!G7:G9)+SUM('A6-FinPos'!G22:G23)-(SUM('A6-FinPos'!F7:F9)+SUM('A6-FinPos'!F22:F23))","v":1642854},{"$f":"SUM('A6-FinPos'!H7:H9)+SUM('A6-FinPos'!H22:H23)-(SUM('A6-FinPos'!G7:G9)+SUM('A6-FinPos'!G22:G23))","v":0},{"$f":"SUM('A6-FinPos'!I7:I9)+SUM('A6-FinPos'!I22:I23)-(SUM('A6-FinPos'!H7:H9)+SUM('A6-FinPos'!H22:H23))","v":102606665.06999999},{"$f":"SUM('A6-FinPos'!J7:J9)+SUM('A6-FinPos'!J22:J23)-(SUM('A6-FinPos'!I7:I9)+SUM('A6-FinPos'!I22:I23))","v":-35160656.069999993},{"$f":"SUM('A6-FinPos'!K7:K9)+SUM('A6-FinPos'!K22:K23)-(SUM('A6-FinPos'!J7:J9)+SUM('A6-FinPos'!J22:J23))","v":4656727},{"$f":"SUM('A6-FinPos'!L7:L9)+SUM('A6-FinPos'!L22:L23)-(SUM('A6-FinPos'!K7:K9)+SUM('A6-FinPos'!K22:K23))","v":5742592}]
["Operating and Capital Grant Revenue","18(1)a",null,{"$f":"'A4-FinPerf RE'!C26+'A4-FinPerf RE'!C50","v":276764783.00999999},{"$f":"'A4-FinPerf RE'!D26+'A4-FinPerf RE'!D50","v":337919176.65999997},{"$f":"'A4-FinPerf RE'!E26+'A4-FinPerf RE'!E50","v":336832636.09000003},{"$f":"'A4-FinPerf RE'!F26+'A4-FinPerf RE'!F50","v":318156000},{"$f":"'A4-FinPerf RE'!G26+'A4-FinPerf RE'!G50","v":376839204},{"$f":"'A4-FinPerf RE'!H26+'A4-FinPerf RE'!H50","v":376839204},{"$f":"'A4-FinPerf RE'!I26+'A4-FinPerf RE'!I50","v":355988384.43000001},{"$f":"'A4-FinPerf RE'!J26+'A4-FinPerf RE'!J50","v":319721000},{"$f":"'A4-FinPerf RE'!K26+'A4-FinPerf RE'!K50","v":321509000},{"$f":"'A4-FinPerf RE'!L26+'A4-FinPerf RE'!L50","v":336007000}]
["Capital expenditure - total",{"$f":"B17","v":"20(1)(vi)"},null,{"$f":"'A5-Capex'!C63","v":8073757.71},{"$f":"'A5-Capex'!D63","v":523676},{"$f":"'A5-Capex'!E63","v":84578647.419999987},{"$f":"'A5-Capex'!F63","v":74908531},{"$f":"'A5-Capex'!G63","v":145509170},{"$f":"'A5-Capex'!H63","v":145509170},{"$f":"'A5-Capex'!I63","v":94233009.24000001},{"$f":"'A5-Capex'!J63","v":86964800},{"$f":"'A5-Capex'!K63","v":92705000},{"$f":"'A5-Capex'!L63","v":96877400}]
["Capital expenditure - renewal",{"$f":"B18","v":"20(1)(vi)"},null,{"$f":"'A9-Asset'!C40","v":0},{"$f":"'A9-Asset'!D40","v":0},{"$f":"'A9-Asset'!E40","v":837890.78},{"$f":"'A9-Asset'!F40","v":16616000},{"$f":"'A9-Asset'!G40","v":6988144},{"$f":"'A9-Asset'!H40","v":6988144},null,{"$f":"'A9-Asset'!I40","v":3000000},{"$f":"'A9-Asset'!J40","v":1100000},{"$f":"'A9-Asset'!K40","v":1148400}]
[]
["Supporting benchmarks"]
["Growth guideline maximum",null,null,0.06,0.06,0.06,0.06,0.06,0.06,0.06,0.06,0.06,0.06]
["CPI guideline",null,null,4.2999999999999997E-2,3.9E-2,4.5999999999999999E-2,0.05,0.05,0.05,0.05,5.3999999999999999E-2,5.6000000000000001E-2,5.3999999999999999E-2]
["DoRA operating grants total MFY",null,null,null,null,null,null,null,null,null,246554000,237981000,0]
["DoRA capital grants total MFY",null,null,null,null,null,null,null,null,null,84932000,74767000,0]
["Provincial operating grants"]
["Provincial capital grants"]
["District Municipality grants"]
["Total gazetted/advised national, provincial and district grants",null,null,null,null,null,null,null,null,null,{"$f":"SUM(K63:K67)","v":331486000},{"$f":"SUM(L63:L67)","v":312748000},{"$f":"SUM(M63:M67)","v":0}]
["Average annual collection rate (arrears inclusive)"]
[]
["DoRA operating"]
[]
[null,null,null,null,null,null,null,null,null,null,{"$f":"SUM(K72:K72)","v":0},{"$f":"SUM(L72:L72)","v":0},{"$f":"SUM(M72:M72)","v":0}]
[]
[]
[null,null,null,null,null,null,null,null,null,null,{"$f":"SUM(K74:K75)","v":0},{"$f":"SUM(L74:L75)","v":0},{"$f":"SUM(M74:M75)","v":0}]
["Trend"]
[{"$f":"A55","v":"Change in consumer debtors (current and non-current)"},null,null,{"$f":"D55","v":"N/A"},45980608.919999987,37042662.420000017,-28168463.650000006,1642854,0,102606665.06999999,-35160656.069999993,4656727,5742592]
[]
["Total Operating Revenue",null,null,{"$f":"'A1-Sum'!B10","v":289568765.14999998},{"$f":"'A1-Sum'!C10","v":320132610.63},{"$f":"'A1-Sum'!D10","v":373602907.52999997},{"$f":"'A1-Sum'!E10","v":366106239},{"$f":"'A1-Sum'!F10","v":407075529},{"$f":"'A1-Sum'!G10","v":407075529},{"$f":"'A1-Sum'!H10","v":381788354.40000004},{"$f":"'A1-Sum'!I10","v":417211912},{"$f":"'A1-Sum'!J10","v":421645186},{"$f":"'A1-Sum'!K10","v":437145220}]
["Total Operating Expenditure",null,null,{"$f":"'A1-Sum'!B18","v":328578947.45000005},{"$f":"'A1-Sum'!C18","v":415773690.18000001},{"$f":"'A1-Sum'!D18","v":348368506.13000005},{"$f":"'A1-Sum'!E18","v":432902565},{"$f":"'A1-Sum'!F18","v":429194883},{"$f":"'A1-Sum'!G18","v":429194883},{"$f":"'A1-Sum'!H18","v":295204211.67000002},{"$f":"'A1-Sum'!I18","v":400488234},{"$f":"'A1-Sum'!J18","v":404858062},{"$f":"'A1-Sum'!K18","v":419592542}]
["Operating Performance Surplus/(Deficit)",null,null,{"$f":"D80-D81","v":-39010182.300000072},{"$f":"E80-E81","v":-95641079.550000012},25234401.399999917,-66796326,-22119354,-22119354,86584142.730000019,{"$f":"K80-K81","v":16723678},16787124,17552678]
["Cash and Cash Equivalents (30 June 2012)",null,null,null,null,null,null,null,null,null,{"$f":"'A7-CFlow'!J40","v":195256294}]
["Revenue"]
["% Increase in Total Operating Revenue",null,null,null,{"$f":"IF(ISERROR(('A1-Sum'!C10-'A1-Sum'!B10)/'A1-Sum'!B10),0,(('A1-Sum'!C10-'A1-Sum'!B10)/'A1-Sum'!B10))","v":0.10554952452888899},{"$f":"IF(ISERROR(('A1-Sum'!D10-'A1-Sum'!C10)/'A1-Sum'!C10),0,(('A1-Sum'!D10-'A1-Sum'!C10)/'A1-Sum'!C10))","v":0.16702546108868427},{"$f":"IF(ISERROR(('A1-Sum'!E10-'A1-Sum'!D10)/'A1-Sum'!D10),0,(('A1-Sum'!E10-'A1-Sum'!D10)/'A1-Sum'!D10))","v":-2.0065873093875738E-2},{"$f":"IF(ISERROR(('A1-Sum'!F10-'A1-Sum'!E10)/'A1-Sum'!E10),0,(('A1-Sum'!F10-'A1-Sum'!E10)/'A1-Sum'!E10))","v":0.11190546796445061},{"$f":"IF(ISERROR(('A1-Sum'!G10-'A1-Sum'!F10)/'A1-Sum'!F10),0,(('A1-Sum'!G10-'A1-Sum'!F10)/'A1-Sum'!F10))","v":0},{"$f":"IF(ISERROR(('A1-Sum'!H10-'A1-Sum'!G10)/'A1-Sum'!G10),0,(('A1-Sum'!H10-'A1-Sum'!G10)/'A1-Sum'!G10))","v":-6.2119122370531792E-2},{"$f":"IF(ISERROR(('A1-Sum'!I10-'A1-Sum'!F10)/'A1-Sum'!F10),0,(('A1-Sum'!I10-'A1-Sum'!F10)/'A1-Sum'!F10))","v":2.4900497027911497E-2},{"$f":"IF(ISERROR(('A1-Sum'!J10-'A1-Sum'!I10)/'A1-Sum'!I10),0,(('A1-Sum'!J10-'A1-Sum'!I10)/'A1-Sum'!I10))","v":1.0625952597441656E-2},{"$f":"IF(ISERROR(('A1-Sum'!K10-'A1-Sum'!J10)/'A1-Sum'!J10),0,(('A1-Sum'!K10-'A1-Sum'!J10)/'A1-Sum'!J10))","v":3.6760846594842897E-2}]
["% Increase in Property Rates Revenue",null,null,null,{"$f":"IF(ISERROR(('A4-FinPerf RE'!D22-'A4-FinPerf RE'!C22)/'A4-FinPerf RE'!C22),0,(('A4-FinPerf RE'!D22-'A4-FinPerf RE'!C22)/'A4-FinPerf RE'!C22))","v":-0.14469343235883372},{"$f":"IF(ISERROR(('A4-FinPerf RE'!E22-'A4-FinPerf RE'!D22)/'A4-FinPerf RE'!D22),0,(('A4-FinPerf RE'!E22-'A4-FinPerf RE'!D22)/'A4-FinPerf RE'!D22))","v":1.7333927540303149},{"$f":"IF(ISERROR(('A4-FinPerf RE'!F22-'A4-FinPerf RE'!E22)/'A4-FinPerf RE'!E22),0,(('A4-FinPerf RE'!F22-'A4-FinPerf RE'!E22)/'A4-FinPerf RE'!E22))","v":-0.49846228891405492},{"$f":"IF(ISERROR(('A4-FinPerf RE'!G22-'A4-FinPerf RE'!F22)/'A4-FinPerf RE'!F22),0,(('A4-FinPerf RE'!G22-'A4-FinPerf RE'!F22)/'A4-FinPerf RE'!F22))","v":1.0168529503512753},{"$f":"IF(ISERROR(('A4-FinPerf RE'!H22-'A4-FinPerf RE'!G22)/'A4-FinPerf RE'!G22),0,(('A4-FinPerf RE'!H22-'A4-FinPerf RE'!G22)/'A4-FinPerf RE'!G22))","v":0},{"$f":"IF(ISERROR(('A4-FinPerf RE'!I22-'A4-FinPerf RE'!H22)/'A4-FinPerf RE'!H22),0,(('A4-FinPerf RE'!I22-'A4-FinPerf RE'!H22)/'A4-FinPerf RE'!H22))","v":3.9950618800354117E-2},{"$f":"IF(ISERROR(('A4-FinPerf RE'!J22-'A4-FinPerf RE'!I22)/'A4-FinPerf RE'!I22),0,(('A4-FinPerf RE'!J22-'A4-FinPerf RE'!I22)/'A4-FinPerf RE'!I22))","v":5.3107099815062134E-2},{"$f":"IF(ISERROR(('A4-FinPerf RE'!K22-'A4-FinPerf RE'!J22)/'A4-FinPerf RE'!J22),0,(('A4-FinPerf RE'!K22-'A4-FinPerf RE'!J22)/'A4-FinPerf RE'!J22))","v":4.5000012500817956E-2},{"$f":"IF(ISERROR(('A4-FinPerf RE'!L22-'A4-FinPerf RE'!K22)/'A4-FinPerf RE'!K22),0,(('A4-FinPerf RE'!L22-'A4-FinPerf RE'!K22)/'A4-FinPerf RE'!K22))","v":5.0052373851406921E-2}]
["% Increase in Electricity Revenue",null,null,null,{"$f":"IF(ISERROR(('A4-FinPerf RE'!D6-'A4-FinPerf RE'!C6)/'A4-FinPerf RE'!C6),0,(('A4-FinPerf RE'!D6-'A4-FinPerf RE'!C6)/'A4-FinPerf RE'!C6))","v":9.5243044645190553E-2},{"$f":"IF(ISERROR(('A4-FinPerf RE'!E6-'A4-FinPerf RE'!D6)/'A4-FinPerf RE'!D6),0,(('A4-FinPerf RE'!E6-'A4-FinPerf RE'!D6)/'A4-FinPerf RE'!D6))","v":0.11163158593108197},{"$f":"IF(ISERROR(('A4-FinPerf RE'!F6-'A4-FinPerf RE'!E6)/'A4-FinPerf RE'!E6),0,(('A4-FinPerf RE'!F6-'A4-FinPerf RE'!E6)/'A4-FinPerf RE'!E6))","v":0.56020817946676293},{"$f":"IF(ISERROR(('A4-FinPerf RE'!G6-'A4-FinPerf RE'!F6)/'A4-FinPerf RE'!F6),0,(('A4-FinPerf RE'!G6-'A4-FinPerf RE'!F6)/'A4-FinPerf RE'!F6))","v":3.6160916294475914E-3},{"$f":"IF(ISERROR(('A4-FinPerf RE'!H6-'A4-FinPerf RE'!G6)/'A4-FinPerf RE'!G6),0,(('A4-FinPerf RE'!H6-'A4-FinPerf RE'!G6)/'A4-FinPerf RE'!G6))","v":0},{"$f":"IF(ISERROR(('A4-FinPerf RE'!I6-'A4-FinPerf RE'!H6)/'A4-FinPerf RE'!H6),0,(('A4-FinPerf RE'!I6-'A4-FinPerf RE'!H6)/'A4-FinPerf RE'!H6))","v":-0.28818687349158917},{"$f":"IF(ISERROR(('A4-FinPerf RE'!J6-'A4-FinPerf RE'!G6)/'A4-FinPerf RE'!G6),0,(('A4-FinPerf RE'!J6-'A4-FinPerf RE'!G6)/'A4-FinPerf RE'!G6))","v":0.10475699207180299},{"$f":"IF(ISERROR(('A4-FinPerf RE'!K6-'A4-FinPerf RE'!J6)/'A4-FinPerf RE'!J6),0,(('A4-FinPerf RE'!K6-'A4-FinPerf RE'!J6)/'A4-FinPerf RE'!J6))","v":4.5000002364520363E-2},{"$f":"IF(ISERROR(('A4-FinPerf RE'!L6-'A4-FinPerf RE'!K6)/'A4-FinPerf RE'!K6),0,(('A4-FinPerf RE'!L6-'A4-FinPerf RE'!K6)/'A4-FinPerf RE'!K6))","v":2.4999998439517997E-2}]
["% Increase in Property Rates & Services Charges",null,null,null,{"$f":"IF(ISERROR((('A1-Sum'!C5+'A1-Sum'!C6)-('A1-Sum'!B5+'A1-Sum'!B6))/('A1-Sum'!B5+'A1-Sum'!B6)),0,((('A1-Sum'!C5+'A1-Sum'!C6)-('A1-Sum'!B5+'A1-Sum'!B6))/('A1-Sum'!B5+'A1-Sum'!B6)))","v":-2.3625210333789868E-2},{"$f":"IF(ISERROR((('A1-Sum'!D5+'A1-Sum'!D6)-('A1-Sum'!C5+'A1-Sum'!C6))/('A1-Sum'!C5+'A1-Sum'!C6)),0,((('A1-Sum'!D5+'A1-Sum'!D6)-('A1-Sum'!C5+'A1-Sum'!C6))/('A1-Sum'!C5+'A1-Sum'!C6)))","v":0.80149689027845239},{"$f":"IF(ISERROR((('A1-Sum'!E5+'A1-Sum'!E6)-('A1-Sum'!D5+'A1-Sum'!D6))/('A1-Sum'!D5+'A1-Sum'!D6)),0,((('A1-Sum'!E5+'A1-Sum'!E6)-('A1-Sum'!D5+'A1-Sum'!D6))/('A1-Sum'!D5+'A1-Sum'!D6)))","v":-0.13086640043366959},{"$f":"IF(ISERROR((('A1-Sum'!F5+'A1-Sum'!F6)-('A1-Sum'!E5+'A1-Sum'!E6))/('A1-Sum'!E5+'A1-Sum'!E6)),0,((('A1-Sum'!F5+'A1-Sum'!F6)-('A1-Sum'!E5+'A1-Sum'!E6))/('A1-Sum'!E5+'A1-Sum'!E6)))","v":0.37786361493910947},{"$f":"IF(ISERROR((('A1-Sum'!G5+'A1-Sum'!G6)-('A1-Sum'!F5+'A1-Sum'!F6))/('A1-Sum'!F5+'A1-Sum'!F6)),0,((('A1-Sum'!G5+'A1-Sum'!G6)-('A1-Sum'!F5+'A1-Sum'!F6))/('A1-Sum'!F5+'A1-Sum'!F6)))","v":0},{"$f":"IF(ISERROR((('A1-Sum'!H5+'A1-Sum'!H6)-('A1-Sum'!G5+'A1-Sum'!G6))/('A1-Sum'!G5+'A1-Sum'!G6)),0,((('A1-Sum'!H5+'A1-Sum'!H6)-('A1-Sum'!G5+'A1-Sum'!G6))/('A1-Sum'!G5+'A1-Sum'!G6)))","v":-0.10575537609469317},{"$f":"IF(ISERROR((('A1-Sum'!I5+'A1-Sum'!I6)-('A1-Sum'!F5+'A1-Sum'!F6))/('A1-Sum'!F5+'A1-Sum'!F6)),0,((('A1-Sum'!I5+'A1-Sum'!I6)-('A1-Sum'!F5+'A1-Sum'!F6))/('A1-Sum'!F5+'A1-Sum'!F6)))","v":0.10551144842649864},{"$f":"IF(ISERROR((('A1-Sum'!J5+'A1-Sum'!J6)-('A1-Sum'!I5+'A1-Sum'!I6))/('A1-Sum'!I5+'A1-Sum'!I6)),0,((('A1-Sum'!J5+'A1-Sum'!J6)-('A1-Sum'!I5+'A1-Sum'!I6))/('A1-Sum'!I5+'A1-Sum'!I6)))","v":4.50000078031772E-2},{"$f":"IF(ISERROR((('A1-Sum'!K5+'A1-Sum'!K6)-('A1-Sum'!J5+'A1-Sum'!J6))/('A1-Sum'!J5+'A1-Sum'!J6)),0,((('A1-Sum'!K5+'A1-Sum'!K6)-('A1-Sum'!J5+'A1-Sum'!J6))/('A1-Sum'!J5+'A1-Sum'!J6)))","v":2.5000008315695516E-2}]
["Expenditure"]
["% Increase in Total Operating Expenditure",null,null,{"$f":"IF(ISERROR(('A1-Sum'!B18-'A1-Sum'!A18)/'A1-Sum'!A18),0,(('A1-Sum'!B18-'A1-Sum'!A18)/'A1-Sum'!A18))","v":0},{"$f":"IF(ISERROR(('A1-Sum'!C18-'A1-Sum'!B18)/'A1-Sum'!B18),0,(('A1-Sum'!C18-'A1-Sum'!B18)/'A1-Sum'!B18))","v":0.26536923137252549},{"$f":"IF(ISERROR(('A1-Sum'!D18-'A1-Sum'!C18)/'A1-Sum'!C18),0,(('A1-Sum'!D18-'A1-Sum'!C18)/'A1-Sum'!C18))","v":-0.16211988791502985},{"$f":"IF(ISERROR(('A1-Sum'!E18-'A1-Sum'!D18)/'A1-Sum'!D18),0,(('A1-Sum'!E18-'A1-Sum'!D18)/'A1-Sum'!D18))","v":0.24265700653908859},{"$f":"IF(ISERROR(('A1-Sum'!F18-'A1-Sum'!E18)/'A1-Sum'!E18),0,(('A1-Sum'!F18-'A1-Sum'!E18)/'A1-Sum'!E18))","v":-8.5647032375518496E-3},{"$f":"IF(ISERROR(('A1-Sum'!G18-'A1-Sum'!F18)/'A1-Sum'!F18),0,(('A1-Sum'!G18-'A1-Sum'!F18)/'A1-Sum'!F18))","v":0},{"$f":"IF(ISERROR(('A1-Sum'!H18-'A1-Sum'!G18)/'A1-Sum'!G18),0,(('A1-Sum'!H18-'A1-Sum'!G18)/'A1-Sum'!G18))","v":-0.31219074746051895},{"$f":"IF(ISERROR(('A1-Sum'!I18-'A1-Sum'!F18)/'A1-Sum'!F18),0,(('A1-Sum'!I18-'A1-Sum'!F18)/'A1-Sum'!F18))","v":-6.6884881756616846E-2},{"$f":"IF(ISERROR(('A1-Sum'!J18-'A1-Sum'!I18)/'A1-Sum'!I18),0,(('A1-Sum'!J18-'A1-Sum'!I18)/'A1-Sum'!I18))","v":1.0911251889612318E-2},{"$f":"IF(ISERROR(('A1-Sum'!K18-'A1-Sum'!J18)/'A1-Sum'!J18),0,(('A1-Sum'!K18-'A1-Sum'!J18)/'A1-Sum'!J18))","v":3.6394186958292558E-2}]
["% Increase in Employee Costs",null,null,{"$f":"IF(ISERROR(('A1-Sum'!B11-'A1-Sum'!A11)/'A1-Sum'!A11),0,(('A1-Sum'!B11-'A1-Sum'!A11)/'A1-Sum'!A11))","v":0},{"$f":"IF(ISERROR(('A1-Sum'!C11-'A1-Sum'!B11)/'A1-Sum'!B11),0,(('A1-Sum'!C11-'A1-Sum'!B11)/'A1-Sum'!B11))","v":3.4919409699197546E-2},{"$f":"IF(ISERROR(('A1-Sum'!D11-'A1-Sum'!C11)/'A1-Sum'!C11),0,(('A1-Sum'!D11-'A1-Sum'!C11)/'A1-Sum'!C11))","v":6.6275690760985925E-2},{"$f":"IF(ISERROR(('A1-Sum'!E11-'A1-Sum'!D11)/'A1-Sum'!D11),0,(('A1-Sum'!E11-'A1-Sum'!D11)/'A1-Sum'!D11))","v":6.4192121899180651E-2},{"$f":"IF(ISERROR(('A1-Sum'!F11-'A1-Sum'!E11)/'A1-Sum'!E11),0,(('A1-Sum'!F11-'A1-Sum'!E11)/'A1-Sum'!E11))","v":0},{"$f":"IF(ISERROR(('A1-Sum'!G11-'A1-Sum'!F11)/'A1-Sum'!F11),0,(('A1-Sum'!G11-'A1-Sum'!F11)/'A1-Sum'!F11))","v":0},{"$f":"IF(ISERROR(('A1-Sum'!H11-'A1-Sum'!G11)/'A1-Sum'!G11),0,(('A1-Sum'!H11-'A1-Sum'!G11)/'A1-Sum'!G11))","v":-9.4317854642845866E-2},{"$f":"IF(ISERROR(('A1-Sum'!I11-'A1-Sum'!F11)/'A1-Sum'!F11),0,(('A1-Sum'!I11-'A1-Sum'!F11)/'A1-Sum'!F11))","v":7.5970941326089683E-2},{"$f":"IF(ISERROR(('A1-Sum'!J11-'A1-Sum'!I11)/'A1-Sum'!I11),0,(('A1-Sum'!J11-'A1-Sum'!I11)/'A1-Sum'!I11))","v":2.4299884045637543E-2},{"$f":"IF(ISERROR(('A1-Sum'!K11-'A1-Sum'!J11)/'A1-Sum'!J11),0,(('A1-Sum'!K11-'A1-Sum'!J11)/'A1-Sum'!J11))","v":2.4999975020717494E-2}]
["% Increase in Electricity Bulk Purchases",null,null,{"$f":"IF(ISERROR(('SA1'!C86-'SA1'!B86)/'SA1'!B86),0,(('SA1'!C86-'SA1'!B86)/'SA1'!B86))","v":0},{"$f":"IF(ISERROR(('SA1'!D86-'SA1'!C86)/'SA1'!C86),0,(('SA1'!D86-'SA1'!C86)/'SA1'!C86))","v":4.124688746763519E-2},{"$f":"IF(ISERROR(('SA1'!E86-'SA1'!D86)/'SA1'!D86),0,(('SA1'!E86-'SA1'!D86)/'SA1'!D86))","v":0.1130656271918342},{"$f":"IF(ISERROR(('SA1'!F86-'SA1'!E86)/'SA1'!E86),0,(('SA1'!F86-'SA1'!E86)/'SA1'!E86))","v":4.181317535370585E-2},{"$f":"IF(ISERROR(('SA1'!G86-'SA1'!F86)/'SA1'!F86),0,(('SA1'!G86-'SA1'!F86)/'SA1'!F86))","v":4.8828125E-2},{"$f":"IF(ISERROR(('SA1'!H86-'SA1'!G86)/'SA1'!G86),0,(('SA1'!H86-'SA1'!G86)/'SA1'!G86))","v":0},{"$f":"IF(ISERROR(('SA1'!I86-'SA1'!H86)/'SA1'!H86),0,(('SA1'!I86-'SA1'!H86)/'SA1'!H86))","v":-0.12603574875853504},{"$f":"IF(ISERROR(('SA1'!J86-'SA1'!G86)/'SA1'!G86),0,(('SA1'!J86-'SA1'!G86)/'SA1'!G86))","v":4.3999999999999997E-2},{"$f":"IF(ISERROR(('SA1'!K86-'SA1'!J86)/'SA1'!J86),0,(('SA1'!K86-'SA1'!J86)/'SA1'!J86))","v":4.5000011891426522E-2},{"$f":"IF(ISERROR(('SA1'!L86-'SA1'!K86)/'SA1'!K86),0,(('SA1'!L86-'SA1'!K86)/'SA1'!K86))","v":2.4999988620644609E-2}]
["Average Cost Per Budgeted Employee Position (Remuneration)",null,null,{"$f":"IF(ISERROR('A1-Sum'!B11/('SA24'!B36+'SA24'!C36-'SA24'!A5)),0,('A1-Sum'!B11/('SA24'!B36+'SA24'!C36-'SA24'!A5)))","v":0},{"$f":"IF(ISERROR('A1-Sum'!C11/('SA24'!C36+'SA24'!D36-'SA24'!B5)),0,('A1-Sum'!C11/('SA24'!C36+'SA24'!D36-'SA24'!B5)))","v":277502.57040268456},{"$f":"IF(ISERROR('A1-Sum'!D11/('SA24'!D36+'SA24'!E36-'SA24'!C5)),0,('A1-Sum'!D11/('SA24'!D36+'SA24'!E36-'SA24'!C5)))","v":603948.52735159826},{"$f":"IF(ISERROR('A1-Sum'!E11/('SA24'!F36-'SA24'!F5)),0,('A1-Sum'!E11/('SA24'!F36-'SA24'!F5)))","v":475523.92229729728},{"$f":"IF(ISERROR('A1-Sum'!F11/('SA24'!G36-'SA24'!G5)),0,('A1-Sum'!F11/('SA24'!G36-'SA24'!G5)))","v":475523.92229729728},{"$f":"IF(ISERROR('A1-Sum'!G11/('SA24'!H36-'SA24'!H5)),0,('A1-Sum'!G11/('SA24'!H36-'SA24'!H5)))","v":23459180.166666668},{"$f":"IF(ISERROR('A1-Sum'!H11/('SA24'!I36-'SA24'!I5)),0,('A1-Sum'!H11/('SA24'!I36-'SA24'!I5)))","v":477450.80048689141},{"$f":"IF(ISERROR('A1-Sum'!I11/('SA24'!I36-'SA24'!I5)),0,('A1-Sum'!I11/('SA24'!I36-'SA24'!I5)))","v":567222.38576779026},{"$f":"IF(ISERROR('A1-Sum'!J11/('SA24'!J36-'SA24'!J5)),0,('A1-Sum'!J11/('SA24'!J36-'SA24'!J5)))","v":594362.27969348663},{"$f":"IF(ISERROR('A1-Sum'!K11/('SA24'!K36-'SA24'!K5)),0,('A1-Sum'!K11/('SA24'!K36-'SA24'!K5)))","v":26501127.5}]
["Average Cost Per Councillor (Remuneration)",null,null,{"$f":"IF(ISERROR('A1-Sum'!B12/'SA24'!A5),0,('A1-Sum'!B12/'SA24'!A5))","v":0},{"$f":"IF(ISERROR('A1-Sum'!C12/'SA24'!B5),0,('A1-Sum'!C12/'SA24'!B5))","v":0},{"$f":"IF(ISERROR('A1-Sum'!D12/'SA24'!C5),0,('A1-Sum'!D12/'SA24'!C5))","v":436652.65977272729},{"$f":"IF(ISERROR('A1-Sum'!E12/'SA24'!F5),0,('A1-Sum'!E12/'SA24'!F5))","v":499946.93181818182},{"$f":"IF(ISERROR('A1-Sum'!F12/'SA24'!G5),0,('A1-Sum'!F12/'SA24'!G5))","v":0},{"$f":"IF(ISERROR('A1-Sum'!G12/'SA24'!H5),0,('A1-Sum'!G12/'SA24'!H5))","v":499946.93181818182},{"$f":"IF(ISERROR('A1-Sum'!H12/'SA24'!I5),0,('A1-Sum'!H12/'SA24'!I5))","v":411574.73249999998},{"$f":"IF(ISERROR('A1-Sum'!I12/'SA24'!I5),0,('A1-Sum'!I12/'SA24'!I5))","v":521944.81818181818},{"$f":"IF(ISERROR('A1-Sum'!J12/'SA24'!J5),0,('A1-Sum'!J12/'SA24'!J5))","v":0},{"$f":"IF(ISERROR('A1-Sum'!K12/'SA24'!K5),0,('A1-Sum'!K12/'SA24'!K5))","v":559068.22727272729}]
["R&M % of PPE",null,null,{"$f":"'A9-Asset'!C223","v":2.1531645324408755E-2},{"$f":"'A9-Asset'!D223","v":6.3894304059181487E-3},{"$f":"'A9-Asset'!E223","v":1.0735197951995967E-2},{"$f":"'A9-Asset'!F223","v":5.3413471395902419E-3},{"$f":"'A9-Asset'!G223","v":3.1478455611163164E-3},{"$f":"'A9-Asset'!H223","v":3.1478455611163164E-3},{"$f":"'A9-Asset'!I223","v":2.6162648922762421E-3},{"$f":"'A9-Asset'!I223","v":2.6162648922762421E-3},{"$f":"'A9-Asset'!J223","v":2.5618886016969609E-3},{"$f":"'A9-Asset'!K223","v":2.561257051378771E-3}]
["Asset Renewal and R&M as a % of PPE",null,null,{"$f":"'A9-Asset'!C224","v":2.165128311393244E-2},{"$f":"'A9-Asset'!D224","v":6.3894304059181487E-3},{"$f":"'A9-Asset'!E224","v":1.1610043219698949E-2},{"$f":"'A9-Asset'!F224","v":2.0485479864801152E-2},{"$f":"'A9-Asset'!G224","v":9.7855920508259676E-3},{"$f":"'A9-Asset'!H224","v":9.7855920508259676E-3},{"$f":"'A9-Asset'!I224","v":9.5373485810333943E-3},{"$f":"'A9-Asset'!I224","v":9.5373485810333943E-3},{"$f":"'A9-Asset'!J224","v":6.9402909038051921E-3},{"$f":"'A9-Asset'!K224","v":1.0366151650993716E-2}]
["Debt Impairment % of Total Billable Revenue",null,null,{"$f":"'SA10'!D11","v":0},{"$f":"'SA10'!E11","v":2.130122474589748E-2},{"$f":"'SA10'!F11","v":0},{"$f":"'SA10'!G11","v":0.53131662588278927},{"$f":"'SA10'!H11","v":0.38560901102412026},{"$f":"'SA10'!I11","v":0.38560901102412026},{"$f":"'SA10'!J11","v":0},{"$f":"'SA10'!K11","v":0.1240223718509037},{"$f":"'SA10'!L11","v":0.11573455107880672},{"$f":"'SA10'!M11","v":0.14779073504138265}]
["Capital Revenue"]
["Internally Funded & Other (R'000)",null,null,{"$f":"'A1-Sum'!B30","v":8073757.71},{"$f":"'A1-Sum'!C30","v":523676},{"$f":"'A1-Sum'!D30","v":1094219.83},{"$f":"'A1-Sum'!E30","v":9123531},{"$f":"'A1-Sum'!F30","v":20330754},{"$f":"'A1-Sum'!G30","v":20330754},{"$f":"'A1-Sum'!H30","v":7936015.4699999997},{"$f":"'A1-Sum'!I30","v":19400000},{"$f":"'A1-Sum'!J30","v":17600000},{"$f":"'A1-Sum'!K30","v":18393400}]
["Borrowing (R'000)",null,null,{"$f":"'A1-Sum'!B29","v":0},{"$f":"'A1-Sum'!C29","v":0},{"$f":"'A1-Sum'!D29","v":0},{"$f":"'A1-Sum'!E29","v":0},{"$f":"'A1-Sum'!F29","v":0},{"$f":"'A1-Sum'!G29","v":0},{"$f":"'A1-Sum'!H29","v":0},{"$f":"'A1-Sum'!I29","v":0},{"$f":"'A1-Sum'!J29","v":0},{"$f":"'A1-Sum'!K29","v":0}]
["Grant Funding and Other (R'000)",null,null,{"$f":"'A1-Sum'!B27","v":0},{"$f":"'A1-Sum'!C27","v":0},{"$f":"'A1-Sum'!D27","v":83484427.590000004},{"$f":"'A1-Sum'!E27","v":65785000},{"$f":"'A1-Sum'!F27","v":125178416},{"$f":"'A1-Sum'!G27","v":125178416},{"$f":"'A1-Sum'!H27","v":86296993.769999996},{"$f":"'A1-Sum'!I27","v":67564800},{"$f":"'A1-Sum'!J27","v":75105000},{"$f":"'A1-Sum'!K27","v":78484000}]
["Internally Generated funds % of Non Grant Funding",null,null,{"$f":"IF(ISERROR(('A1-Sum'!B28+'A1-Sum'!B30)/('A1-Sum'!B31-'A1-Sum'!B27)),0,(('A1-Sum'!B28+'A1-Sum'!B30)/('A1-Sum'!B31-'A1-Sum'!B27)))","v":1},{"$f":"IF(ISERROR(('A1-Sum'!C28+'A1-Sum'!C30)/('A1-Sum'!C31-'A1-Sum'!C27)),0,(('A1-Sum'!C28+'A1-Sum'!C30)/('A1-Sum'!C31-'A1-Sum'!C27)))","v":1},{"$f":"IF(ISERROR(('A1-Sum'!D28+'A1-Sum'!D30)/('A1-Sum'!D31-'A1-Sum'!D27)),0,(('A1-Sum'!D28+'A1-Sum'!D30)/('A1-Sum'!D31-'A1-Sum'!D27)))","v":1.0000000000000018},{"$f":"IF(ISERROR(('A1-Sum'!E28+'A1-Sum'!E30)/('A1-Sum'!E31-'A1-Sum'!E27)),0,(('A1-Sum'!E28+'A1-Sum'!E30)/('A1-Sum'!E31-'A1-Sum'!E27)))","v":1},{"$f":"IF(ISERROR(('A1-Sum'!F28+'A1-Sum'!F30)/('A1-Sum'!F31-'A1-Sum'!F27)),0,(('A1-Sum'!F28+'A1-Sum'!F30)/('A1-Sum'!F31-'A1-Sum'!F27)))","v":1},{"$f":"IF(ISERROR(('A1-Sum'!G28+'A1-Sum'!G30)/('A1-Sum'!G31-'A1-Sum'!G27)),0,(('A1-Sum'!G28+'A1-Sum'!G30)/('A1-Sum'!G31-'A1-Sum'!G27)))","v":1},{"$f":"IF(ISERROR(('A1-Sum'!H28+'A1-Sum'!H30)/('A1-Sum'!H31-'A1-Sum'!H27)),0,(('A1-Sum'!H28+'A1-Sum'!H30)/('A1-Sum'!H31-'A1-Sum'!H27)))","v":1.0000000000000002},{"$f":"IF(ISERROR(('A1-Sum'!I28+'A1-Sum'!I30)/('A1-Sum'!I31-'A1-Sum'!I27)),0,(('A1-Sum'!I28+'A1-Sum'!I30)/('A1-Sum'!I31-'A1-Sum'!I27)))","v":1},{"$f":"IF(ISERROR(('A1-Sum'!J28+'A1-Sum'!J30)/('A1-Sum'!J31-'A1-Sum'!J27)),0,(('A1-Sum'!J28+'A1-Sum'!J30)/('A1-Sum'!J31-'A1-Sum'!J27)))","v":1},{"$f":"IF(ISERROR(('A1-Sum'!K28+'A1-Sum'!K30)/('A1-Sum'!K31-'A1-Sum'!K27)),0,(('A1-Sum'!K28+'A1-Sum'!K30)/('A1-Sum'!K31-'A1-Sum'!K27)))","v":1}]
["Borrowing % of Non Grant Funding",null,null,{"$f":"IF(ISERROR('A1-Sum'!B29/('A1-Sum'!B31-'A1-Sum'!B27)),0,('A1-Sum'!B29/('A1-Sum'!B31-'A1-Sum'!B27)))","v":0},{"$f":"IF(ISERROR('A1-Sum'!C29/('A1-Sum'!C31-'A1-Sum'!C27)),0,('A1-Sum'!C29/('A1-Sum'!C31-'A1-Sum'!C27)))","v":0},{"$f":"IF(ISERROR('A1-Sum'!D29/('A1-Sum'!D31-'A1-Sum'!D27)),0,('A1-Sum'!D29/('A1-Sum'!D31-'A1-Sum'!D27)))","v":0},{"$f":"IF(ISERROR('A1-Sum'!E29/('A1-Sum'!E31-'A1-Sum'!E27)),0,('A1-Sum'!E29/('A1-Sum'!E31-'A1-Sum'!E27)))","v":0},{"$f":"IF(ISERROR('A1-Sum'!F29/('A1-Sum'!F31-'A1-Sum'!F27)),0,('A1-Sum'!F29/('A1-Sum'!F31-'A1-Sum'!F27)))","v":0},{"$f":"IF(ISERROR('A1-Sum'!G29/('A1-Sum'!G31-'A1-Sum'!G27)),0,('A1-Sum'!G29/('A1-Sum'!G31-'A1-Sum'!G27)))","v":0},{"$f":"IF(ISERROR('A1-Sum'!H29/('A1-Sum'!H31-'A1-Sum'!H27)),0,('A1-Sum'!H29/('A1-Sum'!H31-'A1-Sum'!H27)))","v":0},{"$f":"IF(ISERROR('A1-Sum'!I29/('A1-Sum'!I31-'A1-Sum'!I27)),0,('A1-Sum'!I29/('A1-Sum'!I31-'A1-Sum'!I27)))","v":0},{"$f":"IF(ISERROR('A1-Sum'!J29/('A1-Sum'!J31-'A1-Sum'!J27)),0,('A1-Sum'!J29/('A1-Sum'!J31-'A1-Sum'!J27)))","v":0},{"$f":"IF(ISERROR('A1-Sum'!K29/('A1-Sum'!K31-'A1-Sum'!K27)),0,('A1-Sum'!K29/('A1-Sum'!K31-'A1-Sum'!K27)))","v":0}]
["Grant Funding % of Total Funding",null,null,{"$f":"IF(ISERROR('A1-Sum'!B27/'A1-Sum'!B31),0,('A1-Sum'!B27/'A1-Sum'!B31))","v":0},{"$f":"IF(ISERROR('A1-Sum'!C27/'A1-Sum'!C31),0,('A1-Sum'!C27/'A1-Sum'!C31))","v":0},{"$f":"IF(ISERROR('A1-Sum'!D27/'A1-Sum'!D31),0,('A1-Sum'!D27/'A1-Sum'!D31))","v":0.9870626941506131},{"$f":"IF(ISERROR('A1-Sum'!E27/'A1-Sum'!E31),0,('A1-Sum'!E27/'A1-Sum'!E31))","v":0.87820437968540588},{"$f":"IF(ISERROR('A1-Sum'!F27/'A1-Sum'!F31),0,('A1-Sum'!F27/'A1-Sum'!F31))","v":0.86027853777188068},{"$f":"IF(ISERROR('A1-Sum'!G27/'A1-Sum'!G31),0,('A1-Sum'!G27/'A1-Sum'!G31))","v":0.86027853777188068},{"$f":"IF(ISERROR('A1-Sum'!H27/'A1-Sum'!H31),0,('A1-Sum'!H27/'A1-Sum'!H31))","v":0.91578306228353656},{"$f":"IF(ISERROR('A1-Sum'!I27/'A1-Sum'!I31),0,('A1-Sum'!I27/'A1-Sum'!I31))","v":0.77692123709822825},{"$f":"IF(ISERROR('A1-Sum'!J27/'A1-Sum'!J31),0,('A1-Sum'!J27/'A1-Sum'!J31))","v":0.81015047732053291},{"$f":"IF(ISERROR('A1-Sum'!K27/'A1-Sum'!K31),0,('A1-Sum'!K27/'A1-Sum'!K31))","v":0.81013734885535738}]
["Capital Expenditure"]
["Total Capital Programme (R'000)",null,null,{"$f":"'A1-Sum'!B26","v":8073757.71},{"$f":"'A1-Sum'!C26","v":523676},{"$f":"'A1-Sum'!D26","v":84578647.419999987},{"$f":"'A1-Sum'!E26","v":74908531},{"$f":"'A1-Sum'!F26","v":145509170},{"$f":"'A1-Sum'!G26","v":145509170},{"$f":"'A1-Sum'!H26","v":94233009.24000001},{"$f":"'A1-Sum'!I26","v":86964800},{"$f":"'A1-Sum'!J26","v":92705000},{"$f":"'A1-Sum'!K26","v":96877400}]
["Asset Renewal",null,null,{"$f":"'A1-Sum'!B51","v":93057.64},{"$f":"'A1-Sum'!C51","v":0},{"$f":"'A1-Sum'!D51","v":837890.78},{"$f":"'A1-Sum'!E51","v":16816000},{"$f":"'A1-Sum'!F51","v":6988144},{"$f":"'A1-Sum'!G51","v":6988144},{"$f":"'A1-Sum'!H51","v":0},{"$f":"'A1-Sum'!I51","v":9300000},{"$f":"'A1-Sum'!J51","v":6100000},{"$f":"'A1-Sum'!K51","v":11148400}]
["Asset Renewal % of Total Capital Expenditure",null,null,{"$f":"IF(ISERROR('A1-Sum'!B51/'A1-Sum'!B31),0,('A1-Sum'!B51/'A1-Sum'!B31))","v":1.1525939140425358E-2},{"$f":"IF(ISERROR('A1-Sum'!C51/'A1-Sum'!C31),0,('A1-Sum'!C51/'A1-Sum'!C31))","v":0},{"$f":"IF(ISERROR('A1-Sum'!D51/'A1-Sum'!D31),0,('A1-Sum'!D51/'A1-Sum'!D31))","v":9.9066467194634644E-3},{"$f":"IF(ISERROR('A1-Sum'!E51/'A1-Sum'!E31),0,('A1-Sum'!E51/'A1-Sum'!E31))","v":0.22448711482541286},{"$f":"IF(ISERROR('A1-Sum'!F51/'A1-Sum'!F31),0,('A1-Sum'!F51/'A1-Sum'!F31))","v":4.8025454340781412E-2},{"$f":"IF(ISERROR('A1-Sum'!G51/'A1-Sum'!G31),0,('A1-Sum'!G51/'A1-Sum'!G31))","v":4.8025454340781412E-2},{"$f":"IF(ISERROR('A1-Sum'!H51/'A1-Sum'!H31),0,('A1-Sum'!H51/'A1-Sum'!H31))","v":0},{"$f":"IF(ISERROR('A1-Sum'!I51/'A1-Sum'!I31),0,('A1-Sum'!I51/'A1-Sum'!I31))","v":0.10693981932919985},{"$f":"IF(ISERROR('A1-Sum'!J51/'A1-Sum'!J31),0,('A1-Sum'!J51/'A1-Sum'!J31))","v":6.5800118655951673E-2},{"$f":"IF(ISERROR('A1-Sum'!K51/'A1-Sum'!K31),0,('A1-Sum'!K51/'A1-Sum'!K31))","v":0.11507740711455923}]
["Cash"]
["Cash Receipts % of Rate Payer & Other",null,null,{"$f":"'SA10'!D10","v":0.60873269124332896},{"$f":"'SA10'!E10","v":0.96548527545661922},{"$f":"'SA10'!F10","v":0.58303763013100307},{"$f":"'SA10'!G10","v":0.3157799589971953},{"$f":"'SA10'!H10","v":0.19401140688926163},{"$f":"'SA10'!I10","v":0.19401140688926163},{"$f":"'SA10'!J10","v":0.33623327501673522},{"$f":"'SA10'!K10","v":0.7133768181765332},{"$f":"'SA10'!L10","v":0.71528012935740737},{"$f":"'SA10'!M10","v":0.68563327462402801}]
["Cash Coverage Ratio",null,null,{"$f":"'SA10'!D7","v":-0.80459453547097248},{"$f":"'SA10'!E7","v":-1.6081570128243301},{"$f":"'SA10'!F7","v":4.6911716165049482},{"$f":"'SA10'!G7","v":7.0737703813294042},{"$f":"'SA10'!H7","v":9.0580584375627069},{"$f":"'SA10'!I7","v":7.2617317090378233},{"$f":"'SA10'!J7","v":-6.4992633674572957},{"$f":"'SA10'!K7","v":6.8744121213825027},{"$f":"'SA10'!L7","v":0},{"$f":"'SA10'!M7","v":0}]
["Borrowing"]
[]
["Most recent Credit Rating ",null,null,null,null,null,null,null,null,null,{"$f":"'SA8'!F6","v":0}]
["Capital Charges to Operating",null,null,{"$f":"'SA8'!C7","v":0},{"$f":"'SA8'!D7","v":0},{"$f":"'SA8'!E7","v":1.2750512551620933E-2},{"$f":"'SA8'!F7","v":0},{"$f":"'SA8'!G7","v":0},{"$f":"'SA8'!H7","v":0},{"$f":"'SA8'!I7","v":0},{"$f":"'SA8'!J7","v":0},{"$f":"'SA8'!K7","v":0},{"$f":"'SA8'!L7","v":0}]
["Borrowing Receipts % of Capital Expenditure",null,null,{"$f":"'SA10'!D13","v":0},{"$f":"'SA10'!E13","v":0},{"$f":"'SA10'!F13","v":0},{"$f":"'SA10'!G13","v":0},{"$f":"'SA10'!H13","v":0},{"$f":"'SA10'!I13","v":0},{"$f":"'SA10'!J13","v":0},{"$f":"'SA10'!K13","v":0},{"$f":"'SA10'!L13","v":0},{"$f":"'SA10'!M13","v":0}]
["Reserves"]
["Uncommitted reserves after application of cash and investments",null,null,{"$f":"'A8-ResRecon'!C19","v":8416901.099999994},{"$f":"'A8-ResRecon'!D19","v":45457142.409999996},{"$f":"'A8-ResRecon'!E19","v":73200659.829999998},{"$f":"'A8-ResRecon'!F19","v":165221582},{"$f":"'A8-ResRecon'!G19","v":209310196},{"$f":"'A8-ResRecon'!H19","v":209310196},{"$f":"'A8-ResRecon'!I19","v":102591880.56},{"$f":"'A8-ResRecon'!J19","v":243454611},{"$f":"'A8-ResRecon'!K19","v":299803650},{"$f":"'A8-ResRecon'!L19","v":300911271}]
["Free Services"]
["Free Basic Services as a % of Equitable Share",null,null,{"$f":"IF(ISERROR('A10-SerDel'!C60/'SA18'!C8),0,('A10-SerDel'!C60/'SA18'!C8))","v":9.4186567462378406E-5},{"$f":"IF(ISERROR('A10-SerDel'!D60/'SA18'!D8),0,('A10-SerDel'!D60/'SA18'!D8))","v":1.1053588952721533E-4},{"$f":"IF(ISERROR('A10-SerDel'!E60/'SA18'!E8),0,('A10-SerDel'!E60/'SA18'!E8))","v":1.094994880163409E-4},{"$f":"IF(ISERROR('A10-SerDel'!F60/'SA18'!F8),0,('A10-SerDel'!F60/'SA18'!F8))","v":1.7083153987964235E-2},{"$f":"IF(ISERROR('A10-SerDel'!G60/'SA18'!G8),0,('A10-SerDel'!G60/'SA18'!G8))","v":1.5458894041402386E-2},{"$f":"IF(ISERROR('A10-SerDel'!H60/'SA18'!H8),0,('A10-SerDel'!H60/'SA18'!H8))","v":1.5458894041402386E-2},{"$f":"IF(ISERROR('A10-SerDel'!I60/'SA18'!I8),0,('A10-SerDel'!I60/'SA18'!I8))","v":2.1753643334379624E-2},{"$f":"IF(ISERROR('A10-SerDel'!I60/'SA18'!I8),0,('A10-SerDel'!I60/'SA18'!I8))","v":2.1753643334379624E-2},{"$f":"IF(ISERROR('A10-SerDel'!J60/'SA18'!J8),0,('A10-SerDel'!J60/'SA18'!J8))","v":2.2883302446864338E-2},{"$f":"IF(ISERROR('A10-SerDel'!K60/'SA18'!K8),0,('A10-SerDel'!K60/'SA18'!K8))","v":2.0092702502324231E-2}]
["Free Services as a % of Operating Revenue \n(excl operational transfers)",null,null,{"$f":"IF(ISERROR('A10-SerDel'!C79/('A1-Sum'!B10-'A1-Sum'!B8)),0,('A10-SerDel'!C79/('A1-Sum'!B10-'A1-Sum'!B8)))","v":3.9534023940166738E-2},{"$f":"IF(ISERROR('A10-SerDel'!D79/('A1-Sum'!C10-'A1-Sum'!C8)),0,('A10-SerDel'!D79/('A1-Sum'!C10-'A1-Sum'!C8)))","v":8.2575789780304568E-2},{"$f":"IF(ISERROR('A10-SerDel'!E79/('A1-Sum'!D10-'A1-Sum'!D8)),0,('A10-SerDel'!E79/('A1-Sum'!D10-'A1-Sum'!D8)))","v":0.26691778319344434},{"$f":"IF(ISERROR('A10-SerDel'!F79/('A1-Sum'!E10-'A1-Sum'!E8)),0,('A10-SerDel'!F79/('A1-Sum'!E10-'A1-Sum'!E8)))","v":6.5718658060733084E-2},{"$f":"IF(ISERROR('A10-SerDel'!G79/('A1-Sum'!F10-'A1-Sum'!F8)),0,('A10-SerDel'!G79/('A1-Sum'!F10-'A1-Sum'!F8)))","v":7.8395965119398808E-2},{"$f":"IF(ISERROR('A10-SerDel'!H79/('A1-Sum'!G10-'A1-Sum'!G8)),0,('A10-SerDel'!H79/('A1-Sum'!G10-'A1-Sum'!G8)))","v":7.8395965119398808E-2},{"$f":"IF(ISERROR('A10-SerDel'!I79/('A1-Sum'!H10-'A1-Sum'!H8)),0,('A10-SerDel'!I79/('A1-Sum'!H10-'A1-Sum'!H8)))","v":0.10143984926769387},{"$f":"IF(ISERROR('A10-SerDel'!I79/('A1-Sum'!I10-'A1-Sum'!I8)),0,('A10-SerDel'!I79/('A1-Sum'!I10-'A1-Sum'!I8)))","v":7.9870949065434849E-2},{"$f":"IF(ISERROR('A10-SerDel'!J79/('A1-Sum'!J10-'A1-Sum'!J8)),0,('A10-SerDel'!J79/('A1-Sum'!J10-'A1-Sum'!J8)))","v":7.9888565693683453E-2},{"$f":"IF(ISERROR('A10-SerDel'!K79/('A1-Sum'!K10-'A1-Sum'!K8)),0,('A10-SerDel'!K79/('A1-Sum'!K10-'A1-Sum'!K8)))","v":7.9888562784715608E-2}]
[]
["High Level Outcome of Funding Compliance"]
["Total Operating Revenue",null,null,{"$f":"D80","v":289568765.14999998},{"$f":"E80","v":320132610.63},373602907.52999997,366106239,407075529,407075529,{"$f":"J80","v":381788354.40000004},417211912,421645186,437145220]
["Total Operating Expenditure",null,null,{"$f":"D81","v":328578947.45000005},415773690.18000001,348368506.13000005,432902565,429194883,429194883,295204211.67000002,400488234,404858062,419592542]
["Surplus/(Deficit) Budgeted Operating Statement",null,null,-39010182.300000072,-95641079.550000012,25234401.399999917,-66796326,-22119354,-22119354,86584142.730000019,16723678,16787124,17552678]
["Surplus/(Deficit) Considering Reserves and Cash Backing",null,null,{"$f":"'A8-ResRecon'!C19","v":8416901.099999994},{"$f":"'A8-ResRecon'!D19","v":45457142.409999996},{"$f":"'A8-ResRecon'!E19","v":73200659.829999998},{"$f":"'A8-ResRecon'!F19","v":165221582},{"$f":"'A8-ResRecon'!G19","v":209310196},{"$f":"'A8-ResRecon'!H19","v":209310196},{"$f":"'A8-ResRecon'!I19","v":102591880.56},{"$f":"'A8-ResRecon'!J19","v":243454611},{"$f":"'A8-ResRecon'!K19","v":299803650},{"$f":"'A8-ResRecon'!L19","v":300911271}]
["MTREF Funded (1) / Unfunded (0)",null,15,{"$f":"IF(D127>=0,1,0)","v":1},{"$f":"IF(E127>=0,1,0)","v":1},1,1,1,1,1,1,1,1]
["MTREF Funded ü / Unfunded û",null,15,{"$f":"IF(D128=1,\"ü\",\"û\")","v":"ü"},{"$f":"IF(E128=1,\"ü\",\"û\")","v":"ü"},"ü","ü","ü","ü","ü","ü","ü","ü"]
[]
[{"$f":"head27a","v":"References"}]
["15. Subject to figures provided in Schedule."]

{"sheet":"SA11","index":31,"n_rows":73,"n_cols":11,"rows_kept":73,"cut":false,"hidden":false,"merged":[[1,5,1,7],[1,8,1,10],[1,1,3,1],[1,0,2,0]]}
[{"$f":"muni&\" - \"&TableA11","v":"LIM351 Blouberg - Supporting Table SA11 Property rates summary"}]
[{"$f":"desc","v":"Description"},{"$f":"head27","v":"Ref"},{"$f":"head1b","v":"2021/22"},{"$f":"head1A","v":"2022/23"},{"$f":"Head1","v":"2023/24"},{"$f":"Head2","v":"Current Year 2024/25"},null,null,{"$f":"Head3","v":"2025/26 Medium Term Revenue & Expenditure Framework"}]
[null,null,{"$f":"Head5","v":"Audited Outcome"},{"$f":"Head5","v":"Audited Outcome"},{"$f":"Head5","v":"Audited Outcome"},{"$f":"Head6","v":"Original Budget"},{"$f":"Head7","v":"Adjusted Budget"},{"$f":"Head8","v":"Full Year Forecast"},{"$f":"Head9","v":"Budget Year 2025/26"},{"$f":"Head10","v":"Budget Year +1 2026/27"},{"$f":"Head11","v":"Budget Year +2 2027/28"}]
[]
["Valuation:",1]
["Date of valuation:",null,"2000-01-01","2000-01-01","2022-07-01","2022-07-01"]
["Financial year valuation used",null,0,0,2023,0,null,null,2324]
["Municipal by-laws s6 in place? (Y/N)","2"," "," ","No","No",null,null,"Yes"]
["Municipal/assistant valuer appointed? (Y/N)",null," "," ","No","No",null,null,"Yes"]
["Municipal partnership s38 used? (Y/N)",null," "," ","No","No","No","No","No","No","No"]
["No. of assistant valuers (FTE)",3,0,0,0,0,2,2,2,2,2]
["No. of data collectors (FTE)",3,0,0,0,0,8,8,8,8,8]
["No. of internal valuers (FTE)",3,0,0,0,0,0,0,0,0,0]
["No. of external valuers (FTE)",3,0,0,0,0,3,3,3,3,3]
["No. of additional valuers (FTE)",4]
["Valuation appeal board established? (Y/N)",null," "," ","No","No",null,null,"No"]
["Implementation time of new valuation roll (mths)",null,0,0,0,0,null,null,250701]
["No. of properties",5]
["No. of sectional title values",5]
["No. of unreasonably difficult properties s7(2)"]
["No. of supplementary valuations",null,0,0,0,0,0,0,2,2,2]
["No. of valuation roll amendments"]
["No. of objections by rate payers"]
["No. of appeals by rate payers"]
["No. of successful objections",8]
["No. of successful objections > 10%",8]
["Supplementary valuation",null,0,0,0,0,0,0,2425,2425,2425]
["Public service infrastructure value (Rm)",5]
["Municipality owned property value (Rm)"]
["Valuation reductions:"]
["Valuation reductions-public infrastructure (Rm)"]
["Valuation reductions-nature reserves/park (Rm)"]
["Valuation reductions-mineral rights (Rm)"]
["Valuation reductions-R15,000 threshold (Rm)"]
["Valuation reductions-public worship (Rm)"]
["Valuation reductions-other (Rm)"]
["Total valuation reductions:",null,{"$f":"SUM(C31:C36)","v":0},{"$f":"SUM(D31:D36)","v":0},{"$f":"SUM(E31:E36)","v":0},0,0,0,{"$f":"SUM(I31:I36)","v":0},0,0]
["Total value used for rating (Rm)",5]
["Total land value (Rm)",5]
["Total value of improvements (Rm)",5]
["Total market value (Rm)",5]
[]
["Rating:"]
["Residential rate used to determine rate for other categories? (Y/N)"]
["Differential rates used? (Y/N)",5]
["Limit on annual rate increase (s20)? (Y/N)"]
["Special rating area used? (Y/N)"]
["Phasing-in properties s21 (number)"]
["Rates policy accompanying budget? (Y/N)"]
["Fixed amount minimum value (R'000)"]
["Non-residential prescribed ratio s19? (%)"]
[]
["Rate revenue:"]
["Rate revenue budget (R '000)",6]
["Rate revenue expected to collect (R'000)",6]
["Expected cash collection rate (%)"]
["Special rating areas (R'000)",7]
["Rebates, exemptions - indigent (R'000)"]
["Rebates, exemptions - pensioners (R'000)"]
["Rebates, exemptions - bona fide farm. (R'000)"]
["Rebates, exemptions - other (R'000)"]
["Phase-in reductions/discounts (R'000)"]
["Total rebates,exemptns,reductns,discs (R'000)",null,{"$f":"SUM(C58:C62)","v":0},{"$f":"SUM(D58:D62)","v":0},0,0,0,0,0,0,0]
[]
[{"$f":"head27a","v":"References"}]
["1. All numbers to be expressed as whole numbers except FTEs and Rates in the Rand"]
["2. To give effect to rates policy"]
["3. Full Time Equivalent (FTE)  should be expressed to one decimal place and takes into account full time and part time staff"]
["4. Required to implement new system (FTE)"]
["5. Provide relevant information for historical comparisons. Must reconcile to the total of Table SA12"]
[{"$f":"\"6. Current and budget year must reconcile to \"&'Template names'!F103","v":"6. Current and budget year must reconcile to Table A4 Budgeted Financial Performance (revenue and expenditure)"}]
["7. Included in rate revenue budget"]
["8. In favour of the rate-payer"]

{"sheet":"SA12a","index":32,"n_rows":56,"n_cols":13,"rows_kept":56,"cut":false,"hidden":false,"merged":[]}
[{"$f":"muni&\" - \"&TableA12a","v":"LIM351 Blouberg - Supporting Table SA12a Property rates by category (current year)"}]
[{"$f":"desc","v":"Description"},{"$f":"head27","v":"Ref"},"Business and commercial properties","Industrial properties","Mining properties","Residential properties","Agricultural properties","Public benefit organisations","Public service purpose properties","Public service infrastructure properties","Vacant land","Sport Clubs and Fields (Bitou only)","Sectional Title Garages (Drakenstein only)"]
[{"$f":"Head2","v":"Current Year 2024/25"}]
["Valuation:"]
["No. of properties",null,0,0,0,0,0,0,0,0,0,0,0]
["No. of sectional title property values"]
["No. of unreasonably difficult properties s7(2)"]
["No. of supplementary valuations"]
["Supplementary valuation (Rm)",null,4,0,0,4,0,0,0,4,0,0,0]
["No. of valuation roll amendments"]
["No. of objections by rate-payers"]
["No. of appeals by rate-payers"]
["No. of appeals by rate-payers finalised"]
["No. of successful objections",5]
["No. of successful objections > 10%",5]
["Estimated no. of properties not valued"]
["Years since last valuation (select)"]
["Frequency of valuation (select)"]
["Method of valuation used (select)",null,"Market","Market","Market","Market",null,"Market",null,"Market"]
["Base of valuation (select)",null,"Land & Impr.","Land & Impr.","Land & Impr.","Land & Impr.",null,"Land & Impr.",null,"Land & Impr."]
["Phasing-in properties s21 (number)"]
["Combination of rating types used? (Y/N)",null,"Yes","Yes","Yes","Yes",null,"Yes",null,"Yes"]
["Flat rate used? (Y/N)",null,"No","No","No","No",null,"No",null,"No"]
["Is balance rated by uniform rate/variable rate?",null,"Variable","Variable","Variable","Variable",null,"Variable",null,"Variable"]
["Valuation reductions:"]
["Valuation reductions-public infrastructure (Rm)"]
["Valuation reductions-nature reserves/park (Rm)"]
["Valuation reductions-mineral rights (Rm)"]
["Valuation reductions-R15,000 threshold (Rm)"]
["Valuation reductions-public worship (Rm)"]
["Valuation reductions-other (Rm)",2]
["Total valuation reductions:"]
["Total value used for rating (Rm)",6]
["Total land value (Rm)",6]
["Total value of improvements (Rm)",6]
["Total market value (Rm)",6]
["Rating:"]
["Average rate",3,2763,0,0,4548,0,0,0,0,0,0,0]
["Rate revenue budget (R '000)"]
["Rate revenue expected to collect (R'000)"]
["Expected cash collection rate (%)",4]
["Special rating areas (R'000)"]
["Rebates, exemptions - indigent (R'000)"]
["Rebates, exemptions - pensioners (R'000)"]
["Rebates, exemptions - bona fide farm. (R'000)"]
["Rebates, exemptions - other (R'000)"]
["Phase-in reductions/discounts (R'000)"]
["Total rebates,exemptns,reductns,discs (R'000)"]
[]
[{"$f":"head27a","v":"References"}]
["1. Land & Assistance Act, Restitution of Land Rights, Communual Property Associations"]
["2. Include value of additional reductions is 'free' value greater than MPRA minimum."]
["3. Average rate - cents in  the Rand. Eg 10.26 cents in the Rand is 0.1026, expressed to 6 decimal places maximum"]
["4. Include arrears collections"]
["5. In favour of the rate-payer"]
["6. Provide relevant information for historical comparisons."]

{"sheet":"SA12b","index":33,"n_rows":56,"n_cols":13,"rows_kept":56,"cut":false,"hidden":false,"merged":[]}
[{"$f":"muni&\" - \"&TableA12b","v":"LIM351 Blouberg - Supporting Table SA12b Property rates by category (budget year)"}]
[{"$f":"desc","v":"Description"},{"$f":"head27","v":"Ref"},"Business and commercial properties","Industrial properties","Mining properties","Residential properties","Agricultural properties","Public benefit organisations","Public service purpose properties","Public service infrastructure properties","Vacant land","Sport Clubs and Fields (Bitou only)","Sectional Title Garages (Drakenstein only)"]
[{"$f":"Head9","v":"Budget Year 2025/26"}]
["Valuation:"]
["No. of properties"]
["No. of sectional title property values"]
["No. of unreasonably difficult properties s7(2)"]
["No. of supplementary valuations"]
["Supplementary valuation (Rm)",null,4,0,0,4,0,0,0,4,0,0,0]
["No. of valuation roll amendments"]
["No. of objections by rate-payers"]
["No. of appeals by rate-payers"]
["No. of appeals by rate-payers finalised"]
["No. of successful objections",5]
["No. of successful objections > 10%",5]
["Estimated no. of properties not valued"]
["Years since last valuation (select)"]
["Frequency of valuation (select)"]
["Method of valuation used (select)",null,"Market","Market","Market","Market",null,"Market",null,"Market"]
["Base of valuation (select)",null,"Land & Impr.","Land & Impr.","Land & Impr.","Land & Impr.",null,"Land & Impr.",null,"Land & Impr."]
["Phasing-in properties s21 (number)"]
["Combination of rating types used? (Y/N)",null,"Yes","Yes","Yes","Yes",null,"Yes",null,"Yes"]
["Flat rate used? (Y/N)",null,"No","No","No","No",null,"No",null,"No"]
["Is balance rated by uniform rate/variable rate?",null,"Variable","Variable","Variable","Variable",null,"Variable",null,"Variable"]
["Valuation reductions:"]
["Valuation reductions-public infrastructure (Rm)"]
["Valuation reductions-nature reserves/park (Rm)"]
["Valuation reductions-mineral rights (Rm)"]
["Valuation reductions-R15,000 threshold (Rm)"]
["Valuation reductions-public worship (Rm)"]
["Valuation reductions-other (Rm)",2]
["Total valuation reductions:"]
["Total value used for rating (Rm)",6]
["Total land value (Rm)",6]
["Total value of improvements (Rm)",6]
["Total market value (Rm)",6]
["Rating:"]
["Average rate",3,2763,0,0,4548,0,0,0,0,0,0,0]
["Rate revenue budget (R '000)"]
["Rate revenue expected to collect (R'000)"]
["Expected cash collection rate (%)",4]
["Special rating areas (R'000)"]
["Rebates, exemptions - indigent (R'000)",null,0,0,0,15000,0,0,0,0,0,0,0]
["Rebates, exemptions - pensioners (R'000)"]
["Rebates, exemptions - bona fide farm. (R'000)"]
["Rebates, exemptions - other (R'000)"]
["Phase-in reductions/discounts (R'000)"]
["Total rebates,exemptns,reductns,discs (R'000)"]
[]
[{"$f":"head27a","v":"References"}]
["1. Land & Assistance Act, Restitution of Land Rights, Communual Property Associations"]
["2. Include value of additional reductions is 'free' value greater than MPRA minimum."]
["3. Average rate - cents in  the Rand. Eg 10.26 cents in the Rand is 0.1026, expressed to 6 decimal places maximum"]
["4. Include arrears collections"]
["5. In favour of the rate-payer"]
["6. Provide relevant information for historical comparisons."]

{"sheet":"SA13a","index":34,"n_rows":104,"n_cols":19,"rows_kept":104,"cut":false,"hidden":false,"merged":[[107,6,108,6],[107,0,108,0],[107,1,108,1],[107,2,108,2],[107,3,108,3],[107,4,108,4],[107,5,108,5],[1,6,2,6],[1,0,2,0],[1,1,2,1],[1,2,2,2],[1,3,2,3],[1,4,2,4],[1,5,2,5]]}
[{"$f":"muni&\" - \"&TableA13a","v":"LIM351 Blouberg - Supporting Table SA13a Service Tariffs by category"}]
[{"$f":"desc","v":"Description"},{"$f":"head27","v":"Ref"},"Provide description of tariff structure where appropriate",{"$f":"head1b","v":"2021/22"},{"$f":"head1A","v":"2022/23"},{"$f":"Head1","v":"2023/24"},{"$f":"Head2","v":"Current Year 2024/25"},{"$f":"Head3","v":"2025/26 Medium Term Revenue & Expenditure Framework"}]
[null,null,null,null,null,null,null,{"$f":"Head9","v":"Budget Year 2025/26"},{"$f":"Head10","v":"Budget Year +1 2026/27"},{"$f":"Head11","v":"Budget Year +2 2027/28"}]
["Property rates (rate in the Rand)",1]
["Residential properties",null,null,0,0,0,0,0,0,0]
["Residential properties - vacant land",null,null,0,0,0,0,0,0,0]
["Formal/informal settlements"]
["Small holdings"]
["Farm properties - used",null,null,0,0,0,0,0,0,0]
["Farm properties - not used",null,null,0,0,0,0,0,0,0]
["Industrial properties",null,null,0,0,0,0,0,0,0]
["Business and commercial properties",null,null,0,0,0,0,0,0,0]
["Communal land - residential"]
["Communal land - small holdings"]
["Communal land - farm property"]
["Communal land - business and commercial"]
["Communal land - other"]
["State-owned properties",null,null,0,0,0,0,0,0,0]
["Municipal properties"]
["Public service infrastructure"]
["Privately owned towns serviced by the owner"]
["State trust land"]
["Restitution and redistribution properties"]
["Protected areas"]
["National monuments properties"]
["Property rates by usage"]
["Business and commercial properties"]
["Industrial properties"]
["Mining properties"]
["Residential properties"]
["Agricultural properties"]
["Public benefit organisations"]
["Public service purpose properties"]
["Public service infrastructure properties"]
["Vacant land"]
["Sport Clubs and Fields (Bitou only)"]
["Sectional Title Garages (Drakenstein only)"]
[]
["Exemptions, reductions and rebates (Rands)"]
["Residential properties"]
["R15 000 threshhold rebate",null,null,15000,15000,15000,15000,15000,15000,15000]
["General residential rebate",null,null,0,0,0,0,0,0,0]
["Indigent rebate or exemption"]
["Pensioners/social grants rebate or exemption "]
["Temporary relief rebate or exemption"]
[" Bona fide farmers rebate or exemption"]
["Other rebates or exemptions",2]
[]
["Water tariffs"]
["Domestic"]
["Basic charge/fixed fee (Rands/month)",null,null,null,null,null,null,null,null,null,null,null,null,null,null,null,null,null,{"$f":"SUM(C51:R51)","v":0}]
["Service point - vacant land (Rands/month)",null,null,null,null,null,null,null,null,null,null,null,null,null,null,null,null,null,{"$f":"SUM(C52:R52)","v":0}]
["Water usage - flat rate tariff (c/kl)"]
["Water usage - life line tariff",null,"(describe structure)"]
["Water usage - Block 1 (c/kl)",null," (fill in thresholds)"]
["Water usage - Block 2 (c/kl)",null," (fill in thresholds)"]
["Water usage - Block 3 (c/kl)",null," (fill in thresholds)"]
["Water usage - Block 4 (c/kl)",null," (fill in thresholds)"]
["Water usage - Block 5 (c/kl)",null," (fill in thresholds)"]
["Water usage - Block 6 (c/kl)",null," (fill in thresholds)"]
["Other",2]
[]
["Waste water tariffs"]
["Domestic"]
["Basic charge/fixed fee (Rands/month)"]
["Service point - vacant land (Rands/month)"]
["Waste water - flat rate tariff (c/kl)"]
["Volumetric charge - Block 1 (c/kl)",null,"(fill in structure)"]
["Volumetric charge - Block 2 (c/kl)",null,"(fill in structure)"]
["Volumetric charge - Block 3 (c/kl)",null,"(fill in structure)"]
["Volumetric charge - Block 4 (c/kl)",null,"(fill in structure)"]
["Other",2]
[]
["Electricity tariffs"]
["Domestic"]
["Basic charge/fixed fee (Rands/month)",null,null,0,0,0,0,0,0,0]
["Service point - vacant land (Rands/month)"]
["FBE",null,"(how is this targeted?)"]
["Life-line tariff - meter",null,null,0,0,0,0,0,0,0]
["Life-line tariff - prepaid",null,null,0,0,0,0,0,0,0]
["Flat rate tariff - meter (c/kwh)"]
["Flat rate tariff - prepaid(c/kwh)"]
["Meter - IBT Block 1 (c/kwh)",null,"(fill in thresholds)"]
["Meter - IBT Block 2 (c/kwh)",null,"(fill in thresholds)"]
["Meter - IBT Block 3 (c/kwh)",null,"(fill in thresholds)"]
["Meter - IBT Block 4 (c/kwh)",null,"(fill in thresholds)"]
["Meter - IBT Block 5 (c/kwh)",null,"(fill in thresholds)"]
["Prepaid - IBT Block 1 (c/kwh)",null,null,0,0,0,0,0,0,0]
["Prepaid - IBT Block 2 (c/kwh)",null,null,0,0,0,0,0,0,0]
["Prepaid - IBT Block 3 (c/kwh)",null,null,0,0,0,0,0,0,0]
["Prepaid - IBT Block 4 (c/kwh)",null,null,0,0,0,0,0,0,0]
["Prepaid - IBT Block 5 (c/kwh)",null,"(fill in thresholds)"]
["Other",2]
[]
["Waste management tariffs"]
["Domestic"]
["Street cleaning charge"]
["Basic charge/fixed fee"]
["80l bin - once a week"]
["250l bin - once a week"]
[]
[{"$f":"head27a","v":"References"}]
["1. If properties are not rated or zero rated this must be indicated as such"]
["2.Please provide detailed descriptions on Sheet SA13b"]

{"sheet":"SA13b","index":35,"n_rows":54,"n_cols":19,"rows_kept":54,"cut":false,"hidden":false,"merged":[[98,0,99,0],[1,0,2,0],[1,1,2,1],[1,2,2,2],[1,3,2,3],[98,1,99,1],[98,2,99,2],[98,3,99,3],[98,5,99,5],[98,6,99,6],[1,6,2,6],[1,5,2,5],[1,4,2,4],[98,4,99,4]]}
[{"$f":"muni&\" - \"&TableA13b","v":"LIM351 Blouberg - Supporting Table SA13b Service Tariffs by category - explanatory"}]
[{"$f":"desc","v":"Description"},{"$f":"head27","v":"Ref"},"Provide description of tariff structure where appropriate",{"$f":"head1b","v":"2021/22"},{"$f":"head1A","v":"2022/23"},{"$f":"Head1","v":"2023/24"},{"$f":"Head2","v":"Current Year 2024/25"},{"$f":"Head3","v":"2025/26 Medium Term Revenue & Expenditure Framework"}]
[null,null,null,null,null,null,null,{"$f":"Head9","v":"Budget Year 2025/26"},{"$f":"Head10","v":"Budget Year +1 2026/27"},{"$f":"Head11","v":"Budget Year +2 2027/28"}]
["Exemptions, reductions and rebates (Rands)"]
[" ",null,0,0,0,0,0,0,0,0]
["[Insert lines as applicable]"]
[]
[]
[]
[]
[]
[]
[]
[]
["Water tariffs"]
[" ",null,0,0,0,0,0,0,0,0]
["[Insert blocks as applicable]",null," (fill in thresholds)"]
[null,null," (fill in thresholds)"]
[null,null," (fill in thresholds)"]
[null,null," (fill in thresholds)"]
[null,null," (fill in thresholds)"]
[null,null," (fill in thresholds)"]
[null,null," (fill in thresholds)"]
[null,null," (fill in thresholds)"]
[null,null," (fill in thresholds)"]
[null,null," (fill in thresholds)"]
[]
["Waste water tariffs"]
[" ",null,0,0,0,0,0,0,0,0]
["[Insert blocks as applicable]",null,"(fill in structure)"]
[null,null,"(fill in structure)"]
[null,null,"(fill in structure)"]
[null,null,"(fill in structure)"]
[null,null,"(fill in structure)"]
[null,null,"(fill in structure)"]
[null,null,"(fill in structure)"]
[null,null,"(fill in structure)"]
[null,null,"(fill in structure)"]
[]
["Electricity tariffs"]
[" ",null,0,0,0,0,0,0,0,0]
["[Insert blocks as applicable]",null,"(fill in thresholds)"]
[null,null,"(fill in thresholds)",null,null,null,null,null,null,null,null,null,null,null,null,null,null,null,{"$f":"SUM(C43:R43)","v":0}]
[null,null,"(fill in thresholds)",null,null,null,null,null,null,null,null,null,null,null,null,null,null,null,{"$f":"SUM(C44:R44)","v":0}]
[null,null,"(fill in thresholds)"]
[null,null,"(fill in thresholds)"]
[null,null,"(fill in thresholds)"]
[null,null,"(fill in thresholds)"]
[null,null,"(fill in thresholds)"]
[null,null,"(fill in thresholds)"]
[null,null,"(fill in thresholds)"]
[null,null,"(fill in thresholds)"]
[null,null,"(fill in thresholds)"]
[null,null,"(fill in thresholds)"]

{"sheet":"SA14","index":36,"n_rows":54,"n_cols":12,"rows_kept":54,"cut":false,"hidden":false,"merged":[[1,1,3,1],[1,5,1,7],[1,0,2,0]]}
[{"$f":"muni&\" - \"&TableA14","v":"LIM351 Blouberg - Supporting Table SA14 Household bills"}]
[{"$f":"desc","v":"Description"},{"$f":"head27","v":"Ref"},{"$f":"head1b","v":"2021/22"},{"$f":"head1A","v":"2022/23"},{"$f":"Head1","v":"2023/24"},{"$f":"Head2","v":"Current Year 2024/25"},null,null,{"$f":"Head3","v":"2025/26 Medium Term Revenue & Expenditure Framework"}]
[null,null,{"$f":"Head5","v":"Audited Outcome"},{"$f":"Head5","v":"Audited Outcome"},{"$f":"Head5","v":"Audited Outcome"},{"$f":"Head6","v":"Original Budget"},{"$f":"Head7","v":"Adjusted Budget"},{"$f":"Head8","v":"Full Year Forecast"},{"$f":"Head9","v":"Budget Year 2025/26"},{"$f":"Head9","v":"Budget Year 2025/26"},{"$f":"Head10","v":"Budget Year +1 2026/27"},{"$f":"Head11","v":"Budget Year +2 2027/28"}]
["Rand/cent",null,null,null,null,null,null,null,"% incr."]
["Monthly Account for Household - 'Middle Income Range'",1]
["Rates and services charges:"]
["Property rates",null,0,0,0,0,0,0,0,0,0,0]
["Electricity: Basic levy"]
["Electricity: Consumption",null,0,0,0,0,0,0,0,0,0,0]
["Water: Basic levy"]
["Water: Consumption"]
["Sanitation"]
["Refuse removal",null,0,0,0,0,0,0,0,0,0,0]
["Other"]
["sub-total",null,{"$f":"SUM(C7:C14)","v":0},{"$f":"SUM(D7:D14)","v":0},{"$f":"SUM(E7:E14)","v":0},{"$f":"SUM(F7:F14)","v":0},{"$f":"SUM(G7:G14)","v":0},0,{"$f":"IF(ISERROR(ROUND((J15-F15)/F15,3)),0,(ROUND((J15-F15)/F15,3)))","v":0},0,0,0]
["VAT on Services"]
["Total large household bill:",null,{"$f":"SUM(C15:C16)","v":0},{"$f":"SUM(D15:D16)","v":0},{"$f":"SUM(E15:E16)","v":0},{"$f":"SUM(F15:F16)","v":0},{"$f":"SUM(G15:G16)","v":0},0,{"$f":"IF(ISERROR(ROUND((J17-F17)/F17,3)),0,(ROUND((J17-F17)/F17,3)))","v":0},0,0,0]
["% increase/-decrease",null,{"$f":"IF(ISERROR((C17/B17)-1),0,((C17/B17)-1))","v":0},0,0,0,0,0,{"$f":"IF(ISERROR(ROUND((J18-F18)/F18,3)),0,(ROUND((J18-F18)/F18,3)))","v":0},{"$f":"IF(ISERROR((J17/H17)-1),0,((J17/H17)-1))","v":0},{"$f":"IF(ISERROR((K17/J17)-1),0,((K17/J17)-1))","v":0},{"$f":"IF(ISERROR((L17/K17)-1),0,((L17/K17)-1))","v":0}]
[]
["Monthly Account for Household - 'Affordable Range' ",2]
[{"$f":"A6","v":"Rates and services charges:"}]
[{"$f":"A7","v":"Property rates"},null,0,0,0,0,0,0,0,0,0,0]
["Electricity: Basic levy"]
["Electricity: Consumption"]
["Water: Basic levy"]
["Water: Consumption"]
["Sanitation"]
["Refuse removal",null,0,0,0,0,0,0,0,0,0,0]
["Other"]
["sub-total",null,{"$f":"SUM(C22:C29)","v":0},{"$f":"SUM(D22:D29)","v":0},0,0,0,0,{"$f":"IF(ISERROR(ROUND((J30-F30)/F30,3)),0,(ROUND((J30-F30)/F30,3)))","v":0},{"$f":"SUM(J22:J29)","v":0},{"$f":"SUM(K22:K29)","v":0},{"$f":"SUM(L22:L29)","v":0}]
["VAT on Services"]
["Total small household bill:",null,{"$f":"SUM(C30:C31)","v":0},{"$f":"SUM(D30:D31)","v":0},0,0,0,0,{"$f":"IF(ISERROR(ROUND((J32-F32)/F32,3)),0,(ROUND((J32-F32)/F32,3)))","v":0},{"$f":"SUM(J30:J31)","v":0},{"$f":"SUM(K30:K31)","v":0},{"$f":"SUM(L30:L31)","v":0}]
["% increase/-decrease",null,null,{"$f":"IF(ISERROR((D32/C32)-1),0,((D32/C32)-1))","v":0},0,0,0,0,{"$f":"IF(ISERROR(ROUND((J33-F33)/F33,3)),0,(ROUND((J33-F33)/F33,3)))","v":0},{"$f":"IF(ISERROR((J32/H32)-1),0,((J32/H32)-1))","v":0},{"$f":"IF(ISERROR((K32/J32)-1),0,((K32/J32)-1))","v":0},{"$f":"IF(ISERROR((L32/K32)-1),0,((L32/K32)-1))","v":0}]
[null,null,null,null,{"$f":"IF(ISERROR((E33/D33)-1),0,((E33/D33)-1))","v":0},{"$f":"IF(ISERROR((F33/E33)-1),0,((F33/E33)-1))","v":0},{"$f":"IF(ISERROR((G33/F33)-1),0,((G33/F33)-1))","v":0},{"$f":"IF(ISERROR((H33/G33)-1),0,((H33/G33)-1))","v":0}]
["Monthly Account for Household - 'Indigent' Household receiving free basic services",3]
[{"$f":"A6","v":"Rates and services charges:"}]
[{"$f":"A7","v":"Property rates"},null,0,0,0,0,0,0,0,0,0,0]
["Electricity: Basic levy",null,null,null,null,null,null,null,{"$f":"IF(J38>0,ROUND((J38-F38)/F38,3),\"\")","v":""}]
["Electricity: Consumption",null,null,null,null,null,null,null,""]
["Water: Basic levy",null,null,null,null,null,null,null,""]
["Water: Consumption",null,null,null,null,null,null,null,""]
["Sanitation",null,null,null,null,null,null,null,""]
["Refuse removal",null,0,0,0,0,0,0,0,0,0,0]
["Other",null,null,null,null,null,null,null,""]
["sub-total",null,{"$f":"SUM(C37:C44)","v":0},{"$f":"SUM(D37:D44)","v":0},{"$f":"SUM(E37:E44)","v":0},{"$f":"SUM(F37:F44)","v":0},{"$f":"SUM(G37:G44)","v":0},0,{"$f":"IF(ISERROR(ROUND((J45-F45)/F45,3)),0,(ROUND((J45-F45)/F45,3)))","v":0},0,0,0]
["VAT on Services",null,null,null,null,null,null,null,{"$f":"IF(J46>0,I13ROUND((J46-F46)/F46,3),\"\")","v":""}]
["Total small household bill:",null,{"$f":"SUM(C45:C46)","v":0},{"$f":"SUM(D45:D46)","v":0},{"$f":"SUM(E45:E46)","v":0},{"$f":"SUM(F45:F46)","v":0},{"$f":"SUM(G45:G46)","v":0},0,{"$f":"IF(ISERROR(ROUND((J47-F47)/F47,3)),0,(ROUND((J47-F47)/F47,3)))","v":0},0,0,0]
[{"$f":"A18","v":"% increase/-decrease"},null,null,{"$f":"IF(ISERROR((D47/C47)-1),0,((D47/C47)-1))","v":0},0,0,0,{"$f":"IF(ISERROR((H47/G47)-1),0,((H47/G47)-1))","v":0},{"$f":"IF(ISERROR(ROUND((J48-F48)/F48,3)),0,(ROUND((J48-F48)/F48,3)))","v":0},{"$f":"IF(ISERROR((J47/H47)-1),0,((J47/H47)-1))","v":0},{"$f":"IF(ISERROR((K47/J47)-1),0,((K47/J47)-1))","v":0},{"$f":"IF(ISERROR((L47/K47)-1),0,((L47/K47)-1))","v":0}]
[]
[{"$f":"head27a","v":"References"}]
["1. Use as basis property value of R700 000, 1 000 kWh electricity and 30kl water"]
["2. Use as basis property value  of R500 000 and R700 000, 500 kWh electricity and 25kl water"]
["3. Use as basis property value of R 300 000, 350kWh electricity and 20kl water (50 kWh electricity and 6 kl water free)"]
["4. Note this is for a SINGLE household."]

{"sheet":"SA15","index":37,"n_rows":32,"n_cols":11,"rows_kept":32,"cut":false,"hidden":false,"merged":[[1,5,1,7],[1,8,1,10],[1,1,3,1],[1,0,2,0]]}
[{"$f":"muni&\" - \"&TableA15","v":"LIM351 Blouberg - Supporting Table SA15 Investment particulars by type"}]
["Investment type",{"$f":"head27","v":"Ref"},{"$f":"head1b","v":"2021/22"},{"$f":"head1A","v":"2022/23"},{"$f":"Head1","v":"2023/24"},{"$f":"Head2","v":"Current Year 2024/25"},null,null,{"$f":"Head3","v":"2025/26 Medium Term Revenue & Expenditure Framework"}]
[null,null,{"$f":"Head5","v":"Audited Outcome"},{"$f":"Head5","v":"Audited Outcome"},{"$f":"Head5","v":"Audited Outcome"},{"$f":"Head6","v":"Original Budget"},{"$f":"Head7","v":"Adjusted Budget"},{"$f":"Head8","v":"Full Year Forecast"},{"$f":"Head9","v":"Budget Year 2025/26"},{"$f":"Head10","v":"Budget Year +1 2026/27"},{"$f":"Head11","v":"Budget Year +2 2027/28"}]
["R thousand"]
["Parent municipality"]
["Securities - National Government"]
["Listed Corporate Bonds"]
["Deposits - Bank",null,0,0,0,0,0,0,0,0,0]
["Deposits - Public Investment Commissioners"]
["Deposits - Corporation for Public Deposits",null,-60897594.579999998,10079473.07,17099515.379999999,66694035,55985432,55985432,5699780,5956270,6105177]
["Bankers Acceptance Certificates"]
["Negotiable Certificates of Deposit - Banks"]
["Guaranteed Endowment Policies (sinking)"]
["Repurchase Agreements - Banks"]
["Municipal Bonds"]
[]
["Municipality sub-total",1,{"$f":"SUM(C6:C15)","v":-60897594.579999998},{"$f":"SUM(D6:D15)","v":10079473.07},17099515.379999999,66694035,55985432,55985432,5699780,5956270,6105177]
[]
["Entities"]
[{"$f":"A6","v":"Securities - National Government"}]
[{"$f":"A7","v":"Listed Corporate Bonds"}]
["Deposits - Bank"]
["Deposits - Public Investment Commissioners"]
["Deposits - Corporation for Public Deposits"]
["Bankers Acceptance Certificates"]
["Negotiable Certificates of Deposit - Banks"]
["Guaranteed Endowment Policies (sinking)"]
["Repurchase Agreements - Banks"]
[]
["Entities sub-total",null,{"$f":"SUM(C20:C29)","v":0},{"$f":"SUM(D20:D29)","v":0},0,0,0,0,0,0,0]
[]
["Consolidated total:",null,{"$f":"C17+C30","v":-60897594.579999998},{"$f":"D17+D30","v":10079473.07},17099515.379999999,66694035,55985432,55985432,5699780,5956270,6105177]

{"sheet":"SA16","index":38,"n_rows":26,"n_cols":15,"rows_kept":26,"cut":false,"hidden":false,"merged":[[1,3,2,3],[1,9,2,9],[2,10,2,14]]}
[{"$f":"muni&\" - \"&TableA16","v":"LIM351 Blouberg - Supporting Table SA16 Investment particulars by maturity"}]
["Investments by Maturity",{"$f":"head27","v":"Ref"},"Period of Investment","Type of Investment","Capital Guarantee\n(Yes/ No)","Variable or Fixed interest rate","Interest Rate ᶟ","Commission Paid (Rands)","Commission Recipient","Expiry date of investment","Opening balance","Interest to be realised","Partial / Premature Withdrawal (4)","Investment Top Up","Closing Balance"]
["Name of institution & investment ID",1,"Yrs/Months"]
["Parent municipality"]
["Absa",null,"Months","Fixed","Yes","Variable",7.22,0,0,"0000/00/00",57,0,0,0,{"$f":"SUM(K5:N5)","v":57}]
["Municipality sub-total",null,null,null,null,null,null,null,null,null,{"$f":"SUM(K5:K5)","v":57},null,{"$f":"SUM(M5:M5)","v":0},{"$f":"SUM(N5:N5)","v":0},{"$f":"SUM(O5:O5)","v":57}]
[]
["Entities"]
["N/A",null,null,null,null,null,null,null,null,null,null,null,null,null,{"$f":"SUM(K9:N9)","v":0}]
[null,null,null,null,null,null,null,null,null,null,null,null,null,null,{"$f":"SUM(K10:N10)","v":0}]
[null,null,null,null,null,null,null,null,null,null,null,null,null,null,0]
[null,null,null,null,null,null,null,null,null,null,null,null,null,null,0]
[null,null,null,null,null,null,null,null,null,null,null,null,null,null,0]
[null,null,null,null,null,null,null,null,null,null,null,null,null,null,0]
[null,null,null,null,null,null,null,null,null,null,null,null,null,null,0]
["Entities sub-total",null,null,null,null,null,null,null,null,null,{"$f":"SUM(K9:K15)","v":0},null,{"$f":"SUM(M9:M15)","v":0},{"$f":"SUM(N9:N15)","v":0},{"$f":"SUM(O9:O15)","v":0}]
[]
["TOTAL INVESTMENTS AND INTEREST",1,null,null,null,null,null,null,null,null,{"$f":"K6+K16","v":57},null,{"$f":"M6+M16","v":0},{"$f":"N6+N16","v":0},{"$f":"O6+O16","v":57}]
[]
[{"$f":"head27a","v":"References"}]
["1. Total investments must reconcile to all items in Table SA15 for the Current Year (30 June)"]
["2. List investments in expiry date order"]
["3. If 'variable' is selected in column F, input interest rate range"]
["4. Withdrawals to be entered as negative"]
[]
[null,null,null,null,null,null,null,null,null,null,null,null,"`"]

{"sheet":"SA17","index":39,"n_rows":70,"n_cols":45,"rows_kept":70,"cut":false,"hidden":false,"merged":[[1,5,1,7],[1,8,1,10]]}
[{"$f":"muni&\" - \"&TableA17","v":"LIM351 Blouberg - Supporting Table SA17 Borrowing"}]
["Borrowing - Categorised by type",{"$f":"head27","v":"Ref"},{"$f":"head1b","v":"2021/22"},{"$f":"head1A","v":"2022/23"},{"$f":"Head1","v":"2023/24"},{"$f":"Head2","v":"Current Year 2024/25"},null,null,{"$f":"Head3","v":"2025/26 Medium Term Revenue & Expenditure Framework"}]
["R thousand",null,{"$f":"Head5","v":"Audited Outcome"},{"$f":"Head5","v":"Audited Outcome"},{"$f":"Head5","v":"Audited Outcome"},{"$f":"Head6","v":"Original Budget"},{"$f":"Head7","v":"Adjusted Budget"},{"$f":"Head8","v":"Full Year Forecast"},{"$f":"Head9","v":"Budget Year 2025/26"},{"$f":"Head10","v":"Budget Year +1 2026/27"},{"$f":"Head11","v":"Budget Year +2 2027/28"}]
["Parent municipality"]
["Annuity and Bullet Loans"]
["Long-Term Loans (non-annuity)"]
["Local registered stock"]
["Instalment Credit"]
["Financial Leases",null,0,14187045.300000001,2768429.12,4864257,4864257,4864257,4864257,5083150,5210228]
["PPP liabilities"]
["Finance Granted By Cap Equipment Supplier"]
["Marketable Bonds"]
["Non-Marketable Bonds"]
["Bankers Acceptances"]
["Financial derivatives"]
["Other Securities",null,774315.49,0,0,0,0,0,0,0,0]
["Municipality sub-total",1,{"$f":"SUM(C5:C16)","v":774315.49},{"$f":"SUM(D5:D16)","v":14187045.300000001},2768429.12,4864257,4864257,4864257,4864257,5083150,5210228]
[]
["Entities"]
[{"$f":"A5","v":"Annuity and Bullet Loans"}]
["Long-Term Loans (non-annuity)"]
["Local registered stock"]
["Instalment Credit"]
["Financial Leases"]
["PPP liabilities"]
["Finance Granted By Cap Equipment Supplier"]
["Marketable Bonds"]
["Non-Marketable Bonds"]
["Bankers Acceptances"]
["Financial derivatives"]
["Other Securities"]
["Entities sub-total",1,{"$f":"SUM(C20:C31)","v":0},{"$f":"SUM(D20:D31)","v":0},0,0,0,0,0,0,0]
[]
["Total Borrowing",1,{"$f":"C17+C32","v":774315.49},{"$f":"D17+D32","v":14187045.300000001},2768429.12,4864257,4864257,4864257,4864257,5083150,5210228]
[]
["Unspent Borrowing - Categorised by type"]
["Parent municipality"]
["Long-Term Loans (annuity/reducing balance)"]
["Long-Term Loans (non-annuity)"]
["Local registered stock"]
["Instalment Credit",null,null,null,null,null,null,null,null,null,null,null,null,null,null,null,null,null,null,null,null,null,null,null,null,null,null,null,null,null,null,null,null,null,null,null,null,null,null,null,null,null,439005000,null,539442200]
["Financial Leases"]
["PPP liabilities",null,null,null,null,null,null,null,null,null,null,null,null,null,null,null,null,null,null,null,null,null,0,null,0,null,null,0,null,0,null,null,0,null,0,null,null,0,null,0,null,null,1834701353,null,1241876995]
["Finance Granted By Cap Equipment Supplier",null,null,null,null,null,null,null,null,null,null,null,null,null,null,null,null,null,null,null,null,null,null,null,null,null,null,null,null,null,null,null,null,null,null,null,null,null,null,null,null,null,839041298,null,440387617]
["Marketable Bonds",null,null,null,null,null,null,null,null,null,null,null,null,null,null,null,null,null,null,null,null,null,null,null,null,null,null,null,null,null,null,null,null,null,null,null,null,null,null,null,null,null,976543638,null,782372961]
["Non-Marketable Bonds",null,null,null,null,null,null,null,null,null,null,null,null,null,null,null,null,null,null,null,null,null,null,null,null,null,null,null,null,null,null,null,null,null,null,null,null,null,null,null,null,null,19116417,null,19116417]
["Bankers Acceptances",null,null,null,null,null,null,null,null,null,null,null,null,null,null,null,null,null,null,null,null,null,null,null,null,null,null,null,null,null,null,null,null,null,null,null,null,null,null,null,null,null,2273706353,null,1781319195]
["Financial derivatives",null,null,null,null,null,null,null,null,null,null,null,null,null,null,null,null,null,null,null,null,null,null,null,null,null,null,null,null,null,null,null,null,null,null,null,null,null,null,null,null,null,180259232,null,140396729]
["Other Securities",null,null,null,null,null,null,null,null,null,null,null,null,null,null,null,null,null,null,null,null,null,null,null,null,null,null,null,null,null,null,null,null,null,null,null,null,null,null,null,null,null,125005000,null,100442200]
["Municipality sub-total",1,{"$f":"SUM(C38:C49)","v":0},{"$f":"SUM(D38:D49)","v":0},0,0,0,0,0,0,0,null,null,null,null,null,null,null,null,null,null,null,null,null,null,null,null,null,null,null,null,null,null,null,null,null,null,null,null,null,null,null,40341797,null,38954529]
[null,null,null,null,null,null,null,null,null,null,null,null,null,null,null,null,null,null,null,null,null,null,null,null,null,null,null,null,null,null,null,null,null,null,null,null,null,null,null,null,null,null,14912435,null,1000000]
["Entities"]
[{"$f":"A38","v":"Long-Term Loans (annuity/reducing balance)"}]
["Long-Term Loans (non-annuity)"]
["Local registered stock"]
["Instalment Credit"]
["Financial Leases"]
["PPP liabilities"]
["Finance Granted By Cap Equipment Supplier"]
["Marketable Bonds"]
["Non-Marketable Bonds"]
["Bankers Acceptances"]
["Financial derivatives"]
["Other Securities"]
["Entities sub-total",1,{"$f":"SUM(C53:C64)","v":0},{"$f":"SUM(D53:D64)","v":0},0,0,0,0,0,0,0]
[]
["Total Unspent Borrowing",1,{"$f":"C50+C65","v":0},{"$f":"D50+D65","v":0},0,0,0,0,0,0,0]
[]
[{"$f":"head27a","v":"References"}]
["1. Total borrowing must reconcile to Budgeted Financial Position (Borrowing - non-current)"]

{"sheet":"SA18","index":40,"n_rows":45,"n_cols":11,"rows_kept":45,"cut":false,"hidden":false,"merged":[[1,5,1,7],[1,8,1,10]]}
[{"$f":"muni&\" - \"& TableA18","v":"LIM351 Blouberg - Supporting Table SA18 Transfers and grant receipts"}]
[{"$f":"desc","v":"Description"},{"$f":"head27","v":"Ref"},{"$f":"head1b","v":"2021/22"},{"$f":"head1A","v":"2022/23"},{"$f":"Head1","v":"2023/24"},{"$f":"Head2","v":"Current Year 2024/25"},null,null,{"$f":"Head3","v":"2025/26 Medium Term Revenue & Expenditure Framework"}]
["R thousand",null,{"$f":"Head5","v":"Audited Outcome"},{"$f":"Head5","v":"Audited Outcome"},{"$f":"Head5","v":"Audited Outcome"},{"$f":"Head6","v":"Original Budget"},{"$f":"Head7","v":"Adjusted Budget"},{"$f":"Head8","v":"Full Year Forecast"},{"$f":"Head9","v":"Budget Year 2025/26"},{"$f":"Head10","v":"Budget Year +1 2026/27"},{"$f":"Head11","v":"Budget Year +2 2027/28"}]
["RECEIPTS:","1, 2"]
[]
["Operating Transfers and Grants"]
["National Government:",null,{"$f":"SUM(C8:C13)","v":214162630.30999997},225391142.56999999,241376084.02000001,250671000,250671000,250671000,249480000,246404000,257523000]
["Local Government Equitable Share",{"$f":"IF(A8=\"  Levy replacement\",3,\"\")","v":""},203614703.41999999,221255920.63,233791778.06,246266000,246266000,246266000,245311000,243904000,254923000]
["Energy Efficiency and Demand Side Management Grant","",0,0,0,0,0,0,0,0,0]
["Expanded Public Works Programme Integrated Grant","",1266000,1950000,1185000,2005000,2005000,2005000,1769000,0,0]
["Local Government Financial Management Grant","",2400000,2185221.94,2400000,2400000,2400000,2400000,2400000,2500000,2600000]
["Municipal Demarcation Transition Grant","",0,0,0,0,0,0,0,0,0]
["Municipal Disaster Relief Grant",null,6881926.8899999997,0,3999305.96,0,0,0,0,0,0]
[" "]
["Provincial Government:",null,{"$f":"SUM(C16:C16)","v":0},0,0,0,0,0,0,0,0]
[" "]
["District Municipality:",null,{"$f":"SUM(C18:C18)","v":0},0,0,0,0,0,0,0,0]
["Specify (Add grant description)",null,0,0,0,0,0,0,0,0,0]
["Other grant providers:",null,{"$f":"SUM(C20:C21)","v":0},0,0,0,0,0,0,0,0]
["Mayors' Charity Fund",null,0,0,0,0,0,0,0,0,0]
["National Skills Fund",null,0,0,0,0,0,0,0,0,0]
["Total Operating Transfers and Grants",5,{"$f":"C7+C15+C17+C19","v":214162630.30999997},225391142.56999999,241376084.02000001,250671000,250671000,250671000,249480000,246404000,257523000]
[]
["Capital Transfers and Grants"]
[{"$f":"A7","v":"National Government:"},null,{"$f":"SUM(C26:C29)","v":62602152.700000003},112528034.09,95456552.070000008,67485000,126168204,126168204,70241000,75105000,78484000]
["Energy Efficiency and Demand Side Management Grant",null,0,0,0,0,0,0,0,0,0]
["Integrated National Electrification Programme Grant",null,0,27225713.699999999,22720354.469999999,0,15353495,15353495,0,16000000,16723000]
["Municipal Disaster Relief Grant",null,5996327.9500000002,0,4395023.8099999996,15716000,58420976,58420976,15717000,0,0]
["Municipal Infrastructure Grant ",null,56605824.75,85302320.390000001,68341173.790000007,51769000,52393733,52393733,54524000,59105000,61761000]
[" "]
[{"$f":"A15","v":"Provincial Government:"},null,{"$f":"SUM(C32)","v":0},{"$f":"SUM(D32)","v":0},0,0,0,0,0,0,0]
[" "]
[{"$f":"A17","v":"District Municipality:"},null,{"$f":"SUM(C34:C34)","v":0},0,0,0,0,0,0,0,0]
[" "]
[{"$f":"A19","v":"Other grant providers:"},null,{"$f":"SUM(C36:C36)","v":0},0,0,0,0,0,0,0,0]
[" "]
["Total Capital Transfers and Grants",5,{"$f":"C25+C31+C33+C35","v":62602152.700000003},112528034.09,95456552.070000008,67485000,126168204,126168204,70241000,75105000,78484000]
["TOTAL RECEIPTS OF TRANSFERS & GRANTS",null,{"$f":"C22+C37","v":276764783.00999999},337919176.65999997,336832636.09000003,318156000,376839204,376839204,319721000,321509000,336007000]
[{"$f":"head27a","v":"References"}]
["1. Each transfer/grant is listed by name as gazetted together with the name of the transferring department or municipality, donor or other organisation"]
["2. Amounts actually RECEIVED; not revenue recognised (objective is to confirm grants transferred)"]
["3. Replacement of RSC levies"]
["4. Housing subsidies for housing where ownership transferred to organisations or persons outside the control of the municipality"]
["5. Total transfers and grants must reconcile to Budgeted Cash Flows"]
["6. Motor vehicle licensing refunds to be included under 'agency' services (Not Grant Receipts)"]

{"sheet":"SA19","index":41,"n_rows":41,"n_cols":11,"rows_kept":41,"cut":false,"hidden":false,"merged":[[1,5,1,7],[1,8,1,10]]}
[{"$f":"muni&\" - \"& TableA19","v":"LIM351 Blouberg - Supporting Table SA19 Expenditure on transfers and grant programme"}]
[{"$f":"desc","v":"Description"},{"$f":"head27","v":"Ref"},{"$f":"head1b","v":"2021/22"},{"$f":"head1A","v":"2022/23"},{"$f":"Head1","v":"2023/24"},{"$f":"Head2","v":"Current Year 2024/25"},null,null,{"$f":"Head3","v":"2025/26 Medium Term Revenue & Expenditure Framework"}]
["R thousand",null,{"$f":"Head5","v":"Audited Outcome"},{"$f":"Head5","v":"Audited Outcome"},{"$f":"Head5","v":"Audited Outcome"},{"$f":"Head6","v":"Original Budget"},{"$f":"Head7","v":"Adjusted Budget"},{"$f":"Head8","v":"Full Year Forecast"},{"$f":"Head9","v":"Budget Year 2025/26"},{"$f":"Head10","v":"Budget Year +1 2026/27"},{"$f":"Head11","v":"Budget Year +2 2027/28"}]
["EXPENDITURE:",1]
[]
["Operating expenditure of Transfers and Grants"]
[{"$f":"'SA18'!A7","v":"National Government:"},null,{"$f":"SUM(C8:C13)","v":197770742.06},208765711.47,216529473.56,248940196,238723844,238723844,251355899,252671470,258980779]
["Local Government Equitable Share",null,188040462.87,205066574.22999999,209417466.49000001,242535196,233036283,233036283,244510698,245480745,251560283]
["Expanded Public Works Programme Integrated Grant",null,1265999.5,1642981.05,1185000,2005000,2005000,2005000,1769000,1848605,1894821]
["Local Government Financial Management Grant",null,2123211.73,2024646.19,2395838.7000000002,2400000,2400000,2400000,2400001,2545491,2659129]
["Municipal Demarcation Transition Grant",null,0,0,0,0,0,0,0,0,0]
["Municipal Disaster Relief Grant",null,5931602.71,0,3477657.36,0,0,0,0,0,0]
["Municipal Infrastructure Grant",null,409465.25,31510,53511.01,2000000,1282561,1282561,2676200,2796629,2866546]
[" "]
[{"$f":"'SA18'!A15","v":"Provincial Government:"},null,{"$f":"SUM(C16:C16)","v":0},0,0,0,0,0,0,0,0]
[" "]
[{"$f":"'SA18'!A17","v":"District Municipality:"},null,{"$f":"SUM(C18:C18)","v":0},0,0,0,0,0,0,0,0]
["Specify (Add grant description)",null,0,0,0,0,0,0,0,0,0]
[{"$f":"'SA18'!A19","v":"Other grant providers:"},null,{"$f":"SUM(C20:C21)","v":0},299938,199283,200000,0,0,0,0,0]
["National Skills Fund",null,0,0,0,0,0,0,0,0,0]
["Skill Development and Training",null,0,299938,199283,200000,0,0,0,0,0]
["Total operating expenditure of Transfers and Grants:",null,{"$f":"C7+C15+C17+C19","v":197770742.06},209065649.47,216728756.56,249140196,238723844,238723844,251355899,252671470,258980779]
[]
["Capital expenditure of Transfers and Grants"]
[{"$f":"'SA18'!A25","v":"National Government:"},null,{"$f":"SUM(C26:C30)","v":0},0,83484427.590000004,65785000,125178416,125178416,67564800,75105000,78484000]
["Energy Efficiency and Demand Side Management Grant",null,0,0,0,300000,0,0,0,0,0]
["Integrated National Electrification Programme Grant",null,0,0,20272793.440000001,0,15646271,15646271,0,16000000,16723000]
["Local Government Financial Management Grant  ",null,0,0,0,0,0,0,0,0,0]
["Municipal Disaster Relief Grant",null,0,0,3821759.83,15716000,58420974,58420974,15717000,0,0]
["Municipal Infrastructure Grant ",null,0,0,59389874.32,49769000,51111171,51111171,51847800,59105000,61761000]
[{"$f":"'SA18'!A31","v":"Provincial Government:"},null,{"$f":"SUM(C32)","v":0},{"$f":"SUM(D32)","v":0},0,0,0,0,0,0,0]
[" "]
[{"$f":"'SA18'!A33","v":"District Municipality:"},null,{"$f":"SUM(C34:C34)","v":0},0,0,0,0,0,0,0,0]
[" "]
[{"$f":"'SA18'!A35","v":"Other grant providers:"},null,{"$f":"SUM(C36:C36)","v":0},0,0,0,0,0,0,0,0]
["Discount Benefit Scheme (Housing",null,0,0,0,0,0,0,0,0,0]
["Total capital expenditure of Transfers and Grants",null,{"$f":"C25+C31+C33+C35","v":0},0,83484427.590000004,65785000,125178416,125178416,67564800,75105000,78484000]
[]
["TOTAL EXPENDITURE OF TRANSFERS AND GRANTS",null,{"$f":"C22+C37","v":197770742.06},209065649.47,300213184.14999998,314925196,363902260,363902260,318920699,327776470,337464779]
[{"$f":"head27a","v":"References"}]
["1. Expenditure must be separately listed for each transfer or grant received or recognised"]

{"sheet":"SA20","index":42,"n_rows":58,"n_cols":11,"rows_kept":58,"cut":false,"hidden":false,"merged":[[57,0,57,10],[1,5,1,7],[1,8,1,10],[55,0,55,10],[56,0,56,10]]}
[{"$f":"muni&\" - \"& TableA20","v":"LIM351 Blouberg - Supporting Table SA20 Reconciliation of transfers, grant receipts and unspent funds"}]
[{"$f":"desc","v":"Description"},{"$f":"head27","v":"Ref"},{"$f":"head1b","v":"2021/22"},{"$f":"head1A","v":"2022/23"},{"$f":"Head1","v":"2023/24"},{"$f":"Head2","v":"Current Year 2024/25"},null,null,{"$f":"Head3","v":"2025/26 Medium Term Revenue & Expenditure Framework"}]
["R thousand",null,{"$f":"Head5","v":"Audited Outcome"},{"$f":"Head5","v":"Audited Outcome"},{"$f":"Head5","v":"Audited Outcome"},{"$f":"Head6","v":"Original Budget"},{"$f":"Head7","v":"Adjusted Budget"},{"$f":"Head8","v":"Full Year Forecast"},{"$f":"Head9","v":"Budget Year 2025/26"},{"$f":"Head10","v":"Budget Year +1 2026/27"},{"$f":"Head11","v":"Budget Year +2 2027/28"}]
["Operating transfers and grants:","1,3"]
[{"$f":"'SA18'!A7","v":"National Government:"}]
["Balance unspent at beginning of the year",null,0,-18073.11,-4214778.0599999996,0,0,0,0,0,0]
["Current year receipts",null,-213922000,-8350000,-3585000,-4405000,-4405000,-4405000,-4169000,-2500000,-2600000]
["Repayment of grants",null,0,18073.11,214778.06,0,0,0,0,0,0]
["Conditions met - transferred to revenue",null,{"$f":"C6+C7-C8-C10","v":-427825926.88999999},{"$f":"D6+D7-D8-D10","v":-12521368.16},-15598862.079999998,-8810000,-8810000,-8810000,-8338000,-5000000,-5200000]
["Conditions still to be met - transferred to liabilities",null,213903926.88999999,4135221.94,7584305.96,4405000,4405000,4405000,4169000,2500000,2600000]
["Provincial Government:"]
["Balance unspent at beginning of the year"]
[{"$f":"A7","v":"Current year receipts"}]
[{"$f":"A9","v":"Conditions met - transferred to revenue"},null,{"$f":"C12+C13-C15","v":0},{"$f":"D12+D13-D15","v":0},0,0,0,0,0,0,0]
[{"$f":"A10","v":"Conditions still to be met - transferred to liabilities"}]
["District Municipality:"]
[{"$f":"A12","v":"Balance unspent at beginning of the year"}]
[{"$f":"A13","v":"Current year receipts"}]
[{"$f":"A14","v":"Conditions met - transferred to revenue"},null,{"$f":"C17+C18-C20","v":0},0,0,0,0,0,0,0,0]
[{"$f":"A15","v":"Conditions still to be met - transferred to liabilities"}]
["Other grant providers:"]
[{"$f":"A12","v":"Balance unspent at beginning of the year"},null,0,0,0,0,0,0,0,0,0]
[{"$f":"A13","v":"Current year receipts"},null,0,0,0,0,0,0,0,0,0]
[{"$f":"A14","v":"Conditions met - transferred to revenue"},null,{"$f":"C22+C23-C25","v":0},0,0,0,0,0,0,0,0]
[{"$f":"A15","v":"Conditions still to be met - transferred to liabilities"},null,0,0,0,0,0,0,0,0,0]
["Total operating transfers and grants revenue",null,{"$f":"C9+C14+C19+C24","v":-427825926.88999999},-12521368.16,-15598862.079999998,-8810000,-8810000,-8810000,-8338000,-5000000,-5200000]
["Total operating transfers and grants - CTBM",2,213903926.88999999,4135221.94,7584305.96,4405000,4405000,4405000,4169000,2500000,2600000]
[]
["Capital transfers and grants:","1,3"]
[{"$f":"A5","v":"National Government:"}]
["Balance unspent at beginning of the year",null,-258703.29,-24158175.120000001,-15807965.779999999,-11000000,-11000000,-11000000,-9000000,-1045000,-9640125]
["Current year receipts",null,-80764000,-104336000,-92059000,-51769000,-67747226,-67747226,-54524000,-75105000,-78484000]
["Conditions met - transferred to revenue",null,{"$f":"C31+C32-C34","v":-137628528.04000002},-241022209.21000001,-198928494.04000002,-114538000,-146494452,-146494452,-118048000,-151255000,-166608125]
["Conditions still to be met - transferred to liabilities",null,56605824.75,112528034.09,91061528.260000005,51769000,67747226,67747226,54524000,75105000,78484000]
["Provincial Government:"]
["Balance unspent at beginning of the year"]
[{"$f":"A32","v":"Current year receipts"}]
[{"$f":"A33","v":"Conditions met - transferred to revenue"},null,{"$f":"C36+C37-C39","v":0},0,0,0,0,0,0,0,0]
[{"$f":"A34","v":"Conditions still to be met - transferred to liabilities"}]
["District Municipality:"]
[{"$f":"A36","v":"Balance unspent at beginning of the year"}]
[{"$f":"A37","v":"Current year receipts"}]
[{"$f":"A38","v":"Conditions met - transferred to revenue"},null,{"$f":"C41+C42-C44","v":0},0,0,0,0,0,0,0,0]
[{"$f":"A39","v":"Conditions still to be met - transferred to liabilities"}]
["Other grant providers:"]
[{"$f":"A36","v":"Balance unspent at beginning of the year"},null,-0.22,-0.22,0,0,0,0,0,0,0]
[{"$f":"A37","v":"Current year receipts"},null,0,0,0,0,0,0,0,0,0]
[{"$f":"A38","v":"Conditions met - transferred to revenue"},null,{"$f":"C46+C47-C49","v":-0.22},-0.22,0,0,0,0,0,0,0]
[{"$f":"A39","v":"Conditions still to be met - transferred to liabilities"},null,0,0,0,0,0,0,0,0,0]
["Total capital transfers and grants revenue",null,{"$f":"C33+C38+C43+C48","v":-137628528.26000002},-241022209.43000001,-198928494.04000002,-114538000,-146494452,-146494452,-118048000,-151255000,-166608125]
["Total capital transfers and grants - CTBM",2,56605824.75,112528034.09,91061528.260000005,51769000,67747226,67747226,54524000,75105000,78484000]
[]
["TOTAL TRANSFERS AND GRANTS REVENUE",null,{"$f":"C26+C50","v":-565454455.14999998},-253543577.59,-214527356.12,-123348000,-155304452,-155304452,-126386000,-156255000,-171808125]
["TOTAL TRANSFERS AND GRANTS - CTBM",null,{"$f":"C27+C51","v":270509751.63999999},{"$f":"D27+D51","v":116663256.03},98645834.219999999,56174000,72152226,72152226,58693000,77605000,81084000]
[{"$f":"head27a","v":"References"}]
["1. Total capital transfers and grants revenue must reconcile to Budgeted Financial Performance and Financial Position; total recurrent grants revenue must reconcile to Budgeted Financial Performance"]
["2. CTBM = conditions to be met"]
["3. National Treasury database will require this reconciliation for each transfer/grant"]

{"sheet":"SA21","index":43,"n_rows":73,"n_cols":12,"rows_kept":73,"cut":false,"hidden":false,"merged":[[1,9,1,11],[1,5,1,8]]}
[{"$f":"muni&\" - \"& TableA21","v":"LIM351 Blouberg - Supporting Table SA21 Transfers and grants made by the municipality"}]
[{"$f":"desc","v":"Description"},{"$f":"head27","v":"Ref"},{"$f":"head1b","v":"2021/22"},{"$f":"head1A","v":"2022/23"},{"$f":"Head1","v":"2023/24"},{"$f":"Head2","v":"Current Year 2024/25"},null,null,null,{"$f":"Head3","v":"2025/26 Medium Term Revenue & Expenditure Framework"}]
["R thousand",null,{"$f":"Head5","v":"Audited Outcome"},{"$f":"Head5","v":"Audited Outcome"},{"$f":"Head5","v":"Audited Outcome"},{"$f":"Head6","v":"Original Budget"},{"$f":"Head7","v":"Adjusted Budget"},{"$f":"Head8","v":"Full Year Forecast"},{"$f":"Head5b","v":"Pre-audit outcome"},{"$f":"Head9","v":"Budget Year 2025/26"},{"$f":"Head10","v":"Budget Year +1 2026/27"},{"$f":"Head11","v":"Budget Year +2 2027/28"}]
[]
["Cash Transfers to other municipalities"]
["Insert description",1]
[]
[]
["Total Cash Transfers To Municipalities:",null,{"$f":"SUM(C6:C8)","v":0},{"$f":"SUM(D6:D8)","v":0},0,0,0,0,0,0,0,0]
[]
["Cash Transfers to Entities/Other External Mechanisms"]
[null,2]
[]
[]
["Total Cash Transfers To Entities/Ems'",null,{"$f":"SUM(C12:C14)","v":0},{"$f":"SUM(D12:D14)","v":0},0,0,0,0,0,0,0,0]
[]
["Cash Transfers to other Organs of State"]
[null,3]
[]
[]
["Total Cash Transfers To Other Organs Of State:",null,{"$f":"SUM(C18:C20)","v":0},{"$f":"SUM(D18:D20)","v":0},0,0,0,0,0,0,{"$f":"SUM(K18:K20)","v":0},0]
[]
["Cash Transfers to Organisations"]
["Non Prof: Tourism",null,0,0,0,0,0,0,0,0,0,0]
[]
["Total Cash Transfers To Organisations",null,{"$f":"SUM(C24:C25)","v":0},{"$f":"SUM(D24:D25)","v":0},0,0,0,0,0,0,0,0]
[]
["Cash Transfers to Groups of Individuals"]
["Hh Oth Trans: Bursaries Non Employee",null,0,0,0,0,0,0,0,0,0,0]
[]
["Total Cash Transfers To Groups Of Individuals:",null,{"$f":"SUM(C29:C30)","v":0},{"$f":"SUM(D29:D30)","v":0},0,0,0,0,0,0,0,0]
["TOTAL CASH TRANSFERS AND GRANTS",6,{"$f":"C9+C15+C21+C26+C31","v":0},{"$f":"D9+D15+D21+D26+D31","v":0},0,0,0,0,0,0,0,0]
[]
["Non-Cash Transfers to other municipalities"]
[null,1]
[]
[]
["Total Non-Cash Transfers To Municipalities:",null,{"$f":"SUM(C35:C37)","v":0},{"$f":"SUM(D35:D37)","v":0},0,0,0,0,0,0,0,0]
[]
["Non-Cash Transfers to Entities/Other External Mechanisms"]
[null,2]
[]
[]
["Total Non-Cash Transfers To Entities/Ems'",null,{"$f":"SUM(C41:C43)","v":0},{"$f":"SUM(D41:D43)","v":0},0,0,0,0,0,0,0,0]
[]
["Non-Cash Transfers to other Organs of State"]
[null,3]
[]
[]
["Total Non-Cash Transfers To Other Organs Of State:",null,{"$f":"SUM(C47:C49)","v":0},{"$f":"SUM(D47:D49)","v":0},0,0,0,0,0,0,{"$f":"SUM(K47:K49)","v":0},{"$f":"SUM(L47:L49)","v":0}]
[]
["Non-Cash Grants to Organisations"]
["N-P Pub Sch: Section 20 Schools",4,0,0,0,0,0,0,0,0,0,0]
[]
[]
["Total Non-Cash Grants To Organisations",null,{"$f":"SUM(C53:C55)","v":0},{"$f":"SUM(D53:D55)","v":0},0,0,0,0,0,0,{"$f":"SUM(K53:K55)","v":0},{"$f":"SUM(L53:L55)","v":0}]
[]
["Groups of Individuals"]
["Hh Ssp Soc Ass: Care Dependency",5,49860,0,0,0,0,0,0,0,0,0]
["Hh Ssp Soc Ass: Disability Grant",null,0,0,0,0,0,0,0,0,0,0]
["Hh Ssp Soc Ass: Grant In Aid",null,0,0,0,0,0,0,0,0,0,0]
["Hh Ssp Soc Ass: Old Age Grant",null,0,0,0,0,0,0,0,0,0,0]
[]
["Total Non-Cash Grants To Groups Of Individuals:",null,{"$f":"SUM(C59:C63)","v":49860},{"$f":"SUM(D59:D63)","v":0},0,0,0,0,0,0,0,0]
["TOTAL NON-CASH TRANSFERS AND GRANTS",null,{"$f":"C38+C44+C50+C56+C64","v":49860},{"$f":"D38+D44+D50+D56+D64","v":0},0,0,0,0,0,0,0,0]
["TOTAL TRANSFERS AND GRANTS",6,{"$f":"C32+C65","v":49860},{"$f":"D32+D65","v":0},0,0,0,0,0,0,0,0]
[{"$f":"head27a","v":"References"}]
["1. Insert description listed by municipal name and demarcation code of recipient"]
["2. Insert description of each entity or external mechanism (an external mechanism may be provided with resources to ensure a minimum level of service)"]
["3. Insert description of each Organ of State (e.g. transfer to electricity provider to compensate for FBS provided)"]
["4. Insert description of each other organisation (e.g. charity)"]
["5 Insert description of each other organisation (e.g. the aged, child-headed households)"]
["6. All descriptions should separate transfers for 'capital purposes' and 'operating purposes'"]

{"sheet":"SA22","index":44,"n_rows":140,"n_cols":11,"rows_kept":140,"cut":false,"hidden":false,"merged":[[1,5,1,7],[1,8,1,10]]}
[{"$f":"muni&\" - \"&TableA22","v":"LIM351 Blouberg - Supporting Table SA22 Summary councillor and staff benefits"}]
["Summary of Employee and Councillor remuneration",{"$f":"head27","v":"Ref"},{"$f":"head1b","v":"2021/22"},{"$f":"head1A","v":"2022/23"},{"$f":"Head1","v":"2023/24"},{"$f":"Head2","v":"Current Year 2024/25"},null,null,{"$f":"Head3","v":"2025/26 Medium Term Revenue & Expenditure Framework"}]
["R thousand",null,{"$f":"Head5","v":"Audited Outcome"},{"$f":"Head5","v":"Audited Outcome"},{"$f":"Head5","v":"Audited Outcome"},{"$f":"Head6","v":"Original Budget"},{"$f":"Head7","v":"Adjusted Budget"},{"$f":"Head8","v":"Full Year Forecast"},{"$f":"Head9","v":"Budget Year 2025/26"},{"$f":"Head10","v":"Budget Year +1 2026/27"},{"$f":"Head11","v":"Budget Year +2 2027/28"}]
[null,1,"A","B","C","D","E","F","G","H","I"]
["Councillors (Political Office Bearers plus Other)"]
["Basic Salaries and Wages",null,9189627.2799999993,8141788.4000000004,9242462.5299999993,11074677,11074677,11074677,11561966,12082254,12384310]
["Pension and UIF Contributions",null,2693684.13,2974593.2,3036249.24,3489800,3489800,3489800,3643354,3807304,3902487]
["Medical Aid Contributions",null,0,0,0,0,0,0,0,0,0]
["Motor Vehicle Allowance",null,0,0,221855.68,246580,246580,246580,257430,269014,275740]
["Cellphone Allowance",null,1888100,1847600,2033653.8,2817483,2817483,2817483,2941454,3073821,3150667]
["Housing Allowances",null,0,0,0,0,0,0,0,0,0]
["Other benefits and allowances",null,3442545.5,5018291.47,4678495.78,4369125,4369125,4369125,4561368,4766631,4885798]
["Sub Total - Councillors",null,{"$f":"SUM(C6:C12)","v":17213956.91},{"$f":"SUM(D6:D12)","v":17982273.07},19212717.030000001,21997665,21997665,21997665,22965572,23999024,24599002]
["% increase",4,null,{"$f":"IF(ISERROR((D13/C13)-1),0,((D13/C13)-1))","v":4.4633326551065444E-2},{"$f":"IF(ISERROR((E13/D13)-1),0,((E13/D13)-1))","v":6.842538511178331E-2},0.14495336425615379,0,0,4.4000442774267068E-2,4.5000054864734018E-2,2.5000100004066939E-2]
[]
["Senior Managers of the Municipality",2]
["Basic Salaries and Wages",null,3445703.14,1846535.49,1834247.65,5663783,5663783,5663783,5912991,6179075,6333553]
["Pension and UIF Contributions",null,642736.80000000005,334241.84999999998,302491.96999999997,1483565,1483565,1483565,1548850,1618549,1659011]
["Medical Aid Contributions",null,0,0,0,0,0,0,0,0,0]
["Overtime",null,0,0,0,0,0,0,0,0,0]
["Performance Bonus",null,267784.96000000002,196033.2,115382.04,336982,336982,336982,351811,367645,376834]
["Motor Vehicle Allowance",3,1066613.44,551830.91,523133.01,1704497,1704497,1704497,1779497,1859575,1906063]
["Cellphone Allowance",3,112532.16,115816.72,100150.28,220368,220368,220368,230065,240422,246428]
["Housing Allowances",3,0,0,0,0,0,0,0,0,0]
["Other benefits and allowances",3,576.79999999999995,143140.16,168664.67,879,879,879,921,963,987]
["Payments in lieu of leave",null,0,157007.35999999999,0,0,0,0,0,0,0]
["Long service awards",null,0,0,0,0,0,0,0,0,0]
["Post-retirement benefit obligations",6,667189,-1200433,0,0,0,0,0,0,0]
["Entertainment",null,0,0,0,0,0,0,0,0,0]
["Scarcity"]
["Acting and post related allowance",null,0,70144,0,0,0,0,0,0,0]
["In kind benefits"]
["Sub Total - Senior Managers of Municipality",null,{"$f":"SUM(C17:C32)","v":6203136.2999999998},{"$f":"SUM(D17:D32)","v":2214316.6900000004},3044069.6199999996,9410074,9410074,9410074,9824135,10266229,10522876]
[{"$f":"$A$14","v":"% increase"},{"$f":"$B$14","v":4},null,{"$f":"IF(ISERROR((D33/C33)-1),0,((D33/C33)-1))","v":-0.64303272039984027},{"$f":"IF(ISERROR((E33/D33)-1),0,((E33/D33)-1))","v":0.37472188768084447},2.0912808097996134,0,0,4.4001885638731419E-2,4.500080668679729E-2,2.4999150126107539E-2]
[]
["Other Municipal Staff"]
["Basic Salaries and Wages",null,64533658.600000001,67210870.950000003,71376380.109999999,69838622,69838622,69838622,77199525,77760044,79704047]
["Pension and UIF Contributions",null,15403486.880000001,16204045.24,16838948.600000001,18593509,18593509,18593509,19411632,20285156,20792283]
["Medical Aid Contributions",null,4566698.5199999996,5038151.5599999996,5402193.8399999999,4936837,4936837,4936837,5154064,5385994,5520645]
["Overtime",null,3273366.85,5410245.8799999999,5187614.2699999996,1670100,1670100,1670100,1649585,1822047,1867601]
["Performance Bonus",null,5198247.2,5084057.4800000004,6311125.8099999996,8192951,8192951,8192951,8653446,8938349,9161809]
["Motor Vehicle Allowance",3,15273753.15,16067062.73,17209325.5,21275267,21275267,21275267,22211385,23210896,23791169]
["Cellphone Allowance",3,2210238.16,3016034.34,3145947.98,2767358,2767358,2767358,2985125,3019137,3094616]
["Housing Allowances",3,213156.71,269130.82,281532.24,419937,419937,419937,438418,458146,469600]
["Other benefits and allowances",3,496506.7,741912.39,720634.56,619315,619315,619315,496572,675668,692558]
["Payments in lieu of leave",null,1172289.83,1077786.98,825921.55,2468012,2468012,2468012,2576610,2692556,2759870]
["Long service awards",null,0,0,0,108358,108358,108358,473126,118217,121172]
["Post-retirement benefit obligations",6,1141156,1264000,1392871,0,0,0,0,0,0]
["Entertainment"]
["Scarcity"]
["Acting and post related allowance",null,172574.07,446033.91,528162.41,454741,454741,454741,374754,496116,508519]
["In kind benefits"]
["Sub Total - Other Municipal Staff",null,{"$f":"SUM(C37:C52)","v":113655132.66999999},{"$f":"SUM(D37:D52)","v":121829332.28},129220657.87,131345007,131345007,131345007,141624242,144862326,148483889]
[{"$f":"$A$14","v":"% increase"},{"$f":"$B$14","v":4},null,{"$f":"IF(ISERROR((D53/C53)-1),0,((D53/C53)-1))","v":7.1921077543712686E-2},{"$f":"IF(ISERROR((E53/D53)-1),0,((E53/D53)-1))","v":6.0669507512464582E-2},1.6439702173139725E-2,0,0,7.8261330482094271E-2,2.2863910544354438E-2,2.500003348006441E-2]
[]
["Total Parent Municipality",null,{"$f":"C13+C33+C53","v":137072225.88},{"$f":"D13+D33+D53","v":142025922.03999999},151477444.52000001,162752746,162752746,162752746,174413949,179127579,183605767]
[null,null,null,{"$f":"IF(ISERROR((D56/C56)-1),0,((D56/C56)-1))","v":3.613931362241618E-2},{"$f":"IF(ISERROR((E56/D56)-1),0,((E56/D56)-1))","v":6.6547869179389041E-2},7.4435514249194146E-2,0,0,7.1649807985421088E-2,2.7025533376347166E-2,2.499999176564538E-2]
[]
["Board Members of Entities"]
["Basic Salaries and Wages"]
["Pension and UIF Contributions"]
["Medical Aid Contributions"]
["Overtime"]
["Performance Bonus"]
["Motor Vehicle Allowance",3]
["Cellphone Allowance",3]
["Housing Allowances",3]
["Other benefits and allowances",3]
["Board Fees"]
["Payments in lieu of leave"]
["Long service awards"]
["Post-retirement benefit obligations",6]
["Entertainment"]
["Scarcity"]
["Acting and post related allowance"]
["In kind benefits"]
["Sub Total - Board Members of Entities",null,{"$f":"SUM(C60:C76)","v":0},{"$f":"SUM(D60:D76)","v":0},0,0,0,0,0,0,0]
[{"$f":"$A$14","v":"% increase"},{"$f":"$B$14","v":4},null,{"$f":"IF(ISERROR((D77/C77)-1),0,((D77/C77)-1))","v":0},{"$f":"IF(ISERROR((E77/D77)-1),0,((E77/D77)-1))","v":0},0,0,0,0,0,0]
[]
["Senior Managers of Entities"]
["Basic Salaries and Wages"]
["Pension and UIF Contributions"]
["Medical Aid Contributions"]
["Overtime"]
["Performance Bonus"]
["Motor Vehicle Allowance",3]
["Cellphone Allowance",3]
["Housing Allowances",3]
["Other benefits and allowances",3]
["Payments in lieu of leave"]
["Long service awards"]
["Post-retirement benefit obligations",6]
["Entertainment"]
["Scarcity"]
["Acting and post related allowance"]
["In kind benefits"]
["Sub Total - Senior Managers of Entities",null,{"$f":"SUM(C81:C96)","v":0},{"$f":"SUM(D81:D96)","v":0},0,0,0,0,0,0,0]
[{"$f":"$A$14","v":"% increase"},{"$f":"$B$14","v":4},null,{"$f":"IF(ISERROR((D97/C97)-1),0,((D97/C97)-1))","v":0},{"$f":"IF(ISERROR((E97/D97)-1),0,((E97/D97)-1))","v":0},0,0,0,0,0,0]
[]
["Other Staff of Entities"]
["Basic Salaries and Wages"]
["Pension and UIF Contributions"]
["Medical Aid Contributions"]
["Overtime"]
["Performance Bonus"]
["Motor Vehicle Allowance",3]
["Cellphone Allowance",3]
["Housing Allowances",3]
["Other benefits and allowances",3]
["Payments in lieu of leave"]
["Long service awards"]
["Post-retirement benefit obligations",6]
["Entertainment"]
["Scarcity"]
["Acting and post related allowance"]
["In kind benefits"]
["Sub Total - Other Staff of Entities",null,{"$f":"SUM(C101:C116)","v":0},{"$f":"SUM(D101:D116)","v":0},0,0,0,0,0,0,0]
[{"$f":"$A$14","v":"% increase"},{"$f":"$B$14","v":4},null,{"$f":"IF(ISERROR((D117/C117)-1),0,((D117/C117)-1))","v":0},{"$f":"IF(ISERROR((E117/D117)-1),0,((E117/D117)-1))","v":0},0,0,0,0,0,0]
[]
["Total Municipal Entities",null,{"$f":"C77+C97+C117","v":0},{"$f":"D77+D97+D117","v":0},0,0,0,0,0,0,0]
[]
["TOTAL SALARY, ALLOWANCES & BENEFITS",null,{"$f":"C56+C120","v":137072225.88},{"$f":"D56+D120","v":142025922.03999999},{"$f":"E56+E120","v":151477444.52000001},162752746,162752746,162752746,174413949,179127579,183605767]
[{"$f":"$A$14","v":"% increase"},{"$f":"$B$14","v":4},null,{"$f":"IF(ISERROR((D122/C122)-1),0,((D122/C122)-1))","v":3.613931362241618E-2},{"$f":"IF(ISERROR((E122/D122)-1),0,((E122/D122)-1))","v":6.6547869179389041E-2},7.4435514249194146E-2,0,0,7.1649807985421088E-2,2.7025533376347166E-2,2.499999176564538E-2]
["TOTAL MANAGERS AND STAFF","5,7",{"$f":"C33+C53+C97+C117","v":119858268.96999998},{"$f":"D33+D53+D97+D117","v":124043648.97},132264727.49000001,140755081,140755081,140755081,151448377,155128555,159006765]
[{"$f":"head27a","v":"References"}]
["1. Include 'Loans and advances' where applicable if any reportable amounts until phased compliance with s164 of MFMA achieved"]
["2. s57 of the Systems Act"]
["3. In kind benefits (e.g. provision of living quarters) must be shown as the cost (full market value) to the municipality, as part of the relevant allowance"]
["4. B/A, C/B, D/C, E/C, F/C, G/D, H/D, I/D"]
["5. Must agree to the sub-total appearing on Table A1 (Employee costs)"]
["6. Includes pension payments and employer contributions to medical aid"]
["7. Correct as at 30 June"]
[]
["Column Definitions:"]
["A, B and C. Audited actual as per the audited financial statements. If audited amounts are unavailable, unaudited amounts must be provided with a note stating these are unaudited"]
["D. The original budget approved by council for the budget year."]
["E. The budget for the budget year as adjusted by council resolution in terms of section 28 of the MFMA."]
["F. An estimate of final actual amounts (pre audit) for the current year at the point in time of preparing the budget for the budget year. This may differ from E."]
["G. The amount to be appropriated for the budget year."]
["H and I. The indicative projection"]

{"sheet":"SA23","index":45,"n_rows":73,"n_cols":9,"rows_kept":73,"cut":false,"hidden":false,"merged":[[1,2,2,2],[1,5,2,5],[1,3,2,3],[1,6,2,6]]}
[{"$f":"muni&\" - \"&TableA23","v":"LIM351 Blouberg - Supporting Table SA23 Salaries, allowances & benefits (political office bearers/councillors/senior managers)"}]
["Disclosure of Salaries, Allowances & Benefits 1.",{"$f":"head27","v":"Ref"},"No.","Salary","\nContributions\n","Allowances","Performance  Bonuses","In-kind benefits","Total Package"]
["Rand per annum",null,null,null,"1.",null,null,null,"2."]
["Councillors",3]
["Speaker",4,null,803243,62008,399895,null,null,{"$f":"SUM(D5:F5)","v":1265146}]
["Chief Whip",null,null,697236,58281,305979,null,null,{"$f":"SUM(D6:F6)","v":1061496}]
["Executive Mayor",null,null,801667,315118,327028,null,null,1443813]
["Deputy Executive Mayor",null,null,0,null,0,null,null,0]
["Executive Committee",null,null,1309357,969681,781710,null,null,3060748]
["Total for all other councillors",null,null,7950463,2238266,5945640,null,null,16134369]
[{"$f":"\"Total \"&A4","v":"Total Councillors"},8,{"$f":"SUM(C5:C10)","v":0},{"$f":"SUM(D5:D10)","v":11561966},3643354,7760252,null,null,22965572]
[]
["Senior Managers of the Municipality",5]
["Municipal Manager (MM)",null,null,1286432,190927,432231,81715,null,{"$f":"SUM(D14:H14)","v":1991305}]
["Chief Finance Officer",null,null,925312,170046,299870,68532,null,{"$f":"SUM(D15:H15)","v":1463760}]
["SM",null,null,null,null,0,null,null,{"$f":"SUM(D16:H16)","v":0}]
["SM D01",null,null,925312,433959,336848,0,null,1696119]
["SM D02",null,null,925313,413827,341794,67188,null,1748122]
["SM D03",null,null,925311,170046,299870,67188,null,1462415]
["SM D04",null,null,0,0,0,0,null,0]
["SM D05",null,null,925311,170045,299870,67188,null,1462414]
[null,null,null,null,null,null,null,null,0]
[]
["List of each offical with packages >= senior manager"]
[null,null,null,null,null,null,null,null,{"$f":"SUM(D25:H25)","v":0}]
[null,null,null,null,null,null,null,null,{"$f":"SUM(D26:H26)","v":0}]
[null,null,null,null,null,null,null,null,0]
[null,null,null,null,null,null,null,null,0]
[null,null,null,null,null,null,null,null,0]
[null,null,null,null,null,null,null,null,0]
[null,null,null,null,null,null,null,null,0]
[null,null,null,null,null,null,null,null,0]
[null,null,null,null,null,null,null,null,0]
[null,null,null,null,null,null,null,null,0]
[null,null,null,null,null,null,null,null,0]
[null,null,null,null,null,null,null,null,{"$f":"SUM(D36:H36)","v":0}]
[null,null,null,null,null,null,null,null,{"$f":"SUM(D37:H37)","v":0}]
[{"$f":"\"Total \"&A13","v":"Total Senior Managers of the Municipality"},"8,10",{"$f":"SUM(C14:C37)","v":0},{"$f":"SUM(D14:D37)","v":5912991},{"$f":"SUM(E14:E37)","v":1548850},{"$f":"SUM(F14:F37)","v":2010483},{"$f":"SUM(G14:G37)","v":351811},null,{"$f":"SUM(I14:I37)","v":9824135}]
[]
["A Heading for Each Entity","6,7"]
["List each member of board by designation"]
[null,null,null,null,null,null,null,null,{"$f":"SUM(D42:G42)","v":0}]
[null,null,null,null,null,null,null,null,{"$f":"SUM(D43:G43)","v":0}]
[null,null,null,null,null,null,null,null,0]
[null,null,null,null,null,null,null,null,0]
[null,null,null,null,null,null,null,null,0]
[null,null,null,null,null,null,null,null,0]
[null,null,null,null,null,null,null,null,0]
[null,null,null,null,null,null,null,null,0]
[null,null,null,null,null,null,null,null,0]
[null,null,null,null,null,null,null,null,0]
[null,null,null,null,null,null,null,null,0]
[null,null,null,null,null,null,null,null,0]
[null,null,null,null,null,null,null,null,0]
[null,null,null,null,null,null,null,null,0]
[null,null,null,null,null,null,null,null,0]
[null,null,null,null,null,null,null,null,0]
["Total for municipal entities","8,10",{"$f":"SUM(C42:C57)","v":0},{"$f":"SUM(D42:D57)","v":0},{"$f":"SUM(E42:E57)","v":0},{"$f":"SUM(F42:F57)","v":0},{"$f":"SUM(G42:G57)","v":0},null,{"$f":"SUM(I42:I57)","v":0}]
[]
["TOTAL COST OF COUNCILLOR, DIRECTOR and EXECUTIVE REMUNERATION",10,{"$f":"C11+C38+C58","v":0},{"$f":"D11+D38+D58","v":17474957},{"$f":"E11+E38+E58","v":5192204},{"$f":"F11+F38+F58","v":9770735},{"$f":"G11+G38+G58","v":351811},null,{"$f":"I11+I38+I58","v":32789707}]
[]
[{"$f":"head27a","v":"References"}]
["1. Pension and medical aid"]
["2. Total package must equal the total cost to the municipality"]
["3. List each political office bearer by designation. Provide a total for all other councillors"]
["4. Political office bearer is defined in MFMA s 1: speaker, executive mayor, deputy executive mayor, member of executive committee,"]
["    mayor, deputy mayor, member of mayoral committee, the councillor designated to exercise powers and duties of mayor (MSA s 57)"]
["5. Also list each senior manager reporting to MM by designation and each official with package >= senior manager by designation"]
["6. List each entity where municipality has an interest and state percentage ownership and control"]
["7. List each senior manager reporting to the CEO of an Entity by designation"]
["8. Must reconcile to relevant section of Table SA24"]
["9. Must reconcile to totals shown for the budget year of Table SA22"]
["10. Correct as at 30 June"]

{"sheet":"SA24","index":46,"n_rows":53,"n_cols":11,"rows_kept":53,"cut":false,"hidden":false,"merged":[[1,5,1,7],[1,8,1,10],[1,2,1,4]]}
[{"$f":"muni&\" - \"&TableA24","v":"LIM351 Blouberg - Supporting Table SA24 Summary of personnel numbers"}]
["Summary of Personnel Numbers",{"$f":"head27","v":"Ref"},{"$f":"Head1","v":"2023/24"},null,null,{"$f":"Head2","v":"Current Year 2024/25"},null,null,{"$f":"Head9","v":"Budget Year 2025/26"}]
["Number","1,2","Positions","Permanent employees","Contract employees","Positions","Permanent employees","Contract employees","Positions","Permanent employees","Contract employees"]
["Municipal Council and Boards of Municipal Entities"]
["Councillors (Political Office Bearers plus Other Councillors)",null,44,0,44,44,0,44,44,0,44]
["Board Members of municipal entities",4]
["Municipal employees",5]
["Municipal Manager and Senior Managers",3,6,0,6,6,0,6,6,0,6]
["Other Managers",7,1,30,0,30,30,0,30,30,0]
["Professionals",null,{"$f":"SUM(C11:C19)","v":51},{"$f":"SUM(D11:D19)","v":51},0,56,56,0,55,55,0]
["Finance",null,6,6,0,6,6,0,10,10,0]
["Spatial/town planning",null,9,9,0,9,9,0,7,7,0]
["Information Technology",null,2,2,0,4,4,0,3,3,0]
["Roads",null,1,1,0,3,3,0,0,0,0]
["Electricity",null,10,10,0,11,11,0,2,2,0]
["Water"]
["Sanitation"]
["Refuse",null,1,1,0,1,1,0,2,2,0]
["Other",null,22,22,0,22,22,0,31,31,0]
["Technicians",null,{"$f":"SUM(C21:C29)","v":65},{"$f":"SUM(D21:D29)","v":65},0,112,118,0,81,81,0]
["Finance",null,0,0,0,45,45,0,45,45,0]
["Spatial/town planning"]
["Information Technology",null,2,2,0,3,3,0,3,3,0]
["Roads",null,4,4,0,5,5,0,2,2,0]
["Electricity",null,0,0,0,0,6,0,6,6,0]
["Water"]
["Sanitation"]
["Refuse",null,34,34,0,34,34,0,0,0,0]
["Other",null,25,25,0,25,25,0,25,25,0]
["Clerks (Clerical and administrative)",null,9,9,0,25,25,0,28,28,0]
["Service and sales workers",null,9,9,0,9,9,0,9,9,0]
["Skilled agricultural and fishery workers"]
["Craft and related trades",null,6,6,0,7,7,0,7,7,0]
["Plant and Machine Operators",null,43,43,0,19,19,0,19,19,0]
["Elementary Occupations",null,0,0,0,32,32,0,32,32,0]
["TOTAL PERSONNEL NUMBERS",9,{"$f":"SUM(C5:C9)+SUM(C11:C19)+SUM(C21:C35)","v":234},{"$f":"SUM(D5:D9)+SUM(D11:D19)+SUM(D21:D35)","v":213},50,340,296,{"$f":"SUM(H5:H9)+SUM(H11:H19)+SUM(H21:H35)","v":50},311,261,50]
["% increase",null,null,null,null,{"$f":"IF(ISERROR((F36/C36)-1),0,((F36/C36)-1))","v":0.45299145299145294},0.38967136150234749,0,-8.5294117647058854E-2,-0.1182432432432432,0]
[]
["Total municipal employees headcount","6, 10",262,241,50,373,329,50,344,294,50]
["Finance personnel headcount","8, 10",28,28,0,28,28,0,28,28,0]
["Human Resources personnel headcount","8, 10",0,0,0,5,5,0,5,5,0]
[]
[{"$f":"head27a","v":"References"}]
["1. Positions must be funded and aligned to the municipality's current organisational structure"]
["2. Full Time Equivalent (FTE). E.g. One full time person = 1FTE. A person working half time (say 4 hours out of 8) = 0.5FTE."]
["3. s57 of the Systems Act"]
["4. Include only in Consolidated Statements"]
["5. Include municipal entity employees in Consolidated Statements"]
["6.  Include headcount (number fo persons, Not FTE) of managers and staff only (exclude councillors)"]
["7. Managers who provide the direction of a critical technical function"]
["8. Total number of employees working on these functions"]
["9. Correct as at 30 June"]
["10. Must account for all budgeted positions, as per the municipal organogram"]

{"sheet":"SA25","index":47,"n_rows":63,"n_cols":17,"rows_kept":63,"cut":false,"hidden":false,"merged":[[1,2,1,13],[1,14,1,16]]}
[{"$f":"muni&\" - \"& TableA25","v":"LIM351 Blouberg - Supporting Table SA25 Budgeted monthly revenue and expenditure"}]
[{"$f":"desc","v":"Description"},{"$f":"head27","v":"Ref"},{"$f":"Head9","v":"Budget Year 2025/26"},null,null,null,null,null,null,null,null,null,null,null,"Medium Term Revenue and Expenditure Framework"]
["R thousand",null,"July","August","Sept.","October","November","December","January","February","March","April","May","June",{"$f":"Head9","v":"Budget Year 2025/26"},{"$f":"Head10","v":"Budget Year +1 2026/27"},{"$f":"Head11","v":"Budget Year +2 2027/28"}]
["Revenue"," "]
["Exchange Revenue"," "]
["Service charges - Electricity",null,5110266,5110266,5110266,5110266,5110266,5110266,5110266,5110266,5110266,5110266,5110266,{"$f":"O6-SUM(C6:M6)","v":5110293},{"$f":"'A4-FinPerf RE'!J6","v":61323219},{"$f":"'A4-FinPerf RE'!K6","v":64082764},{"$f":"'A4-FinPerf RE'!L6","v":65684833}]
["Service charges - Water",null,0,0,0,0,0,0,0,0,0,0,0,{"$f":"O7-SUM(C7:M7)","v":0},{"$f":"'A4-FinPerf RE'!J7","v":0},{"$f":"'A4-FinPerf RE'!K7","v":0},{"$f":"'A4-FinPerf RE'!L7","v":0}]
["Service charges - Waste Water Management",null,0,0,0,0,0,0,0,0,0,0,0,0,{"$f":"'A4-FinPerf RE'!J8","v":0},{"$f":"'A4-FinPerf RE'!K8","v":0},{"$f":"'A4-FinPerf RE'!L8","v":0}]
["Service charges - Waste Management",null,270832,270832,270832,270832,270832,270832,270832,270832,270832,270832,270832,270848,{"$f":"'A4-FinPerf RE'!J9","v":3250000},{"$f":"'A4-FinPerf RE'!K9","v":3396250},{"$f":"'A4-FinPerf RE'!L9","v":1481157}]
["Sale of Goods and Rendering of Services",null,32946,32946,32946,32946,32946,32946,32946,32946,32946,32946,32946,32969,{"$f":"'A4-FinPerf RE'!J10","v":395375},{"$f":"'A4-FinPerf RE'!K10","v":413166},{"$f":"'A4-FinPerf RE'!L10","v":423495}]
["Agency services"," ",12500,12500,12500,12500,12500,12500,12500,12500,12500,12500,12500,12500,{"$f":"'A4-FinPerf RE'!J11","v":150000},{"$f":"'A4-FinPerf RE'!K11","v":156750},{"$f":"'A4-FinPerf RE'!L11","v":160669}]
["Interest"," ",null,null,null,null,null,null,null,null,null,null,null,0,{"$f":"'A4-FinPerf RE'!J12","v":0},{"$f":"'A4-FinPerf RE'!K12","v":0},{"$f":"'A4-FinPerf RE'!L12","v":0}]
["Interest earned from Receivables"," ",100049,100049,100049,100049,100049,100049,100049,100049,100049,100049,100049,100061,{"$f":"'A4-FinPerf RE'!J13","v":1200600},{"$f":"'A4-FinPerf RE'!K13","v":1254627},{"$f":"'A4-FinPerf RE'!L13","v":1285994}]
["Interest earned from Current and Non Current Assets"," ",962532,962532,962532,962532,962532,962532,962532,962532,962532,962532,962532,962543,{"$f":"'A4-FinPerf RE'!J14","v":11550395},{"$f":"'A4-FinPerf RE'!K14","v":12070162},{"$f":"'A4-FinPerf RE'!L14","v":12371917}]
["Dividends"," ",null,null,null,null,null,null,null,null,null,null,null,0,{"$f":"'A4-FinPerf RE'!J15","v":0},{"$f":"'A4-FinPerf RE'!K15","v":0},{"$f":"'A4-FinPerf RE'!L15","v":0}]
["Rent on Land"," ",132766,132766,132766,132766,132766,132766,132766,132766,132766,132766,132766,132774,{"$f":"'A4-FinPerf RE'!J16","v":1593200},{"$f":"'A4-FinPerf RE'!K16","v":1664894},{"$f":"'A4-FinPerf RE'!L16","v":1706517}]
["Rental from Fixed Assets"," ",0,0,0,0,0,0,0,0,0,0,0,0,{"$f":"'A4-FinPerf RE'!J17","v":0},{"$f":"'A4-FinPerf RE'!K17","v":0},{"$f":"'A4-FinPerf RE'!L17","v":0}]
["Licence and permits"," ",456315,456315,456315,456315,456315,456315,456315,456315,456315,456315,456315,456315,{"$f":"'A4-FinPerf RE'!J18","v":5475780},{"$f":"'A4-FinPerf RE'!K18","v":5722192},{"$f":"'A4-FinPerf RE'!L18","v":5865246}]
["Special rating levies"]
["Operational Revenue"," ",210401,210401,210401,210401,210401,210401,210401,210401,210401,210401,210401,210420,{"$f":"'A4-FinPerf RE'!J20","v":2524831},{"$f":"'A4-FinPerf RE'!K20","v":2599784},{"$f":"'A4-FinPerf RE'!L20","v":2664779}]
["Non-Exchange Revenue"," "]
["Property rates",null,6366244,6366244,6366244,6366244,6366244,6366244,6366244,6366244,6366244,6366244,6366244,{"$f":"O22-SUM(C22:M22)","v":6366317},{"$f":"'A4-FinPerf RE'!J22","v":76395001},{"$f":"'A4-FinPerf RE'!K22","v":79832777},{"$f":"'A4-FinPerf RE'!L22","v":83828597}]
["Surcharges and Taxes"," ",null,null,null,null,null,null,null,null,null,null,null,0,{"$f":"'A4-FinPerf RE'!J23","v":0},{"$f":"'A4-FinPerf RE'!K23","v":0},{"$f":"'A4-FinPerf RE'!L23","v":0}]
["Fines, penalties and forfeits"," ",190546,190546,190546,190546,190546,190546,190546,190546,190546,190546,190546,190573,{"$f":"'A4-FinPerf RE'!J24","v":2286579},{"$f":"'A4-FinPerf RE'!K24","v":2389477},{"$f":"'A4-FinPerf RE'!L24","v":2449214}]
["Licences or permits"," ",0,0,0,0,0,0,0,0,0,0,0,0,{"$f":"'A4-FinPerf RE'!J25","v":0},{"$f":"'A4-FinPerf RE'!K25","v":0},{"$f":"'A4-FinPerf RE'!L25","v":0}]
["Transfer and subsidies - Operational"," ",20789999,20789999,20789999,20789999,20789999,20789999,20789999,20789999,20789999,20789999,20789999,20790011,{"$f":"'A4-FinPerf RE'!J26","v":249480000},{"$f":"'A4-FinPerf RE'!K26","v":246404000},{"$f":"'A4-FinPerf RE'!L26","v":257523000}]
["Interest"," ",132244,132244,132244,132244,132244,132244,132244,132244,132244,132244,132244,132248,{"$f":"'A4-FinPerf RE'!J27","v":1586932},{"$f":"'A4-FinPerf RE'!K27","v":1658343},{"$f":"'A4-FinPerf RE'!L27","v":1699802}]
["Fuel Levy"," ",null,null,null,null,null,null,null,null,null,null,null,0,{"$f":"'A4-FinPerf RE'!J28","v":0},{"$f":"'A4-FinPerf RE'!K28","v":0},{"$f":"'A4-FinPerf RE'!L28","v":0}]
["Operational Revenue"," ",0,0,0,0,0,0,0,0,0,0,0,0,{"$f":"'A4-FinPerf RE'!J29","v":0},{"$f":"'A4-FinPerf RE'!K29","v":0},{"$f":"'A4-FinPerf RE'!L29","v":0}]
["Gains on disposal of Assets"," ",0,0,0,0,0,0,0,0,0,0,0,0,{"$f":"'A4-FinPerf RE'!J30","v":0},{"$f":"'A4-FinPerf RE'!K30","v":0},{"$f":"'A4-FinPerf RE'!L30","v":0}]
["Other Gains"," ",0,0,0,0,0,0,0,0,0,0,0,0,{"$f":"'A4-FinPerf RE'!J31","v":0},{"$f":"'A4-FinPerf RE'!K31","v":0},{"$f":"'A4-FinPerf RE'!L31","v":0}]
["Discontinued Operations"," ",null,null,null,null,null,null,null,null,null,null,null,0,{"$f":"'A4-FinPerf RE'!J32","v":0},{"$f":"'A4-FinPerf RE'!K32","v":0},{"$f":"'A4-FinPerf RE'!L32","v":0}]
["Total Revenue (excluding capital transfers and contributions)"," ",{"$f":"SUM(C6:C20)+SUM(C22:C32)","v":34767640},{"$f":"SUM(D6:D20)+SUM(D22:D32)","v":34767640},34767640,34767640,34767640,34767640,34767640,34767640,34767640,34767640,34767640,{"$f":"SUM(N6:N20)+SUM(N22:N32)","v":34767872},{"$f":"SUM(O6:O20)+SUM(O22:O32)","v":417211912},{"$f":"SUM(P6:P20)+SUM(P22:P32)","v":421645186},{"$f":"SUM(Q6:Q20)+SUM(Q22:Q32)","v":437145220}]
["Expenditure"]
["Employee related costs",null,12620762,12620762,12620762,12620762,12620762,12620762,12620762,12620762,12620762,12620762,12620762,{"$f":"O35-SUM(C35:M35)","v":12619995},{"$f":"'A4-FinPerf RE'!J35","v":151448377},{"$f":"'A4-FinPerf RE'!K35","v":155128555},{"$f":"'A4-FinPerf RE'!L35","v":159006765}]
["Remuneration of councillors",null,1913806,1913806,1913806,1913806,1913806,1913806,1913806,1913806,1913806,1913806,1913806,1913706,{"$f":"'A4-FinPerf RE'!J36","v":22965572},{"$f":"'A4-FinPerf RE'!K36","v":23999024},{"$f":"'A4-FinPerf RE'!L36","v":24599002}]
["Bulk purchases - electricity",null,5606280,5606280,5606280,5606280,5606280,5606280,5606280,5606280,5606280,5606280,5606280,5606280,{"$f":"'A4-FinPerf RE'!J37","v":67275360},{"$f":"'A4-FinPerf RE'!K37","v":70302752},{"$f":"'A4-FinPerf RE'!L37","v":72060320}]
["Inventory consumed",null,220893,220893,220893,220893,220893,220893,220893,220893,220893,220893,220893,220876,{"$f":"'A4-FinPerf RE'!J38","v":2650699},{"$f":"'A4-FinPerf RE'!K38","v":3569227},{"$f":"'A4-FinPerf RE'!L38","v":3658457}]
["Debt impairment",null,1456936,1456936,1456936,1456936,1456936,1456936,1456936,1456936,1456936,1456936,1456936,1456917,{"$f":"'A4-FinPerf RE'!J39","v":17483213},{"$f":"'A4-FinPerf RE'!K39","v":17049064},{"$f":"'A4-FinPerf RE'!L39","v":22315601}]
["Depreciation and amortisation",null,2915706,2915706,2915706,2915706,2915706,2915706,2915706,2915706,2915706,2915706,2915706,2915491,{"$f":"'A4-FinPerf RE'!J40","v":34988257},{"$f":"'A4-FinPerf RE'!K40","v":36562722},{"$f":"'A4-FinPerf RE'!L40","v":37476791}]
["Interest"," ",0,0,0,0,0,0,0,0,0,0,0,0,{"$f":"'A4-FinPerf RE'!J41","v":0},{"$f":"'A4-FinPerf RE'!K41","v":0},{"$f":"'A4-FinPerf RE'!L41","v":0}]
["Contracted services"," ",3553799,3553799,3553799,3553799,3553799,3553799,3553799,3553799,3553799,3553799,3553799,3553550,{"$f":"'A4-FinPerf RE'!J42","v":42645339},{"$f":"'A4-FinPerf RE'!K42","v":34701133},{"$f":"'A4-FinPerf RE'!L42","v":35341363}]
["Transfers and subsidies"," ",0,0,0,0,0,0,0,0,0,0,0,0,{"$f":"'A4-FinPerf RE'!J43","v":0},{"$f":"'A4-FinPerf RE'!K43","v":0},{"$f":"'A4-FinPerf RE'!L43","v":0}]
["Irrecoverable debts written off"," ",0,0,0,0,0,0,0,0,0,0,0,0,{"$f":"'A4-FinPerf RE'!J44","v":0},{"$f":"'A4-FinPerf RE'!K44","v":0},{"$f":"'A4-FinPerf RE'!L44","v":0}]
["Operational costs"," ",5085981,5085981,5085981,5085981,5085981,5085981,5085981,5085981,5085981,5085981,5085981,5085626,{"$f":"'A4-FinPerf RE'!J45","v":61031417},{"$f":"'A4-FinPerf RE'!K45","v":63545585},{"$f":"'A4-FinPerf RE'!L45","v":65134243}]
["Losses on disposal of Assets"," ",0,0,0,0,0,0,0,0,0,0,0,0,{"$f":"'A4-FinPerf RE'!J46","v":0},{"$f":"'A4-FinPerf RE'!K46","v":0},{"$f":"'A4-FinPerf RE'!L46","v":0}]
["Other Losses"," ",0,0,0,0,0,0,0,0,0,0,0,0,{"$f":"'A4-FinPerf RE'!J47","v":0},{"$f":"'A4-FinPerf RE'!K47","v":0},{"$f":"'A4-FinPerf RE'!L47","v":0}]
["Total Expenditure"," ",{"$f":"SUM(C35:C47)","v":33374163},{"$f":"SUM(D35:D47)","v":33374163},33374163,33374163,33374163,33374163,33374163,33374163,33374163,33374163,33374163,33372441,{"$f":"SUM(O35:O47)","v":400488234},404858062,419592542]
["Surplus/(Deficit)",null,{"$f":"+C33-C48","v":1393477},{"$f":"+D33-D48","v":1393477},1393477,1393477,1393477,1393477,1393477,1393477,1393477,1393477,1393477,1395431,{"$f":"+O33-O48","v":16723678},16787124,17552678]
["Transfers and subsidies - capital (monetary allocations)",null,5853416,5853416,5853416,5853416,5853416,5853416,5853416,5853416,5853416,5853416,5853416,{"$f":"O50-SUM(C50:M50)","v":5853424},{"$f":"'A4-FinPerf RE'!J50","v":70241000},{"$f":"'A4-FinPerf RE'!K50","v":75105000},{"$f":"'A4-FinPerf RE'!L50","v":78484000}]
["Transfers and subsidies - capital (in-kind)",null,null,null,null,null,null,null,null,null,null,null,null,0,{"$f":"'A4-FinPerf RE'!J51","v":0},{"$f":"'A4-FinPerf RE'!K51","v":0},{"$f":"'A4-FinPerf RE'!L51","v":0}]
["Surplus/(Deficit) after capital transfers & contributions",null,{"$f":"SUM(C49:C51)","v":7246893},{"$f":"SUM(D49:D51)","v":7246893},7246893,7246893,7246893,7246893,7246893,7246893,7246893,7246893,7246893,7248855,{"$f":"SUM(O49:O51)","v":86964678},91892124,96036678]
["Income Tax",null,null,null,null,null,null,null,null,null,null,null,null,{"$f":"O53-SUM(C53:M53)","v":0},{"$f":"'A4-FinPerf RE'!J53","v":0},{"$f":"'A4-FinPerf RE'!K53","v":0},{"$f":"'A4-FinPerf RE'!L53","v":0}]
["Surplus/(Deficit) after income tax",null,{"$f":"+C52-C53","v":7246893},{"$f":"+D52-D53","v":7246893},7246893,7246893,7246893,7246893,7246893,7246893,7246893,7246893,7246893,{"$f":"O54-SUM(C54:M54)","v":7248855},{"$f":"+O52-O53","v":86964678},91892124,96036678]
["Share of Surplus/Deficit attributable to Joint Venture",null,null,null,null,null,null,null,null,null,null,null,null,0,{"$f":"'A4-FinPerf RE'!J55","v":0},{"$f":"'A4-FinPerf RE'!K55","v":0},{"$f":"'A4-FinPerf RE'!L55","v":0}]
["Share of Surplus/Deficit attributable to Minorities",null,null,null,null,null,null,null,null,null,null,null,null,0,{"$f":"'A4-FinPerf RE'!J56","v":0},{"$f":"'A4-FinPerf RE'!K56","v":0},{"$f":"'A4-FinPerf RE'!L56","v":0}]
["Surplus/(Deficit) attributable to municipality",null,{"$f":"SUM(C54:C56)","v":7246893},{"$f":"SUM(D54:D56)","v":7246893},7246893,7246893,7246893,7246893,7246893,7246893,7246893,7246893,7246893,7248855,{"$f":"SUM(O54:O56)","v":86964678},91892124,96036678]
["Share of Surplus/Deficit attributable to Associate",null,null,null,null,null,null,null,null,null,null,null,null,{"$f":"O58-SUM(C58:M58)","v":0},{"$f":"'A4-FinPerf RE'!J58","v":0},{"$f":"'A4-FinPerf RE'!K58","v":0},{"$f":"'A4-FinPerf RE'!L58","v":0}]
["Intercompany/Parent subsidiary transactions",null,null,null,null,null,null,null,null,null,null,null,null,0,{"$f":"'A4-FinPerf RE'!J59","v":0},{"$f":"'A4-FinPerf RE'!K59","v":0},{"$f":"'A4-FinPerf RE'!L59","v":0}]
[{"$f":"result","v":"Surplus/(Deficit) for the year"},1,{"$f":"SUM(C57:C59)","v":7246893},{"$f":"SUM(D57:D59)","v":7246893},7246893,7246893,7246893,7246893,7246893,7246893,7246893,7246893,7246893,7248855,{"$f":"SUM(O57:O59)","v":86964678},91892124,96036678]
[{"$f":"head27a","v":"References"}]
["1. Surplus (Deficit) must reconcile with Budgeted Financial Performance"]
[null,null,null,null,null,null,null,null,null,null,null,null,null,null,{"$f":"O60-'A4-FinPerf RE'!J60","v":0},{"$f":"P60-'A4-FinPerf RE'!K60","v":0},{"$f":"Q60-'A4-FinPerf RE'!L60","v":0}]

{"sheet":"SA26","index":48,"n_rows":48,"n_cols":17,"rows_kept":48,"cut":false,"hidden":false,"merged":[[1,2,1,13],[1,14,1,16]]}
[{"$f":"muni&\" - \"&TableA26","v":"LIM351 Blouberg - Supporting Table SA26 Budgeted monthly revenue and expenditure (municipal vote)"}]
[{"$f":"desc","v":"Description"},{"$f":"head27","v":"Ref"},{"$f":"Head9","v":"Budget Year 2025/26"},null,null,null,null,null,null,null,null,null,null,null,"Medium Term Revenue and Expenditure Framework"]
["R thousand",null,"July","August","Sept.","October","November","December","January","February","March","April","May","June",{"$f":"Head9","v":"Budget Year 2025/26"},{"$f":"Head10","v":"Budget Year +1 2026/27"},{"$f":"Head11","v":"Budget Year +2 2027/28"}]
[{"$f":"'A3-FinPerf V'!A4","v":"Revenue by Vote"}]
[{"$f":"'A3-FinPerf V'!A5","v":"Vote 01 - Executive & Council"},null,0,0,0,0,0,0,0,0,0,0,0,{"$f":"O5-SUM(C5:M5)","v":0},{"$f":"'A3-FinPerf V'!I5","v":0},{"$f":"'A3-FinPerf V'!J5","v":0},{"$f":"'A3-FinPerf V'!K5","v":0}]
[{"$f":"'A3-FinPerf V'!A6","v":"Vote 02 - Finance And Administration"},null,0,0,0,0,0,0,0,0,0,0,0,0,{"$f":"'A3-FinPerf V'!I6","v":0},{"$f":"'A3-FinPerf V'!J6","v":0},{"$f":"'A3-FinPerf V'!K6","v":0}]
[{"$f":"'A3-FinPerf V'!A7","v":"Vote 03 - Community Service"},null,28047575,28047575,28047575,28047575,28047575,28047575,28047575,28047575,28047575,28047575,28047575,28047671,{"$f":"'A3-FinPerf V'!I7","v":336570996},{"$f":"'A3-FinPerf V'!J7","v":339262696},{"$f":"'A3-FinPerf V'!K7","v":354703165}]
[{"$f":"'A3-FinPerf V'!A8","v":"Vote 04 - Public And Safety"},null,42721,42721,42721,42721,42721,42721,42721,42721,42721,42721,42721,42728,{"$f":"'A3-FinPerf V'!I8","v":512659},{"$f":"'A3-FinPerf V'!J8","v":535729},{"$f":"'A3-FinPerf V'!K8","v":549122}]
[{"$f":"'A3-FinPerf V'!A9","v":"Vote 05 - Waste Management"},null,6496054,6496054,6496054,6496054,6496054,6496054,6496054,6496054,6496054,6496054,6496054,6496092,{"$f":"'A3-FinPerf V'!I9","v":77952686},{"$f":"'A3-FinPerf V'!J9","v":81036292},{"$f":"'A3-FinPerf V'!K9","v":83385200}]
[{"$f":"'A3-FinPerf V'!A10","v":"Vote 06 - Roads  Services"},null,1254713,1254713,1254713,1254713,1254713,1254713,1254713,1254713,1254713,1254713,1254713,1254781,{"$f":"'A3-FinPerf V'!I10","v":15056624},{"$f":"'A3-FinPerf V'!J10","v":13846905},{"$f":"'A3-FinPerf V'!K10","v":12193079}]
[{"$f":"'A3-FinPerf V'!A11","v":"Vote 07 - Econominc Development And Planning"},null,4779993,4779993,4779993,4779993,4779993,4779993,4779993,4779993,4779993,4779993,4779993,{"$f":"O11-SUM(C11:M11)","v":4780024},{"$f":"'A3-FinPerf V'!I11","v":57359947},{"$f":"'A3-FinPerf V'!J11","v":62068564},{"$f":"'A3-FinPerf V'!K11","v":64798654}]
[{"$f":"'A3-FinPerf V'!A12","v":"Vote 08 - "},null,null,null,null,null,null,null,null,null,null,null,null,{"$f":"O12-SUM(C12:M12)","v":0},{"$f":"'A3-FinPerf V'!I12","v":0},{"$f":"'A3-FinPerf V'!J12","v":0},{"$f":"'A3-FinPerf V'!K12","v":0}]
[{"$f":"'A3-FinPerf V'!A13","v":"Vote 09 - "},null,null,null,null,null,null,null,null,null,null,null,null,{"$f":"O13-SUM(C13:M13)","v":0},{"$f":"'A3-FinPerf V'!I13","v":0},{"$f":"'A3-FinPerf V'!J13","v":0},{"$f":"'A3-FinPerf V'!K13","v":0}]
[{"$f":"'A3-FinPerf V'!A14","v":"Vote 10 - "},null,null,null,null,null,null,null,null,null,null,null,null,{"$f":"O14-SUM(C14:M14)","v":0},{"$f":"'A3-FinPerf V'!I14","v":0},{"$f":"'A3-FinPerf V'!J14","v":0},{"$f":"'A3-FinPerf V'!K14","v":0}]
[{"$f":"'A3-FinPerf V'!A15","v":"Vote 11 - "},null,null,null,null,null,null,null,null,null,null,null,null,0,{"$f":"'A3-FinPerf V'!I15","v":0},{"$f":"'A3-FinPerf V'!J15","v":0},{"$f":"'A3-FinPerf V'!K15","v":0}]
[{"$f":"'A3-FinPerf V'!A16","v":"Vote 12 - "},null,null,null,null,null,null,null,null,null,null,null,null,0,{"$f":"'A3-FinPerf V'!I16","v":0},{"$f":"'A3-FinPerf V'!J16","v":0},{"$f":"'A3-FinPerf V'!K16","v":0}]
[{"$f":"'A3-FinPerf V'!A17","v":"Vote 13 - "},null,null,null,null,null,null,null,null,null,null,null,null,0,{"$f":"'A3-FinPerf V'!I17","v":0},{"$f":"'A3-FinPerf V'!J17","v":0},{"$f":"'A3-FinPerf V'!K17","v":0}]
[{"$f":"'A3-FinPerf V'!A18","v":"Vote 14 - "},null,null,null,null,null,null,null,null,null,null,null,null,0,{"$f":"'A3-FinPerf V'!I18","v":0},{"$f":"'A3-FinPerf V'!J18","v":0},{"$f":"'A3-FinPerf V'!K18","v":0}]
[{"$f":"'A3-FinPerf V'!A19","v":"Vote 15 - Other"},null,null,null,null,null,null,null,null,null,null,null,null,0,{"$f":"'A3-FinPerf V'!I19","v":0},{"$f":"'A3-FinPerf V'!J19","v":0},{"$f":"'A3-FinPerf V'!K19","v":0}]
[{"$f":"'A3-FinPerf V'!A20","v":"Total Revenue by Vote"},null,{"$f":"SUM(C5:C19)","v":40621056},{"$f":"SUM(D5:D19)","v":40621056},40621056,{"$f":"SUM(F5:F19)","v":40621056},40621056,40621056,40621056,40621056,40621056,40621056,40621056,{"$f":"SUM(N5:N19)","v":40621296},487452912,496750186,515629220]
[]
[{"$f":"'A3-FinPerf V'!A22","v":"Expenditure by Vote to be appropriated"}]
[{"$f":"A5","v":"Vote 01 - Executive & Council"},null,2100546,2100546,2100546,2100546,2100546,2100546,2100546,2100546,2100546,2100546,2100546,{"$f":"O23-SUM(C23:M23)","v":2100335},{"$f":"'A3-FinPerf V'!I23","v":25206341},{"$f":"'A3-FinPerf V'!J23","v":26392878},{"$f":"'A3-FinPerf V'!K23","v":27052709}]
["Vote 02 - Finance And Administration",null,2463138,2463138,2463138,2463138,2463138,2463138,2463138,2463138,2463138,2463138,2463138,2462970,{"$f":"'A3-FinPerf V'!I24","v":29557488},{"$f":"'A3-FinPerf V'!J24","v":35987836},{"$f":"'A3-FinPerf V'!K24","v":36660224}]
["Vote 03 - Community Service",null,4265462,4265462,4265462,4265462,4265462,4265462,4265462,4265462,4265462,4265462,4265462,4265285,{"$f":"'A3-FinPerf V'!I25","v":51185367},{"$f":"'A3-FinPerf V'!J25","v":51163432},{"$f":"'A3-FinPerf V'!K25","v":57282829}]
["Vote 04 - Public And Safety",null,6874508,6874508,6874508,6874508,6874508,6874508,6874508,6874508,6874508,6874508,6874508,6874192,{"$f":"'A3-FinPerf V'!I26","v":82493780},{"$f":"'A3-FinPerf V'!J26","v":86885255},{"$f":"'A3-FinPerf V'!K26","v":89057397}]
["Vote 05 - Waste Management",null,10344116,10344116,10344116,10344116,10344116,10344116,10344116,10344116,10344116,10344116,10344116,10343766,{"$f":"'A3-FinPerf V'!I27","v":124129042},{"$f":"'A3-FinPerf V'!J27","v":128393147},{"$f":"'A3-FinPerf V'!K27","v":131602978}]
["Vote 06 - Roads  Services",null,6001911,6001911,6001911,6001911,6001911,6001911,6001911,6001911,6001911,6001911,6001911,6001566,{"$f":"'A3-FinPerf V'!I28","v":72022587},{"$f":"'A3-FinPerf V'!J28","v":58634825},{"$f":"'A3-FinPerf V'!K28","v":60093199}]
["Vote 07 - Econominc Development And Planning",null,1324482,1324482,1324482,1324482,1324482,1324482,1324482,1324482,1324482,1324482,1324482,1324327,{"$f":"'A3-FinPerf V'!I29","v":15893629},{"$f":"'A3-FinPerf V'!J29","v":16587944},{"$f":"'A3-FinPerf V'!K29","v":17002644}]
["Vote 08 - ",null,null,null,null,null,null,null,null,null,null,null,null,{"$f":"O30-SUM(C30:M30)","v":0},{"$f":"'A3-FinPerf V'!I30","v":0},{"$f":"'A3-FinPerf V'!J30","v":0},{"$f":"'A3-FinPerf V'!K30","v":0}]
["Vote 09 - ",null,null,null,null,null,null,null,null,null,null,null,null,{"$f":"O31-SUM(C31:M31)","v":0},{"$f":"'A3-FinPerf V'!I31","v":0},{"$f":"'A3-FinPerf V'!J31","v":0},{"$f":"'A3-FinPerf V'!K31","v":0}]
[{"$f":"A14","v":"Vote 10 - "},null,null,null,null,null,null,null,null,null,null,null,null,{"$f":"O32-SUM(C32:M32)","v":0},{"$f":"'A3-FinPerf V'!I32","v":0},{"$f":"'A3-FinPerf V'!J32","v":0},{"$f":"'A3-FinPerf V'!K32","v":0}]
["Vote 11 - ",null,null,null,null,null,null,null,null,null,null,null,null,0,{"$f":"'A3-FinPerf V'!I33","v":0},{"$f":"'A3-FinPerf V'!J33","v":0},{"$f":"'A3-FinPerf V'!K33","v":0}]
["Vote 12 - ",null,null,null,null,null,null,null,null,null,null,null,null,0,{"$f":"'A3-FinPerf V'!I34","v":0},{"$f":"'A3-FinPerf V'!J34","v":0},{"$f":"'A3-FinPerf V'!K34","v":0}]
["Vote 13 - ",null,null,null,null,null,null,null,null,null,null,null,null,0,{"$f":"'A3-FinPerf V'!I35","v":0},{"$f":"'A3-FinPerf V'!J35","v":0},{"$f":"'A3-FinPerf V'!K35","v":0}]
["Vote 14 - ",null,null,null,null,null,null,null,null,null,null,null,null,0,{"$f":"'A3-FinPerf V'!I36","v":0},{"$f":"'A3-FinPerf V'!J36","v":0},{"$f":"'A3-FinPerf V'!K36","v":0}]
["Vote 15 - Other",null,null,null,null,null,null,null,null,null,null,null,null,0,{"$f":"'A3-FinPerf V'!I37","v":0},{"$f":"'A3-FinPerf V'!J37","v":0},{"$f":"'A3-FinPerf V'!K37","v":0}]
[{"$f":"'A3-FinPerf V'!A38","v":"Total Expenditure by Vote"},null,{"$f":"SUM(C23:C37)","v":33374163},{"$f":"SUM(D23:D37)","v":33374163},33374163,33374163,33374163,33374163,33374163,33374163,33374163,33374163,33374163,33372441,{"$f":"SUM(O23:O37)","v":400488234},{"$f":"SUM(P23:P37)","v":404045317},{"$f":"SUM(Q23:Q37)","v":418751980}]
[]
[{"$f":"'A4-FinPerf RE'!A49&\" before assoc.\"","v":"Surplus/(Deficit) before assoc."},null,{"$f":"C20-C38","v":7246893},{"$f":"D20-D38","v":7246893},7246893,7246893,7246893,7246893,7246893,7246893,7246893,7246893,7246893,7248855,86964678,92704869,96877240]
[]
[{"$f":"'SA25'!A53","v":"Income Tax"},null,null,null,null,null,null,null,null,null,null,null,null,{"$f":"O42-SUM(C42:M42)","v":0},{"$f":"'SA25'!O53","v":0},{"$f":"'SA25'!P53","v":0},{"$f":"'SA25'!Q53","v":0}]
[{"$f":"'SA25'!A56","v":"Share of Surplus/Deficit attributable to Minorities"},null,0,0,0,0,0,0,0,0,0,0,0,{"$f":"O43-SUM(C43:M43)","v":0},{"$f":"'SA25'!O56","v":0},{"$f":"'SA25'!P56","v":0},{"$f":"'SA25'!Q56","v":0}]
[{"$f":"'A4-FinPerf RE'!A59","v":"Intercompany/Parent subsidiary transactions"},null,null,null,null,null,null,null,null,null,null,null,null,{"$f":"O44-SUM(C44:M44)","v":0},{"$f":"'A4-FinPerf RE'!J59","v":0},{"$f":"'A4-FinPerf RE'!K59","v":0},{"$f":"'A4-FinPerf RE'!L59","v":0}]
[{"$f":"'A4-FinPerf RE'!A49","v":"Surplus/(Deficit)"},1,{"$f":"C40+C44+C42+C43","v":7246893},{"$f":"D40+D44+D42+D43","v":7246893},7246893,7246893,7246893,7246893,7246893,7246893,7246893,7246893,7246893,7248855,86964678,92704869,96877240]
[{"$f":"head27a","v":"References"}]
["1. Surplus (Deficit) must reconcile with Budgeted Financial Performance"]
[null,null,null,null,null,null,null,null,null,null,null,null,null,null,{"$f":"O45-'A4-FinPerf RE'!J60","v":0},{"$f":"P45-'A4-FinPerf RE'!K60","v":812745},{"$f":"Q45-'A4-FinPerf RE'!L60","v":840562}]

{"sheet":"SA27","index":49,"n_rows":55,"n_cols":17,"rows_kept":55,"cut":false,"hidden":false,"merged":[[1,2,1,13],[1,14,1,16]]}
[{"$f":"muni&\" - \"&TableA27","v":"LIM351 Blouberg - Supporting Table SA27 Budgeted monthly revenue and expenditure (functional classification)"}]
[{"$f":"desc","v":"Description"},{"$f":"head27","v":"Ref"},{"$f":"Head9","v":"Budget Year 2025/26"},null,null,null,null,null,null,null,null,null,null,null,"Medium Term Revenue and Expenditure Framework"]
["R thousand",null,"July","August","Sept.","October","November","December","January","February","March","April","May","June",{"$f":"Head9","v":"Budget Year 2025/26"},{"$f":"Head10","v":"Budget Year +1 2026/27"},{"$f":"Head11","v":"Budget Year +2 2027/28"}]
[{"$f":"'A2-FinPerf SC'!A4","v":"Revenue - Functional"}]
[{"$f":"'A2-FinPerf SC'!A5","v":"Governance and administration"},null,{"$f":"SUM(C6:C8)","v":28090296},{"$f":"SUM(D6:D8)","v":28090296},{"$f":"SUM(E6:E8)","v":28090296},28090296,28090296,28090296,28090296,28090296,28090296,28090296,28090296,{"$f":"O5-SUM(C5:M5)","v":28090399},{"$f":"'A2-FinPerf SC'!I5","v":337083655},{"$f":"'A2-FinPerf SC'!J5","v":339798425},{"$f":"'A2-FinPerf SC'!K5","v":355252287}]
[{"$f":"'A2-FinPerf SC'!A6","v":"Executive and council"},null,0,0,0,0,0,0,0,0,0,0,0,{"$f":"O6-SUM(C6:M6)","v":0},{"$f":"'A2-FinPerf SC'!I6","v":0},{"$f":"'A2-FinPerf SC'!J6","v":0},{"$f":"'A2-FinPerf SC'!K6","v":0}]
[{"$f":"'A2-FinPerf SC'!A7","v":"Finance and administration"},null,28090296,28090296,28090296,28090296,28090296,28090296,28090296,28090296,28090296,28090296,28090296,{"$f":"O7-SUM(C7:M7)","v":28090399},{"$f":"'A2-FinPerf SC'!I7","v":337083655},{"$f":"'A2-FinPerf SC'!J7","v":339798425},{"$f":"'A2-FinPerf SC'!K7","v":355252287}]
[{"$f":"'A2-FinPerf SC'!A8","v":"Internal audit"},null,null,null,null,null,null,null,null,null,null,null,null,{"$f":"O8-SUM(C8:M8)","v":0},{"$f":"'A2-FinPerf SC'!I8","v":0},{"$f":"'A2-FinPerf SC'!J8","v":0},{"$f":"'A2-FinPerf SC'!K8","v":0}]
[{"$f":"'A2-FinPerf SC'!A9","v":"Community and public safety"},null,{"$f":"SUM(C10:C14)","v":595278},{"$f":"SUM(D10:D14)","v":595278},595278,595278,595278,595278,595278,595278,595278,595278,595278,{"$f":"O9-SUM(C9:M9)","v":595287},{"$f":"'A2-FinPerf SC'!I9","v":7143345},{"$f":"'A2-FinPerf SC'!J9","v":7464799},{"$f":"'A2-FinPerf SC'!K9","v":7651418}]
[{"$f":"'A2-FinPerf SC'!A10","v":"Community and social services"},null,0,0,0,0,0,0,0,0,0,0,0,{"$f":"O10-SUM(C10:M10)","v":0},{"$f":"'A2-FinPerf SC'!I10","v":0},{"$f":"'A2-FinPerf SC'!J10","v":0},{"$f":"'A2-FinPerf SC'!K10","v":0}]
[{"$f":"'A2-FinPerf SC'!A11","v":"Sport and recreation"},null,null,null,null,null,null,null,null,null,null,null,null,0,{"$f":"'A2-FinPerf SC'!I11","v":0},{"$f":"'A2-FinPerf SC'!J11","v":0},{"$f":"'A2-FinPerf SC'!K11","v":0}]
[{"$f":"'A2-FinPerf SC'!A12","v":"Public safety"},null,595278,595278,595278,595278,595278,595278,595278,595278,595278,595278,595278,595287,{"$f":"'A2-FinPerf SC'!I12","v":7143345},{"$f":"'A2-FinPerf SC'!J12","v":7464799},{"$f":"'A2-FinPerf SC'!K12","v":7651418}]
[{"$f":"'A2-FinPerf SC'!A13","v":"Housing"},null,null,null,null,null,null,null,null,null,null,null,null,0,{"$f":"'A2-FinPerf SC'!I13","v":0},{"$f":"'A2-FinPerf SC'!J13","v":0},{"$f":"'A2-FinPerf SC'!K13","v":0}]
[{"$f":"'A2-FinPerf SC'!A14","v":"Health"},null,null,null,null,null,null,null,null,null,null,null,null,0,{"$f":"'A2-FinPerf SC'!I14","v":0},{"$f":"'A2-FinPerf SC'!J14","v":0},{"$f":"'A2-FinPerf SC'!K14","v":0}]
[{"$f":"'A2-FinPerf SC'!A15","v":"Economic and environmental services"},null,{"$f":"SUM(C16:C18)","v":6089743},{"$f":"SUM(D16:D18)","v":6089743},6089743,6089743,6089743,6089743,6089743,6089743,6089743,6089743,6089743,6089774,{"$f":"'A2-FinPerf SC'!I15","v":73076947},{"$f":"'A2-FinPerf SC'!J15","v":62068564},{"$f":"'A2-FinPerf SC'!K15","v":64798654}]
[{"$f":"'A2-FinPerf SC'!A16","v":"Planning and development"},null,4779993,4779993,4779993,4779993,4779993,4779993,4779993,4779993,4779993,4779993,4779993,4780024,{"$f":"'A2-FinPerf SC'!I16","v":57359947},{"$f":"'A2-FinPerf SC'!J16","v":62068564},{"$f":"'A2-FinPerf SC'!K16","v":64798654}]
[{"$f":"'A2-FinPerf SC'!A17","v":"Road transport"},null,1309750,1309750,1309750,1309750,1309750,1309750,1309750,1309750,1309750,1309750,1309750,1309750,{"$f":"'A2-FinPerf SC'!I17","v":15717000},{"$f":"'A2-FinPerf SC'!J17","v":0},{"$f":"'A2-FinPerf SC'!K17","v":0}]
[{"$f":"'A2-FinPerf SC'!A18","v":"Environmental protection"},null,null,null,null,null,null,null,null,null,null,null,null,0,{"$f":"'A2-FinPerf SC'!I18","v":0},{"$f":"'A2-FinPerf SC'!J18","v":0},{"$f":"'A2-FinPerf SC'!K18","v":0}]
[{"$f":"'A2-FinPerf SC'!A19","v":"Trading services"},null,{"$f":"SUM(C20:C23)","v":5845739},{"$f":"SUM(D20:D23)","v":5845739},5845739,5845739,5845739,5845739,5845739,5845739,5845739,5845739,5845739,{"$f":"O19-SUM(C19:M19)","v":5845836},{"$f":"'A2-FinPerf SC'!I19","v":70148965},{"$f":"'A2-FinPerf SC'!J19","v":87418398},{"$f":"'A2-FinPerf SC'!K19","v":87926861}]
[{"$f":"'A2-FinPerf SC'!A20","v":"Energy sources"},null,5186304,5186304,5186304,5186304,5186304,5186304,5186304,5186304,5186304,5186304,5186304,5186342,{"$f":"'A2-FinPerf SC'!I20","v":62235686},{"$f":"'A2-FinPerf SC'!J20","v":81036292},{"$f":"'A2-FinPerf SC'!K20","v":83385200}]
[{"$f":"'A2-FinPerf SC'!A21","v":"Water management"},null,0,0,0,0,0,0,0,0,0,0,0,0,{"$f":"'A2-FinPerf SC'!I21","v":0},{"$f":"'A2-FinPerf SC'!J21","v":0},{"$f":"'A2-FinPerf SC'!K21","v":0}]
[{"$f":"'A2-FinPerf SC'!A22","v":"Waste water management"},null,0,0,0,0,0,0,0,0,0,0,0,0,{"$f":"'A2-FinPerf SC'!I22","v":0},{"$f":"'A2-FinPerf SC'!J22","v":0},{"$f":"'A2-FinPerf SC'!K22","v":0}]
[{"$f":"'A2-FinPerf SC'!A23","v":"Waste management"},null,659435,659435,659435,659435,659435,659435,659435,659435,659435,659435,659435,659494,{"$f":"'A2-FinPerf SC'!I23","v":7913279},{"$f":"'A2-FinPerf SC'!J23","v":6382106},{"$f":"'A2-FinPerf SC'!K23","v":4541661}]
[{"$f":"'A2-FinPerf SC'!A24","v":"Other"},null,null,null,null,null,null,null,null,null,null,null,null,0,{"$f":"'A2-FinPerf SC'!I24","v":0},{"$f":"'A2-FinPerf SC'!J24","v":0},{"$f":"'A2-FinPerf SC'!K24","v":0}]
[{"$f":"'A2-FinPerf SC'!A25","v":"Total Revenue - Functional"},null,{"$f":"C5+C9+C15+C19+C24","v":40621056},{"$f":"D5+D9+D15+D19+D24","v":40621056},{"$f":"E5+E9+E15+E19+E24","v":40621056},40621056,40621056,40621056,40621056,40621056,40621056,40621056,40621056,{"$f":"N5+N9+N15+N19+N24","v":40621296},487452912,496750186,515629220]
[]
[{"$f":"'A2-FinPerf SC'!A27","v":"Expenditure - Functional"}]
[{"$f":"'A2-FinPerf SC'!A28","v":"Governance and administration"},null,{"$f":"SUM(C29:C31)","v":15703654},{"$f":"SUM(D29:D31)","v":15703654},{"$f":"SUM(E29:E31)","v":15703654},15703654,15703654,15703654,15703654,15703654,15703654,15703654,15703654,{"$f":"O28-SUM(C28:M28)","v":15702782},{"$f":"'A2-FinPerf SC'!I28","v":188442976},{"$f":"'A2-FinPerf SC'!J28","v":200429401},{"$f":"'A2-FinPerf SC'!K28","v":210053159}]
[{"$f":"'A2-FinPerf SC'!A29","v":"Executive and council"},null,4563684,4563684,4563684,4563684,4563684,4563684,4563684,4563684,4563684,4563684,4563684,{"$f":"O29-SUM(C29:M29)","v":4563305},{"$f":"'A2-FinPerf SC'!I29","v":54763829},{"$f":"'A2-FinPerf SC'!J29","v":62380714},{"$f":"'A2-FinPerf SC'!K29","v":63712933}]
[{"$f":"'A2-FinPerf SC'!A30","v":"Finance and administration"},null,11139970,11139970,11139970,11139970,11139970,11139970,11139970,11139970,11139970,11139970,11139970,11139477,{"$f":"'A2-FinPerf SC'!I30","v":133679147},{"$f":"'A2-FinPerf SC'!J30","v":138048687},{"$f":"'A2-FinPerf SC'!K30","v":146340226}]
[{"$f":"'A2-FinPerf SC'!A31","v":"Internal audit"},null,null,null,null,null,null,null,null,null,null,null,null,0,{"$f":"'A2-FinPerf SC'!I31","v":0},{"$f":"'A2-FinPerf SC'!J31","v":0},{"$f":"'A2-FinPerf SC'!K31","v":0}]
[{"$f":"'A2-FinPerf SC'!A32","v":"Community and public safety"},null,{"$f":"SUM(C33:C37)","v":3015559},{"$f":"SUM(D33:D37)","v":3015559},3015559,3015559,3015559,3015559,3015559,3015559,3015559,3015559,3015559,3015459,{"$f":"'A2-FinPerf SC'!I32","v":36186608},{"$f":"'A2-FinPerf SC'!J32","v":20163995},{"$f":"'A2-FinPerf SC'!K32","v":20660596}]
[{"$f":"'A2-FinPerf SC'!A33","v":"Community and social services"},null,0,0,0,0,0,0,0,0,0,0,0,0,{"$f":"'A2-FinPerf SC'!I33","v":0},{"$f":"'A2-FinPerf SC'!J33","v":0},{"$f":"'A2-FinPerf SC'!K33","v":0}]
[{"$f":"'A2-FinPerf SC'!A34","v":"Sport and recreation"},null,0,0,0,0,0,0,0,0,0,0,0,0,{"$f":"'A2-FinPerf SC'!I34","v":0},{"$f":"'A2-FinPerf SC'!J34","v":0},{"$f":"'A2-FinPerf SC'!K34","v":0}]
[{"$f":"'A2-FinPerf SC'!A35","v":"Public safety"},null,3015559,3015559,3015559,3015559,3015559,3015559,3015559,3015559,3015559,3015559,3015559,3015459,{"$f":"'A2-FinPerf SC'!I35","v":36186608},{"$f":"'A2-FinPerf SC'!J35","v":20163995},{"$f":"'A2-FinPerf SC'!K35","v":20660596}]
[{"$f":"'A2-FinPerf SC'!A36","v":"Housing"},null,null,null,null,null,null,null,null,null,null,null,null,0,{"$f":"'A2-FinPerf SC'!I36","v":0},{"$f":"'A2-FinPerf SC'!J36","v":0},{"$f":"'A2-FinPerf SC'!K36","v":0}]
[{"$f":"'A2-FinPerf SC'!A37","v":"Health"},null,null,null,null,null,null,null,null,null,null,null,null,0,{"$f":"'A2-FinPerf SC'!I37","v":0},{"$f":"'A2-FinPerf SC'!J37","v":0},{"$f":"'A2-FinPerf SC'!K37","v":0}]
[{"$f":"'A2-FinPerf SC'!A38","v":"Economic and environmental services"},null,{"$f":"SUM(C39:C41)","v":3079226},{"$f":"SUM(D39:D41)","v":3079226},3079226,3079226,3079226,3079226,3079226,3079226,3079226,3079226,3079226,{"$f":"O38-SUM(C38:M38)","v":3078968},{"$f":"'A2-FinPerf SC'!I38","v":36950454},{"$f":"'A2-FinPerf SC'!J38","v":38592323},{"$f":"'A2-FinPerf SC'!K38","v":39557138}]
[{"$f":"'A2-FinPerf SC'!A39","v":"Planning and development"},null,1324482,1324482,1324482,1324482,1324482,1324482,1324482,1324482,1324482,1324482,1324482,1324327,{"$f":"'A2-FinPerf SC'!I39","v":15893629},{"$f":"'A2-FinPerf SC'!J39","v":16587944},{"$f":"'A2-FinPerf SC'!K39","v":17002644}]
[{"$f":"'A2-FinPerf SC'!A40","v":"Road transport"},null,1754744,1754744,1754744,1754744,1754744,1754744,1754744,1754744,1754744,1754744,1754744,1754641,{"$f":"'A2-FinPerf SC'!I40","v":21056825},{"$f":"'A2-FinPerf SC'!J40","v":22004379},{"$f":"'A2-FinPerf SC'!K40","v":22554494}]
[{"$f":"'A2-FinPerf SC'!A41","v":"Environmental protection"},null,null,null,null,null,null,null,null,null,null,null,null,0,{"$f":"'A2-FinPerf SC'!I41","v":0},{"$f":"'A2-FinPerf SC'!J41","v":0},{"$f":"'A2-FinPerf SC'!K41","v":0}]
[{"$f":"'A2-FinPerf SC'!A42","v":"Trading services"},null,{"$f":"SUM(C43:C46)","v":11575724},{"$f":"SUM(D43:D46)","v":11575724},11575724,11575724,11575724,11575724,11575724,11575724,11575724,11575724,11575724,{"$f":"O42-SUM(C42:M42)","v":11575232},{"$f":"'A2-FinPerf SC'!I42","v":138908196},{"$f":"'A2-FinPerf SC'!J42","v":144859598},{"$f":"'A2-FinPerf SC'!K42","v":148481087}]
[{"$f":"'A2-FinPerf SC'!A43","v":"Energy sources"},null,8589372,8589372,8589372,8589372,8589372,8589372,8589372,8589372,8589372,8589372,8589372,8589125,{"$f":"'A2-FinPerf SC'!I43","v":103072217},{"$f":"'A2-FinPerf SC'!J43","v":106388768},{"$f":"'A2-FinPerf SC'!K43","v":109048484}]
[{"$f":"'A2-FinPerf SC'!A44","v":"Water management"},null,0,0,0,0,0,0,0,0,0,0,0,0,{"$f":"'A2-FinPerf SC'!I44","v":0},{"$f":"'A2-FinPerf SC'!J44","v":0},{"$f":"'A2-FinPerf SC'!K44","v":0}]
[{"$f":"'A2-FinPerf SC'!A45","v":"Waste water management"},null,0,0,0,0,0,0,0,0,0,0,0,0,{"$f":"'A2-FinPerf SC'!I45","v":0},{"$f":"'A2-FinPerf SC'!J45","v":0},{"$f":"'A2-FinPerf SC'!K45","v":0}]
[{"$f":"'A2-FinPerf SC'!A46","v":"Waste management"},null,2986352,2986352,2986352,2986352,2986352,2986352,2986352,2986352,2986352,2986352,2986352,2986107,{"$f":"'A2-FinPerf SC'!I46","v":35835979},{"$f":"'A2-FinPerf SC'!J46","v":38470830},{"$f":"'A2-FinPerf SC'!K46","v":39432603}]
[{"$f":"'A2-FinPerf SC'!A47","v":"Other"},null,null,null,null,null,null,null,null,null,null,null,null,0,{"$f":"'A2-FinPerf SC'!I47","v":0},{"$f":"'A2-FinPerf SC'!J47","v":0},{"$f":"'A2-FinPerf SC'!K47","v":0}]
[{"$f":"'A2-FinPerf SC'!A48","v":"Total Expenditure - Functional"},null,{"$f":"C28+C32+C38+C42+C47","v":33374163},{"$f":"D28+D32+D38+D42+D47","v":33374163},33374163,33374163,33374163,33374163,33374163,33374163,33374163,33374163,33374163,33372441,400488234,404045317,{"$f":"Q28+Q32+Q38+Q42+Q47","v":418751980}]
[]
[{"$f":"'A4-FinPerf RE'!A49&\" before assoc.\"","v":"Surplus/(Deficit) before assoc."},null,{"$f":"C25-C48","v":7246893},{"$f":"D25-D48","v":7246893},7246893,7246893,7246893,7246893,7246893,7246893,7246893,7246893,7246893,7248855,86964678,92704869,96877240]
[]
[{"$f":"'A4-FinPerf RE'!A59","v":"Intercompany/Parent subsidiary transactions"},null,null,null,null,null,null,null,null,null,null,null,null,{"$f":"O52-SUM(C52:M52)","v":0},{"$f":"'A4-FinPerf RE'!J59","v":0},{"$f":"'A4-FinPerf RE'!K59","v":0},{"$f":"'A4-FinPerf RE'!L59","v":0}]
[{"$f":"'A4-FinPerf RE'!A49","v":"Surplus/(Deficit)"},1,{"$f":"C50+C52","v":7246893},{"$f":"D50+D52","v":7246893},7246893,7246893,7246893,7246893,7246893,7246893,7246893,7246893,7246893,7248855,86964678,92704869,96877240]
[{"$f":"head27a","v":"References"}]
["1. Surplus (Deficit) must reconcile with Budeted Financial Performance"]

{"sheet":"SA28","index":50,"n_rows":46,"n_cols":17,"rows_kept":46,"cut":false,"hidden":false,"merged":[[1,2,1,13],[1,14,1,16]]}
[{"$f":"muni&\" - \"& TableA28","v":"LIM351 Blouberg - Supporting Table SA28 Budgeted monthly capital expenditure (municipal vote)"}]
[{"$f":"desc","v":"Description"},{"$f":"head27","v":"Ref"},{"$f":"Head9","v":"Budget Year 2025/26"},null,null,null,null,null,null,null,null,null,null,null,"Medium Term Revenue and Expenditure Framework"]
["R thousand",null,"July","August","Sept.","October","Nov.","Dec.","January","Feb.","March","April","May","June",{"$f":"Head9","v":"Budget Year 2025/26"},{"$f":"Head10","v":"Budget Year +1 2026/27"},{"$f":"Head11","v":"Budget Year +2 2027/28"}]
["Multi-year expenditure to be appropriated",1]
[{"$f":"'A5-Capex'!A6","v":"Vote 01 - Executive & Council"},null,0,0,0,0,0,0,0,0,0,0,0,{"$f":"O5-SUM(C5:M5)","v":0},{"$f":"'A5-Capex'!J6","v":0},{"$f":"'A5-Capex'!K6","v":0},{"$f":"'A5-Capex'!L6","v":0}]
[{"$f":"'A5-Capex'!A7","v":"Vote 02 - Finance And Administration"},null,0,0,0,0,0,0,0,0,0,0,0,{"$f":"O6-SUM(C6:M6)","v":0},{"$f":"'A5-Capex'!J7","v":0},{"$f":"'A5-Capex'!K7","v":0},{"$f":"'A5-Capex'!L7","v":0}]
[{"$f":"'A5-Capex'!A8","v":"Vote 03 - Community Service"},null,0,0,0,0,0,0,0,0,0,0,0,0,{"$f":"'A5-Capex'!J8","v":0},{"$f":"'A5-Capex'!K8","v":0},{"$f":"'A5-Capex'!L8","v":0}]
[{"$f":"'A5-Capex'!A9","v":"Vote 04 - Public And Safety"},null,0,0,0,0,0,0,0,0,0,0,0,0,{"$f":"'A5-Capex'!J9","v":0},{"$f":"'A5-Capex'!K9","v":0},{"$f":"'A5-Capex'!L9","v":0}]
[{"$f":"'A5-Capex'!A10","v":"Vote 05 - Waste Management"},null,0,0,0,0,0,0,0,0,0,0,0,18617000,{"$f":"'A5-Capex'!J10","v":18617000},{"$f":"'A5-Capex'!K10","v":500000},{"$f":"'A5-Capex'!L10","v":522000}]
[{"$f":"'A5-Capex'!A11","v":"Vote 06 - Roads  Services"},null,0,0,0,0,0,0,0,0,0,0,0,0,{"$f":"'A5-Capex'!J11","v":0},{"$f":"'A5-Capex'!K11","v":0},{"$f":"'A5-Capex'!L11","v":0}]
[{"$f":"'A5-Capex'!A12","v":"Vote 07 - Econominc Development And Planning"},null,0,0,0,0,0,0,0,0,0,0,0,0,{"$f":"'A5-Capex'!J12","v":0},{"$f":"'A5-Capex'!K12","v":0},{"$f":"'A5-Capex'!L12","v":0}]
[{"$f":"'A5-Capex'!A13","v":"Vote 08 - "},null,0,0,0,0,0,0,0,0,0,0,0,{"$f":"O12-SUM(C12:M12)","v":0},{"$f":"'A5-Capex'!J13","v":0},{"$f":"'A5-Capex'!K13","v":0},{"$f":"'A5-Capex'!L13","v":0}]
[{"$f":"'A5-Capex'!A14","v":"Vote 09 - "},null,0,0,0,0,0,0,0,0,0,0,0,{"$f":"O13-SUM(C13:M13)","v":0},{"$f":"'A5-Capex'!J14","v":0},{"$f":"'A5-Capex'!K14","v":0},{"$f":"'A5-Capex'!L14","v":0}]
[{"$f":"'A5-Capex'!A15","v":"Vote 10 - "},null,0,0,0,0,0,0,0,0,0,0,0,{"$f":"O14-SUM(C14:M14)","v":0},{"$f":"'A5-Capex'!J15","v":0},{"$f":"'A5-Capex'!K15","v":0},{"$f":"'A5-Capex'!L15","v":0}]
[{"$f":"'A5-Capex'!A16","v":"Vote 11 - "},null,0,0,0,0,0,0,0,0,0,0,0,0,{"$f":"'A5-Capex'!J16","v":0},{"$f":"'A5-Capex'!K16","v":0},{"$f":"'A5-Capex'!L16","v":0}]
[{"$f":"'A5-Capex'!A17","v":"Vote 12 - "},null,0,0,0,0,0,0,0,0,0,0,0,0,{"$f":"'A5-Capex'!J17","v":0},{"$f":"'A5-Capex'!K17","v":0},{"$f":"'A5-Capex'!L17","v":0}]
[{"$f":"'A5-Capex'!A18","v":"Vote 13 - "},null,0,0,0,0,0,0,0,0,0,0,0,0,{"$f":"'A5-Capex'!J18","v":0},{"$f":"'A5-Capex'!K18","v":0},{"$f":"'A5-Capex'!L18","v":0}]
[{"$f":"'A5-Capex'!A19","v":"Vote 14 - "},null,0,0,0,0,0,0,0,0,0,0,0,0,{"$f":"'A5-Capex'!J19","v":0},{"$f":"'A5-Capex'!K19","v":0},{"$f":"'A5-Capex'!L19","v":0}]
[{"$f":"'A5-Capex'!A20","v":"Vote 15 - Other"},null,0,0,0,0,0,0,0,0,0,0,0,0,{"$f":"'A5-Capex'!J20","v":0},{"$f":"'A5-Capex'!K20","v":0},{"$f":"'A5-Capex'!L20","v":0}]
["Capital multi-year expenditure sub-total",2,{"$f":"SUM(C5:C19)","v":0},{"$f":"SUM(D5:D19)","v":0},0,0,0,0,0,0,0,0,{"$f":"SUM(M5:M19)","v":0},18617000,{"$f":"SUM(O5:O19)","v":18617000},500000,522000]
[]
["Single-year expenditure to be appropriated"]
[{"$f":"'A5-Capex'!A24","v":"Vote 01 - Executive & Council"},null,0,0,0,0,0,0,0,0,0,0,0,{"$f":"O23-SUM(C23:M23)","v":0},{"$f":"'A5-Capex'!J24","v":0},{"$f":"'A5-Capex'!K24","v":0},{"$f":"'A5-Capex'!L24","v":0}]
[{"$f":"'A5-Capex'!A25","v":"Vote 02 - Finance And Administration"},null,0,0,0,0,0,0,0,0,0,0,0,{"$f":"O24-SUM(C24:M24)","v":0},{"$f":"'A5-Capex'!J25","v":0},{"$f":"'A5-Capex'!K25","v":0},{"$f":"'A5-Capex'!L25","v":0}]
[{"$f":"'A5-Capex'!A26","v":"Vote 03 - Community Service"},null,0,0,0,0,0,0,0,0,0,0,0,0,{"$f":"'A5-Capex'!J26","v":0},{"$f":"'A5-Capex'!K26","v":0},{"$f":"'A5-Capex'!L26","v":0}]
[{"$f":"'A5-Capex'!A27","v":"Vote 04 - Public And Safety"},null,475001,475001,475001,475001,475001,475001,475001,475001,475001,475001,475001,474989,{"$f":"'A5-Capex'!J27","v":5700000},{"$f":"'A5-Capex'!K27","v":11000000},{"$f":"'A5-Capex'!L27","v":6723000}]
[{"$f":"'A5-Capex'!A28","v":"Vote 05 - Waste Management"},null,775001,775001,775001,775001,775001,775001,775001,775001,775001,775001,775001,774989,{"$f":"'A5-Capex'!J28","v":9300000},{"$f":"'A5-Capex'!K28","v":22100000},{"$f":"'A5-Capex'!L28","v":27871400}]
[{"$f":"'A5-Capex'!A29","v":"Vote 06 - Roads  Services"},null,0,0,0,0,0,0,0,0,0,0,0,0,{"$f":"'A5-Capex'!J29","v":0},{"$f":"'A5-Capex'!K29","v":0},{"$f":"'A5-Capex'!L29","v":0}]
[{"$f":"'A5-Capex'!A30","v":"Vote 07 - Econominc Development And Planning"},null,4445652,4445652,4445652,4445652,4445652,4445652,4445652,4445652,4445652,4445652,4445652,4445628,{"$f":"'A5-Capex'!J30","v":53347800},{"$f":"'A5-Capex'!K30","v":59105000},{"$f":"'A5-Capex'!L30","v":61761000}]
[{"$f":"'A5-Capex'!A31","v":"Vote 08 - "},null,0,0,0,0,0,0,0,0,0,0,0,{"$f":"O30-SUM(C30:M30)","v":0},{"$f":"'A5-Capex'!J31","v":0},{"$f":"'A5-Capex'!K31","v":0},{"$f":"'A5-Capex'!L31","v":0}]
[{"$f":"'A5-Capex'!A32","v":"Vote 09 - "},null,0,0,0,0,0,0,0,0,0,0,0,{"$f":"O31-SUM(C31:M31)","v":0},{"$f":"'A5-Capex'!J32","v":0},{"$f":"'A5-Capex'!K32","v":0},{"$f":"'A5-Capex'!L32","v":0}]
[{"$f":"'A5-Capex'!A33","v":"Vote 10 - "},null,0,0,0,0,0,0,0,0,0,0,0,{"$f":"O32-SUM(C32:M32)","v":0},{"$f":"'A5-Capex'!J33","v":0},{"$f":"'A5-Capex'!K33","v":0},{"$f":"'A5-Capex'!L33","v":0}]
[{"$f":"'A5-Capex'!A34","v":"Vote 11 - "},null,0,0,0,0,0,0,0,0,0,0,0,0,{"$f":"'A5-Capex'!J34","v":0},{"$f":"'A5-Capex'!K34","v":0},{"$f":"'A5-Capex'!L34","v":0}]
[{"$f":"'A5-Capex'!A35","v":"Vote 12 - "},null,0,0,0,0,0,0,0,0,0,0,0,0,{"$f":"'A5-Capex'!J35","v":0},{"$f":"'A5-Capex'!K35","v":0},{"$f":"'A5-Capex'!L35","v":0}]
[{"$f":"'A5-Capex'!A36","v":"Vote 13 - "},null,0,0,0,0,0,0,0,0,0,0,0,0,{"$f":"'A5-Capex'!J36","v":0},{"$f":"'A5-Capex'!K36","v":0},{"$f":"'A5-Capex'!L36","v":0}]
[{"$f":"'A5-Capex'!A37","v":"Vote 14 - "},null,0,0,0,0,0,0,0,0,0,0,0,0,{"$f":"'A5-Capex'!J37","v":0},{"$f":"'A5-Capex'!K37","v":0},{"$f":"'A5-Capex'!L37","v":0}]
[{"$f":"'A5-Capex'!A38","v":"Vote 15 - Other"},null,0,0,0,0,0,0,0,0,0,0,0,0,{"$f":"'A5-Capex'!J38","v":0},{"$f":"'A5-Capex'!K38","v":0},{"$f":"'A5-Capex'!L38","v":0}]
["Capital single-year expenditure sub-total",2,{"$f":"SUM(C23:C37)","v":5695654},{"$f":"SUM(D23:D37)","v":5695654},5695654,5695654,5695654,5695654,5695654,5695654,5695654,5695654,5695654,5695606,68347800,92205000,96355400]
["Total Capital Expenditure",2,{"$f":"C20+C38","v":5695654},{"$f":"D20+D38","v":5695654},5695654,5695654,5695654,5695654,5695654,5695654,5695654,5695654,5695654,24312606,{"$f":"O20+O38","v":86964800},{"$f":"P20+P38","v":92705000},{"$f":"Q20+Q38","v":96877400}]
[]
[]
[{"$f":"head27a","v":"References"}]
["1. Table should be completed as either Multi-Year expenditure appropriation or Budget Year and Forward Year estimates"]
["2. Total Capital Expenditure must reconcile to Budgeted Capital Expenditure"]
[]
[null,null,null,null,"Add single year stuff"]

{"sheet":"SA29","index":51,"n_rows":39,"n_cols":17,"rows_kept":39,"cut":false,"hidden":false,"merged":[[1,2,1,13],[1,14,1,16]]}
[{"$f":"muni&\" - \"& TableA29","v":"LIM351 Blouberg - Supporting Table SA29 Budgeted monthly capital expenditure (functional classification)"}]
[{"$f":"desc","v":"Description"},{"$f":"head27","v":"Ref"},{"$f":"Head9","v":"Budget Year 2025/26"},null,null,null,null,null,null,null,null,null,null,null,"Medium Term Revenue and Expenditure Framework"]
["R thousand",null,"July","August","Sept.","October","Nov.","Dec.","January","Feb.","March","April","May","June",{"$f":"Head9","v":"Budget Year 2025/26"},{"$f":"Head10","v":"Budget Year +1 2026/27"},{"$f":"Head11","v":"Budget Year +2 2027/28"}]
[{"$f":"'A5-Capex'!A42","v":"Capital Expenditure - Functional"},1]
[{"$f":"'A5-Capex'!A43","v":"Governance and administration"},null,{"$f":"SUM(C6:C8)","v":475001},{"$f":"SUM(D6:D8)","v":475001},{"$f":"SUM(E6:E8)","v":475001},475001,475001,475001,475001,475001,475001,475001,475001,{"$f":"O5-SUM(C5:M5)","v":474989},{"$f":"'A5-Capex'!J43","v":5700000},{"$f":"'A5-Capex'!K43","v":11000000},{"$f":"'A5-Capex'!L43","v":6723000}]
[{"$f":"'A5-Capex'!A44","v":"Executive and council"},null,0,0,0,0,0,0,0,0,0,0,0,{"$f":"O6-SUM(C6:M6)","v":0},{"$f":"'A5-Capex'!J44","v":0},{"$f":"'A5-Capex'!K44","v":0},{"$f":"'A5-Capex'!L44","v":0}]
[{"$f":"'A5-Capex'!A45","v":"Finance and administration"},null,475001,475001,475001,475001,475001,475001,475001,475001,475001,475001,475001,474989,{"$f":"'A5-Capex'!J45","v":5700000},{"$f":"'A5-Capex'!K45","v":11000000},{"$f":"'A5-Capex'!L45","v":6723000}]
[{"$f":"'A5-Capex'!A46","v":"Internal audit"},null,null,null,null,null,null,null,null,null,null,null,null,0,{"$f":"'A5-Capex'!J46","v":0},{"$f":"'A5-Capex'!K46","v":0},{"$f":"'A5-Capex'!L46","v":0}]
[{"$f":"'A5-Capex'!A47","v":"Community and public safety"},null,{"$f":"SUM(C10:C14)","v":0},{"$f":"SUM(D10:D14)","v":0},0,0,0,0,0,0,0,0,0,0,{"$f":"'A5-Capex'!J47","v":0},{"$f":"'A5-Capex'!K47","v":0},{"$f":"'A5-Capex'!L47","v":0}]
[{"$f":"'A5-Capex'!A48","v":"Community and social services"},null,null,null,null,null,null,null,null,null,null,null,null,0,{"$f":"'A5-Capex'!J48","v":0},{"$f":"'A5-Capex'!K48","v":0},{"$f":"'A5-Capex'!L48","v":0}]
[{"$f":"'A5-Capex'!A49","v":"Sport and recreation"},null,null,null,null,null,null,null,null,null,null,null,null,0,{"$f":"'A5-Capex'!J49","v":0},{"$f":"'A5-Capex'!K49","v":0},{"$f":"'A5-Capex'!L49","v":0}]
[{"$f":"'A5-Capex'!A50","v":"Public safety"},null,0,0,0,0,0,0,0,0,0,0,0,0,{"$f":"'A5-Capex'!J50","v":0},{"$f":"'A5-Capex'!K50","v":0},{"$f":"'A5-Capex'!L50","v":0}]
[{"$f":"'A5-Capex'!A51","v":"Housing"},null,null,null,null,null,null,null,null,null,null,null,null,0,{"$f":"'A5-Capex'!J51","v":0},{"$f":"'A5-Capex'!K51","v":0},{"$f":"'A5-Capex'!L51","v":0}]
[{"$f":"'A5-Capex'!A52","v":"Health"},null,null,null,null,null,null,null,null,null,null,null,null,0,{"$f":"'A5-Capex'!J52","v":0},{"$f":"'A5-Capex'!K52","v":0},{"$f":"'A5-Capex'!L52","v":0}]
[{"$f":"'A5-Capex'!A53","v":"Economic and environmental services"},null,{"$f":"SUM(C16:C18)","v":5755402},{"$f":"SUM(D16:D18)","v":5755402},5755402,5755402,5755402,5755402,5755402,5755402,5755402,5755402,5755402,5755378,{"$f":"'A5-Capex'!J53","v":69064800},{"$f":"'A5-Capex'!K53","v":59105000},{"$f":"'A5-Capex'!L53","v":61761000}]
[{"$f":"'A5-Capex'!A54","v":"Planning and development"},null,4445652,4445652,4445652,4445652,4445652,4445652,4445652,4445652,4445652,4445652,4445652,4445628,{"$f":"'A5-Capex'!J54","v":53347800},{"$f":"'A5-Capex'!K54","v":59105000},{"$f":"'A5-Capex'!L54","v":61761000}]
[{"$f":"'A5-Capex'!A55","v":"Road transport"},null,1309750,1309750,1309750,1309750,1309750,1309750,1309750,1309750,1309750,1309750,1309750,1309750,{"$f":"'A5-Capex'!J55","v":15717000},{"$f":"'A5-Capex'!K55","v":0},{"$f":"'A5-Capex'!L55","v":0}]
[{"$f":"'A5-Capex'!A56","v":"Environmental protection"},null,null,null,null,null,null,null,null,null,null,null,null,0,{"$f":"'A5-Capex'!J56","v":0},{"$f":"'A5-Capex'!K56","v":0},{"$f":"'A5-Capex'!L56","v":0}]
[{"$f":"'A5-Capex'!A57","v":"Trading services"},null,{"$f":"SUM(C20:C23)","v":1016668},{"$f":"SUM(D20:D23)","v":1016668},1016668,1016668,1016668,1016668,1016668,1016668,1016668,1016668,1016668,{"$f":"O19-SUM(C19:M19)","v":1016652},{"$f":"'A5-Capex'!J57","v":12200000},{"$f":"'A5-Capex'!K57","v":22600000},{"$f":"'A5-Capex'!L57","v":28393400}]
[{"$f":"'A5-Capex'!A58","v":"Energy sources"},null,1016668,1016668,1016668,1016668,1016668,1016668,1016668,1016668,1016668,1016668,1016668,1016652,{"$f":"'A5-Capex'!J58","v":12200000},{"$f":"'A5-Capex'!K58","v":22600000},{"$f":"'A5-Capex'!L58","v":28393400}]
[{"$f":"'A5-Capex'!A59","v":"Water management"},null,null,null,null,null,null,null,null,null,null,null,null,0,{"$f":"'A5-Capex'!J59","v":0},{"$f":"'A5-Capex'!K59","v":0},{"$f":"'A5-Capex'!L59","v":0}]
[{"$f":"'A5-Capex'!A60","v":"Waste water management"},null,null,null,null,null,null,null,null,null,null,null,null,0,{"$f":"'A5-Capex'!J60","v":0},{"$f":"'A5-Capex'!K60","v":0},{"$f":"'A5-Capex'!L60","v":0}]
[{"$f":"'A5-Capex'!A61","v":"Waste management"},null,0,0,0,0,0,0,0,0,0,0,0,0,{"$f":"'A5-Capex'!J61","v":0},{"$f":"'A5-Capex'!K61","v":0},{"$f":"'A5-Capex'!L61","v":0}]
[{"$f":"'A5-Capex'!A62","v":"Other"},null,null,null,null,null,null,null,null,null,null,null,null,{"$f":"O24-SUM(C24:M24)","v":0},{"$f":"'A5-Capex'!J62","v":0},{"$f":"'A5-Capex'!K62","v":0},{"$f":"'A5-Capex'!L62","v":0}]
[{"$f":"'A5-Capex'!A63","v":"Total Capital Expenditure - Functional"},2,{"$f":"C5+C9+C15+C19+C24","v":7247071},{"$f":"D5+D9+D15+D19+D24","v":7247071},7247071,7247071,7247071,7247071,7247071,7247071,7247071,7247071,7247071,{"$f":"N5+N9+N15+N19+N24","v":7247019},86964800,92705000,96877400]
[]
["Funded by:"]
["National Government",null,5630402,5630402,5630402,5630402,5630402,5630402,5630402,5630402,5630402,5630402,5630402,{"$f":"O28-SUM(C28:M28)","v":5630378},{"$f":"'A5-Capex'!J66","v":67564800},{"$f":"'A5-Capex'!K66","v":75105000},{"$f":"'A5-Capex'!L66","v":78484000}]
["Provincial Government",null,null,null,null,null,null,null,null,null,null,null,null,{"$f":"O29-SUM(C29:M29)","v":0},{"$f":"'A5-Capex'!J67","v":0},{"$f":"'A5-Capex'!K67","v":0},{"$f":"'A5-Capex'!L67","v":0}]
["District Municipality",null,null,null,null,null,null,null,null,null,null,null,null,{"$f":"O30-SUM(C30:M30)","v":0},{"$f":"'A5-Capex'!J68","v":0},{"$f":"'A5-Capex'!K68","v":0},{"$f":"'A5-Capex'!L68","v":0}]
[{"$f":"'A5-Capex'!A69","v":"Transfers and subsidies - capital (monetary allocations) (Nat / Prov Departm Agencies, Households, Non-profit Institutions, Private Enterprises, Public Corporatons, Higher Educ Institutions)"},null,0,0,0,0,0,0,0,0,0,0,0,{"$f":"O31-SUM(C31:M31)","v":0},{"$f":"'A5-Capex'!J69","v":0},{"$f":"'A5-Capex'!K69","v":0},{"$f":"'A5-Capex'!L69","v":0}]
["Transfers recognised - capital",null,{"$f":"SUM(C28:C31)","v":5630402},{"$f":"SUM(D28:D31)","v":5630402},5630402,5630402,5630402,5630402,5630402,5630402,5630402,5630402,5630402,{"$f":"SUM(N28:N31)","v":5630378},67564800,75105000,78484000]
[]
["Borrowing",null,0,0,0,0,0,0,0,0,0,0,0,0,{"$f":"'A5-Capex'!J72","v":0},{"$f":"'A5-Capex'!K72","v":0},{"$f":"'A5-Capex'!L72","v":0}]
["Internally generated funds",null,1616669,1616669,1616669,1616669,1616669,1616669,1616669,1616669,1616669,1616669,1616669,1616641,{"$f":"'A5-Capex'!J73","v":19400000},{"$f":"'A5-Capex'!K73","v":17600000},{"$f":"'A5-Capex'!L73","v":18393400}]
["Total Capital Funding",null,{"$f":"+C32+C34+C35","v":7247071},{"$f":"+D32+D34+D35","v":7247071},7247071,7247071,7247071,7247071,7247071,7247071,7247071,7247071,7247071,7247019,86964800,92705000,96877400]
[{"$f":"head27a","v":"References"}]
["1. Table should be completed as either Multi-Year expenditure appropriation or Budget Year and Forward Year estimates"]
[{"$f":"'SA28'!A44","v":"2. Total Capital Expenditure must reconcile to Budgeted Capital Expenditure"}]

{"sheet":"SA30","index":52,"n_rows":63,"n_cols":19,"rows_kept":63,"cut":false,"hidden":false,"merged":[[1,13,1,15],[1,1,1,12],[56,0,56,15]]}
[{"$f":"muni&\" - \"& TableA30","v":"LIM351 Blouberg - Supporting Table SA30 Budgeted monthly cash flow"}]
["MONTHLY CASH FLOWS",{"$f":"Head9","v":"Budget Year 2025/26"},null,null,null,null,null,null,null,null,null,null,null,"Medium Term Revenue and Expenditure Framework"]
["R thousand","July","August","Sept.","October","November","December","January","February","March","April","May","June",{"$f":"Head9","v":"Budget Year 2025/26"},{"$f":"Head10","v":"Budget Year +1 2026/27"},{"$f":"Head11","v":"Budget Year +2 2027/28"}]
["Cash Receipts By Source",null,null,null,null,null,null,null,null,null,null,null,null,1]
["Property rates",0,0,0,0,0,0,0,0,0,0,0,{"$f":"N5-SUM(B5:L5)","v":29030103},29030103,30336458,31497603,100001,100001,100001]
["Service charges - electricity revenue",0,0,0,0,0,0,0,0,0,0,0,60590487,60590487,63597582,61897943]
["Service charges - water revenue",0,0,0,0,0,0,0,0,0,0,0,0,0,0,0]
["Service charges - sanitation revenue",0,0,0,0,0,0,0,0,0,0,0,0,0,0,0]
["Service charges - refuse revenue",0,0,0,0,0,0,0,0,0,0,0,2875000,2875000,2998125,1140579]
[" "]
["Rental of facilities and equipment",null,null,null,null,null,null,null,null,null,null,null,0]
["Interest earned - external investments",0,0,0,0,0,0,0,0,0,0,0,11550395,11550395,12070162,12371917]
["Interest earned - outstanding debtors",0,0,0,0,0,0,0,0,0,0,0,0,0,0,0]
["Dividends received",null,null,null,null,null,null,null,null,null,null,null,0]
["Fines, penalties and forfeits",0,0,0,0,0,0,0,0,0,0,0,-358410,-358410,-374539,-383902]
["Licences and permits",0,0,0,0,0,0,0,0,0,0,0,5475780,5475780,5722192,5865246]
["Agency services",0,0,0,0,0,0,0,0,0,0,0,150000,150000,156750,160669]
["Transfers and Subsidies - Operational",0,0,0,0,0,0,0,0,0,0,0,249480000,249480000,246404000,257523000]
["Other revenue",0,0,0,0,0,0,0,0,0,0,0,10528201,10528201,11001968,11277029]
["Cash Receipts by Source",{"$f":"SUM(B5:B9)+SUM(B11:B19)","v":0},{"$f":"SUM(C5:C9)+SUM(C11:C19)","v":0},0,0,0,0,0,0,0,0,0,369321556,{"$f":"SUM(N5:N9)+SUM(N11:N19)","v":369321556},371912698,381350084]
[]
["Other Cash Flows by Source"]
["Transfers and subsidies - capital (monetary allocations) (National / Provincial and District)",0,0,0,0,0,0,0,0,0,0,0,{"$f":"N23-SUM(B23:L23)","v":70241000},70241000,75105000,78484000]
["Transfers and subsidies - capital (monetary allocations) (Nat / Prov Departm Agencies, Households, Non-profit Institutions, Private Enterprises, Public Corporatons, Higher Educ Institutions)",0,0,0,0,0,0,0,0,0,0,0,{"$f":"N24-SUM(B24:L24)","v":0},0,0,0]
["Proceeds on Disposal of Fixed and Intangible Assets",0,0,0,0,0,0,0,0,0,0,0,2000000,2000000,2090000,2142250]
["Short term loans",0,0,0,0,0,0,0,0,0,0,0,0,0,0,0]
["Borrowing long term/refinancing",null,null,null,null,null,null,null,null,null,null,null,0]
["Increase (decrease) in consumer deposits",null,null,null,null,null,null,null,null,null,null,null,0]
["VAT Control (receipts)",null,null,null,null,null,null,null,null,null,null,null,0]
["Decrease (increase) in non-current receivables",null,null,null,null,null,null,null,null,null,null,null,0]
["Decrease (increase) in non-current investments",0,0,0,0,0,0,0,0,0,0,0,0,0,0,0]
["Total Cash Receipts by Source",{"$f":"SUM(B20:B31)","v":0},{"$f":"SUM(C20:C31)","v":0},0,0,0,0,0,0,0,0,0,441562556,441562556,449107698,461976334]
[]
["Cash Payments by Type"]
["Employee related costs",0,0,0,0,0,0,0,0,0,0,0,{"$f":"(N35-SUM(B35:L35))","v":151448377},151448377,155128555,159006765]
["Remuneration of councillors",0,0,0,0,0,0,0,0,0,0,0,{"$f":"(N36-SUM(B36:L36))","v":22965563},22965563,23999013,24598988]
["Interest",null,null,null,null,null,null,null,null,null,null,null,{"$f":"(N37-SUM(B37:L37))","v":0}]
["Bulk purchases - electricity ",0,0,0,0,0,0,0,0,0,0,0,{"$f":"(N38-SUM(B38:L38))","v":67275360},67275360,70302752,72060320]
["Acquisitions - water & other inventory",0,0,0,0,0,0,0,0,0,0,0,{"$f":"(N39-SUM(B39:L39))","v":0},0,0,2856538]
[]
["Contracted services",0,0,0,0,0,0,0,0,0,0,0,{"$f":"(N41-SUM(B41:L41))","v":42645339},42645339,34201133,35341363]
["Transfers and subsidies - other municipalities",null,null,null,null,null,null,null,null,null,null,null,{"$f":"(N42-SUM(B42:L42))","v":0}]
["Transfers and subsidies - other",null,null,null,null,null,null,null,null,null,null,null,{"$f":"(N43-SUM(B43:L43))","v":0}]
["Other expenditure",0,0,0,0,0,0,0,0,0,0,0,{"$f":"(N44-SUM(B44:L44))","v":61031417},61031417,63545585,65134243]
["Cash Payments by Type",{"$f":"SUM(B35:B44)","v":0},{"$f":"SUM(C35:C44)","v":0},0,0,0,0,0,0,0,0,0,{"$f":"(N45-SUM(B45:L45))","v":345366056},{"$f":"SUM(N35:N44)","v":345366056},347177038,{"$f":"SUM(P35:P44)","v":358998217}]
[]
["Other Cash Flows/Payments by Type"]
["Capital assets",0,0,0,0,0,0,0,0,0,0,0,{"$f":"N48-SUM(B48:L48)","v":86964800},86964800,92705000,96877400]
["Repayment of borrowing",null,null,null,null,null,null,null,null,null,null,null,{"$f":"N49-SUM(B49:L49)","v":0}]
["Other Cash Flows/Payments",0,0,0,0,0,0,0,0,0,0,0,{"$f":"N50-SUM(B50:L50)","v":0},0,0,0]
["Total Cash Payments by Type",{"$f":"SUM(B45:B50)","v":0},{"$f":"SUM(C45:C50)","v":0},0,0,0,0,0,0,0,0,0,432330856,432330856,439882038,455875617,null,"Check"]
[]
["NET INCREASE/(DECREASE) IN CASH HELD",{"$f":"B32-B51","v":0},{"$f":"C32-C51","v":0},0,0,0,0,0,0,0,0,0,9231700,9231700,9225660,6100717]
["Cash/cash equivalents at the month/year begin:",186024594,{"$f":"B55","v":186024594},{"$f":"C55","v":186024594},186024594,186024594,186024594,186024594,186024594,186024594,186024594,186024594,186024594,{"$f":"B54","v":186024594},{"$f":"N55","v":195256294},{"$f":"O55","v":204481954}]
["Cash/cash equivalents at the month/year end:",{"$f":"B54+B53","v":186024594},{"$f":"C54+C53","v":186024594},{"$f":"D54+D53","v":186024594},186024594,186024594,186024594,186024594,186024594,186024594,186024594,186024594,195256294,{"$f":"N54+N53","v":195256294},204481954,210582671]
[{"$f":"head27a","v":"References"}]
["1. Note that this section of Table SA 30 is deliberately not linked to Table A4 because timing differences between the invoicing of clients and receiving the cash means that the cashflow will differ from budgeted revenue, and similarly for budgeted expenditure. However for the MTREF it is now directly linked to A7."]
["2. Bulk purchases - Electricity & Waste Water - use detail information from Table SA1"]
["3. Acquisition Inventory - Water & other inventory - use detail information from Table SA3"]
[]
[]
[null,null,null,null,{"$f":"E45+E61","v":0},0,0,0,0,0,0,0]
[null,null,null,null,{"$f":"E53-E61","v":0},0,0,0,0,0,0,0]

{"sheet":"SA31","index":53,"n_rows":41,"n_cols":11,"rows_kept":41,"cut":false,"hidden":false,"merged":[[1,5,1,7],[1,8,1,10],[1,1,2,1]]}
[{"$f":"muni&\" - \"& TableA31","v":"LIM351 Blouberg - NOT REQUIRED - municipality does not have entities"}]
[{"$f":"desc","v":"Description"},{"$f":"head27","v":"Ref"},{"$f":"head1b","v":"2021/22"},{"$f":"head1A","v":"2022/23"},{"$f":"Head1","v":"2023/24"},{"$f":"Head2","v":"Current Year 2024/25"},null,null,{"$f":"Head3","v":"2025/26 Medium Term Revenue & Expenditure Framework"}]
["R million",null,{"$f":"Head5","v":"Audited Outcome"},{"$f":"Head5","v":"Audited Outcome"},{"$f":"Head5","v":"Audited Outcome"},{"$f":"Head6","v":"Original Budget"},{"$f":"Head7","v":"Adjusted Budget"},{"$f":"Head8","v":"Full Year Forecast"},{"$f":"Head9","v":"Budget Year 2025/26"},{"$f":"Head10","v":"Budget Year +1 2026/27"},{"$f":"Head11","v":"Budget Year +2 2027/28"}]
["Financial Performance"]
["Property rates"]
["Service charges"]
["Investment revenue"]
["Transfer and subsidies - Operational"]
["Other own revenue"]
["Transfers and subsidies - capital (monetary allocations) (National / Provincial Departmental Agencies, Households, Non-profit Institutions, Private Enterprises, Public Corporatons, Higher Educational Institutions) & Transfers and subsidies - capital (in-kind - all) "]
[{"$f":"'A4-FinPerf RE'!A33","v":"Total Revenue (excluding capital transfers and contributions)"},null,{"$f":"SUM(C5:C10)","v":0},{"$f":"SUM(D5:D10)","v":0},0,0,0,0,0,{"$f":"SUM(J5:J10)","v":0},{"$f":"SUM(K5:K10)","v":0}]
["Employee costs"]
["Remuneration of Board Members"]
["Depreciation and amortisation"]
["Interest"]
["Inventory consumed and bulk purchases"]
["Transfers and subsidies"]
["Other expenditure"]
[{"$f":"'A4-FinPerf RE'!A48","v":"Total Expenditure"},null,{"$f":"SUM(C12:C18)","v":0},{"$f":"SUM(D12:D18)","v":0},0,0,0,0,0,0,0]
[{"$f":"'A4-FinPerf RE'!A49","v":"Surplus/(Deficit)"},null,{"$f":"+C11-C19","v":0},{"$f":"+D11-D19","v":0},0,0,0,0,0,0,0]
[]
["Capital expenditure & funds sources"]
["Capital expenditure"]
["Transfers recognised - capital"]
[]
[{"$f":"'A5-Capex'!A72","v":"Borrowing"}]
[{"$f":"'A5-Capex'!A73","v":"Internally generated funds"}]
["Total sources",null,{"$f":"SUM(C24:C27)","v":0},{"$f":"SUM(D24:D27)","v":0},0,0,0,0,0,0,0]
[]
["Financial position"]
[{"$f":"'A6-FinPos'!A13","v":"Total current assets"}]
[{"$f":"'A6-FinPos'!A25","v":"Total non current assets"}]
[{"$f":"'A6-FinPos'!A37","v":"Total current liabilities"}]
[{"$f":"'A6-FinPos'!A43","v":"Total non current liabilities"}]
["Community wealth/Equity"]
[]
["Cash flows"]
["Net cash from (used) operating"]
["Net cash from (used) investing"]
["Net cash from (used) financing"]
[{"$f":"LEFT('A7-CFlow'!A40,37)","v":"Cash/cash equivalents at the year end"}]

{"sheet":"SA32","index":54,"n_rows":8,"n_cols":6,"rows_kept":8,"cut":false,"hidden":false,"merged":[[1,3,2,3],[1,4,2,4],[1,1,2,1]]}
[{"$f":"muni&\" - \"&TableA32","v":"LIM351 Blouberg - Supporting Table SA32 List of external mechanisms"}]
["External mechanism","Yrs/ Mths","Period of agreement 1.","Service provided","Expiry date of service delivery agreement or contract","Monetary value of agreement 2."]
["Name of organisation",null,"Number",null,null,"R thousand"]
[]
[]
[{"$f":"head27a","v":"References"}]
["1. Total agreement period from commencement until end"]
["2. Annual value"]

{"sheet":"SA33","index":55,"n_rows":48,"n_cols":15,"rows_kept":48,"cut":false,"hidden":false,"merged":[[1,4,1,6],[47,0,47,13]]}
[{"$f":"muni&\" - \"& TableA33","v":"LIM351 Blouberg - Supporting Table SA33 Contracts having future budgetary implications"}]
[{"$f":"desc","v":"Description"},{"$f":"head27","v":"Ref"},"Preceding Years",{"$f":"Head2","v":"Current Year 2024/25"},{"$f":"Head3","v":"2025/26 Medium Term Revenue & Expenditure Framework"},null,null,{"$f":"Head12","v":"Forecast 2028/29"},{"$f":"Head13","v":"Forecast 2029/30"},{"$f":"Head14","v":"Forecast 2030/31"},{"$f":"Head15","v":"Forecast 2031/32"},{"$f":"Head16","v":"Forecast 2032/33"},{"$f":"Head17","v":"Forecast 2033/34"},{"$f":"Head18","v":"Forecast 2034/35"},"Total Contract Value"]
["R thousand","1,3","Total",{"$f":"Head6","v":"Original Budget"},{"$f":"Head9","v":"Budget Year 2025/26"},{"$f":"Head10","v":"Budget Year +1 2026/27"},{"$f":"Head11","v":"Budget Year +2 2027/28"},"Estimate","Estimate","Estimate","Estimate","Estimate","Estimate","Estimate","Estimate"]
["Parent Municipality:"]
["Revenue Obligation By Contract",2]
[" ",null,null,null,null,null,null,null,null,null,null,null,null,null,{"$f":"SUM(C6:N6)","v":0}]
[" ",null,null,null,null,null,null,null,null,null,null,null,null,null,{"$f":"SUM(C7:N7)","v":0}]
[" ",null,null,null,null,null,null,null,null,null,null,null,null,null,{"$f":"SUM(C8:N8)","v":0}]
["Total Operating Revenue Implication",null,{"$f":"SUM(C6:C8)","v":0},{"$f":"SUM(D6:D8)","v":0},0,0,0,0,0,0,0,0,0,0,{"$f":"SUM(C9:N9)","v":0}]
[]
["Expenditure Obligation By Contract",2]
[" ",null,null,null,null,null,null,null,null,null,null,null,null,null,{"$f":"SUM(C12:N12)","v":0}]
[" ",null,null,null,null,null,null,null,null,null,null,null,null,null,{"$f":"SUM(C13:N13)","v":0}]
[" ",null,null,null,null,null,null,null,null,null,null,null,null,null,{"$f":"SUM(C14:N14)","v":0}]
["Total Operating Expenditure Implication",null,{"$f":"SUM(C12:C14)","v":0},{"$f":"SUM(D12:D14)","v":0},0,0,0,0,0,0,0,0,0,0,{"$f":"SUM(C15:N15)","v":0}]
[]
["Capital Expenditure Obligation By Contract",2]
[" ",null,null,null,null,null,null,null,null,null,null,null,null,null,{"$f":"SUM(C18:N18)","v":0}]
[" ",null,null,null,null,null,null,null,null,null,null,null,null,null,{"$f":"SUM(C19:N19)","v":0}]
[" ",null,null,null,null,null,null,null,null,null,null,null,null,null,{"$f":"SUM(C20:N20)","v":0}]
["Total Capital Expenditure Implication",null,{"$f":"SUM(C18:C20)","v":0},{"$f":"SUM(D18:D20)","v":0},0,0,0,0,0,0,0,0,0,0,{"$f":"SUM(C21:N21)","v":0}]
[]
["Total Parent Expenditure Implication",null,{"$f":"C15+C21","v":0},{"$f":"D15+D21","v":0},0,0,0,0,0,0,0,0,0,0,0]
[]
["Entities:"]
["Revenue Obligation By Contract",2]
[" ",null,null,null,null,null,null,null,null,null,null,null,null,null,{"$f":"SUM(C27:N27)","v":0}]
[" ",null,null,null,null,null,null,null,null,null,null,null,null,null,{"$f":"SUM(C28:N28)","v":0}]
[" ",null,null,null,null,null,null,null,null,null,null,null,null,null,{"$f":"SUM(C29:N29)","v":0}]
["Total Operating Revenue Implication",null,{"$f":"SUM(C27:C29)","v":0},{"$f":"SUM(D27:D29)","v":0},0,0,0,0,0,0,0,0,0,0,{"$f":"SUM(C30:N30)","v":0}]
[]
["Expenditure Obligation By Contract",2]
[" ",null,null,null,null,null,null,null,null,null,null,null,null,null,{"$f":"SUM(C33:N33)","v":0}]
[" ",null,null,null,null,null,null,null,null,null,null,null,null,null,{"$f":"SUM(C34:N34)","v":0}]
[" ",null,null,null,null,null,null,null,null,null,null,null,null,null,{"$f":"SUM(C35:N35)","v":0}]
["Total Operating Expenditure Implication",null,{"$f":"SUM(C33:C35)","v":0},{"$f":"SUM(D33:D35)","v":0},0,0,0,0,0,0,0,0,0,0,{"$f":"SUM(C36:N36)","v":0}]
[]
["Capital Expenditure Obligation By Contract",2]
[" ",null,null,null,null,null,null,null,null,null,null,null,null,null,{"$f":"SUM(C39:N39)","v":0}]
[" ",null,null,null,null,null,null,null,null,null,null,null,null,null,{"$f":"SUM(C40:N40)","v":0}]
[" ",null,null,null,null,null,null,null,null,null,null,null,null,null,{"$f":"SUM(C41:N41)","v":0}]
["Total Capital Expenditure Implication",null,{"$f":"SUM(C39:C41)","v":0},{"$f":"SUM(D39:D41)","v":0},0,0,0,0,0,0,0,0,0,0,{"$f":"SUM(C42:N42)","v":0}]
[]
["Total Entity Expenditure Implication",null,{"$f":"C36+C42","v":0},{"$f":"D36+D42","v":0},0,0,0,0,0,0,0,0,0,0,0]
[{"$f":"head27a","v":"References"}]
["1. Total implication for all preceding years to be summed and total stated in 'Preceding Years' column"]
["2. List all contracts with future financial obligations beyond the three years covered by the MTREF (MFMA s33)"]
["3. For municipalities with approved total revenue not exceeding R250 m - all contracts with an annual cost greater than R500 000. For municipalities with approved total revenue greater than R250 m - all contracts with an annual cost greater than R1million. For municipalities with approved total revenue greater than R500 m - all contracts with an annual cost greater than R5 million"]

{"sheet":"SA34a","index":56,"n_rows":178,"n_cols":11,"rows_kept":178,"cut":false,"hidden":false,"merged":[[1,5,1,7],[1,8,1,10]]}
[{"$f":"muni&\" - \"&TableA34a","v":"LIM351 Blouberg - Supporting Table SA34a Capital expenditure on new assets by asset class"}]
[{"$f":"desc","v":"Description"},{"$f":"head27","v":"Ref"},{"$f":"head1b","v":"2021/22"},{"$f":"head1A","v":"2022/23"},{"$f":"Head1","v":"2023/24"},{"$f":"Head2","v":"Current Year 2024/25"},null,null,{"$f":"Head3","v":"2025/26 Medium Term Revenue & Expenditure Framework"}]
["R thousand",1,{"$f":"Head5","v":"Audited Outcome"},{"$f":"Head5","v":"Audited Outcome"},{"$f":"Head5","v":"Audited Outcome"},{"$f":"Head6","v":"Original Budget"},{"$f":"Head7","v":"Adjusted Budget"},{"$f":"Head8","v":"Full Year Forecast"},{"$f":"Head9","v":"Budget Year 2025/26"},{"$f":"Head10","v":"Budget Year +1 2026/27"},{"$f":"Head11","v":"Budget Year +2 2027/28"}]
["Capital expenditure on new assets by Asset Class/Sub-class"]
[]
["Infrastructure",null,{"$f":"C7+C12+C16+C26+C37+C44+C52+C62+C68","v":483085.55},{"$f":"D7+D12+D16+D26+D37+D44+D52+D62+D68","v":217091},81321474.519999996,41849675,126663496,126663496,59610396,75105000,78484000]
["Roads Infrastructure",null,{"$f":"SUM(C8:C11)","v":0},0,61048681.079999998,39776144,108943694,108943694,59610396,59105000,61761000]
["Roads",null,0,0,61048681.079999998,39776144,108943694,108943694,59610396,59105000,61761000]
["Road Structures",null,0,0,0,0,0,0,0,0,0]
["Road Furniture"]
["Capital Spares",null,0,0,0,0,0,0,0,0,0]
["Storm water Infrastructure",null,{"$f":"SUM(C13:C15)","v":0},{"$f":"SUM(D13:D15)","v":0},0,0,0,0,0,0,0]
["Drainage Collection"]
["Storm water Conveyance",null,0,0,0,0,0,0,0,0,0]
["Attenuation"]
["Electrical Infrastructure",null,{"$f":"SUM(C17:C25)","v":483085.55},217091,20272793.439999998,2073531,17719802,17719802,0,16000000,16723000]
["Power Plants"]
["HV Substations",null,0,0,15274796.1,0,15646271,15646271,0,16000000,16723000]
["HV Switching Station"]
["HV Transmission Conductors"]
["MV Substations",null,0,0,0,0,0,0,0,0,0]
["MV Switching Stations"]
["MV Networks",null,0,0,4997997.34,0,0,0,0,0,0]
["LV Networks",null,483085.55,217091,0,2073531,2073531,2073531,0,0,0]
["Capital Spares",null,0,0,0,0,0,0,0,0,0]
["Water Supply Infrastructure",null,{"$f":"SUM(C27:C36)","v":0},{"$f":"SUM(D27:D36)","v":0},0,0,0,0,0,0,0]
["Dams and Weirs"]
["Boreholes"]
["Reservoirs"]
["Pump Stations"]
["Water Treatment Works"]
["Bulk Mains"]
["Distribution"]
["Distribution Points"]
["PRV Stations"]
["Capital Spares"]
["Sanitation Infrastructure",null,{"$f":"SUM(C38:C43)","v":0},{"$f":"SUM(D38:D43)","v":0},0,0,0,0,0,0,0]
["Pump Station"]
["Reticulation"]
["Waste Water Treatment Works"]
["Outfall Sewers"]
["Toilet Facilities"]
["Capital Spares"]
["Solid Waste Infrastructure",null,{"$f":"SUM(C45:C51)","v":0},{"$f":"SUM(D45:D51)","v":0},0,0,0,0,0,0,0]
["Landfill Sites"]
["Waste Transfer Stations"]
["Waste Processing Facilities"]
["Waste Drop-off Points"]
["Waste Separation Facilities"]
["Electricity Generation Facilities"]
["Capital Spares"]
["Rail Infrastructure",null,{"$f":"SUM(C53:C61)","v":0},0,0,0,0,0,0,0,0]
["Rail Lines"]
["Rail Structures"]
["Rail Furniture"]
["Drainage Collection"]
["Storm water Conveyance"]
["Attenuation"]
["MV Substations"]
["LV Networks"]
["Capital Spares"]
["Coastal Infrastructure",null,{"$f":"SUM(C63:C67)","v":0},{"$f":"SUM(D63:D67)","v":0},0,0,0,0,0,0,0]
["Sand Pumps"]
["Piers"]
["Revetments"]
["Promenades"]
["Capital Spares"]
["Information and Communication Infrastructure",null,{"$f":"SUM(C69:C72)","v":0},{"$f":"SUM(D69:D72)","v":0},0,0,0,0,0,0,0]
["Data Centres"]
["Core Layers"]
["Distribution Layers"]
["Capital Spares"]
[]
["Community Assets",null,{"$f":"C75+C98","v":0},{"$f":"D75+D98","v":0},2162953.0699999998,0,3619079,3619079,0,0,0]
["Community Facilities",null,{"$f":"SUM(C76:C97)","v":0},{"$f":"SUM(D76:D97)","v":0},2162953.0699999998,0,3619079,3619079,0,0,0]
["Halls",null,0,0,2162953.0699999998,0,3619079,3619079,0,0,0]
["Centres",null,0,0,0,0,0,0,0,0,0]
["Crèches",null,0,0,0,0,0,0,0,0,0]
["Clinics/Care Centres"]
["Fire/Ambulance Stations"]
["Testing Stations"]
["Museums"]
["Galleries"]
["Theatres"]
["Libraries"]
["Cemeteries/Crematoria",null,0,0,0,0,0,0,0,0,0]
["Police"]
["Parks",null,0,0,0,0,0,0,0,0,0]
["Public Open Space"]
["Nature Reserves"]
["Public Ablution Facilities"]
["Markets"]
["Stalls"]
["Abattoirs"]
["Airports"]
["Taxi Ranks/Bus Terminals"]
["Capital Spares",null,0,0,0,0,0,0,0,0,0]
["Sport and Recreation Facilities",null,{"$f":"SUM(C99:C101)","v":0},{"$f":"SUM(D99:D101)","v":0},0,0,0,0,0,0,0]
["Indoor Facilities"]
["Outdoor Facilities",null,0,0,0,0,0,0,0,0,0]
["Capital Spares"]
[]
["Heritage assets",null,{"$f":"SUM(C104:C108)","v":0},{"$f":"SUM(D104:D108)","v":0},0,0,0,0,0,0,0]
["Monuments"]
["Historic Buildings"]
["Works of Art"]
["Conservation Areas",null,0,0,0,0,0,0,0,0,0]
["Other Heritage"]
[]
["Investment properties",null,{"$f":"+C111+C114","v":0},{"$f":"+D111+D114","v":0},0,0,0,0,0,0,0]
["Revenue Generating",null,{"$f":"SUM(C112:C113)","v":0},0,0,0,0,0,0,0,0]
["Improved Property"]
["Unimproved Property"]
["Non-revenue Generating",null,{"$f":"SUM(C115:C116)","v":0},{"$f":"SUM(D115:D116)","v":0},0,0,0,0,0,0,0]
["Improved Property"]
["Unimproved Property"]
[]
["Other assets",null,{"$f":"+C119+C131","v":-0.35},{"$f":"+D119+D131","v":0},0,0,0,0,0,0,0]
["Operational Buildings",null,{"$f":"SUM(C120:C130)","v":-0.35},{"$f":"SUM(D120:D130)","v":0},0,0,0,0,0,0,0]
["Municipal Offices",null,-0.35,0,0,0,0,0,0,0,0]
["Pay/Enquiry Points"]
["Building Plan Offices"]
["Workshops"]
["Yards",null,0,0,0,0,0,0,0,0,0]
["Stores"]
["Laboratories"]
["Training Centres"]
["Manufacturing Plant"]
["Depots"]
["Capital Spares"]
["Housing",null,{"$f":"SUM(C132:C134)","v":0},{"$f":"SUM(D132:D134)","v":0},0,0,0,0,0,0,0]
["Staff Housing"]
["Social Housing"]
["Capital Spares"]
[]
["Biological or Cultivated Assets",null,{"$f":"SUM(C137:C137)","v":0},0,0,0,0,0,0,0,0]
["Biological or Cultivated Assets"]
[]
["Intangible Assets",null,{"$f":"+C140+C141","v":0},{"$f":"+D140+D141","v":0},0,600000,600000,600000,0,0,0]
["Servitudes"]
["Licences and Rights",null,{"$f":"SUM(C142:C147)","v":0},{"$f":"SUM(D142:D147)","v":0},0,600000,600000,600000,0,0,0]
["Water Rights"]
["Effluent Licenses"]
["Solid Waste Licenses"]
["Computer Software and Applications",null,0,0,0,600000,600000,600000,0,0,0]
["Load Settlement Software Applications"]
["Unspecified"]
[]
["Computer Equipment",null,{"$f":"SUM(C150:C150)","v":1381760.19},108585,209230.94,700000,730000,730000,100000,2000000,0]
["Computer Equipment",null,1381760.19,108585,209230.94,700000,730000,730000,100000,2000000,0]
[]
["Furniture and Office Equipment",null,{"$f":"SUM(C153:C153)","v":63581.68},0,0,1088451,788451,788451,550000,4000000,6723000]
["Furniture and Office Equipment",null,63581.68,0,0,1088451,788451,788451,550000,4000000,6723000]
[]
["Machinery and Equipment",null,{"$f":"SUM(C156:C156)","v":298895},198000,47098.11,150000,5350000,5350000,2900000,500000,522000]
["Machinery and Equipment",null,298895,198000,47098.11,150000,5350000,5350000,2900000,500000,522000]
[]
["Transport Assets",null,{"$f":"SUM(C159:C159)","v":5753378},0,0,13704405,770000,770000,14504404,5000000,0]
["Transport Assets",null,5753378,0,0,13704405,770000,770000,14504404,5000000,0]
[]
["Land",null,{"$f":"SUM(C162:C162)","v":0},0,0,0,0,0,0,0,0]
["Land",null,0,0,0,0,0,0,0,0,0]
[]
["Zoo's, Marine and Non-biological Animals",null,{"$f":"SUM(C165:C165)","v":0},{"$f":"SUM(D165:D165)","v":0},0,0,0,0,0,0,0]
["Zoo's, Marine and Non-biological Animals"]
[]
["Living resources"," ",{"$f":"+C168+C171","v":0},{"$f":"+D168+D171","v":0},0,0,0,0,0,0,0]
["Mature"," ",{"$f":"SUM(C169:C170)","v":0},{"$f":"SUM(D169:D170)","v":0},0,0,0,0,0,0,0]
["Policing and Protection"," "]
["Zoological plants and animals"," "]
["Immature"," ",{"$f":"SUM(C172:C173)","v":0},{"$f":"SUM(D172:D173)","v":0},0,0,0,0,0,0,0]
["Policing and Protection"," "]
["Zoological plants and animals"," "]
[""]
["Total Capital Expenditure on new assets ",1,{"$f":"C6+C74+C103+C110+C118+C136+C139+C149+C152+C155+C158+C161+C164+C167","v":7980700.0700000003},{"$f":"D6+D74+D103+D110+D118+D136+D139+D149+D152+D155+D158+D161+D164+D167","v":523676},83740756.639999986,58092531,138521026,138521026,77664800,86605000,85729000]
[]
[{"$f":"head27a","v":"References"}]
["1. Total Capital Expenditure on new assets (SA34a) plus Total Capital Expenditure on renewal of existing assets (SA34b) plus Total Capital Expenditure  on upgrading of existing assets (SA34e) must reconcile to total capital expenditure in Budgeted Capital Expenditure"]

{"sheet":"SA34b","index":57,"n_rows":180,"n_cols":11,"rows_kept":180,"cut":false,"hidden":false,"merged":[[1,5,1,7],[1,8,1,10]]}
[{"$f":"muni&\" - \"&TableA34b","v":"LIM351 Blouberg - Supporting Table SA34b Capital expenditure on the renewal of existing assets by asset class"}]
[{"$f":"desc","v":"Description"},{"$f":"head27","v":"Ref"},{"$f":"head1b","v":"2021/22"},{"$f":"head1A","v":"2022/23"},{"$f":"Head1","v":"2023/24"},{"$f":"Head2","v":"Current Year 2024/25"},null,null,{"$f":"Head3","v":"2025/26 Medium Term Revenue & Expenditure Framework"}]
["R thousand",1,{"$f":"Head5","v":"Audited Outcome"},{"$f":"Head5","v":"Audited Outcome"},{"$f":"Head5","v":"Audited Outcome"},{"$f":"Head6","v":"Original Budget"},{"$f":"Head7","v":"Adjusted Budget"},{"$f":"Head8","v":"Full Year Forecast"},{"$f":"Head9","v":"Budget Year 2025/26"},{"$f":"Head10","v":"Budget Year +1 2026/27"},{"$f":"Head11","v":"Budget Year +2 2027/28"}]
["Capital expenditure on renewal of existing assets by Asset Class/Sub-class"]
[]
["Infrastructure",null,{"$f":"C7+C12+C16+C26+C37+C44+C52+C62+C68","v":0},{"$f":"D7+D12+D16+D26+D37+D44+D52+D62+D68","v":0},837890.78,16616000,6988144,6988144,3000000,1100000,1148400]
["Roads Infrastructure",null,{"$f":"SUM(C8:C11)","v":0},0,0,15716000,796014,796014,0,0,0]
["Roads",null,0,0,0,15716000,796014,796014,0,0,0]
["Road Structures"]
["Road Furniture"]
["Capital Spares"]
["Storm water Infrastructure",null,{"$f":"SUM(C13:C15)","v":0},{"$f":"SUM(D13:D15)","v":0},0,0,0,0,0,0,0]
["Drainage Collection"]
["Storm water Conveyance"]
["Attenuation"]
["Electrical Infrastructure",null,{"$f":"SUM(C17:C25)","v":0},0,837890.78,900000,6192130,6192130,3000000,1100000,1148400]
["Power Plants"]
["HV Substations"]
["HV Switching Station"]
["HV Transmission Conductors",null,0,0,0,300000,0,0,0,0,0]
["MV Substations"]
["MV Switching Stations"]
["MV Networks"]
["LV Networks",null,0,0,0,0,692130,692130,0,0,0]
["Capital Spares",null,0,0,837890.78,600000,5500000,5500000,3000000,1100000,1148400]
["Water Supply Infrastructure",null,{"$f":"SUM(C27:C36)","v":0},{"$f":"SUM(D27:D36)","v":0},0,0,0,0,0,0,0]
["Dams and Weirs"]
["Boreholes",null,0,0,0,0,0,0,0,0,0]
["Reservoirs"]
["Pump Stations"]
["Water Treatment Works"]
["Bulk Mains"]
["Distribution"]
["Distribution Points"]
["PRV Stations"]
["Capital Spares"]
["Sanitation Infrastructure",null,{"$f":"SUM(C38:C43)","v":0},{"$f":"SUM(D38:D43)","v":0},0,0,0,0,0,0,0]
["Pump Station"]
["Reticulation"]
["Waste Water Treatment Works"]
["Outfall Sewers"]
["Toilet Facilities"]
["Capital Spares"]
["Solid Waste Infrastructure",null,{"$f":"SUM(C45:C51)","v":0},{"$f":"SUM(D45:D51)","v":0},0,0,0,0,0,0,0]
["Landfill Sites",null,0,0,0,0,0,0,0,0,0]
["Waste Transfer Stations"]
["Waste Processing Facilities"]
["Waste Drop-off Points"]
["Waste Separation Facilities"]
["Electricity Generation Facilities"]
["Capital Spares"]
["Rail Infrastructure",null,{"$f":"SUM(C53:C61)","v":0},0,0,0,0,0,0,0,0]
["Rail Lines"]
["Rail Structures"]
["Rail Furniture"]
["Drainage Collection"]
["Storm water Conveyance"]
["Attenuation"]
["MV Substations"]
["LV Networks"]
["Capital Spares"]
["Coastal Infrastructure",null,{"$f":"SUM(C63:C67)","v":0},{"$f":"SUM(D63:D67)","v":0},0,0,0,0,0,0,0]
["Sand Pumps"]
["Piers"]
["Revetments"]
["Promenades"]
["Capital Spares"]
["Information and Communication Infrastructure",null,{"$f":"SUM(C69:C72)","v":0},{"$f":"SUM(D69:D72)","v":0},0,0,0,0,0,0,0]
["Data Centres"]
["Core Layers"]
["Distribution Layers"]
["Capital Spares"]
[]
["Community Assets",null,{"$f":"C75+C98","v":0},{"$f":"D75+D98","v":0},0,0,0,0,0,0,0]
["Community Facilities",null,{"$f":"SUM(C76:C97)","v":0},{"$f":"SUM(D76:D97)","v":0},0,0,0,0,0,0,0]
["Halls"]
["Centres"]
["Crèches"]
["Clinics/Care Centres"]
["Fire/Ambulance Stations"]
["Testing Stations"]
["Museums"]
["Galleries"]
["Theatres"]
["Libraries"]
["Cemeteries/Crematoria",null,0,0,0,0,0,0,0,0,0]
["Police"]
["Parks"]
["Public Open Space"]
["Nature Reserves"]
["Public Ablution Facilities"]
["Markets"]
["Stalls"]
["Abattoirs"]
["Airports"]
["Taxi Ranks/Bus Terminals"]
["Capital Spares"]
["Sport and Recreation Facilities",null,{"$f":"SUM(C99:C101)","v":0},{"$f":"SUM(D99:D101)","v":0},0,0,0,0,0,0,0]
["Indoor Facilities"]
["Outdoor Facilities",null,0,0,0,0,0,0,0,0,0]
["Capital Spares"]
[]
["Heritage assets",null,{"$f":"SUM(C104:C108)","v":0},{"$f":"SUM(D104:D108)","v":0},0,0,0,0,0,0,0]
["Monuments"]
["Historic Buildings"]
["Works of Art"]
["Conservation Areas"]
["Other Heritage"]
[]
["Investment properties",null,{"$f":"+C111+C114","v":0},{"$f":"+D111+D114","v":0},0,0,0,0,0,0,0]
["Revenue Generating",null,{"$f":"SUM(C112:C113)","v":0},0,0,0,0,0,0,0,0]
["Improved Property"]
["Unimproved Property"]
["Non-revenue Generating",null,{"$f":"SUM(C115:C116)","v":0},{"$f":"SUM(D115:D116)","v":0},0,0,0,0,0,0,0]
["Improved Property"]
["Unimproved Property"]
[]
["Other assets",null,{"$f":"+C119+C131","v":0},{"$f":"+D119+D131","v":0},0,0,0,0,0,0,0]
["Operational Buildings",null,{"$f":"SUM(C120:C130)","v":0},{"$f":"SUM(D120:D130)","v":0},0,0,0,0,0,0,0]
["Municipal Offices",null,0,0,0,0,0,0,0,0,0]
["Pay/Enquiry Points"]
["Building Plan Offices"]
["Workshops"]
["Yards"]
["Stores"]
["Laboratories"]
["Training Centres"]
["Manufacturing Plant"]
["Depots"]
["Capital Spares"]
["Housing",null,{"$f":"SUM(C132:C134)","v":0},{"$f":"SUM(D132:D134)","v":0},0,0,0,0,0,0,0]
["Staff Housing"]
["Social Housing"]
["Capital Spares"]
[]
["Biological or Cultivated Assets",null,{"$f":"SUM(C137:C137)","v":0},0,0,0,0,0,0,0,0]
["Biological or Cultivated Assets"]
[]
["Intangible Assets",null,{"$f":"+C140+C141","v":0},{"$f":"+D140+D141","v":0},0,0,0,0,0,0,0]
["Servitudes"]
["Licences and Rights",null,{"$f":"SUM(C142:C147)","v":0},{"$f":"SUM(D142:D147)","v":0},0,0,0,0,0,0,0]
["Water Rights"]
["Effluent Licenses"]
["Solid Waste Licenses"]
["Computer Software and Applications"]
["Load Settlement Software Applications"]
["Unspecified"]
[]
["Computer Equipment",null,{"$f":"SUM(C150:C150)","v":0},0,0,0,0,0,0,0,0]
["Computer Equipment"]
[]
["Furniture and Office Equipment",null,{"$f":"SUM(C153:C153)","v":0},0,0,0,0,0,0,0,0]
["Furniture and Office Equipment",null,0,0,0,0,0,0,0,0,0]
[]
["Machinery and Equipment",null,{"$f":"SUM(C156:C156)","v":0},0,0,0,0,0,0,0,0]
["Machinery and Equipment"]
[]
["Transport Assets",null,{"$f":"SUM(C159:C159)","v":0},0,0,0,0,0,0,0,0]
["Transport Assets"]
[]
["Land",null,{"$f":"SUM(C162:C162)","v":0},0,0,0,0,0,0,0,0]
["Land"]
[]
["Zoo's, Marine and Non-biological Animals",null,{"$f":"SUM(C165:C165)","v":0},0,0,0,0,0,0,0,0]
["Zoo's, Marine and Non-biological Animals"]
[]
["Living resources"," ",{"$f":"+C168+C171","v":0},{"$f":"+D168+D171","v":0},0,0,0,0,0,0,0]
["Mature"," ",{"$f":"SUM(C169:C170)","v":0},0,0,0,0,0,0,0,0]
["Policing and Protection"," "]
["Zoological plants and animals"," "]
["Immature"," ",{"$f":"SUM(C172:C173)","v":0},{"$f":"SUM(D172:D173)","v":0},0,0,0,0,0,0,0]
["Policing and Protection"," "]
["Zoological plants and animals"," "]
[""]
["Total Capital Expenditure on renewal of existing assets ",1,{"$f":"C6+C74+C103+C110+C118+C136+C139+C149+C152+C155+C158+C161+C164+C167","v":0},{"$f":"D6+D74+D103+D110+D118+D136+D139+D149+D152+D155+D158+D161+D164+D167","v":0},837890.78,16616000,6988144,6988144,3000000,1100000,1148400]
[]
["Renewal of Existing Assets as % of total capex",null,{"$f":"IF(ISERROR(C175/'A9-Asset'!C110),0,(C175/'A9-Asset'!C110))","v":0},{"$f":"IF(ISERROR(D175/'A9-Asset'!D110),0,(D175/'A9-Asset'!D110))","v":0},{"$f":"IF(ISERROR(E175/'A9-Asset'!E110),0,(E175/'A9-Asset'!E110))","v":9.9066467194634661E-3},{"$f":"IF(ISERROR(F175/'A9-Asset'!F110),0,(F175/'A9-Asset'!F110))","v":0.22181719195641414},{"$f":"IF(ISERROR(G175/'A9-Asset'!G110),0,(G175/'A9-Asset'!G110))","v":4.8025454340781412E-2},{"$f":"IF(ISERROR(H175/'A9-Asset'!H110),0,(H175/'A9-Asset'!H110))","v":4.8025454340781412E-2},{"$f":"IF(ISERROR(I175/'A9-Asset'!I110),0,(I175/'A9-Asset'!I110))","v":3.4496715912645116E-2},{"$f":"IF(ISERROR(J175/'A9-Asset'!J110),0,(J175/'A9-Asset'!J110))","v":1.1865595167466695E-2},{"$f":"IF(ISERROR(K175/'A9-Asset'!K110),0,(K175/'A9-Asset'!K110))","v":1.1854157935700174E-2}]
["Renewal of Existing Assets as % of deprecn\"",null,{"$f":"IF(ISERROR(C175/'A9-Asset'!C183),0,(C175/'A9-Asset'!C183))","v":0},{"$f":"IF(ISERROR(D175/'A9-Asset'!D183),0,(D175/'A9-Asset'!D183))","v":0},{"$f":"IF(ISERROR(E175/'A9-Asset'!E183),0,(E175/'A9-Asset'!E183))","v":2.4775354570013567E-2},{"$f":"IF(ISERROR(F175/'A9-Asset'!F183),0,(F175/'A9-Asset'!F183))","v":0.49579820273151509},{"$f":"IF(ISERROR(G175/'A9-Asset'!G183),0,(G175/'A9-Asset'!G183))","v":0.20851644412789003},{"$f":"IF(ISERROR(H175/'A9-Asset'!H183),0,(H175/'A9-Asset'!H183))","v":0.20851644412789003},{"$f":"IF(ISERROR(I175/'A9-Asset'!I183),0,(I175/'A9-Asset'!I183))","v":8.5743053733714145E-2},{"$f":"IF(ISERROR(J175/'A9-Asset'!J183),0,(J175/'A9-Asset'!J183))","v":3.0085287413776252E-2},{"$f":"IF(ISERROR(K175/'A9-Asset'!K183),0,(K175/'A9-Asset'!K183))","v":3.0642965135408737E-2}]
[{"$f":"head27a","v":"References"}]
["1. Total Capital Expenditure  on renewal of existing assets (SA34b) plus Total Capital Expenditure on new assets (SA34a) plus Total Capital Expenditure  on upgrading of existing assets (SA34e) must reconcile to total capital expenditure in Budgeted Capital Expenditure"]

{"sheet":"SA34c","index":58,"n_rows":180,"n_cols":11,"rows_kept":180,"cut":false,"hidden":false,"merged":[[1,5,1,7],[1,8,1,10]]}
[{"$f":"muni&\" - \"&TableA34c","v":"LIM351 Blouberg - Supporting Table SA34c Repairs and maintenance expenditure by asset class"}]
[{"$f":"desc","v":"Description"},{"$f":"head27","v":"Ref"},{"$f":"head1b","v":"2021/22"},{"$f":"head1A","v":"2022/23"},{"$f":"Head1","v":"2023/24"},{"$f":"Head2","v":"Current Year 2024/25"},null,null,{"$f":"Head3","v":"2025/26 Medium Term Revenue & Expenditure Framework"}]
["R thousand",1,{"$f":"Head5","v":"Audited Outcome"},{"$f":"Head5","v":"Audited Outcome"},{"$f":"Head5","v":"Audited Outcome"},{"$f":"Head6","v":"Original Budget"},{"$f":"Head7","v":"Adjusted Budget"},{"$f":"Head8","v":"Full Year Forecast"},{"$f":"Head9","v":"Budget Year 2025/26"},{"$f":"Head10","v":"Budget Year +1 2026/27"},{"$f":"Head11","v":"Budget Year +2 2027/28"}]
["Repairs and maintenance expenditure by Asset Class/Sub-class"]
[]
["Infrastructure",null,{"$f":"C7+C12+C16+C26+C37+C44+C52+C62+C68","v":13166141.460000001},{"$f":"D7+D12+D16+D26+D37+D44+D52+D62+D68","v":2969365.95},6236371.21,2400014,626014,626014,1110000,1159950,1188952]
["Roads Infrastructure",null,{"$f":"SUM(C8:C11)","v":1541980.1},1593427.18,314763,300014,100014,100014,710000,741950,760501]
["Roads",null,1541980.1,1593427.18,314763,300014,100014,100014,710000,741950,760501]
["Road Structures"]
["Road Furniture",null,0,0,0,0,0,0,0,0,0]
["Capital Spares"]
["Storm water Infrastructure",null,{"$f":"SUM(C13:C15)","v":9452853.0500000007},{"$f":"SUM(D13:D15)","v":0},3477657.36,0,0,0,0,0,0]
["Drainage Collection",null,3521250.34,0,0,0,0,0,0,0,0]
["Storm water Conveyance",null,5931602.71,0,3477657.36,0,0,0,0,0,0]
["Attenuation"]
["Electrical Infrastructure",null,{"$f":"SUM(C17:C25)","v":2171308.31},1375938.77,2443950.85,2000000,426000,426000,300000,313500,321338]
["Power Plants",null,0,0,0,0,0,0,0,0,0]
["HV Substations"]
["HV Switching Station"]
["HV Transmission Conductors"]
["MV Substations"]
["MV Switching Stations"]
["MV Networks",null,0,0,0,0,0,0,0,0,0]
["LV Networks",null,2171308.31,1375938.77,2443950.85,2000000,426000,426000,300000,313500,321338]
["Capital Spares"]
["Water Supply Infrastructure",null,{"$f":"SUM(C27:C36)","v":0},{"$f":"SUM(D27:D36)","v":0},0,0,0,0,0,0,0]
["Dams and Weirs"]
["Boreholes"]
["Reservoirs"]
["Pump Stations"]
["Water Treatment Works"]
["Bulk Mains"]
["Distribution"]
["Distribution Points"]
["PRV Stations"]
["Capital Spares"]
["Sanitation Infrastructure",null,{"$f":"SUM(C38:C43)","v":0},{"$f":"SUM(D38:D43)","v":0},0,0,0,0,0,0,0]
["Pump Station"]
["Reticulation"]
["Waste Water Treatment Works"]
["Outfall Sewers"]
["Toilet Facilities"]
["Capital Spares"]
["Solid Waste Infrastructure",null,{"$f":"SUM(C45:C51)","v":0},{"$f":"SUM(D45:D51)","v":0},0,0,0,0,0,0,0]
["Landfill Sites"]
["Waste Transfer Stations"]
["Waste Processing Facilities"]
["Waste Drop-off Points"]
["Waste Separation Facilities"]
["Electricity Generation Facilities"]
["Capital Spares"]
["Rail Infrastructure",null,{"$f":"SUM(C53:C61)","v":0},0,0,0,0,0,0,0,0]
["Rail Lines"]
["Rail Structures"]
["Rail Furniture"]
["Drainage Collection"]
["Storm water Conveyance"]
["Attenuation"]
["MV Substations"]
["LV Networks"]
["Capital Spares"]
["Coastal Infrastructure",null,{"$f":"SUM(C63:C67)","v":0},{"$f":"SUM(D63:D67)","v":0},0,0,0,0,0,0,0]
["Sand Pumps"]
["Piers"]
["Revetments"]
["Promenades"]
["Capital Spares"]
["Information and Communication Infrastructure",null,{"$f":"SUM(C69:C72)","v":0},{"$f":"SUM(D69:D72)","v":0},0,100000,100000,100000,100000,104500,107113]
["Data Centres",null,0,0,0,0,0,0,0,0,0]
["Core Layers",null,0,0,0,100000,100000,100000,100000,104500,107113]
["Distribution Layers"]
["Capital Spares"]
[]
["Community Assets",null,{"$f":"C75+C98","v":528787.79},{"$f":"D75+D98","v":84505.9},344325,300000,250000,250000,404400,318098,326052]
["Community Facilities",null,{"$f":"SUM(C76:C97)","v":453487.79000000004},{"$f":"SUM(D76:D97)","v":84505.9},184865,200000,200000,200000,304400,213598,218939]
["Halls",null,157365.65,84505.9,184865,100000,100000,100000,104400,109098,111826]
["Centres"]
["Crèches"]
["Clinics/Care Centres",null,0,0,0,0,0,0,0,0,0]
["Fire/Ambulance Stations"]
["Testing Stations"]
["Museums"]
["Galleries"]
["Theatres"]
["Libraries"]
["Cemeteries/Crematoria"]
["Police"]
["Parks"]
["Public Open Space"]
["Nature Reserves"]
["Public Ablution Facilities",null,296122.14,0,0,100000,100000,100000,200000,104500,107113]
["Markets"]
["Stalls"]
["Abattoirs"]
["Airports"]
["Taxi Ranks/Bus Terminals"]
["Capital Spares"]
["Sport and Recreation Facilities",null,{"$f":"SUM(C99:C101)","v":75300},{"$f":"SUM(D99:D101)","v":0},159460,100000,50000,50000,100000,104500,107113]
["Indoor Facilities"]
["Outdoor Facilities",null,75300,0,159460,100000,50000,50000,100000,104500,107113]
["Capital Spares"]
[]
["Heritage assets",null,{"$f":"SUM(C104:C108)","v":0},{"$f":"SUM(D104:D108)","v":0},0,0,0,0,0,0,0]
["Monuments"]
["Historic Buildings"]
["Works of Art"]
["Conservation Areas"]
["Other Heritage"]
[]
["Investment properties",null,{"$f":"+C111+C114","v":0},{"$f":"+D111+D114","v":0},0,0,0,0,0,0,0]
["Revenue Generating",null,{"$f":"SUM(C112:C113)","v":0},0,0,0,0,0,0,0,0]
["Improved Property"]
["Unimproved Property"]
["Non-revenue Generating",null,{"$f":"SUM(C115:C116)","v":0},{"$f":"SUM(D115:D116)","v":0},0,0,0,0,0,0,0]
["Improved Property"]
["Unimproved Property"]
[]
["Other assets",null,{"$f":"+C119+C131","v":473995.77},{"$f":"+D119+D131","v":151226.98000000001},427632.25,1477281,744281,744281,232882,243362,249446]
["Operational Buildings",null,{"$f":"SUM(C120:C130)","v":473995.77},{"$f":"SUM(D120:D130)","v":151226.98000000001},427632.25,1477281,744281,744281,232882,243362,249446]
["Municipal Offices",null,473995.77,151226.98000000001,427632.25,1477281,744281,744281,232882,243362,249446]
["Pay/Enquiry Points"]
["Building Plan Offices"]
["Workshops"]
["Yards",null,0,0,0,0,0,0,0,0,0]
["Stores"]
["Laboratories"]
["Training Centres"]
["Manufacturing Plant"]
["Depots"]
["Capital Spares"]
["Housing",null,{"$f":"SUM(C132:C134)","v":0},{"$f":"SUM(D132:D134)","v":0},0,0,0,0,0,0,0]
["Staff Housing"]
["Social Housing"]
["Capital Spares"]
[]
["Biological or Cultivated Assets",null,{"$f":"SUM(C137:C137)","v":0},0,0,0,0,0,0,0,0]
["Biological or Cultivated Assets"]
[]
["Intangible Assets",null,{"$f":"+C140+C141","v":0},{"$f":"+D140+D141","v":0},0,0,0,0,0,0,0]
["Servitudes"]
["Licences and Rights",null,{"$f":"SUM(C142:C147)","v":0},{"$f":"SUM(D142:D147)","v":0},0,0,0,0,0,0,0]
["Water Rights"]
["Effluent Licenses"]
["Solid Waste Licenses"]
["Computer Software and Applications"]
["Load Settlement Software Applications"]
["Unspecified"]
[]
["Computer Equipment",null,{"$f":"SUM(C150:C150)","v":180549.6},322955,216000,367351,347351,347351,362635,378954,388427]
["Computer Equipment",null,180549.6,322955,216000,367351,347351,347351,362635,378954,388427]
[]
["Furniture and Office Equipment",null,{"$f":"SUM(C153:C153)","v":-52543.5},0,49760,124722,74722,74722,78010,81521,83559]
["Furniture and Office Equipment",null,-52543.5,0,49760,124722,74722,74722,78010,81521,83559]
[]
["Machinery and Equipment",null,{"$f":"SUM(C156:C156)","v":20565},85594.63,0,50000,30000,30000,31320,32730,33548]
["Machinery and Equipment",null,20565,85594.63,0,50000,30000,30000,31320,32730,33548]
[]
["Transport Assets",null,{"$f":"SUM(C159:C159)","v":2430423.64},2217809.0499999998,3007642.17,1211648,1241648,1241648,1296281,1354614,1388479]
["Transport Assets",null,2430423.64,2217809.0499999998,3007642.17,1211648,1241648,1241648,1296281,1354614,1388479]
[]
["Land",null,{"$f":"SUM(C162:C162)","v":0},0,0,0,0,0,0,0,0]
["Land"]
[]
["Zoo's, Marine and Non-biological Animals",null,{"$f":"SUM(C165:C165)","v":0},{"$f":"SUM(D165:D165)","v":0},0,0,0,0,0,0,0]
["Zoo's, Marine and Non-biological Animals"]
[]
["Living resources"," ",{"$f":"+C168+C171","v":0},{"$f":"+D168+D171","v":0},0,0,0,0,0,0,0]
["Mature"," ",{"$f":"SUM(C169:C170)","v":0},{"$f":"SUM(D169:D170)","v":0},0,0,0,0,0,0,0]
["Policing and Protection"," "]
["Zoological plants and animals"," "]
["Immature"," ",{"$f":"SUM(C172:C173)","v":0},{"$f":"SUM(D172:D173)","v":0},0,0,0,0,0,0,0]
["Policing and Protection"," "]
["Zoological plants and animals"," "]
[""]
["Total Repairs and Maintenance Expenditure",1,{"$f":"C6+C74+C103+C110+C118+C136+C139+C149+C152+C155+C158+C161+C164+C167","v":16747919.76},{"$f":"D6+D74+D103+D110+D118+D136+D139+D149+D152+D155+D158+D161+D164+D167","v":5831457.5099999998},10281730.629999999,5931016,3314016,3314016,3515528,3569229,3658463]
[]
["R&M as a % of PPE & Investment Property ",null,{"$f":"'A9-Asset'!C223","v":2.1531645324408755E-2},{"$f":"'A9-Asset'!D223","v":6.3894304059181487E-3},{"$f":"'A9-Asset'!E223","v":1.0735197951995967E-2},{"$f":"'A9-Asset'!F223","v":5.3413471395902419E-3},{"$f":"'A9-Asset'!G223","v":3.1478455611163164E-3},{"$f":"'A9-Asset'!H223","v":3.1478455611163164E-3},{"$f":"'A9-Asset'!I223","v":2.6162648922762421E-3},{"$f":"'A9-Asset'!J223","v":2.5618886016969609E-3},{"$f":"'A9-Asset'!K223","v":2.561257051378771E-3}]
["R&M as % Operating Expenditure",null,{"$f":"IF(ISERROR(ROUND(C175/'A1-Sum'!B18,3)),0,(ROUND(C175/'A1-Sum'!B18,3)))","v":5.0999999999999997E-2},{"$f":"IF(ISERROR(ROUND(D175/'A1-Sum'!C18,3)),0,(ROUND(D175/'A1-Sum'!C18,3)))","v":1.4E-2},{"$f":"IF(ISERROR(ROUND(E175/'A1-Sum'!D18,3)),0,(ROUND(E175/'A1-Sum'!D18,3)))","v":0.03},{"$f":"IF(ISERROR(ROUND(F175/'A1-Sum'!E18,3)),0,(ROUND(F175/'A1-Sum'!E18,3)))","v":1.4E-2},{"$f":"IF(ISERROR(ROUND(G175/'A1-Sum'!F18,3)),0,(ROUND(G175/'A1-Sum'!F18,3)))","v":8.0000000000000002E-3},{"$f":"IF(ISERROR(ROUND(H175/'A1-Sum'!G18,3)),0,(ROUND(H175/'A1-Sum'!G18,3)))","v":8.0000000000000002E-3},{"$f":"IF(ISERROR(ROUND(I175/'A1-Sum'!H18,3)),0,(ROUND(I175/'A1-Sum'!H18,3)))","v":1.2E-2},{"$f":"IF(ISERROR(ROUND(J175/'A1-Sum'!I18,3)),0,(ROUND(J175/'A1-Sum'!I18,3)))","v":8.9999999999999993E-3},{"$f":"IF(ISERROR(ROUND(K175/'A1-Sum'!J18,3)),0,(ROUND(K175/'A1-Sum'!J18,3)))","v":8.9999999999999993E-3}]
[{"$f":"head27a","v":"References"}]
["1. Total Repairs and Maintenance Expenditure by Asset Category must reconcile to total repairs and maintenance expenditure on Table SA1"]

{"sheet":"SA34d","index":59,"n_rows":178,"n_cols":11,"rows_kept":178,"cut":false,"hidden":false,"merged":[[1,5,1,7],[1,8,1,10]]}
[{"$f":"muni&\" - \"&TableA34d","v":"LIM351 Blouberg - Supporting Table SA34d Depreciation by asset class"}]
[{"$f":"desc","v":"Description"},{"$f":"head27","v":"Ref"},{"$f":"head1b","v":"2021/22"},{"$f":"head1A","v":"2022/23"},{"$f":"Head1","v":"2023/24"},{"$f":"Head2","v":"Current Year 2024/25"},null,null,{"$f":"Head3","v":"2025/26 Medium Term Revenue & Expenditure Framework"}]
["R thousand",1,{"$f":"Head5","v":"Audited Outcome"},{"$f":"Head5","v":"Audited Outcome"},{"$f":"Head5","v":"Audited Outcome"},{"$f":"Head6","v":"Original Budget"},{"$f":"Head7","v":"Adjusted Budget"},{"$f":"Head8","v":"Full Year Forecast"},{"$f":"Head9","v":"Budget Year 2025/26"},{"$f":"Head10","v":"Budget Year +1 2026/27"},{"$f":"Head11","v":"Budget Year +2 2027/28"}]
["Depreciation by Asset Class/Sub-class"]
[]
["Infrastructure",null,{"$f":"C7+C12+C16+C26+C37+C44+C52+C62+C68","v":19845256.509999998},{"$f":"D7+D12+D16+D26+D37+D44+D52+D62+D68","v":19662829.68},20642440.780000001,21583570,21583570,21583570,22533254,23547250,24135932]
["Roads Infrastructure",null,{"$f":"SUM(C8:C11)","v":5528244},5179401,8106049.9199999999,8770778,8770778,8770778,9156694,9568745,9807964]
["Roads",null,3790311.08,5179401,8106049.9199999999,4178819,4178819,4178819,4362688,4559008,4672984]
["Road Structures",null,985042.19,0,0,1086009,1086009,1086009,1133794,1184815,1214435]
["Road Furniture",null,752890.73,0,0,3505950,3505950,3505950,3660212,3824922,3920545]
["Capital Spares",null,0,0,0,0,0,0,0,0,0]
["Storm water Infrastructure",null,{"$f":"SUM(C13:C15)","v":0},{"$f":"SUM(D13:D15)","v":0},0,0,0,0,0,0,0]
["Drainage Collection",null,0,0,0,0,0,0,0,0,0]
["Storm water Conveyance",null,0,0,0,0,0,0,0,0,0]
["Attenuation",null,0,0,0,0,0,0,0,0,0]
["Electrical Infrastructure",null,{"$f":"SUM(C17:C25)","v":13413376.219999999},14483428.68,12536390.859999999,11059817,11059817,11059817,11546454,12066044,12367695]
["Power Plants",null,0,0,0,0,0,0,0,0,0]
["HV Substations",null,0,0,0,210000,210000,210000,219240,229106,234834]
["HV Switching Station",null,472978.23,0,0,72457,72457,72457,75646,79050,81026]
["HV Transmission Conductors",null,1775200.78,0,0,1174383,1174383,1174383,1226057,1281229,1313260]
["MV Substations",null,0,0,0,0,0,0,0,0,0]
["MV Switching Stations",null,30215.9,0,0,708202,708202,708202,739364,772635,791951]
["MV Networks",null,0,0,0,0,0,0,0,0,0]
["LV Networks",null,9033913.1899999995,14483428.68,12536390.859999999,5388825,5388825,5388825,5625935,5879102,6026079]
["Capital Spares",null,2101068.12,0,0,3505950,3505950,3505950,3660212,3824922,3920545]
["Water Supply Infrastructure",null,{"$f":"SUM(C27:C36)","v":0},{"$f":"SUM(D27:D36)","v":0},0,0,0,0,0,0,0]
["Dams and Weirs",null,0,0,0,0,0,0,0,0,0]
["Boreholes",null,0,0,0,0,0,0,0,0,0]
["Reservoirs"]
["Pump Stations"]
["Water Treatment Works"]
["Bulk Mains"]
["Distribution"]
["Distribution Points"]
["PRV Stations"]
["Capital Spares"]
["Sanitation Infrastructure",null,{"$f":"SUM(C38:C43)","v":0},{"$f":"SUM(D38:D43)","v":0},0,0,0,0,0,0,0]
["Pump Station"]
["Reticulation"]
["Waste Water Treatment Works"]
["Outfall Sewers"]
["Toilet Facilities"]
["Capital Spares"]
["Solid Waste Infrastructure",null,{"$f":"SUM(C45:C51)","v":903636.29},{"$f":"SUM(D45:D51)","v":0},0,1752975,1752975,1752975,1830106,1912461,1960273]
["Landfill Sites",null,903636.29,0,0,1752975,1752975,1752975,1830106,1912461,1960273]
["Waste Transfer Stations",null,0,0,0,0,0,0,0,0,0]
["Waste Processing Facilities",null,0,0,0,0,0,0,0,0,0]
["Waste Drop-off Points",null,0,0,0,0,0,0,0,0,0]
["Waste Separation Facilities",null,0,0,0,0,0,0,0,0,0]
["Electricity Generation Facilities",null,0,0,0,0,0,0,0,0,0]
["Capital Spares",null,0,0,0,0,0,0,0,0,0]
["Rail Infrastructure",null,{"$f":"SUM(C53:C61)","v":0},0,0,0,0,0,0,0,0]
["Rail Lines"]
["Rail Structures"]
["Rail Furniture"]
["Drainage Collection"]
["Storm water Conveyance"]
["Attenuation"]
["MV Substations"]
["LV Networks"]
["Capital Spares"]
["Coastal Infrastructure",null,{"$f":"SUM(C63:C67)","v":0},{"$f":"SUM(D63:D67)","v":0},0,0,0,0,0,0,0]
["Sand Pumps"]
["Piers"]
["Revetments"]
["Promenades"]
["Capital Spares"]
["Information and Communication Infrastructure",null,{"$f":"SUM(C69:C72)","v":0},{"$f":"SUM(D69:D72)","v":0},0,0,0,0,0,0,0]
["Data Centres"]
["Core Layers"]
["Distribution Layers"]
["Capital Spares"]
[]
["Community Assets",null,{"$f":"C75+C98","v":6544870.9999999991},{"$f":"D75+D98","v":7774624.290000001},7701610.2399999993,4853468,4853468,4853468,5067026,5295039,5427415]
["Community Facilities",null,{"$f":"SUM(C76:C97)","v":6544870.9999999991},{"$f":"SUM(D76:D97)","v":7774624.290000001},7701610.2399999993,4853468,4853468,4853468,5067026,5295039,5427415]
["Halls",null,439754.23999999999,0,4934521,759623,759623,759623,793047,828734,849452]
["Centres",null,3804413.48,2583658.4700000002,2388319.5299999998,2103570,2103570,2103570,2196128,2294953,2352327]
["Crèches",null,1330625.56,4813231,0,237300,237300,237300,247742,258890,265362]
["Clinics/Care Centres",null,0,0,0,0,0,0,0,0,0]
["Fire/Ambulance Stations",null,128601.36,0,0,233730,233730,233730,244015,254995,261370]
["Testing Stations",null,358479.97,0,0,701190,701190,701190,732043,764985,784109]
["Museums",null,0,0,0,0,0,0,0,0,0]
["Galleries",null,0,0,0,0,0,0,0,0,0]
["Theatres",null,0,0,0,0,0,0,0,0,0]
["Libraries",null,0,0,0,0,0,0,0,0,0]
["Cemeteries/Crematoria",null,106333.29,0,0,233730,233730,233730,244015,254995,261370]
["Police",null,0,0,0,0,0,0,0,0,0]
["Parks",null,0,0,0,0,0,0,0,0,0]
["Public Open Space",null,0,0,0,0,0,0,0,0,0]
["Nature Reserves",null,0,0,0,0,0,0,0,0,0]
["Public Ablution Facilities",null,0,0,0,0,0,0,0,0,0]
["Markets",null,0,0,0,0,0,0,0,0,0]
["Stalls",null,0,0,0,0,0,0,0,0,0]
["Abattoirs",null,0,0,0,0,0,0,0,0,0]
["Airports",null,0,0,0,0,0,0,0,0,0]
["Taxi Ranks/Bus Terminals",null,376663.1,377734.82,378769.71,584325,584325,584325,610036,637487,653425]
["Capital Spares"]
["Sport and Recreation Facilities",null,{"$f":"SUM(C99:C101)","v":0},{"$f":"SUM(D99:D101)","v":0},0,0,0,0,0,0,0]
["Indoor Facilities"]
["Outdoor Facilities"]
["Capital Spares"]
[]
["Heritage assets",null,{"$f":"SUM(C104:C108)","v":0},{"$f":"SUM(D104:D108)","v":0},0,0,0,0,0,0,0]
["Monuments"]
["Historic Buildings"]
["Works of Art"]
["Conservation Areas"]
["Other Heritage"]
[]
["Investment properties",null,{"$f":"+C111+C114","v":0},{"$f":"+D111+D114","v":0},0,0,0,0,0,0,0]
["Revenue Generating",null,{"$f":"SUM(C112:C113)","v":0},0,0,0,0,0,0,0,0]
["Improved Property",null,0,0,0,0,0,0,0,0,0]
["Unimproved Property",null,0,0,0,0,0,0,0,0,0]
["Non-revenue Generating",null,{"$f":"SUM(C115:C116)","v":0},{"$f":"SUM(D115:D116)","v":0},0,0,0,0,0,0,0]
["Improved Property"]
["Unimproved Property"]
[]
["Other assets",null,{"$f":"+C119+C131","v":1115340.1599999999},{"$f":"+D119+D131","v":0},1627297.89,1928273,1928273,1928273,2013119,2103708,2156301]
["Operational Buildings",null,{"$f":"SUM(C120:C130)","v":1115340.1599999999},{"$f":"SUM(D120:D130)","v":0},1627297.89,1928273,1928273,1928273,2013119,2103708,2156301]
["Municipal Offices",null,929417.4,0,1627297.89,1519245,1519245,1519245,1586092,1657466,1698903]
["Pay/Enquiry Points",null,106239.71,0,0,233730,233730,233730,244015,254995,261370]
["Building Plan Offices",null,0,0,0,0,0,0,0,0,0]
["Workshops",null,0,0,0,0,0,0,0,0,0]
["Yards",null,0,0,0,0,0,0,0,0,0]
["Stores",null,79683.05,0,0,175298,175298,175298,183012,191247,196028]
["Laboratories",null,0,0,0,0,0,0,0,0,0]
["Training Centres",null,0,0,0,0,0,0,0,0,0]
["Manufacturing Plant",null,0,0,0,0,0,0,0,0,0]
["Depots",null,0,0,0,0,0,0,0,0,0]
["Capital Spares",null,0,0,0,0,0,0,0,0,0]
["Housing",null,{"$f":"SUM(C132:C134)","v":0},{"$f":"SUM(D132:D134)","v":0},0,0,0,0,0,0,0]
["Staff Housing",null,0,0,0,0,0,0,0,0,0]
["Social Housing",null,0,0,0,0,0,0,0,0,0]
["Capital Spares",null,0,0,0,0,0,0,0,0,0]
[]
["Biological or Cultivated Assets",null,{"$f":"SUM(C137:C137)","v":0},0,0,0,0,0,0,0,0]
["Biological or Cultivated Assets"]
[]
["Intangible Assets",null,{"$f":"+C140+C141","v":65894.759999999995},{"$f":"+D140+D141","v":65894.759999999995},65918.600000000006,262500,262500,262500,274050,286383,293542]
["Servitudes"]
["Licences and Rights",null,{"$f":"SUM(C142:C147)","v":65894.759999999995},{"$f":"SUM(D142:D147)","v":65894.759999999995},65918.600000000006,262500,262500,262500,274050,286383,293542]
["Water Rights"]
["Effluent Licenses"]
["Solid Waste Licenses"]
["Computer Software and Applications",null,65894.759999999995,65894.759999999995,65918.600000000006,262500,262500,262500,274050,286383,293542]
["Load Settlement Software Applications"]
["Unspecified",null,0,0,0,0,0,0,0,0,0]
[]
["Computer Equipment",null,{"$f":"SUM(C150:C150)","v":843728},664039.06000000006,2186370.36,1287281,1287281,1287281,1343923,1404399,1439510]
["Computer Equipment",null,843728,664039.06000000006,2186370.36,1287281,1287281,1287281,1343923,1404399,1439510]
[]
["Furniture and Office Equipment",null,{"$f":"SUM(C153:C153)","v":404219},865001.2,284031.15000000002,2814193,2814193,2814193,2938023,3070232,3146988]
["Furniture and Office Equipment",null,404219,865001.2,284031.15000000002,2814193,2814193,2814193,2938023,3070232,3146988]
[]
["Machinery and Equipment",null,{"$f":"SUM(C156:C156)","v":281335},1221971.32,304308.71000000002,784350,784350,784350,818862,855711,877103]
["Machinery and Equipment",null,281335,1221971.32,304308.71000000002,784350,784350,784350,818862,855711,877103]
[]
["Transport Assets",null,{"$f":"SUM(C159:C159)","v":1319964},4903296.28,1007549.56,0,0,0,0,0,0]
["Transport Assets",null,1319964,4903296.28,1007549.56,0,0,0,0,0,0]
[]
["Land",null,{"$f":"SUM(C162:C162)","v":0},0,0,0,0,0,0,0,0]
["Land"]
[]
["Zoo's, Marine and Non-biological Animals",null,{"$f":"SUM(C165:C165)","v":0},0,0,0,0,0,0,0,0]
["Zoo's, Marine and Non-biological Animals"]
[]
["Living resources"," ",{"$f":"+C168+C171","v":0},{"$f":"+D168+D171","v":0},0,0,0,0,0,0,0]
["Mature"," ",{"$f":"SUM(C169:C170)","v":0},0,0,0,0,0,0,0,0]
["Policing and Protection"," "]
["Zoological plants and animals"," "]
["Immature"," ",{"$f":"SUM(C172:C173)","v":0},{"$f":"SUM(D172:D173)","v":0},0,0,0,0,0,0,0]
["Policing and Protection"," "]
["Zoological plants and animals"," "]
[""]
["Total Depreciation",1,{"$f":"C6+C74+C103+C110+C118+C136+C139+C149+C152+C155+C158+C161+C164+C167","v":30420608.43},{"$f":"D6+D74+D103+D110+D118+D136+D139+D149+D152+D155+D158+D161+D164+D167","v":35157656.589999996},33819527.289999999,33513635,33513635,33513635,34988257,36562722,37476791]
[]
[{"$f":"head27a","v":"References"}]
["1. Depreciation based on write down values. Not including Depreciation resulting from revaluation."]

{"sheet":"SA34e","index":60,"n_rows":180,"n_cols":11,"rows_kept":180,"cut":false,"hidden":false,"merged":[[1,5,1,7],[1,8,1,10]]}
[{"$f":"muni&\" - \"&TableA34e","v":"LIM351 Blouberg - Supporting Table SA34e Capital expenditure on the upgrading of existing assets by asset class"}]
[{"$f":"desc","v":"Description"},{"$f":"head27","v":"Ref"},{"$f":"head1b","v":"2021/22"},{"$f":"head1A","v":"2022/23"},{"$f":"Head1","v":"2023/24"},{"$f":"Head2","v":"Current Year 2024/25"},null,null,{"$f":"Head3","v":"2025/26 Medium Term Revenue & Expenditure Framework"}]
["R thousand",1,{"$f":"Head5","v":"Audited Outcome"},{"$f":"Head5","v":"Audited Outcome"},{"$f":"Head5","v":"Audited Outcome"},{"$f":"Head6","v":"Original Budget"},{"$f":"Head7","v":"Adjusted Budget"},{"$f":"Head8","v":"Full Year Forecast"},{"$f":"Head9","v":"Budget Year 2025/26"},{"$f":"Head10","v":"Budget Year +1 2026/27"},{"$f":"Head11","v":"Budget Year +2 2027/28"}]
["Capital expenditure on upgrading of existing assets by Asset Class/Sub-class"]
[]
["Infrastructure",null,{"$f":"C7+C12+C16+C26+C37+C44+C52+C62+C68","v":0},{"$f":"D7+D12+D16+D26+D37+D44+D52+D62+D68","v":0},0,0,0,0,0,0,0]
["Roads Infrastructure",null,{"$f":"SUM(C8:C11)","v":0},0,0,0,0,0,0,0,0]
["Roads"]
["Road Structures"]
["Road Furniture"]
["Capital Spares"]
["Storm water Infrastructure",null,{"$f":"SUM(C13:C15)","v":0},{"$f":"SUM(D13:D15)","v":0},0,0,0,0,0,0,0]
["Drainage Collection"]
["Storm water Conveyance"]
["Attenuation"]
["Electrical Infrastructure",null,{"$f":"SUM(C17:C25)","v":0},0,0,0,0,0,0,0,0]
["Power Plants"]
["HV Substations"]
["HV Switching Station"]
["HV Transmission Conductors"]
["MV Substations"]
["MV Switching Stations"]
["MV Networks"]
["LV Networks"]
["Capital Spares"]
["Water Supply Infrastructure",null,{"$f":"SUM(C27:C36)","v":0},{"$f":"SUM(D27:D36)","v":0},0,0,0,0,0,0,0]
["Dams and Weirs"]
["Boreholes"]
["Reservoirs"]
["Pump Stations"]
["Water Treatment Works"]
["Bulk Mains"]
["Distribution"]
["Distribution Points"]
["PRV Stations"]
["Capital Spares"]
["Sanitation Infrastructure",null,{"$f":"SUM(C38:C43)","v":0},{"$f":"SUM(D38:D43)","v":0},0,0,0,0,0,0,0]
["Pump Station"]
["Reticulation"]
["Waste Water Treatment Works"]
["Outfall Sewers"]
["Toilet Facilities"]
["Capital Spares"]
["Solid Waste Infrastructure",null,{"$f":"SUM(C45:C51)","v":0},{"$f":"SUM(D45:D51)","v":0},0,0,0,0,0,0,0]
["Landfill Sites",null,0,0,0,0,0,0,0,0,0]
["Waste Transfer Stations"]
["Waste Processing Facilities"]
["Waste Drop-off Points"]
["Waste Separation Facilities"]
["Electricity Generation Facilities"]
["Capital Spares"]
["Rail Infrastructure",null,{"$f":"SUM(C53:C61)","v":0},0,0,0,0,0,0,0,0]
["Rail Lines"]
["Rail Structures"]
["Rail Furniture"]
["Drainage Collection"]
["Storm water Conveyance"]
["Attenuation"]
["MV Substations"]
["LV Networks"]
["Capital Spares"]
["Coastal Infrastructure",null,{"$f":"SUM(C63:C67)","v":0},{"$f":"SUM(D63:D67)","v":0},0,0,0,0,0,0,0]
["Sand Pumps"]
["Piers"]
["Revetments"]
["Promenades"]
["Capital Spares"]
["Information and Communication Infrastructure",null,{"$f":"SUM(C69:C72)","v":0},{"$f":"SUM(D69:D72)","v":0},0,0,0,0,0,0,0]
["Data Centres"]
["Core Layers"]
["Distribution Layers"]
["Capital Spares"]
[]
["Community Assets",null,{"$f":"C75+C98","v":0},{"$f":"D75+D98","v":0},0,0,0,0,0,0,0]
["Community Facilities",null,{"$f":"SUM(C76:C97)","v":0},{"$f":"SUM(D76:D97)","v":0},0,0,0,0,0,0,0]
["Halls"]
["Centres"]
["Crèches"]
["Clinics/Care Centres"]
["Fire/Ambulance Stations"]
["Testing Stations"]
["Museums"]
["Galleries"]
["Theatres"]
["Libraries"]
["Cemeteries/Crematoria"]
["Police"]
["Parks"]
["Public Open Space"]
["Nature Reserves"]
["Public Ablution Facilities"]
["Markets"]
["Stalls"]
["Abattoirs"]
["Airports"]
["Taxi Ranks/Bus Terminals"]
["Capital Spares"]
["Sport and Recreation Facilities",null,{"$f":"SUM(C99:C101)","v":0},{"$f":"SUM(D99:D101)","v":0},0,0,0,0,0,0,0]
["Indoor Facilities"]
["Outdoor Facilities",null,0,0,0,0,0,0,0,0,0]
["Capital Spares"]
[]
["Heritage assets",null,{"$f":"SUM(C104:C108)","v":0},{"$f":"SUM(D104:D108)","v":0},0,0,0,0,0,0,0]
["Monuments"]
["Historic Buildings"]
["Works of Art"]
["Conservation Areas"]
["Other Heritage"]
[]
["Investment properties",null,{"$f":"+C111+C114","v":0},{"$f":"+D111+D114","v":0},0,0,0,0,0,0,0]
["Revenue Generating",null,{"$f":"SUM(C112:C113)","v":0},0,0,0,0,0,0,0,0]
["Improved Property"]
["Unimproved Property"]
["Non-revenue Generating",null,{"$f":"SUM(C115:C116)","v":0},{"$f":"SUM(D115:D116)","v":0},0,0,0,0,0,0,0]
["Improved Property"]
["Unimproved Property"]
[]
["Other assets",null,{"$f":"+C119+C131","v":0},{"$f":"+D119+D131","v":0},0,0,0,0,6300000,5000000,10000000]
["Operational Buildings",null,{"$f":"SUM(C120:C130)","v":0},{"$f":"SUM(D120:D130)","v":0},0,0,0,0,6300000,5000000,10000000]
["Municipal Offices",null,0,0,0,0,0,0,6300000,5000000,10000000]
["Pay/Enquiry Points"]
["Building Plan Offices"]
["Workshops"]
["Yards"]
["Stores"]
["Laboratories"]
["Training Centres"]
["Manufacturing Plant"]
["Depots"]
["Capital Spares"]
["Housing",null,{"$f":"SUM(C132:C134)","v":0},{"$f":"SUM(D132:D134)","v":0},0,0,0,0,0,0,0]
["Staff Housing"]
["Social Housing"]
["Capital Spares"]
[]
["Biological or Cultivated Assets",null,{"$f":"SUM(C137:C137)","v":0},0,0,0,0,0,0,0,0]
["Biological or Cultivated Assets"]
[]
["Intangible Assets",null,{"$f":"+C140+C141","v":0},{"$f":"+D140+D141","v":0},0,0,0,0,0,0,0]
["Servitudes"]
["Licences and Rights",null,{"$f":"SUM(C142:C147)","v":0},{"$f":"SUM(D142:D147)","v":0},0,0,0,0,0,0,0]
["Water Rights"]
["Effluent Licenses"]
["Solid Waste Licenses"]
["Computer Software and Applications"]
["Load Settlement Software Applications"]
["Unspecified"]
[]
["Computer Equipment",null,{"$f":"SUM(C150:C150)","v":0},0,0,0,0,0,0,0,0]
["Computer Equipment"]
[]
["Furniture and Office Equipment",null,{"$f":"SUM(C153:C153)","v":0},0,0,0,0,0,0,0,0]
["Furniture and Office Equipment",null,0,0,0,0,0,0,0,0,0]
[]
["Machinery and Equipment",null,{"$f":"SUM(C156:C156)","v":93057.64},0,0,200000,0,0,0,0,0]
["Machinery and Equipment",null,93057.64,0,0,200000,0,0,0,0,0]
[]
["Transport Assets",null,{"$f":"SUM(C159:C159)","v":0},0,0,0,0,0,0,0,0]
["Transport Assets"]
[]
["Land",null,{"$f":"SUM(C162:C162)","v":0},{"$f":"SUM(D162:D162)","v":0},0,0,0,0,0,0,0]
["Land"]
[]
["Zoo's, Marine and Non-biological Animals",null,{"$f":"SUM(C165:C165)","v":0},{"$f":"SUM(D165:D165)","v":0},0,0,0,0,0,0,0]
["Zoo's, Marine and Non-biological Animals"]
[]
["Living resources"," ",{"$f":"+C168+C171","v":0},{"$f":"+D168+D171","v":0},0,0,0,0,0,0,0]
["Mature"," ",{"$f":"SUM(C169:C170)","v":0},{"$f":"SUM(D169:D170)","v":0},0,0,0,0,0,0,0]
["Policing and Protection"," "]
["Zoological plants and animals"," "]
["Immature"," ",{"$f":"SUM(C172:C173)","v":0},{"$f":"SUM(D172:D173)","v":0},0,0,0,0,0,0,0]
["Policing and Protection"," "]
["Zoological plants and animals"," "]
[""]
["Total Capital Expenditure on upgrading of existing assets ",1,{"$f":"C6+C74+C103+C110+C118+C136+C139+C149+C152+C155+C158+C161+C164+C167","v":93057.64},{"$f":"D6+D74+D103+D110+D118+D136+D139+D149+D152+D155+D158+D161+D164+D167","v":0},0,200000,0,0,6300000,5000000,10000000]
[]
["Upgrading of Existing Assets as % of total capex",null,{"$f":"IF(ISERROR(C175/'A9-Asset'!C110),0,(C175/'A9-Asset'!C110))","v":1.1525939140425358E-2},{"$f":"IF(ISERROR(D175/'A9-Asset'!D110),0,(D175/'A9-Asset'!D110))","v":0},{"$f":"IF(ISERROR(E175/'A9-Asset'!E110),0,(E175/'A9-Asset'!E110))","v":0},{"$f":"IF(ISERROR(F175/'A9-Asset'!F110),0,(F175/'A9-Asset'!F110))","v":2.6699228689987258E-3},{"$f":"IF(ISERROR(G175/'A9-Asset'!G110),0,(G175/'A9-Asset'!G110))","v":0},{"$f":"IF(ISERROR(H175/'A9-Asset'!H110),0,(H175/'A9-Asset'!H110))","v":0},{"$f":"IF(ISERROR(I175/'A9-Asset'!I110),0,(I175/'A9-Asset'!I110))","v":7.2443103416554744E-2},{"$f":"IF(ISERROR(J175/'A9-Asset'!J110),0,(J175/'A9-Asset'!J110))","v":5.393452348848498E-2},{"$f":"IF(ISERROR(K175/'A9-Asset'!K110),0,(K175/'A9-Asset'!K110))","v":0.10322324917885906}]
["Upgrading of Existing Assets as % of deprecn\"",null,{"$f":"IF(ISERROR(C175/'A9-Asset'!C183),0,(C175/'A9-Asset'!C183))","v":3.059032833420551E-3},{"$f":"IF(ISERROR(D175/'A9-Asset'!D183),0,(D175/'A9-Asset'!D183))","v":0},{"$f":"IF(ISERROR(E175/'A9-Asset'!E183),0,(E175/'A9-Asset'!E183))","v":0},{"$f":"IF(ISERROR(F175/'A9-Asset'!F183),0,(F175/'A9-Asset'!F183))","v":5.9677203024977744E-3},{"$f":"IF(ISERROR(G175/'A9-Asset'!G183),0,(G175/'A9-Asset'!G183))","v":0},{"$f":"IF(ISERROR(H175/'A9-Asset'!H183),0,(H175/'A9-Asset'!H183))","v":0},{"$f":"IF(ISERROR(I175/'A9-Asset'!I183),0,(I175/'A9-Asset'!I183))","v":0.18006041284079971},{"$f":"IF(ISERROR(J175/'A9-Asset'!J183),0,(J175/'A9-Asset'!J183))","v":0.13675130642625569},{"$f":"IF(ISERROR(K175/'A9-Asset'!K183),0,(K175/'A9-Asset'!K183))","v":0.26683181065315864}]
[{"$f":"head27a","v":"References"}]
["1.  Total Capital Expenditure  on upgrading of existing assets (SA34e) plus Total Capital Expenditure on new assets (SA34a)  plus Total Capital Expenditure  on renewal of existing assets (SA34b) must reconcile to total capital expenditure in Budgeted Capital Expenditure"]

{"sheet":"SA35","index":61,"n_rows":57,"n_cols":9,"rows_kept":57,"cut":false,"hidden":false,"merged":[[1,5,1,8],[1,2,1,4]]}
[{"$f":"muni&\" - \"&TableA35","v":"LIM351 Blouberg - Supporting Table SA35 Future financial implications of the capital budget"}]
[{"$f":"Vdesc","v":"Vote Description"},{"$f":"head27","v":"Ref"},{"$f":"Head3","v":"2025/26 Medium Term Revenue & Expenditure Framework"},null,null,"Forecasts"]
["R thousand",null,{"$f":"Head9","v":"Budget Year 2025/26"},{"$f":"Head10","v":"Budget Year +1 2026/27"},{"$f":"Head11","v":"Budget Year +2 2027/28"},{"$f":"Head12","v":"Forecast 2028/29"},{"$f":"Head13","v":"Forecast 2029/30"},{"$f":"Head14","v":"Forecast 2030/31"},{"$f":"Head48","v":"Present value"}]
["Capital expenditure",1]
[{"$f":"'A5-Capex'!A6","v":"Vote 01 - Executive & Council"},null,{"$f":"'A5-Capex'!J6+'A5-Capex'!J24","v":0},{"$f":"'A5-Capex'!K6+'A5-Capex'!K24","v":0},{"$f":"'A5-Capex'!L6+'A5-Capex'!L24","v":0}]
[{"$f":"'A5-Capex'!A7","v":"Vote 02 - Finance And Administration"},null,{"$f":"'A5-Capex'!J7+'A5-Capex'!J25","v":0},{"$f":"'A5-Capex'!K7+'A5-Capex'!K25","v":0},{"$f":"'A5-Capex'!L7+'A5-Capex'!L25","v":0}]
[{"$f":"'A5-Capex'!A8","v":"Vote 03 - Community Service"},null,{"$f":"'A5-Capex'!J8+'A5-Capex'!J26","v":0},{"$f":"'A5-Capex'!K8+'A5-Capex'!K26","v":0},{"$f":"'A5-Capex'!L8+'A5-Capex'!L26","v":0}]
[{"$f":"'A5-Capex'!A9","v":"Vote 04 - Public And Safety"},null,{"$f":"'A5-Capex'!J9+'A5-Capex'!J27","v":5700000},{"$f":"'A5-Capex'!K9+'A5-Capex'!K27","v":11000000},{"$f":"'A5-Capex'!L9+'A5-Capex'!L27","v":6723000}]
[{"$f":"'A5-Capex'!A10","v":"Vote 05 - Waste Management"},null,{"$f":"'A5-Capex'!J10+'A5-Capex'!J28","v":27917000},{"$f":"'A5-Capex'!K10+'A5-Capex'!K28","v":22600000},{"$f":"'A5-Capex'!L10+'A5-Capex'!L28","v":28393400}]
[{"$f":"'A5-Capex'!A11","v":"Vote 06 - Roads  Services"},null,{"$f":"'A5-Capex'!J11+'A5-Capex'!J29","v":0},{"$f":"'A5-Capex'!K11+'A5-Capex'!K29","v":0},{"$f":"'A5-Capex'!L11+'A5-Capex'!L29","v":0}]
[{"$f":"'A5-Capex'!A12","v":"Vote 07 - Econominc Development And Planning"},null,{"$f":"'A5-Capex'!J12+'A5-Capex'!J30","v":53347800},{"$f":"'A5-Capex'!K12+'A5-Capex'!K30","v":59105000},{"$f":"'A5-Capex'!L12+'A5-Capex'!L30","v":61761000}]
[{"$f":"'A5-Capex'!A13","v":"Vote 08 - "},null,{"$f":"'A5-Capex'!J13+'A5-Capex'!J31","v":0},{"$f":"'A5-Capex'!K13+'A5-Capex'!K31","v":0},{"$f":"'A5-Capex'!L13+'A5-Capex'!L31","v":0}]
[{"$f":"'A5-Capex'!A14","v":"Vote 09 - "},null,{"$f":"'A5-Capex'!J14+'A5-Capex'!J32","v":0},{"$f":"'A5-Capex'!K14+'A5-Capex'!K32","v":0},{"$f":"'A5-Capex'!L14+'A5-Capex'!L32","v":0}]
[{"$f":"'A5-Capex'!A15","v":"Vote 10 - "},null,{"$f":"'A5-Capex'!J15+'A5-Capex'!J33","v":0},{"$f":"'A5-Capex'!K15+'A5-Capex'!K33","v":0},{"$f":"'A5-Capex'!L15+'A5-Capex'!L33","v":0}]
[{"$f":"'A5-Capex'!A16","v":"Vote 11 - "},null,{"$f":"'A5-Capex'!J16+'A5-Capex'!J34","v":0},{"$f":"'A5-Capex'!K16+'A5-Capex'!K34","v":0},{"$f":"'A5-Capex'!L16+'A5-Capex'!L34","v":0}]
[{"$f":"'A5-Capex'!A17","v":"Vote 12 - "},null,{"$f":"'A5-Capex'!J17+'A5-Capex'!J35","v":0},{"$f":"'A5-Capex'!K17+'A5-Capex'!K35","v":0},{"$f":"'A5-Capex'!L17+'A5-Capex'!L35","v":0}]
[{"$f":"'A5-Capex'!A18","v":"Vote 13 - "},null,{"$f":"'A5-Capex'!J18+'A5-Capex'!J36","v":0},{"$f":"'A5-Capex'!K18+'A5-Capex'!K36","v":0},{"$f":"'A5-Capex'!L18+'A5-Capex'!L36","v":0}]
[{"$f":"'A5-Capex'!A19","v":"Vote 14 - "},null,{"$f":"'A5-Capex'!J19+'A5-Capex'!J37","v":0},{"$f":"'A5-Capex'!K19+'A5-Capex'!K37","v":0},{"$f":"'A5-Capex'!L19+'A5-Capex'!L37","v":0}]
[{"$f":"'A5-Capex'!A20","v":"Vote 15 - Other"},null,{"$f":"'A5-Capex'!J20+'A5-Capex'!J38","v":0},{"$f":"'A5-Capex'!K20+'A5-Capex'!K38","v":0},{"$f":"'A5-Capex'!L20+'A5-Capex'!L38","v":0}]
["List entity summary if applicable"]
["Total Capital Expenditure ",null,{"$f":"SUM(C5:C20)","v":86964800},{"$f":"SUM(D5:D20)","v":92705000},96877400,{"$f":"SUM(F5:F20)","v":0},0,0,0]
[]
["Future operational costs by vote",2]
[{"$f":"A5","v":"Vote 01 - Executive & Council"}]
[{"$f":"A6","v":"Vote 02 - Finance And Administration"}]
["Vote 03 - Community Service"]
["Vote 04 - Public And Safety"]
["Vote 05 - Waste Management"]
["Vote 06 - Roads  Services"]
["Vote 07 - Econominc Development And Planning"]
["Vote 08 - "]
["Vote 09 - "]
["Vote 10 - "]
["Vote 11 - "]
["Vote 12 - "]
["Vote 13 - "]
["Vote 14 - "]
["Vote 15 - Other"]
["List entity summary if applicable"]
["Total future operational costs",null,{"$f":"SUM(C24:C39)","v":0},{"$f":"SUM(D24:D39)","v":0},0,0,0,0,0]
[]
["Future revenue by source",3]
[{"$f":"'A4-FinPerf RE'!A5","v":"Exchange Revenue"},null,22740181,23724825,24317948]
[{"$f":"'A4-FinPerf RE'!A6","v":"Service charges - Electricity"},null,61323219,64082764,65684833]
[{"$f":"'A4-FinPerf RE'!A7","v":"Service charges - Water"},null,0,0,0]
[{"$f":"'A4-FinPerf RE'!A8","v":"Service charges - Waste Water Management"},null,0,0,0]
[{"$f":"'A4-FinPerf RE'!A9","v":"Service charges - Waste Management"},null,3250000,3396250,1481157]
[]
[{"$f":"'A4-FinPerf RE'!A11","v":"Agency services"},null,150000,156750,160669]
["List other revenues sources if applicable",null,399989512,405389597,423984613]
["List entity summary if applicable"]
["Total future revenue",null,{"$f":"SUM(C43:C47)+SUM(C49:C51)","v":487452912},{"$f":"SUM(D43:D47)+SUM(D49:D51)","v":496750186},515629220,0,0,0,0]
["Net Financial Implications",null,{"$f":"C21+C40-C52","v":-400488112},{"$f":"D21+D40-D52","v":-404045186},-418751820,0,0,0,0]
[{"$f":"head27a","v":"References"}]
["1. Summarise the total capital cost until capital project is operational (MFMA s19(2)(a))"]
["2. Summary of future operational costs from when projects operational (present value until the end of each asset's useful life) (MFMA s19(2)(b))"]
["3. Summarise the future revenue from when projects are operational, including municipal tax and tariff implications, (present value until the end of asset's useful life)"]

{"sheet":"SA36","index":62,"n_rows":79,"n_cols":17,"rows_kept":79,"cut":false,"hidden":false,"merged":[[1,12,1,13],[1,14,1,16]]}
[{"$f":"muni&\" - \"&TableA36","v":"LIM351 Blouberg - Supporting Table SA36 Detailed capital budget"}]
["R thousand",null,null,null,null,null,null,null,null,null,null,null,null,null,{"$f":"Head3","v":"2025/26 Medium Term Revenue & Expenditure Framework"}]
["Function","Project Description","Project Number","Type","MTSF Service Outcome","IUDF","Own Strategic Objectives","Asset Class","Asset Sub-Class","Ward Location","GPS Longitude","GPS Lattitude",{"$f":"Head5&\"    \"&Head1","v":"Audited Outcome    2023/24"},{"$f":"Head2 & \"        \"&Head8","v":"Current Year 2024/25        Full Year Forecast"},{"$f":"Head9","v":"Budget Year 2025/26"},{"$f":"Head10","v":"Budget Year +1 2026/27"},{"$f":"Head11","v":"Budget Year +2 2027/28"}]
["Parent municipality:"]
["List all capital projects grouped by Function"]
[]
["Administrative And Corporate Support","Procurement Of Servers","PC002003004_00003","NEW","An efficient; effective and development-oriented public service","Growth","OWN MUNICIPAL STRATEGIC OBJECTIVE                                          ","Computer Equipment","Computer Equipment","R-ADMIN OR HEAD OFFICE",0,0,0,530000,0,2000000,0]
["Administrative And Corporate Support","Procuring New Computers\\laptops_69","PC002003004_00008","NEW","An efficient; effective and development-oriented public service","Growth","OWN MUNICIPAL STRATEGIC OBJECTIVE                                          ","Computer Equipment","Computer Equipment","R-WHOLE OF MUNICIPALITY",0,0,209230.94,200000,100000,0,0]
["Administrative And Corporate Support","Furniture","PC002003005_00004","NEW","An efficient; effective and development-oriented public service","Growth","OWN MUNICIPAL STRATEGIC OBJECTIVE                                          ","Furniture And Office Equipment","Furniture And Office Equipment","R-ADMIN OR HEAD OFFICE",0,0,0,0,300000,4000000,6000000]
["Administrative And Corporate Support","Furniture At Satellite","PC002003005_00005","NEW","An efficient; effective and development-oriented public service","Growth","OWN MUNICIPAL STRATEGIC OBJECTIVE                                          ","Furniture And Office Equipment","Furniture And Office Equipment","R-ADMIN OR HEAD OFFICE",0,0,0,0,200000,0,723000]
["Administrative And Corporate Support","Fleet Management - Purchasing New A_44","PC002003010_00002","NEW",null,"Growth","OWN MUNICIPAL STRATEGIC OBJECTIVE                                          ","Transport Assets","Transport Assets","R-WHOLE OF MUNICIPALITY",0,0,0,770000,5100000,5000000,0]
["Administrative And Corporate Support","Lawn Mower","PC002002002009_00004","UPGRADING",null,"Governance","OWN MUNICIPAL STRATEGIC OBJECTIVE                                          ","Machinery And Equipment","Machinery And Equipment","R-ADMIN OR HEAD OFFICE",0,0,0,0,0,0,0]
["Economic Development/Planning","Purchase & Installation Of Thegis S_30","PC002003007002004_00003","NEW","An efficient; effective and development-oriented public service","Growth","OWN MUNICIPAL STRATEGIC OBJECTIVE                                          ","Licences And Rights","Computer Software And Applications","R-WHOLE OF MUNICIPALITY",0,0,0,600000,0,0,0]
["Electricity","Construction Of Senwarbawana Substa","PC001002001002_00001","NEW","An efficient; competitive and responsive economic infrastructure network","Growth","OWN MUNICIPAL STRATEGIC OBJECTIVE                                          ","Electrical Infrastructure","Hv Substations","R-WARD 19",0,0,15274796.1,15646271,0,16000000,16723000]
["Electricity","Electrification Of Alldays","PC001002001007_00007","NEW","An efficient; competitive and responsive economic infrastructure network","Growth","OWN MUNICIPAL STRATEGIC OBJECTIVE                                          ","Electrical Infrastructure","Mv Networks","R-WARD 18",0,0,1182894.45,0,0,0,0]
["Electricity","Electrification Of Bayswater Ex","PC001002001007_00006","NEW","An efficient; competitive and responsive economic infrastructure network","Growth","OWN MUNICIPAL STRATEGIC OBJECTIVE                                          ","Electrical Infrastructure","Mv Networks","R-WARD 1",0,0,466155.66,0,0,0,0]
["Electricity","Electrification Of Mochimi Ext","PC001002001007_00005","NEW","An efficient; competitive and responsive economic infrastructure network","Growth","OWN MUNICIPAL STRATEGIC OBJECTIVE                                          ","Electrical Infrastructure","Mv Networks","R-WARD 14",0,0,304347.83,0,0,0,0]
["Electricity","Electrification Of Mongalo Ext","PC001002001007_00004","NEW","An efficient; competitive and responsive economic infrastructure network","Growth","OWN MUNICIPAL STRATEGIC OBJECTIVE                                          ","Electrical Infrastructure","Mv Networks","R-WARD 3",0,0,869565.22,0,0,0,0]
["Electricity","Electrification Of Simpson Ext","PC001002001007_00003","NEW","An efficient; competitive and responsive economic infrastructure network","Growth","OWN MUNICIPAL STRATEGIC OBJECTIVE                                          ","Electrical Infrastructure","Mv Networks","R-WARD 17",0,0,189535.42,0,0,0,0]
["Electricity","Electrification Of Swartz Ext","PC001002001007_00002","NEW","An efficient; competitive and responsive economic infrastructure network","Growth","OWN MUNICIPAL STRATEGIC OBJECTIVE                                          ","Electrical Infrastructure","Mv Networks","R-WARD 4",0,0,768107.46,0,0,0,0]
["Electricity","Electrification Of Sweethome","PC001002001007_00001","NEW","An efficient; competitive and responsive economic infrastructure network","Growth","OWN MUNICIPAL STRATEGIC OBJECTIVE                                          ","Electrical Infrastructure","Mv Networks","R-WARD 6",0,0,1217391.3,0,0,0,0]
["Electricity","Electrification Of Witten","PC001002001008_00018","NEW","An efficient; competitive and responsive economic infrastructure network","Growth","OWN MUNICIPAL STRATEGIC OBJECTIVE                                          ","Electrical Infrastructure","Lv Networks","R-WARD 19",0,0,0,2073531,0,0,0]
["Electricity","Hydraulic Step  Ladder","PC002003009_00005","NEW",null,"Growth","OWN MUNICIPAL STRATEGIC OBJECTIVE                                          ","Machinery And Equipment","Machinery And Equipment","R-WHOLE OF MUNICIPALITY",0,0,47098.11,0,0,0,0]
["Electricity","Replacement Of Meters/Others Electrical","PC002003009_00007","NEW",null,"Growth",null,"Machinery And Equipment","Machinery And Equipment","R-ADMIN OR HEAD OFFICE",0,0,0,0,2900000,500000,522000]
["Electricity","Smart Meter Project","PC002003009_00004","NEW",null,"Growth","OWN MUNICIPAL STRATEGIC OBJECTIVE                                          ","Machinery And Equipment","Machinery And Equipment","R-WHOLE OF MUNICIPALITY",0,0,0,5200000,0,0,0]
["Electricity","Installation Solar Panel & Meters","PC001001001001004_00001","RENEWAL","An efficient; competitive and responsive economic infrastructure network","Inclusion and Access","OWN MUNICIPAL STRATEGIC OBJECTIVE                                          ","Electrical Infrastructure","Hv Transmission Conductors","R-ADMIN OR HEAD OFFICE",0,0,0,0,0,0,0]
["Electricity","Electrification 11","PC001001001001008_00011","RENEWAL","An efficient; competitive and responsive economic infrastructure network","Inclusion and Access","OWN MUNICIPAL STRATEGIC OBJECTIVE                                          ","Electrical Infrastructure","Lv Networks","R-ADMIN OR HEAD OFFICE",0,0,0,692130,0,0,0]
["Electricity","Installation Of New Emergency Trans_127","PC001001001001009_00003","RENEWAL","An efficient; competitive and responsive economic infrastructure network","Inclusion and Access","OWN MUNICIPAL STRATEGIC OBJECTIVE                                          ","Electrical Infrastructure","Capital Spares","R-WHOLE OF MUNICIPALITY",0,0,837890.78,1900000,2000000,600000,626400]
["Electricity","Replacement Of Dilapidated Poles","PC001001001001009_00004","RENEWAL","An efficient; competitive and responsive economic infrastructure network","Inclusion and Access","OWN MUNICIPAL STRATEGIC OBJECTIVE                                          ","Electrical Infrastructure","Capital Spares","R-WHOLE OF MUNICIPALITY",0,0,0,3600000,1000000,500000,522000]
["Electricity","Replacement Of Roofing Municipal Buildng","PC002002002003001001_00001","UPGRADING","An efficient; effective and development-oriented public service","Governance",null,"Operational Buildings","Municipal Offices","R-ADMIN OR HEAD OFFICE",0,0,0,0,6300000,5000000,10000000]
["Police Forces, Traffic And Street Parking Control","Furniture","PC002003005_00005","NEW","An efficient; effective and development-oriented public service","Growth","OWN MUNICIPAL STRATEGIC OBJECTIVE                                          ","Furniture And Office Equipment","Furniture And Office Equipment","R-ADMIN OR HEAD OFFICE",0,0,0,200000,0,0,0]
["Project Management Unit","Constr Of Access Road Bosehla To Thalane","PC001002006001_00006","NEW","An efficient; competitive and responsive economic infrastructure network","Growth","OWN MUNICIPAL STRATEGIC OBJECTIVE                                          ","Roads Infrastructure","Roads","R-WARD 14",0,0,0,0,0,0,0]
["Project Management Unit","Constr Of Access Road Bosehla To Thalane","PC001002006001_00012","NEW","An efficient; competitive and responsive economic infrastructure network","Growth","OWN MUNICIPAL STRATEGIC OBJECTIVE                                          ","Roads Infrastructure","Roads","R-WARD 14",0,0,1909974.76,14041762,23648815,0,0]
["Project Management Unit","Constr Of Kobe Inter Str & Storm","PC001002006001_00007","NEW","An efficient; competitive and responsive economic infrastructure network","Growth","OWN MUNICIPAL STRATEGIC OBJECTIVE                                          ","Roads Infrastructure","Roads","R-WARD 14",0,0,0,0,0,0,0]
["Project Management Unit","Constr Of Kobe Inter Str & Storm","PC001002006001_00016","NEW","An efficient; competitive and responsive economic infrastructure network","Growth","OWN MUNICIPAL STRATEGIC OBJECTIVE                                          ","Roads Infrastructure","Roads","R-WARD 14",0,0,0,4224000,10535321,0,0]
["Project Management Unit","Constr Of Kwarung Inter Stre & Storm","PC001002006001_00005","NEW","An efficient; competitive and responsive economic infrastructure network","Growth","OWN MUNICIPAL STRATEGIC OBJECTIVE                                          ","Roads Infrastructure","Roads","R-WARD 14",0,0,0,0,0,0,0]
["Project Management Unit","Constr Of Kwarung Inter Stre & Storm","PC001002006001_00011","NEW","An efficient; competitive and responsive economic infrastructure network","Growth","OWN MUNICIPAL STRATEGIC OBJECTIVE                                          ","Roads Infrastructure","Roads","R-WARD 14",0,0,1707913.94,12953893,8209260,59105000,61761000]
["Project Management Unit","Construction Alldays Internal Street","PC001002006001_00008","NEW","An efficient; competitive and responsive economic infrastructure network","Growth","OWN MUNICIPAL STRATEGIC OBJECTIVE                                          ","Roads Infrastructure","Roads","R-WARD 18",0,0,1138942.8600000001,0,0,0,0]
["Project Management Unit","Ga-Mochemi Access And Internal Streets","PC001002006001_00009","NEW","An efficient; competitive and responsive economic infrastructure network","Growth","OWN MUNICIPAL STRATEGIC OBJECTIVE                                          ","Roads Infrastructure","Roads","R-WARD 14",0,0,28154280.489999998,624732,0,0,0]
["Project Management Unit","Lethaleng -Pickum Access Road&Storm Ctrl","PC001002006001_00007","NEW","An efficient; competitive and responsive economic infrastructure network","Growth","OWN MUNICIPAL STRATEGIC OBJECTIVE                                          ","Roads Infrastructure","Roads","R-WARD 11",0,0,0,0,0,0,0]
["Project Management Unit","Lethaleng -Pickum Access Road&Storm Ctrl","PC001002006001_00010","NEW","An efficient; competitive and responsive economic infrastructure network","Growth","OWN MUNICIPAL STRATEGIC OBJECTIVE                                          ","Roads Infrastructure","Roads","R-WARD 11",0,0,24315809.199999999,18678333,0,0,0]
["Project Management Unit","Witten To Millenium Park Internal Street","PC001002006001_00005","NEW","An efficient; competitive and responsive economic infrastructure network","Growth","OWN MUNICIPAL STRATEGIC OBJECTIVE                                          ","Roads Infrastructure","Roads","R-WARD 10",0,0,0,0,1500000,0,0]
["Project Management Unit","Furniture","PC002003005_00004","NEW","An efficient; effective and development-oriented public service","Growth","OWN MUNICIPAL STRATEGIC OBJECTIVE                                          ","Furniture And Office Equipment","Furniture And Office Equipment","R-ADMIN OR HEAD OFFICE",0,0,0,588451,50000,0,0]
["Project Management Unit","Purchase Of Specialized Waste Vehicles","PC002003010_00002","NEW",null,"Growth","OWN MUNICIPAL STRATEGIC OBJECTIVE                                          ","Transport Assets","Transport Assets","R-WHOLE OF MUNICIPALITY",0,0,0,0,9404404,0,0]
["Project Management Unit","Avon Multipurpose Community Centre","PC002003002001001_00002","NEW","An efficient; effective and development-oriented public service","Growth","OWN MUNICIPAL STRATEGIC OBJECTIVE                                          ","Community Facilities","Halls","R-WARD 10",0,0,423125,0,0,0,0]
["Project Management Unit","Avon Multipurpose Community Centre","PC002003002001001_00005","NEW","An efficient; effective and development-oriented public service","Growth","OWN MUNICIPAL STRATEGIC OBJECTIVE                                          ","Community Facilities","Halls","R-WARD 10",0,0,0,3619079,0,0,0]
["Project Management Unit","Danzig Creche","PC002003002001001_00003","NEW","An efficient; effective and development-oriented public service","Growth","OWN MUNICIPAL STRATEGIC OBJECTIVE                                          ","Community Facilities","Halls","R-WARD 17",0,0,876968.23,0,0,0,0]
["Project Management Unit","Mongalo Creche","PC002003002001001_00004","NEW","An efficient; effective and development-oriented public service","Growth","OWN MUNICIPAL STRATEGIC OBJECTIVE                                          ","Community Facilities","Halls","R-WARD 3",0,0,862859.84,0,0,0,0]
["Roads","Kroemhoek Phase 3","PC001001001006001_00001","RENEWAL","An efficient; competitive and responsive economic infrastructure network","Inclusion and Access","OWN MUNICIPAL STRATEGIC OBJECTIVE                                          ","Roads Infrastructure","Roads","R-ADMIN OR HEAD OFFICE",0,0,0,796014,0,0,0]
["Roads","Rehabilitation Of Senwabarwana-Storm","PC001001001006001_00005","RENEWAL","An efficient; competitive and responsive economic infrastructure network","Inclusion and Access","OWN MUNICIPAL STRATEGIC OBJECTIVE                                          ","Roads Infrastructure","Roads","R-WARD 19",0,0,0,0,0,0,0]
["Roads","Const Of Blouberg Sw Ret Ponds Wip","PC001002006001_00012","NEW","An efficient; competitive and responsive economic infrastructure network","Growth",null,"Roads Infrastructure","Roads","R-WARD 19",0,0,0,0,15717000,0,0]
["Roads","Const Of Swater Ret Ponds Ind/Avon2","PC001002006001_00017","NEW","An efficient; competitive and responsive economic infrastructure network","Growth","OWN MUNICIPAL STRATEGIC OBJECTIVE                                          ","Roads Infrastructure","Roads","R-WARD 10",0,0,0,10000000,0,0,0]
["Roads","Deseign And Re-Gravilling Of Dansig2","PC001002006001_00018","NEW","An efficient; competitive and responsive economic infrastructure network","Growth","OWN MUNICIPAL STRATEGIC OBJECTIVE                                          ","Roads Infrastructure","Roads","R-WARD 17",0,0,0,5716000,0,0,0]
["Roads","Re-Graveling Ga-Kgatla Access Road","PC001002006001_00015","NEW","An efficient; competitive and responsive economic infrastructure network","Growth","OWN MUNICIPAL STRATEGIC OBJECTIVE                                          ","Roads Infrastructure","Roads","R-WARD 6",0,0,964394.84,3990945,0,0,0]
["Roads","Rehabilitation Of Alldays Inter & Storm","PC001002006001_00014","NEW","An efficient; competitive and responsive economic infrastructure network","Growth","OWN MUNICIPAL STRATEGIC OBJECTIVE                                          ","Roads Infrastructure","Roads","R-WHOLE OF MUNICIPALITY",0,0,858247.01,16013015,0,0,0]
["Roads","Rehabilitation Of Senwabarwana Storm","PC001002006001_00013","NEW","An efficient; competitive and responsive economic infrastructure network","Growth","OWN MUNICIPAL STRATEGIC OBJECTIVE                                          ","Roads Infrastructure","Roads","R-WARD 19",0,0,1999117.98,22701014,0,0,0]
["Solid Waste Disposal (Landfill Sites)","Cemetery Digging Compressor","PC002003009_00012","NEW",null,"Growth","OWN MUNICIPAL STRATEGIC OBJECTIVE                                          ","Machinery And Equipment","Machinery And Equipment","R-WHOLE OF MUNICIPALITY",0,0,0,150000,0,0,0]
["Solid Waste Disposal (Landfill Sites)","Acquisition  Of Machinery","PC002002002009_00004","UPGRADING",null,"Governance","OWN MUNICIPAL STRATEGIC OBJECTIVE                                          ","Machinery And Equipment","Machinery And Equipment","R-ADMIN OR HEAD OFFICE",0,0,0,0,0,0,0]
["Parent Capital expenditure",null,null,null,null,null,null,null,null,null,null,null,{"$f":"SUM(M7:M58)","v":84578647.420000017},{"$f":"SUM(N7:N58)","v":145509170},{"$f":"SUM(O7:O58)","v":86964800},{"$f":"SUM(P7:P58)","v":92705000},{"$f":"SUM(Q7:Q58)","v":96877400}]
[]
["Entities:"]
["List all capital projects grouped by Entity"]
["Entity A"]
["Water project A"]
[]
["Entity B"]
["Electricity project B"]
[]
[]
[]
["Entity Capital expenditure",null,null,null,null,null,null,null,null,null,null,null,{"$f":"SUM(M63:M70)","v":0},{"$f":"SUM(N63:N70)","v":0},{"$f":"SUM(O63:O70)","v":0},{"$f":"SUM(P63:P70)","v":0},{"$f":"SUM(Q63:Q70)","v":0}]
["Total Capital expenditure",null,null,null,null,null,null,null,null,null,null,null,{"$f":"SUM(M7:M58)+SUM(M63:M70)","v":84578647.420000017},{"$f":"SUM(N7:N58)+SUM(N63:N70)","v":145509170},{"$f":"SUM(O7:O58)+SUM(O63:O70)","v":86964800},{"$f":"SUM(P7:P58)+SUM(P63:P70)","v":92705000},{"$f":"SUM(Q7:Q58)+SUM(Q63:Q70)","v":96877400}]
[{"$f":"head27a","v":"References"}]
["Must reconcile with Budgeted Capital Expenditure"]
["Projects that fall above the threshold values applicable to the municipality as identified in regulation 13 of the Municipal Budget and Reporting Regulations must be listed individually. Other projects by Function"]
["Asset class as per table A9 and asset sub-class as per table SA34"]
["GPS coordinates correct to seconds. Provide a logical starting point on networked infrastructure."]
["Distinguish projects approved in terms of MFMA section 19(1)(b) and MRRR Regulation 13",null,null,null,null,null,null,null,null,null,null,"check",{"$f":"SUM(SA34a!E175+SA34b!E175+SA34e!E175)-'SA36'!M72","v":0},{"$f":"SUM(SA34a!H175+SA34b!H175+SA34e!H175)-'SA36'!N72","v":0},{"$f":"SUM(SA34a!I175+SA34b!I175+SA34e!I175)-'SA36'!O72","v":0},{"$f":"SUM(SA34a!J175+SA34b!J175+SA34e!J175)-'SA36'!P72","v":0},{"$f":"SUM(SA34a!K175+SA34b!K175+SA34e!K175)-'SA36'!Q72","v":0}]
["Project Number consists of MSCOA Project Longcode and seq No (sample PC001002006002_00002)"]

{"sheet":"SA37","index":63,"n_rows":21,"n_cols":18,"rows_kept":21,"cut":false,"hidden":false,"merged":[[1,12,2,12],[1,13,1,14],[1,15,1,17]]}
[{"$f":"muni&\" - \"&TableA37","v":"LIM351 Blouberg - Supporting Table SA37 Projects delayed from previous financial year/s"}]
["R thousand",null,null,null,null,null,null,null,null,null,null,null,{"$f":"Head47","v":"Previous target year to complete"},{"$f":"Head2","v":"Current Year 2024/25"},null,{"$f":"Head3","v":"2025/26 Medium Term Revenue & Expenditure Framework"}]
["Function","Project name","Project number","Type","MTSF Service Outcome","IUDF","Own Strategic Objectives","Asset Class","Asset Sub-Class","Ward Location","GPS Longitude","GPS Lattitude",null,{"$f":"Head6","v":"Original Budget"},{"$f":"Head8","v":"Full Year Forecast"},{"$f":"Head9","v":"Budget Year 2025/26"},{"$f":"Head10","v":"Budget Year +1 2026/27"},{"$f":"Head11","v":"Budget Year +2 2027/28"}]
["Parent municipality:"]
["List all capital projects grouped by Function"]
[]
[]
["Entities:"]
["List all capital projects grouped by Entity"]
[]
["Entity Name"]
["Project name"]
[]
[]
[]
[]
[{"$f":"head27a","v":"References"}]
["List all projects with planned completion dates in current year that have been re-budgeted in the MTREF"]
["Asset class as per table A9 and asset sub-class as per table SA34"]
["GPS coordinates correct to seconds. Provide a logical starting point on networked infrastructure."]
["Project Number consists of MSCOA Project Longcode and seq No (sample PC001002006002_00002)"]

{"sheet":"SA38","index":64,"n_rows":161,"n_cols":17,"rows_kept":161,"cut":false,"hidden":false,"merged":[[1,12,1,13],[1,14,1,16]]}
[{"$f":"muni&\" - \"&TableA38","v":"LIM351 Blouberg - Supporting Table SA38 Consolidated detailed operational projects"}]
["R thousand",null,null,null,null,null,null,null,null,null,null,null,"Prior year outcomes",null,{"$f":"Head3","v":"2025/26 Medium Term Revenue & Expenditure Framework"}]
["Function","Project Description","Project Number","Type","MTSF Service Outcome","IUDF","Own Strategic Objectives","Asset Class","Asset Sub-Class","Ward Location","GPS Longitude","GPS Lattitude",{"$f":"Head5&\"    \"&Head1","v":"Audited Outcome    2023/24"},{"$f":"Head2 & \"        \"&Head8","v":"Current Year 2024/25        Full Year Forecast"},{"$f":"Head9","v":"Budget Year 2025/26"},{"$f":"Head10","v":"Budget Year +1 2026/27"},{"$f":"Head11","v":"Budget Year +2 2027/28"}]
["Parent municipality:"]
["List all operational projects grouped by Function"]
[]
["Administrative And Corporate Support","Operational:Municipal Running Cost","PO002_00000","Municipal Running Cost","Sustainable human settlements and improved quality of household life","Governance","OWN MUNICIPAL STRATEGIC OBJECTIVE                                          ",null,null,"R-ADMIN OR HEAD OFFICE",0,0,52996498.549999997,63391937,60287233,63000159,64575168]
["Administrative And Corporate Support","Operational:Municipal Running Cost","PO002_00000","Municipal Running Cost","Sustainable human settlements and improved quality of household life","Governance","OWN MUNICIPAL STRATEGIC OBJECTIVE                                          ",null,null,"R-WHOLE OF MUNICIPALITY",0,0,1814908.04,1929891,2014807,2105474,2158111]
["Administrative And Corporate Support","Budget Road Show Public Participation","PO003006002_00001","Work Streams","Sustainable human settlements and improved quality of household life","Inclusion and Access","OWN MUNICIPAL STRATEGIC OBJECTIVE                                          ",null,null,"R-ADMIN OR HEAD OFFICE",0,0,329547.8,324500,300000,313500,321338]
["Administrative And Corporate Support","Capacity Building Councillors","PO003004002_00001","Work Streams","A skilled and capable workforce to support an inclusive growth path","Governance","OWN MUNICIPAL STRATEGIC OBJECTIVE                                          ",null,null,"R-ADMIN OR HEAD OFFICE",0,0,95905.57,200000,204400,213598,218939]
["Administrative And Corporate Support","Capacity Building Councillors","PO003004002_00002","Work Streams","A skilled and capable workforce to support an inclusive growth path","Governance","OWN MUNICIPAL STRATEGIC OBJECTIVE                                          ",null,null,"R-ADMIN OR HEAD OFFICE",0,0,427695,524000,498136,520553,533566]
["Administrative And Corporate Support","Capacity Building Councillors","PO003004002_00003","Work Streams","A skilled and capable workforce to support an inclusive growth path","Governance","OWN MUNICIPAL STRATEGIC OBJECTIVE                                          ",null,null,"R-ADMIN OR HEAD OFFICE",0,0,769810.61,750000,700000,731500,749788]
["Administrative And Corporate Support","Capacity Building Councillors","PO003004002_00004","Work Streams","A skilled and capable workforce to support an inclusive growth path","Governance","OWN MUNICIPAL STRATEGIC OBJECTIVE                                          ",null,null,"R-ADMIN OR HEAD OFFICE",0,0,6426717.6399999997,3600000,5035852,5262465,5394027]
["Administrative And Corporate Support","Capacity Building Local Municipalities (District Boundaries)","PO003004003_00009","Work Streams","A skilled and capable workforce to support an inclusive growth path","Governance","OWN MUNICIPAL STRATEGIC OBJECTIVE                                          ",null,null,"R-ADMIN OR HEAD OFFICE",0,0,-8218744.6799999997,0,0,0,0]
["Administrative And Corporate Support","Capacity Building Local Municipalities (District Boundaries)","PO003004003_00014","Work Streams","A skilled and capable workforce to support an inclusive growth path","Governance","OWN MUNICIPAL STRATEGIC OBJECTIVE                                          ",null,null,"R-ADMIN OR HEAD OFFICE",0,0,0,980000,1049065,1445361,1481495]
["Administrative And Corporate Support","Capacity Building Local Municipalities (District Boundaries)","PO003004003_00022","Work Streams","A skilled and capable workforce to support an inclusive growth path","Governance","OWN MUNICIPAL STRATEGIC OBJECTIVE                                          ",null,null,"R-ADMIN OR HEAD OFFICE",0,0,0,1711940,2921321,2390193,2449948]
["Administrative And Corporate Support","Capacity Building Unemployed","PO003004004_00002","Work Streams","A skilled and capable workforce to support an inclusive growth path","Governance","OWN MUNICIPAL STRATEGIC OBJECTIVE                                          ",null,null,"R-ADMIN OR HEAD OFFICE",0,0,86323.71,140000,100000,104500,107113]
["Administrative And Corporate Support","Clinic Programmes","PO003019001_00001","Work Streams","A long and healthy life for all South Africans","Inclusion and Access","OWN MUNICIPAL STRATEGIC OBJECTIVE                                          ",null,null,"R-ADMIN OR HEAD OFFICE",0,0,710445.41,0,0,0,0]
["Administrative And Corporate Support","Disaster Relief","PO003014003_00001","Work Streams","A comprehensive; responsive and sustainable social protection system","Governance","OWN MUNICIPAL STRATEGIC OBJECTIVE                                          ",null,null,"R-ADMIN OR HEAD OFFICE",0,0,27200,40000,41760,43640,44731]
["Administrative And Corporate Support","Employee Assistance Programme","PO003020002_00001","Work Streams","Responsive; accountable; effective and efficient local government","Governance","OWN MUNICIPAL STRATEGIC OBJECTIVE                                          ",null,null,"R-ADMIN OR HEAD OFFICE",0,0,115415,250000,256600,268147,274852]
["Administrative And Corporate Support","Employee Assistance Programme","PO003020002_00002","Work Streams","Responsive; accountable; effective and efficient local government","Governance","OWN MUNICIPAL STRATEGIC OBJECTIVE                                          ",null,null,"R-ADMIN OR HEAD OFFICE",0,0,6359.82,0,0,0,0]
["Administrative And Corporate Support","Human Resource Management","PO003020003_00001","Work Streams","Responsive; accountable; effective and efficient local government","Governance","OWN MUNICIPAL STRATEGIC OBJECTIVE                                          ",null,null,"R-ADMIN OR HEAD OFFICE",0,0,0,145000,140000,146300,149958]
["Administrative And Corporate Support","Meetings","PO003048002_00001","Work Streams","Responsive; accountable; effective and efficient local government","Inclusion and Access","OWN MUNICIPAL STRATEGIC OBJECTIVE                                          ",null,null,"R-ADMIN OR HEAD OFFICE",0,0,83076.399999999994,44410,46365,48451,49662]
["Administrative And Corporate Support","Municipal Health Service","PO003019004_00001","Work Streams","A long and healthy life for all South Africans","Inclusion and Access","OWN MUNICIPAL STRATEGIC OBJECTIVE                                          ",null,null,"R-ADMIN OR HEAD OFFICE",0,0,90396,0,0,0,0]
["Administrative And Corporate Support","Operational:Typical Work Streams:Capacity Building Training And Development:Workshops; Seminars And ","PO003004010_00001","Work Streams","A skilled and capable workforce to support an inclusive growth path","Governance","OWN MUNICIPAL STRATEGIC OBJECTIVE                                          ",null,null,"R-ADMIN OR HEAD OFFICE",0,0,380695.23,300000,313200,327294,335477]
["Administrative And Corporate Support","Operational:Typical Work Streams:Capacity Building Training And Development:Workshops; Seminars And ","PO003004010_00013","Work Streams","A skilled and capable workforce to support an inclusive growth path","Governance","OWN MUNICIPAL STRATEGIC OBJECTIVE                                          ",null,null,"R-ADMIN OR HEAD OFFICE",0,0,1494163.58,918524,900000,940500,964013]
["Administrative And Corporate Support","Operational:Typical Work Streams:Capacity Building Training And Development:Workshops; Seminars And ","PO003004010_00017","Work Streams","A skilled and capable workforce to support an inclusive growth path","Governance","OWN MUNICIPAL STRATEGIC OBJECTIVE                                          ",null,null,"R-ADMIN OR HEAD OFFICE",0,0,317196.73,170000,208800,218196,223651]
["Administrative And Corporate Support","Public Participation Meeting","PO003006006_00003","Work Streams","Sustainable human settlements and improved quality of household life","Inclusion and Access","OWN MUNICIPAL STRATEGIC OBJECTIVE                                          ",null,null,"R-ADMIN OR HEAD OFFICE",0,0,752358,700000,663200,745294,763927]
["Administrative And Corporate Support","Public Protection And Safety","PO003038_00001","Work Streams","All people in South Africa are and feel safe","Inclusion and Access","OWN MUNICIPAL STRATEGIC OBJECTIVE                                          ",null,null,"R-ADMIN OR HEAD OFFICE",0,0,0,20000,20000,20900,21423]
["Administrative And Corporate Support","Ward Initiatives","PO003048001_00004","Work Streams","Responsive; accountable; effective and efficient local government","Inclusion and Access","OWN MUNICIPAL STRATEGIC OBJECTIVE                                          ",null,null,"R-ADMIN OR HEAD OFFICE",0,0,4520861,5148492,4724795,5982411,6131971]
["Administrative And Corporate Support","External Facilities","PO001002002001002001016003_00001","Corrective Maintenance","An efficient; effective and development-oriented public service","Inclusion and Access","OWN MUNICIPAL STRATEGIC OBJECTIVE                                          ","Community Facilities","Public Ablution Facilities","R-ADMIN OR HEAD OFFICE",0,0,0,100000,200000,104500,107113]
["Administrative And Corporate Support","Computer Equipment","PO001002002001004_00002","Corrective Maintenance","An efficient; effective and development-oriented public service","Governance","OWN MUNICIPAL STRATEGIC OBJECTIVE                                          ","Computer Equipment","Computer Equipment","R-ADMIN OR HEAD OFFICE",0,0,28000,109652,114477,119629,122619]
["Administrative And Corporate Support","Computer Equipment","PO001002002001004_00003","Corrective Maintenance","An efficient; effective and development-oriented public service","Governance","OWN MUNICIPAL STRATEGIC OBJECTIVE                                          ","Computer Equipment","Computer Equipment","R-ADMIN OR HEAD OFFICE",0,0,188000,237699,248158,259325,265808]
["Administrative And Corporate Support","Furniture And Office Equipment","PO001002001002005_00001","Preventative Maintenance","An efficient; effective and development-oriented public service","Governance","OWN MUNICIPAL STRATEGIC OBJECTIVE                                          ","Furniture And Office Equipment","Furniture And Office Equipment","R-ADMIN OR HEAD OFFICE",0,0,49760,74722,78010,81521,83559]
["Administrative And Corporate Support","Communication Equipment","PO001001001001006002004_00001",null,"An efficient; competitive and responsive economic infrastructure network","Governance","OWN MUNICIPAL STRATEGIC OBJECTIVE                                          ","Information And Communication Infrastructure","Core Layers","R-ADMIN OR HEAD OFFICE",0,0,0,100000,100000,104500,107113]
["Administrative And Corporate Support","Machinery And Equipment","PO001002002002009_00001","Corrective Maintenance",null,"Governance","OWN MUNICIPAL STRATEGIC OBJECTIVE                                          ","Machinery And Equipment","Machinery And Equipment","R-ADMIN OR HEAD OFFICE",0,0,0,30000,31320,32730,33548]
["Administrative And Corporate Support","Transport Assets","PO001002002001010_00001","Corrective Maintenance",null,"Governance","OWN MUNICIPAL STRATEGIC OBJECTIVE                                          ","Transport Assets","Transport Assets","R-ADMIN OR HEAD OFFICE",0,0,3007642.17,1241648,1296281,1354614,1388479]
["Mayor And Council","Operational:Municipal Running Cost","PO002_00000","Municipal Running Cost","Sustainable human settlements and improved quality of household life","Governance","OWN MUNICIPAL STRATEGIC OBJECTIVE                                          ",null,null,"R-ADMIN OR HEAD OFFICE",0,0,19212717.030000001,21997665,22965572,23999024,24599002]
["Mayor And Council","Aids Day","PO003002003_00001","Work Streams","A long and healthy life for all South Africans","Inclusion and Access","OWN MUNICIPAL STRATEGIC OBJECTIVE                                          ",null,null,"R-ADMIN OR HEAD OFFICE",0,0,197180,180509,173713,181531,186070]
["Mayor And Council","Capacity Building Local Municipalities (District Boundaries)","PO003004003_00017","Work Streams","A skilled and capable workforce to support an inclusive growth path","Governance","OWN MUNICIPAL STRATEGIC OBJECTIVE                                          ",null,null,"R-ADMIN OR HEAD OFFICE",0,0,0,23374,24403,25501,26139]
["Mayor And Council","Capacity Building Local Municipalities (District Boundaries)","PO003004003_00018","Work Streams","A skilled and capable workforce to support an inclusive growth path","Governance","OWN MUNICIPAL STRATEGIC OBJECTIVE                                          ",null,null,"R-ADMIN OR HEAD OFFICE",0,0,186000,196778,200000,209000,214225]
["Mayor And Council","Capacity Building Unemployed","PO003004004_00001","Work Streams","A skilled and capable workforce to support an inclusive growth path","Governance","OWN MUNICIPAL STRATEGIC OBJECTIVE                                          ",null,null,"R-ADMIN OR HEAD OFFICE",0,0,0,12450,12998,13583,13923]
["Mayor And Council","Child Programmes","PO003007001_00001","Work Streams","A comprehensive; responsive and sustainable social protection system","Inclusion and Access","OWN MUNICIPAL STRATEGIC OBJECTIVE                                          ",null,null,"R-ADMIN OR HEAD OFFICE",0,0,192120,228235,215726,225433,231070]
["Mayor And Council","Civic Functions","PO003017001_00001","Work Streams","An efficient; effective and development-oriented public service","Inclusion and Access","OWN MUNICIPAL STRATEGIC OBJECTIVE                                          ",null,null,"R-ADMIN OR HEAD OFFICE",0,0,0,111687,50000,52250,53557]
["Mayor And Council","Disability","PO003007004_00001","Work Streams","A comprehensive; responsive and sustainable social protection system","Inclusion and Access","OWN MUNICIPAL STRATEGIC OBJECTIVE                                          ",null,null,"R-ADMIN OR HEAD OFFICE",0,0,113860,115637,117591,122883,125955]
["Mayor And Council","Education And Training","PO003007005_00002","Work Streams","A comprehensive; responsive and sustainable social protection system","Inclusion and Access","OWN MUNICIPAL STRATEGIC OBJECTIVE                                          ",null,null,"R-ADMIN OR HEAD OFFICE",0,0,126000,60105,54379,56826,58247]
["Mayor And Council","Elderly","PO003007007_00006","Work Streams","A comprehensive; responsive and sustainable social protection system","Inclusion and Access","OWN MUNICIPAL STRATEGIC OBJECTIVE                                          ",null,null,"R-ADMIN OR HEAD OFFICE",0,0,223295,266354,239456,250232,256489]
["Mayor And Council","Gender Development","PO003007011_00001","Work Streams","A comprehensive; responsive and sustainable social protection system","Inclusion and Access","OWN MUNICIPAL STRATEGIC OBJECTIVE                                          ",null,null,"R-ADMIN OR HEAD OFFICE",0,0,85100,94597,85624,89477,91715]
["Mayor And Council","Inter Governmental Relations (Igr) Programme","PO003044010_00001","Work Streams","Responsive; accountable; effective and efficient local government","Inclusion and Access","OWN MUNICIPAL STRATEGIC OBJECTIVE                                          ",null,null,"R-ADMIN OR HEAD OFFICE",0,0,0,20980,21904,22890,23462]
["Mayor And Council","Newsletters","PO003006005_00001","Work Streams","Sustainable human settlements and improved quality of household life","Inclusion and Access","OWN MUNICIPAL STRATEGIC OBJECTIVE                                          ",null,null,"R-ADMIN OR HEAD OFFICE",0,0,305496.89,230750,150000,156750,160669]
["Mayor And Council","Productions And Shows","PO003026003_00001","Work Streams","An efficient; effective and development-oriented public service","Inclusion and Access","OWN MUNICIPAL STRATEGIC OBJECTIVE                                          ",null,null,"R-ADMIN OR HEAD OFFICE",0,0,178000,330435,344975,360498,369511]
["Mayor And Council","Special Events And Functions","PO003017005_00004","Work Streams","An efficient; effective and development-oriented public service","Inclusion and Access","OWN MUNICIPAL STRATEGIC OBJECTIVE                                          ",null,null,"R-ADMIN OR HEAD OFFICE",0,0,0,0,0,0,0]
["Mayor And Council","Special Events And Functions","PO003017005_00005","Work Streams","An efficient; effective and development-oriented public service","Inclusion and Access","OWN MUNICIPAL STRATEGIC OBJECTIVE                                          ",null,null,"R-ADMIN OR HEAD OFFICE",0,0,687012.39,566460,350000,418000,428450]
["Mayor And Council","Youth Development","PO003007017002_00002","Work Streams","A comprehensive; responsive and sustainable social protection system","Inclusion and Access","OWN MUNICIPAL STRATEGIC OBJECTIVE                                          ",null,null,"R-ADMIN OR HEAD OFFICE",0,0,260310,242319,200000,209000,214225]
["Municipal Manager, Town Secretary And Chief Executive","Operational:Municipal Running Cost","PO002_00000","Municipal Running Cost","Sustainable human settlements and improved quality of household life","Governance","OWN MUNICIPAL STRATEGIC OBJECTIVE                                          ",null,null,"R-ADMIN OR HEAD OFFICE",0,0,42093504.93,39877564,21048447,27095887,27545977]
["Municipal Manager, Town Secretary And Chief Executive","Operational:Municipal Running Cost","PO002_00000","Municipal Running Cost","Sustainable human settlements and improved quality of household life","Governance","OWN MUNICIPAL STRATEGIC OBJECTIVE                                          ",null,null,"R-WHOLE OF MUNICIPALITY",0,0,0,25711,26843,28051,28752]
["Municipal Manager, Town Secretary And Chief Executive","Administrative Strategy And Planning","PO003044001_00001","Work Streams","Responsive; accountable; effective and efficient local government","Spatial Integration","OWN MUNICIPAL STRATEGIC OBJECTIVE                                          ",null,null,"R-ADMIN OR HEAD OFFICE",0,0,8500,10490,10952,11445,11731]
["Municipal Manager, Town Secretary And Chief Executive","Capacity Building Councillors","PO003004002_00003","Work Streams","A skilled and capable workforce to support an inclusive growth path","Governance","OWN MUNICIPAL STRATEGIC OBJECTIVE                                          ",null,null,"R-ADMIN OR HEAD OFFICE",0,0,0,713641,550000,574750,589119]
["Municipal Manager, Town Secretary And Chief Executive","Capacity Building Local Municipalities (District Boundaries)","PO003004003_00003","Work Streams","A skilled and capable workforce to support an inclusive growth path","Governance","OWN MUNICIPAL STRATEGIC OBJECTIVE                                          ",null,null,"R-ADMIN OR HEAD OFFICE",0,0,4754783.5999999996,5245000,5400000,5643000,5784075]
["Municipal Manager, Town Secretary And Chief Executive","Elderly","PO003007007_00002","Work Streams","A comprehensive; responsive and sustainable social protection system","Inclusion and Access","OWN MUNICIPAL STRATEGIC OBJECTIVE                                          ",null,null,"R-ADMIN OR HEAD OFFICE",0,0,917376,0,0,0,0]
["Municipal Manager, Town Secretary And Chief Executive","Operational:Typical Work Streams:Capacity Building Training And Development:Workshops; Seminars And ","PO003004010_00023","Work Streams","A skilled and capable workforce to support an inclusive growth path","Governance","OWN MUNICIPAL STRATEGIC OBJECTIVE                                          ",null,null,"R-ADMIN OR HEAD OFFICE",0,0,0,800000,835200,872784,894604]
["Municipal Manager, Town Secretary And Chief Executive","Policy Review","PO003044014_00002","Work Streams","Responsive; accountable; effective and efficient local government","Inclusion and Access","OWN MUNICIPAL STRATEGIC OBJECTIVE                                          ",null,null,"R-ADMIN OR HEAD OFFICE",0,0,394366.87,531470,432855,452334,463642]
["Municipal Manager, Town Secretary And Chief Executive","Public Participation Meeting","PO003006006_00003","Work Streams","Sustainable human settlements and improved quality of household life","Inclusion and Access","OWN MUNICIPAL STRATEGIC OBJECTIVE                                          ",null,null,"R-ADMIN OR HEAD OFFICE",0,0,0,166791,174130,181966,186515]
["Municipal Manager, Town Secretary And Chief Executive","Risk Management","PO003044015_00001","Work Streams","Responsive; accountable; effective and efficient local government","Inclusion and Access","OWN MUNICIPAL STRATEGIC OBJECTIVE                                          ",null,null,"R-ADMIN OR HEAD OFFICE",0,0,2470194.2999999998,700000,730800,763686,782779]
["Municipal Manager, Town Secretary And Chief Executive","Workshops And Sessions","PO003044016001_00003","Work Streams","Responsive; accountable; effective and efficient local government","Inclusion and Access","OWN MUNICIPAL STRATEGIC OBJECTIVE                                          ",null,null,"R-ADMIN OR HEAD OFFICE",0,0,0,433582,348261,363933,373030]
["Finance","Operational:Municipal Running Cost","PO002_00000","Municipal Running Cost","Sustainable human settlements and improved quality of household life","Governance","OWN MUNICIPAL STRATEGIC OBJECTIVE                                          ",null,null,"R-ADMIN OR HEAD OFFICE",0,0,14789744.189999999,28169451,29442519,28817333,29487766]
["Finance","Operational:Municipal Running Cost","PO002_00000","Municipal Running Cost","Sustainable human settlements and improved quality of household life","Governance","OWN MUNICIPAL STRATEGIC OBJECTIVE                                          ",null,null,"R-WHOLE OF MUNICIPALITY",0,0,1891132.61,4829074,4240297,4429509,4540247]
["Finance","Capacity Building Councillors","PO003004002_00002","Work Streams","A skilled and capable workforce to support an inclusive growth path","Governance","OWN MUNICIPAL STRATEGIC OBJECTIVE                                          ",null,null,"R-ADMIN OR HEAD OFFICE",0,0,0,300000,313200,327294,335477]
["Finance","Capacity Building Local Municipalities (District Boundaries)","PO003004003_00006","Work Streams","A skilled and capable workforce to support an inclusive growth path","Governance","OWN MUNICIPAL STRATEGIC OBJECTIVE                                          ",null,null,"R-ADMIN OR HEAD OFFICE",0,0,990500,1106350,1200000,1254000,1285350]
["Finance","Capacity Building Local Municipalities (District Boundaries)","PO003004003_00010","Work Streams","A skilled and capable workforce to support an inclusive growth path","Governance","OWN MUNICIPAL STRATEGIC OBJECTIVE                                          ",null,null,"R-ADMIN OR HEAD OFFICE",0,0,199985,200000,300000,313500,321338]
["Finance","Capacity Building Local Municipalities (District Boundaries)","PO003004003_00013","Work Streams","A skilled and capable workforce to support an inclusive growth path","Governance","OWN MUNICIPAL STRATEGIC OBJECTIVE                                          ",null,null,"R-ADMIN OR HEAD OFFICE",0,0,367502,0,0,0,0]
["Finance","Capacity Building Local Municipalities (District Boundaries)","PO003004003_00024","Work Streams","A skilled and capable workforce to support an inclusive growth path","Governance","OWN MUNICIPAL STRATEGIC OBJECTIVE                                          ",null,null,"R-ADMIN OR HEAD OFFICE",0,0,1887455.86,2517600,3013523,2746652,2815318]
["Finance","Capacity Building Local Municipalities (District Boundaries)","PO003004003_00026","Work Streams","A skilled and capable workforce to support an inclusive growth path","Governance","OWN MUNICIPAL STRATEGIC OBJECTIVE                                          ",null,null,"R-ADMIN OR HEAD OFFICE",0,0,803060.87,1944220,2063861,2156734,2210653]
["Finance","Capacity Building Local Municipalities (District Boundaries)","PO003004003_00027","Work Streams","A skilled and capable workforce to support an inclusive growth path","Governance","OWN MUNICIPAL STRATEGIC OBJECTIVE                                          ",null,null,"R-ADMIN OR HEAD OFFICE",0,0,8000,0,0,0,0]
["Finance","Financial Statements","PO003050004_00001","Work Streams","Responsive; accountable; effective and efficient local government","Governance","OWN MUNICIPAL STRATEGIC OBJECTIVE                                          ",null,null,"R-ADMIN OR HEAD OFFICE",0,0,171736,0,0,0,0]
["Finance","Interim Valuations","PO003036001_00001","Work Streams","Sustainable human settlements and improved quality of household life","Spatial Integration","OWN MUNICIPAL STRATEGIC OBJECTIVE                                          ",null,null,"R-ADMIN OR HEAD OFFICE",0,0,0,200000,200000,209000,214225]
["Finance","Interns Compensation","PO003050006_00002","Work Streams","Responsive; accountable; effective and efficient local government","Governance","OWN MUNICIPAL STRATEGIC OBJECTIVE                                          ",null,null,"R-ADMIN OR HEAD OFFICE",0,0,100000,500000,500000,545490,559128]
["Finance","Operational:Typical Work Streams:Capacity Building Training And Development:Workshops; Seminars And ","PO003004010_00004","Work Streams","A skilled and capable workforce to support an inclusive growth path","Governance","OWN MUNICIPAL STRATEGIC OBJECTIVE                                          ",null,null,"R-WHOLE OF MUNICIPALITY",0,0,0,928480,685734,731092,799369]
["Finance","Operational:Typical Work Streams:Capacity Building Training And Development:Workshops; Seminars And ","PO003004010_00011","Work Streams","A skilled and capable workforce to support an inclusive growth path","Governance","OWN MUNICIPAL STRATEGIC OBJECTIVE                                          ",null,null,"R-ADMIN OR HEAD OFFICE",0,0,971584.22,640783,640120,668926,685649]
["Finance","Training Minimum Competency","PO003050009_00001","Work Streams","Responsive; accountable; effective and efficient local government","Governance","OWN MUNICIPAL STRATEGIC OBJECTIVE                                          ",null,null,"R-ADMIN OR HEAD OFFICE",0,0,1301795.54,0,0,0,0]
["Finance","Default Transactions","PD000_00000","Default Transactions","Responsive; accountable; effective and efficient local government","Governance","OWN MUNICIPAL STRATEGIC OBJECTIVE                                          ","Financial Performance Indicators","Revenue Items","R-ADMIN OR HEAD OFFICE",0,0,0,27419387,8586113,8963902,14028309]
["Police Forces, Traffic And Street Parking Control","Operational:Municipal Running Cost","PO002_00000","Municipal Running Cost","Sustainable human settlements and improved quality of household life","Governance","OWN MUNICIPAL STRATEGIC OBJECTIVE                                          ",null,null,"R-ADMIN OR HEAD OFFICE",0,0,18288399.329999998,16958548,34600478,18519990,18982991]
["Police Forces, Traffic And Street Parking Control","Operational:Municipal Running Cost","PO002_00000","Municipal Running Cost","Sustainable human settlements and improved quality of household life","Governance","OWN MUNICIPAL STRATEGIC OBJECTIVE                                          ",null,null,"R-WHOLE OF MUNICIPALITY",0,0,877076.5,1054642,1101048,1150594,1179359]
["Police Forces, Traffic And Street Parking Control","Awareness Campaign","PO003006001_00003","Work Streams","Sustainable human settlements and improved quality of household life","Inclusion and Access","OWN MUNICIPAL STRATEGIC OBJECTIVE                                          ",null,null,"R-ADMIN OR HEAD OFFICE",0,0,47050,35000,52200,54549,55913]
["Police Forces, Traffic And Street Parking Control","Mechanical Equipment","PO001002001002003001001007_00002","Preventative Maintenance","An efficient; effective and development-oriented public service","Governance","OWN MUNICIPAL STRATEGIC OBJECTIVE                                          ","Operational Buildings","Municipal Offices","R-WHOLE OF MUNICIPALITY",0,0,112259.3,144281,132882,138862,142333]
["Pounds","Operational:Municipal Running Cost","PO002_00000","Municipal Running Cost","Sustainable human settlements and improved quality of household life","Governance","OWN MUNICIPAL STRATEGIC OBJECTIVE                                          ",null,null,"R-ADMIN OR HEAD OFFICE",0,0,257040,293720,300000,300000,300000]
["Roads","Operational:Municipal Running Cost","PO002_00000","Municipal Running Cost","Sustainable human settlements and improved quality of household life","Governance","OWN MUNICIPAL STRATEGIC OBJECTIVE                                          ",null,null,"R-ADMIN OR HEAD OFFICE",0,0,9069677.0299999993,10409362,10934485,11426534,11712200]
["Roads","Operational:Municipal Running Cost","PO002_00000","Municipal Running Cost","Sustainable human settlements and improved quality of household life","Governance","OWN MUNICIPAL STRATEGIC OBJECTIVE                                          ",null,null,"R-WHOLE OF MUNICIPALITY",0,0,9435971.6099999994,8970778,9365494,9786941,10031615]
["Roads","Operational:Typical Work Streams:Capacity Building Training And Development:Workshops; Seminars And ","PO003004010_00016","Work Streams","A skilled and capable workforce to support an inclusive growth path","Governance","OWN MUNICIPAL STRATEGIC OBJECTIVE                                          ",null,null,"R-ADMIN OR HEAD OFFICE",0,0,53511.01,0,0,0,0]
["Roads","Workshops And Sessions","PO003044016001_00002","Work Streams","Responsive; accountable; effective and efficient local government","Inclusion and Access","OWN MUNICIPAL STRATEGIC OBJECTIVE                                          ",null,null,"R-ADMIN OR HEAD OFFICE",0,0,215420,44871,46846,48954,50178]
["Roads","Earthworks","PO001001001001002001003_00001",null,"An efficient; competitive and responsive economic infrastructure network","Inclusion and Access","OWN MUNICIPAL STRATEGIC OBJECTIVE                                          ","Roads Infrastructure","Roads","R-ADMIN OR HEAD OFFICE",0,0,225500,100014,150000,156750,160669]
["Roads","Earthworks","PO001001001001002001003_00003",null,"An efficient; competitive and responsive economic infrastructure network","Inclusion and Access","OWN MUNICIPAL STRATEGIC OBJECTIVE                                          ","Roads Infrastructure","Roads","R-ADMIN OR HEAD OFFICE",0,0,0,0,70000,73150,74979]
["Roads","Earthworks","PO001001001001002001003_00004",null,"An efficient; competitive and responsive economic infrastructure network","Inclusion and Access","OWN MUNICIPAL STRATEGIC OBJECTIVE                                          ","Roads Infrastructure","Roads","R-ADMIN OR HEAD OFFICE",0,0,0,0,100000,104500,107113]
["Roads","Earthworks","PO001001001001002001003_00005",null,"An efficient; competitive and responsive economic infrastructure network","Inclusion and Access","OWN MUNICIPAL STRATEGIC OBJECTIVE                                          ","Roads Infrastructure","Roads","R-ADMIN OR HEAD OFFICE",0,0,0,0,70000,73150,74979]
["Roads","Earthworks","PO001001001001002001003_00008",null,"An efficient; competitive and responsive economic infrastructure network","Inclusion and Access","OWN MUNICIPAL STRATEGIC OBJECTIVE                                          ","Roads Infrastructure","Roads","R-ADMIN OR HEAD OFFICE",0,0,89263,0,150000,156750,160669]
["Roads","Earthworks","PO001001001001002001003_00009",null,"An efficient; competitive and responsive economic infrastructure network","Inclusion and Access","OWN MUNICIPAL STRATEGIC OBJECTIVE                                          ","Roads Infrastructure","Roads","R-ADMIN OR HEAD OFFICE",0,0,0,0,100000,104500,107113]
["Roads","Earthworks","PO001001001001002001003_00011",null,"An efficient; competitive and responsive economic infrastructure network","Inclusion and Access","OWN MUNICIPAL STRATEGIC OBJECTIVE                                          ","Roads Infrastructure","Roads","R-ADMIN OR HEAD OFFICE",0,0,0,0,70000,73150,74979]
["Roads","Earthworks","PO001001001001003002004_00001",null,"An efficient; competitive and responsive economic infrastructure network","Inclusion and Access","OWN MUNICIPAL STRATEGIC OBJECTIVE                                          ","Storm Water Infrastructure","Storm Water Conveyance","R-WARD 11",0,0,3477657.36,0,0,0,0]
["Economic Development/Planning","Operational:Municipal Running Cost","PO002_00000","Municipal Running Cost","Sustainable human settlements and improved quality of household life","Governance","OWN MUNICIPAL STRATEGIC OBJECTIVE                                          ",null,null,"R-ADMIN OR HEAD OFFICE",0,0,10962623.49,10738759,11229308,11713729,12006570]
["Economic Development/Planning","Operational:Municipal Running Cost","PO002_00000","Municipal Running Cost","Sustainable human settlements and improved quality of household life","Governance","OWN MUNICIPAL STRATEGIC OBJECTIVE                                          ",null,null,"R-WHOLE OF MUNICIPALITY",0,0,0,7012,7321,7650,7842]
["Economic Development/Planning","Capacity Building Councillors","PO003004002_00003","Work Streams","A skilled and capable workforce to support an inclusive growth path","Governance","OWN MUNICIPAL STRATEGIC OBJECTIVE                                          ",null,null,"R-ADMIN OR HEAD OFFICE",0,0,49400,0,0,0,0]
["Economic Development/Planning","Capacity Building Local Municipalities (District Boundaries)","PO003004003_00028","Work Streams","A skilled and capable workforce to support an inclusive growth path","Governance","OWN MUNICIPAL STRATEGIC OBJECTIVE                                          ",null,null,"R-ADMIN OR HEAD OFFICE",0,0,151666.96,0,0,0,0]
["Economic Development/Planning","Plan Development","PO003044016002_00002","Work Streams","Responsive; accountable; effective and efficient local government","Spatial Integration","OWN MUNICIPAL STRATEGIC OBJECTIVE                                          ",null,null,"R-ADMIN OR HEAD OFFICE",0,0,535980.6,0,0,0,0]
["Economic Development/Planning","Project Implementation","PO003023002_00001","Work Streams","An efficient; effective and development-oriented public service","Spatial Integration","OWN MUNICIPAL STRATEGIC OBJECTIVE                                          ",null,null,"R-ADMIN OR HEAD OFFICE",0,0,355450,0,500000,0,0]
["Economic Development/Planning","Public Participation","PO003023003_00001","Work Streams","An efficient; effective and development-oriented public service","Spatial Integration","OWN MUNICIPAL STRATEGIC OBJECTIVE                                          ",null,null,"R-ADMIN OR HEAD OFFICE",0,0,99826.9,0,0,0,0]
["Economic Development/Planning","Public Participation Meeting","PO003006006_00003","Work Streams","Sustainable human settlements and improved quality of household life","Inclusion and Access","OWN MUNICIPAL STRATEGIC OBJECTIVE                                          ",null,null,"R-ADMIN OR HEAD OFFICE",0,0,79340,0,0,0,0]
["Economic Development/Planning","Risk Management","PO003044015_00001","Work Streams","Responsive; accountable; effective and efficient local government","Inclusion and Access","OWN MUNICIPAL STRATEGIC OBJECTIVE                                          ",null,null,"R-ADMIN OR HEAD OFFICE",0,0,0,257350,350000,365750,374894]
["Economic Development/Planning","Spatial Planning","PO003042_00003","Work Streams","An efficient; effective and development-oriented public service","Spatial Integration","OWN MUNICIPAL STRATEGIC OBJECTIVE                                          ",null,null,"R-ADMIN OR HEAD OFFICE",0,0,1072500,850000,0,0,0]
["Economic Development/Planning","Training","PO003023004_00001","Work Streams","An efficient; effective and development-oriented public service","Spatial Integration","OWN MUNICIPAL STRATEGIC OBJECTIVE                                          ",null,null,"R-ADMIN OR HEAD OFFICE",0,0,1239160.4099999999,750000,778600,813637,833979]
["Economic Development/Planning","Valuation","PO003036003_00001","Work Streams","Sustainable human settlements and improved quality of household life","Spatial Integration","OWN MUNICIPAL STRATEGIC OBJECTIVE                                          ",null,null,"R-ADMIN OR HEAD OFFICE",0,0,0,800000,300000,836000,856900]
["Economic Development/Planning","Valuation","PO003036003_00003","Work Streams","Sustainable human settlements and improved quality of household life","Spatial Integration","OWN MUNICIPAL STRATEGIC OBJECTIVE                                          ",null,null,"R-ADMIN OR HEAD OFFICE",0,0,3395564.57,0,0,0,0]
["Economic Development/Planning","Workshops And Sessions","PO003044016001_00003","Work Streams","Responsive; accountable; effective and efficient local government","Inclusion and Access","OWN MUNICIPAL STRATEGIC OBJECTIVE                                          ",null,null,"R-ADMIN OR HEAD OFFICE",0,0,415923.11,0,0,0,0]
["Economic Development/Planning","Furniture And Office Equipment","PO001002001002005_00001","Preventative Maintenance","An efficient; effective and development-oriented public service","Governance","OWN MUNICIPAL STRATEGIC OBJECTIVE                                          ","Furniture And Office Equipment","Furniture And Office Equipment","R-ADMIN OR HEAD OFFICE",0,0,0,0,0,0,0]
["Project Management Unit","Operational:Municipal Running Cost","PO002_00000","Municipal Running Cost","Sustainable human settlements and improved quality of household life","Governance","OWN MUNICIPAL STRATEGIC OBJECTIVE                                          ",null,null,"R-ADMIN OR HEAD OFFICE",0,0,0,1050000,2562200,2677499,2744438]
["Project Management Unit","Operational:Typical Work Streams:Capacity Building Training And Development:Workshops; Seminars And ","PO003004010_00016","Work Streams","A skilled and capable workforce to support an inclusive growth path","Governance","OWN MUNICIPAL STRATEGIC OBJECTIVE                                          ",null,null,"R-ADMIN OR HEAD OFFICE",0,0,0,282561,166200,173679,178021]
["Electricity","Operational:Municipal Running Cost","PO002_00000","Municipal Running Cost","Sustainable human settlements and improved quality of household life","Governance","OWN MUNICIPAL STRATEGIC OBJECTIVE                                          ",null,null,"R-ADMIN OR HEAD OFFICE",0,0,69898194.200000003,79899614,84363874,86651773,88818062]
["Electricity","Operational:Municipal Running Cost","PO002_00000","Municipal Running Cost","Sustainable human settlements and improved quality of household life","Governance","OWN MUNICIPAL STRATEGIC OBJECTIVE                                          ",null,null,"R-WHOLE OF MUNICIPALITY",0,0,21679585.77,12753921,11979582,13914282,14262139]
["Electricity","Capacity Building Local Municipalities (District Boundaries)","PO003004003_00003","Work Streams","A skilled and capable workforce to support an inclusive growth path","Governance","OWN MUNICIPAL STRATEGIC OBJECTIVE                                          ",null,null,"R-ADMIN OR HEAD OFFICE",0,0,0,500000,200000,209000,214225]
["Electricity","Operational:Typical Work Streams:Capacity Building Training And Development:Workshops; Seminars And ","PO003004010_00018","Work Streams","A skilled and capable workforce to support an inclusive growth path","Governance","OWN MUNICIPAL STRATEGIC OBJECTIVE                                          ",null,null,"R-ADMIN OR HEAD OFFICE",0,0,404581.81,280000,292320,305475,313112]
["Electricity","Operational:Typical Work Streams:Capacity Building Training And Development:Workshops; Seminars And ","PO003004010_00022","Work Streams","A skilled and capable workforce to support an inclusive growth path","Governance","OWN MUNICIPAL STRATEGIC OBJECTIVE                                          ",null,null,"R-ADMIN OR HEAD OFFICE",0,0,198889.42,200000,200000,209000,214225]
["Electricity","Buildings","PO001002001001002001001002_00001","Preventative Maintenance","An efficient; effective and development-oriented public service","Inclusion and Access",null,"Community Facilities","Halls","R-ADMIN OR HEAD OFFICE",0,0,0,0,104400,109098,111826]
["Electricity","Lv Conductors","PO001001002001001008001_00001",null,"An efficient; competitive and responsive economic infrastructure network","Inclusion and Access","OWN MUNICIPAL STRATEGIC OBJECTIVE                                          ","Electrical Infrastructure","Lv Networks","R-ADMIN OR HEAD OFFICE",0,0,2443950.85,426000,300000,313500,321338]
["Electricity","Lv Conductors","PO001001002001001008001_00002",null,"An efficient; competitive and responsive economic infrastructure network","Inclusion and Access","OWN MUNICIPAL STRATEGIC OBJECTIVE                                          ","Electrical Infrastructure","Lv Networks","R-ADMIN OR HEAD OFFICE",0,0,0,0,0,0,0]
["Electricity","Default Transactions","PD000_00000","Default Transactions","Responsive; accountable; effective and efficient local government","Governance","OWN MUNICIPAL STRATEGIC OBJECTIVE                                          ","Financial Performance Indicators","Revenue Items","R-ADMIN OR HEAD OFFICE",0,0,0,17586113,5432041,4467640,4579331]
["Electricity","Buildings","PO001002001001003001001002_00001",null,"An efficient; effective and development-oriented public service","Governance",null,"Operational Buildings","Municipal Offices","R-ADMIN OR HEAD OFFICE",0,0,0,0,100000,104500,107113]
["Electricity","Buildings","PO001002001001002002002002_00001","Preventative Maintenance","A long and healthy life for all South Africans","Inclusion and Access",null,"Sport And Recreation Facilities","Outdoor Facilities","R-ADMIN OR HEAD OFFICE",0,0,0,0,100000,104500,107113]
["Solid Waste Disposal (Landfill Sites)","Operational:Municipal Running Cost","PO002_00000","Municipal Running Cost","Sustainable human settlements and improved quality of household life","Governance","OWN MUNICIPAL STRATEGIC OBJECTIVE                                          ",null,null,"R-ADMIN OR HEAD OFFICE",0,0,10269314.76,13158859,13850200,14452559,14813873]
["Solid Waste Disposal (Landfill Sites)","Operational:Municipal Running Cost","PO002_00000","Municipal Running Cost","Sustainable human settlements and improved quality of household life","Governance","OWN MUNICIPAL STRATEGIC OBJECTIVE                                          ",null,null,"R-WHOLE OF MUNICIPALITY",0,0,9410424.1099999994,8660931,9042021,9448907,9685130]
["Solid Waste Disposal (Landfill Sites)","Awareness Campaign","PO003006001_00001","Work Streams","Sustainable human settlements and improved quality of household life","Inclusion and Access","OWN MUNICIPAL STRATEGIC OBJECTIVE                                          ",null,null,"R-ADMIN OR HEAD OFFICE",0,0,46580,48864,51015,53311,54644]
["Solid Waste Disposal (Landfill Sites)","Capacity Building Local Municipalities (District Boundaries)","PO003004003_00001","Work Streams","A skilled and capable workforce to support an inclusive growth path","Governance","OWN MUNICIPAL STRATEGIC OBJECTIVE                                          ",null,null,"R-ADMIN OR HEAD OFFICE",0,0,1185000,2005000,1769000,1848605,1894821]
["Solid Waste Disposal (Landfill Sites)","Capacity Building Local Municipalities (District Boundaries)","PO003004003_00007","Work Streams","A skilled and capable workforce to support an inclusive growth path","Governance","OWN MUNICIPAL STRATEGIC OBJECTIVE                                          ",null,null,"R-ADMIN OR HEAD OFFICE",0,0,0,0,0,0,0]
["Solid Waste Disposal (Landfill Sites)","Capacity Building Local Municipalities (District Boundaries)","PO003004003_00011","Work Streams","A skilled and capable workforce to support an inclusive growth path","Governance","OWN MUNICIPAL STRATEGIC OBJECTIVE                                          ",null,null,"R-ADMIN OR HEAD OFFICE",0,0,4780291.74,4800000,4000000,5225000,5355625]
["Solid Waste Disposal (Landfill Sites)","Capacity Building Local Municipalities (District Boundaries)","PO003004003_00012","Work Streams","A skilled and capable workforce to support an inclusive growth path","Governance","OWN MUNICIPAL STRATEGIC OBJECTIVE                                          ",null,null,"R-ADMIN OR HEAD OFFICE",0,0,4359007.6500000004,4827706,4000000,4180000,4284500]
["Solid Waste Disposal (Landfill Sites)","Community Development Initiatives","PO003007003_00001","Work Streams","A comprehensive; responsive and sustainable social protection system","Inclusion and Access","OWN MUNICIPAL STRATEGIC OBJECTIVE                                          ",null,null,"R-ADMIN OR HEAD OFFICE",0,0,0,0,0,0,0]
["Solid Waste Disposal (Landfill Sites)","Environmental Health","PO003015004_00001","Work Streams","Protect and enhance our environmental assets and natural resources","Spatial Integration","OWN MUNICIPAL STRATEGIC OBJECTIVE                                          ",null,null,"R-ADMIN OR HEAD OFFICE",0,0,0,156193,160000,167200,171380]
["Solid Waste Disposal (Landfill Sites)","Operational:Typical Work Streams:Capacity Building Training And Development:Workshops; Seminars And ","PO003004010_00012","Work Streams","A skilled and capable workforce to support an inclusive growth path","Governance","OWN MUNICIPAL STRATEGIC OBJECTIVE                                          ",null,null,"R-ADMIN OR HEAD OFFICE",0,0,1579272.69,1098697,1100000,1149500,1178238]
["Solid Waste Disposal (Landfill Sites)","Buildings","PO001002001001002001001002_00001","Preventative Maintenance","An efficient; effective and development-oriented public service","Inclusion and Access","OWN MUNICIPAL STRATEGIC OBJECTIVE                                          ","Community Facilities","Halls","R-ADMIN OR HEAD OFFICE",0,0,184865,100000,0,0,0]
["Solid Waste Disposal (Landfill Sites)","Default Transactions","PD000_00000","Default Transactions","Responsive; accountable; effective and efficient local government","Governance","OWN MUNICIPAL STRATEGIC OBJECTIVE                                          ","Financial Performance Indicators","Revenue Items","R-ADMIN OR HEAD OFFICE",0,0,0,1863743,1863743,1945748,1994392]
["Solid Waste Disposal (Landfill Sites)","Buildings","PO001002001001003001001002_00001",null,"An efficient; effective and development-oriented public service","Governance","OWN MUNICIPAL STRATEGIC OBJECTIVE                                          ","Operational Buildings","Municipal Offices","R-ADMIN OR HEAD OFFICE",0,0,315372.95,600000,0,0,0]
["Solid Waste Disposal (Landfill Sites)","Buildings","PO001002001001002002002002_00001","Preventative Maintenance","A long and healthy life for all South Africans","Inclusion and Access","OWN MUNICIPAL STRATEGIC OBJECTIVE                                          ","Sport And Recreation Facilities","Outdoor Facilities","R-ADMIN OR HEAD OFFICE",0,0,159460,50000,0,0,0]
["Waste Water Treatment","Operational:Municipal Running Cost","PO002_00000","Municipal Running Cost","Sustainable human settlements and improved quality of household life","Governance","OWN MUNICIPAL STRATEGIC OBJECTIVE                                          ",null,null,"R-WHOLE OF MUNICIPALITY",0,0,73367.34,0,0,0,0]
["Parent Operational expenditure",null,null,null,null,null,null,null,null,null,null,null,{"$f":"SUM(M7:M141)","v":349882964.35000002},{"$f":"SUM(N7:N141)","v":426882883},{"$f":"SUM(O7:O141)","v":400488234},{"$f":"SUM(P7:P141)","v":404045317},{"$f":"SUM(Q7:Q141)","v":418751980}]
[]
["Entities:"]
["List all Operational projects grouped by Entity"]
[]
["Entity A"]
["Water project A"]
[]
["Entity B"]
["Electricity project B"]
[]
[]
[]
["Entity Operational expenditure",null,null,null,null,null,null,null,null,null,null,null,{"$f":"SUM(M147:M154)","v":0},{"$f":"SUM(N147:N154)","v":0},{"$f":"SUM(O147:O154)","v":0},{"$f":"SUM(P147:P154)","v":0},{"$f":"SUM(Q147:Q154)","v":0}]
["Total Operational expenditure",null,null,null,null,null,null,null,null,null,null,null,{"$f":"SUM(M7:M141)+SUM(M147:M154)","v":349882964.35000002},{"$f":"SUM(N7:N141)+SUM(N147:N154)","v":426882883},{"$f":"SUM(O7:O141)+SUM(O147:O154)","v":400488234},{"$f":"SUM(P7:P141)+SUM(P147:P154)","v":404045317},{"$f":"SUM(Q7:Q141)+SUM(Q147:Q154)","v":418751980}]
[{"$f":"head27a","v":"References"}]
["Must reconcile with Budgeted Operating Expenditure"]
["Asset class as per table A9 and asset sub-class as per table SA34"]
["GPS coordinates correct to seconds. Provide a logical starting point on networked infrastructure."]
["Project Number consists of MSCOA Project Longcode and seq No (sample PO001001002001002001002_00066)",null,null,null,null,null,null,null,null,null,null,"check",{"$f":"+'A4-FinPerf RE'!E48-'SA38'!M156","v":-1514458.219999969},{"$f":"+'A4-FinPerf RE'!H48-'SA38'!N156","v":2312000},{"$f":"+'A4-FinPerf RE'!J48-'SA38'!O156","v":0},{"$f":"+'A4-FinPerf RE'!K48-'SA38'!P156","v":812745},{"$f":"+'A4-FinPerf RE'!L48-'SA38'!Q156","v":840562}]

{"sheet":"LGDB_EXPORT","index":65,"n_rows":2876,"n_cols":23,"rows_kept":2876,"cut":false,"hidden":false,"merged":[]}
["FORM","YEAR END","MUNCDE","ITEMCODE","SEQ","DESCRIPTION",null,null,null,null,null,null,null,null,null,null,null,null,null,null,null,null,"~"]
["BSD",{"$f":"+MTREF","v":2025},{"$f":"LEFT(muni,(FIND(\" \",muni,1)-1))","v":"LIM351"},"1000",1,"Household service targets (000)",null,null,null,null,null,null,null,null,null,null,null,null,null,null,null,null,"~"]
["BSD",2025,"LIM351","1100",2,"Water:",null,null,null,null,null,null,null,null,null,null,null,null,null,null,null,null,"~"]
["BSD",2025,"LIM351","1101",3,"Piped water inside dwelling",null,null,null,null,null,null,null,null,null,null,null,null,null,null,null,null,"~"]
["BSD",2025,"LIM351","1102",4,"Piped water inside yard (but not in dwelling)",null,null,null,null,null,null,null,null,null,null,null,null,null,null,null,null,"~"]
["BSD",2025,"LIM351","1103",5,"Using public tap (at least min.service level)",null,null,null,null,null,null,null,null,null,null,null,null,null,null,null,null,"~"]
["BSD",2025,"LIM351","1104",6,"Other water supply (at least min.service level)",null,null,null,null,null,null,null,null,null,null,null,null,null,null,null,null,"~"]
["BSD",2025,"LIM351","1105",7,"Minimum Service Level and Above sub-total",null,null,null,null,null,null,null,null,null,null,null,null,null,null,null,null,"~"]
["BSD",2025,"LIM351","1106",8,"Using public tap (< min.service level)",null,null,null,null,null,null,null,null,null,null,null,null,null,null,null,null,"~"]
["BSD",2025,"LIM351","1107",9,"Other water supply (< min.service level)",null,null,null,null,null,null,null,null,null,null,null,null,null,null,null,null,"~"]
["BSD",2025,"LIM351","1108",10,"No water supply",null,null,null,null,null,null,null,null,null,null,null,null,null,null,null,null,"~"]
["BSD",2025,"LIM351","1109",11,"Below Minimum Service Level sub-total",null,null,null,null,null,null,null,null,null,null,null,null,null,null,null,null,"~"]
["BSD",2025,"LIM351","1110",12,"Total number of households",null,null,null,null,null,null,null,null,null,null,null,null,null,null,null,null,"~"]
["BSD",2025,"LIM351","1200",13,"Sanitation/sewerage:",null,null,null,null,null,null,null,null,null,null,null,null,null,null,null,null,"~"]
["BSD",2025,"LIM351","1201",14,"Flush toilet (connected to sewerage)",null,null,null,null,null,null,null,null,null,null,null,null,null,null,null,null,"~"]
["BSD",2025,"LIM351","1202",15,"Flush toilet (with septic tank)",null,null,null,null,null,null,null,null,null,null,null,null,null,null,null,null,"~"]
["BSD",2025,"LIM351","1203",16,"Chemical toilet",null,null,null,null,null,null,null,null,null,null,null,null,null,null,null,null,"~"]
["BSD",2025,"LIM351","1204",17,"Pit toilet (ventilated)",null,null,null,null,null,null,null,null,null,null,null,null,null,null,null,null,"~"]
["BSD",2025,"LIM351","1205",18,"Other toilet provisions (> min.service level)",null,null,null,null,null,null,null,null,null,null,null,null,null,null,null,null,"~"]
["BSD",2025,"LIM351","1206",19,"Minimum Service Level and Above sub-total",null,null,null,null,null,null,null,null,null,null,null,null,null,null,null,null,"~"]
["BSD",2025,"LIM351","1207",20,"Bucket toilet",null,null,null,null,null,null,null,null,null,null,null,null,null,null,null,null,"~"]
["BSD",2025,"LIM351","1208",21,"Other toilet provisions (< min.service level)",null,null,null,null,null,null,null,null,null,null,null,null,null,null,null,null,"~"]
["BSD",2025,"LIM351","1209",22,"No toilet provisions",null,null,null,null,null,null,null,null,null,null,null,null,null,null,null,null,"~"]
["BSD",2025,"LIM351","1210",23,"Below Minimum Service Level sub-total",null,null,null,null,null,null,null,null,null,null,null,null,null,null,null,null,"~"]
["BSD",2025,"LIM351","1211",24,"Total number of households",null,null,null,null,null,null,null,null,null,null,null,null,null,null,null,null,"~"]
["BSD",2025,"LIM351","1300",25,"Energy:",null,null,null,null,null,null,null,null,null,null,null,null,null,null,null,null,"~"]
["BSD",2025,"LIM351","1301",26,"Electricity (at least min.service level)",null,null,null,null,null,null,null,null,null,null,null,null,null,null,null,null,"~"]
["BSD",2025,"LIM351","1302",27,"Electricity - prepaid (min.service level)",null,null,null,null,null,null,null,null,null,null,null,null,null,null,null,null,"~"]
["BSD",2025,"LIM351","1303",28,"Minimum Service Level and Above sub-total",null,null,null,null,null,null,null,null,null,null,null,null,null,null,null,null,"~"]
["BSD",2025,"LIM351","1304",29,"Electricity (< min.service level)",null,null,null,null,null,null,null,null,null,null,null,null,null,null,null,null,"~"]
["BSD",2025,"LIM351","1305",30,"Electricity - prepaid (< min. service level)",null,null,null,null,null,null,null,null,null,null,null,null,null,null,null,null,"~"]
["BSD",2025,"LIM351","1306",31,"Other energy sources",null,null,null,null,null,null,null,null,null,null,null,null,null,null,null,null,"~"]
["BSD",2025,"LIM351","1307",32,"Below Minimum Service Level sub-total",null,null,null,null,null,null,null,null,null,null,null,null,null,null,null,null,"~"]
["BSD",2025,"LIM351","1308",33,"Total number of households",null,null,null,null,null,null,null,null,null,null,null,null,null,null,null,null,"~"]
["BSD",2025,"LIM351","1400",34,"Refuse:",null,null,null,null,null,null,null,null,null,null,null,null,null,null,null,null,"~"]
["BSD",2025,"LIM351","1401",35,"Removed at least once a week",null,null,null,null,null,null,null,null,null,null,null,null,null,null,null,null,"~"]
["BSD",2025,"LIM351","1402",36,"Minimum Service Level and Above sub-total",null,null,null,null,null,null,null,null,null,null,null,null,null,null,null,null,"~"]
["BSD",2025,"LIM351","1403",37,"Removed less frequently than once a week",null,null,null,null,null,null,null,null,null,null,null,null,null,null,null,null,"~"]
["BSD",2025,"LIM351","1404",38,"Using communal refuse dump",null,null,null,null,null,null,null,null,null,null,null,null,null,null,null,null,"~"]
["BSD",2025,"LIM351","1405",39,"Using own refuse dump",null,null,null,null,null,null,null,null,null,null,null,null,null,null,null,null,"~"]
["BSD",2025,"LIM351","1406",40,"Other rubbish disposal",null,null,null,null,null,null,null,null,null,null,null,null,null,null,null,null,"~"]
["BSD",2025,"LIM351","1407",41,"No rubbish disposal",null,null,null,null,null,null,null,null,null,null,null,null,null,null,null,null,"~"]
["BSD",2025,"LIM351","1408",42,"Below Minimum Service Level sub-total",null,null,null,null,null,null,null,null,null,null,null,null,null,null,null,null,"~"]
["BSD",2025,"LIM351","1409",43,"Total number of households",null,null,null,null,null,null,null,null,null,null,null,null,null,null,null,null,"~"]
["BSD",2025,"LIM351",null,null,null,null,null,null,null,null,null,null,null,null,null,null,null,null,null,null,null,"~"]
["BSD",2025,"LIM351","1500",45,"Households receiving Free Basic Service",null,null,null,null,null,null,null,null,null,null,null,null,null,null,null,null,"~"]
["BSD",2025,"LIM351","1501",46,"Water (6 kilolitres per household per month)",null,null,null,null,null,null,null,null,null,null,null,null,null,null,null,null,"~"]
["BSD",2025,"LIM351","1502",47,"Sanitation (free minimum level service)",null,null,null,null,null,null,null,null,null,null,null,null,null,null,null,null,"~"]
["BSD",2025,"LIM351","1503",48,"Electricity/other energy (50kwh per household per month)",null,null,null,null,null,null,null,null,null,null,null,null,null,null,null,null,"~"]
["BSD",2025,"LIM351","1504",49,"Refuse (removed at least once a week)",null,null,null,null,null,null,null,null,null,null,null,null,null,null,null,null,"~"]
["BSD",2025,"LIM351",null,null,null,null,null,null,null,null,null,null,null,null,null,null,null,null,null,null,null,"~"]
["BSD",2025,"LIM351","1600",51,"Cost of Free Basic Services provided - Formal Settlements (R'000)",null,null,null,null,null,null,null,null,null,null,null,null,null,null,null,null,"~"]
["BSD",2025,"LIM351","1601",52,"Water (6 kilolitres per indigent household per month)",null,null,null,null,null,null,null,null,null,null,null,null,null,null,null,null,"~"]
["BSD",2025,"LIM351","1602",53,"Sanitation (free sanitation service to indigent households)",null,null,null,null,null,null,null,null,null,null,null,null,null,null,null,null,"~"]
["BSD",2025,"LIM351","1603",54,"Electricity/other energy (50kwh per indigent household per month)",null,null,null,null,null,null,null,null,null,null,null,null,null,null,null,null,"~"]
["BSD",2025,"LIM351","1604",55,"Refuse (removed once a week for indigent households)",null,null,null,null,null,null,null,null,null,null,null,null,null,null,null,null,"~"]
["BSD",2025,"LIM351",1606,56,"Cost of Free Basic Services provided - Informal Formal Settlements (R'000)",null,null,null,null,null,null,null,null,null,null,null,null,null,null,null,null,"~"]
["BSD",2025,"LIM351",1607,57,"Total cost of FBS provided  ",null,null,null,null,null,null,null,null,null,null,null,null,null,null,null,null,"~"]
["BSD",2025,"LIM351",null,null,null,null,null,null,null,null,null,null,null,null,null,null,null,null,null,null,null,"~"]
["BSD",2025,"LIM351","1700",58,"Highest level of free service provided per household",null,null,null,null,null,null,null,null,null,null,null,null,null,null,null,null,"~"]
["BSD",2025,"LIM351","1701",59,"Property rates (R value threshold)",null,null,null,null,null,null,null,null,null,null,null,null,null,null,null,null,"~"]
["BSD",2025,"LIM351","1702",60,"Water (kilolitres per household per month)",null,null,null,null,null,null,null,null,null,null,null,null,null,null,null,null,"~"]
["BSD",2025,"LIM351","1703",61,"Sanitation (kilolitres per household per month)",null,null,null,null,null,null,null,null,null,null,null,null,null,null,null,null,"~"]
["BSD",2025,"LIM351","1704",62,"Sanitation (Rand per household per month)",null,null,null,null,null,null,null,null,null,null,null,null,null,null,null,null,"~"]
["BSD",2025,"LIM351","1705",63,"Electricity (kwh per household per month)",null,null,null,null,null,null,null,null,null,null,null,null,null,null,null,null,"~"]
["BSD",{"$f":"+MTREF","v":2025},{"$f":"LEFT(muni,(FIND(\" \",muni,1)-1))","v":"LIM351"},"1706",64,"Refuse (average litres per week)",null,null,null,null,null,null,null,null,null,null,null,null,null,null,null,null,"~"]
["BSD",2025,"LIM351","1707",65,"Revenue  cost of subsidised services provided (R'000)",null,null,null,null,null,null,null,null,null,null,null,null,null,null,null,null,"~"]
["BSD",2025,"LIM351","1708",66,"Property rates (tariff adjustment) ( impermissable values per section 17 of MPRA)",null,null,null,null,null,null,null,null,null,null,null,null,null,null,null,null,"~"]
["BSD",2025,"LIM351","1709",67,"Property rates  exemptions, reductions and rebates and impermissable values in excess of section 17 of MPRA)",null,null,null,null,null,null,null,null,null,null,null,null,null,null,null,null,"~"]
["BSD",2025,"LIM351","1710",68,"Water (in excess of 6 kilolitres per indigent household per month)",null,null,null,null,null,null,null,null,null,null,null,null,null,null,null,null,"~"]
["BSD",2025,"LIM351","1711",69,"Sanitation (in excess of free sanitation service to indigent households)",null,null,null,null,null,null,null,null,null,null,null,null,null,null,null,null,"~"]
["BSD",2025,"LIM351","1712",70,"Electricity/other energy (in excess of 50 kwh per indigent household per month)",null,null,null,null,null,null,null,null,null,null,null,null,null,null,null,null,"~"]
["BSD",2025,"LIM351","1713",71,"Refuse (in excess of one removal a week for indigent households)",null,null,null,null,null,null,null,null,null,null,null,null,null,null,null,null,"~"]
["BSD",2025,"LIM351","1714",72,"Municipal Housing - rental rebates",null,null,null,null,null,null,null,null,null,null,null,null,null,null,null,null,"~"]
["BSD",2025,"LIM351","1715",73,"Housing - top structure subsidies",null,null,null,null,null,null,null,null,null,null,null,null,null,null,null,null,"~"]
["BSD",2025,"LIM351","1716",74,"Other",null,null,null,null,null,null,null,null,null,null,null,null,null,null,null,null,"~"]
["BSD",2025,"LIM351","1717",75,"Total revenue cost of subsidised services provided ",null,null,null,null,null,null,null,null,null,null,null,null,null,null,null,null,"~"]
["SA11",2025,"LIM351",1000,"T","Valuation:",null,null,null,null,null,null,null,null,null,null,null,null,null,null,null,null,"~"]
["SA11",2025,"LIM351",1001,"T","Date of valuation:",null,null,null,null,null,null,null,null,null,null,null,null,null,null,null,null,"~"]
["SA11",2025,"LIM351",1002,"T","Financial year valuation used",null,null,null,null,null,null,null,null,null,null,null,null,null,null,null,null,"~"]
["SA11",2025,"LIM351",1003,"T","Municipal by-laws s6 in place? (Y/N)",null,null,null,null,null,null,null,null,null,null,null,null,null,null,null,null,"~"]
["SA11",2025,"LIM351",1004,"T","Municipal/assistant valuer appointed? (Y/N)",null,null,null,null,null,null,null,null,null,null,null,null,null,null,null,null,"~"]
["SA11",2025,"LIM351",1005,"T","Municipal partnership s38 used? (Y/N)",null,null,null,null,null,null,null,null,null,null,null,null,null,null,null,null,"~"]
["SA11",2025,"LIM351",1006,"V","No. of assistant valuers (FTE)",null,null,null,null,null,null,null,null,null,null,null,null,null,null,null,null,"~"]
["SA11",2025,"LIM351",1007,"V","No. of data collectors (FTE)",null,null,null,null,null,null,null,null,null,null,null,null,null,null,null,null,"~"]
["SA11",2025,"LIM351",1008,"V","No. of internal valuers (FTE)",null,null,null,null,null,null,null,null,null,null,null,null,null,null,null,null,"~"]
["SA11",2025,"LIM351",1009,"V","No. of external valuers (FTE)",null,null,null,null,null,null,null,null,null,null,null,null,null,null,null,null,"~"]
["SA11",2025,"LIM351",1010,"V","No. of additional valuers (FTE)",null,null,null,null,null,null,null,null,null,null,null,null,null,null,null,null,"~"]
["SA11",2025,"LIM351",1011,"T","Valuation appeal board established? (Y/N)",null,null,null,null,null,null,null,null,null,null,null,null,null,null,null,null,"~"]
["SA11",2025,"LIM351",1012,"V","Implementation time of new valuation roll (mths)",null,null,null,null,null,null,null,null,null,null,null,null,null,null,null,null,"~"]
["SA11",2025,"LIM351",1020,"V","No. of properties",null,null,null,null,null,null,null,null,null,null,null,null,null,null,null,null,"~"]
["SA11",2025,"LIM351",1021,"V","No. of sectional title values",null,null,null,null,null,null,null,null,null,null,null,null,null,null,null,null,"~"]
["SA11",2025,"LIM351",1022,"V","No. of unreasonably difficult properties s7(2)",null,null,null,null,null,null,null,null,null,null,null,null,null,null,null,null,"~"]
["SA11",2025,"LIM351",1023,"V","No. of supplementary valuations",null,null,null,null,null,null,null,null,null,null,null,null,null,null,null,null,"~"]
["SA11",2025,"LIM351",1024,"V","No. of valuation roll amendments",null,null,null,null,null,null,null,null,null,null,null,null,null,null,null,null,"~"]
["SA11",2025,"LIM351",1025,"V","No. of objections by rate payers",null,null,null,null,null,null,null,null,null,null,null,null,null,null,null,null,"~"]
["SA11",2025,"LIM351",1026,"V","No. of appeals by rate payers",null,null,null,null,null,null,null,null,null,null,null,null,null,null,null,null,"~"]
["SA11",2025,"LIM351",1028,"V","No. of successful objections",null,null,null,null,null,null,null,null,null,null,null,null,null,null,null,null,"~"]
["SA11",2025,"LIM351",1029,"V","No. of successful objections > 10%",null,null,null,null,null,null,null,null,null,null,null,null,null,null,null,null,"~"]
["SA11",2025,"LIM351",1030,"V","Supplementary valuation",null,null,null,null,null,null,null,null,null,null,null,null,null,null,null,null,"~"]
["SA11",2025,"LIM351",1031,"V","Public service infrastructure value ",null,null,null,null,null,null,null,null,null,null,null,null,null,null,null,null,"~"]
["SA11",2025,"LIM351",1032,"V","Municipality owned property value ",null,null,null,null,null,null,null,null,null,null,null,null,null,null,null,null,"~"]
["SA11",2025,"LIM351",1100,"T","Valuation reductions:",null,null,null,null,null,null,null,null,null,null,null,null,null,null,null,null,"~"]
["SA11",2025,"LIM351",1101,"V","Valuation reductions-public infrastructure",null,null,null,null,null,null,null,null,null,null,null,null,null,null,null,null,"~"]
["SA11",2025,"LIM351",1102,"V","Valuation reductions-nature reserves/park",null,null,null,null,null,null,null,null,null,null,null,null,null,null,null,null,"~"]
["SA11",2025,"LIM351",1103,"V","Valuation reductions-mineral rights",null,null,null,null,null,null,null,null,null,null,null,null,null,null,null,null,"~"]
["SA11",2025,"LIM351",1104,"V","Valuation reductions-R15,000 threshold",null,null,null,null,null,null,null,null,null,null,null,null,null,null,null,null,"~"]
["SA11",2025,"LIM351",1105,"V","Valuation reductions-public worship ",null,null,null,null,null,null,null,null,null,null,null,null,null,null,null,null,"~"]
["SA11",2025,"LIM351",1106,"V","Valuation reductions-other",null,null,null,null,null,null,null,null,null,null,null,null,null,null,null,null,"~"]
["SA11",2025,"LIM351",1107,"V","Total valuation reductions:",null,null,null,null,null,null,null,null,null,null,null,null,null,null,null,null,"~"]
["SA11",2025,"LIM351",1108,"V","Total value used for rating",null,null,null,null,null,null,null,null,null,null,null,null,null,null,null,null,"~"]
["SA11",2025,"LIM351",1109,"V","Total land value ",null,null,null,null,null,null,null,null,null,null,null,null,null,null,null,null,"~"]
["SA11",2025,"LIM351",1110,"V","Total value of improvements",null,null,null,null,null,null,null,null,null,null,null,null,null,null,null,null,"~"]
["SA11",2025,"LIM351",1111,"V","Total market value",null,null,null,null,null,null,null,null,null,null,null,null,null,null,null,null,"~"]
["SA11",2025,"LIM351",null,null,null,null,null,null,null,null,null,null,null,null,null,null,null,null,null,null,null,"~"]
["SA11",2025,"LIM351",1200,"T","Rating:",null,null,null,null,null,null,null,null,null,null,null,null,null,null,null,null,"~"]
["SA11",2025,"LIM351",1202,"T","Residential rate used to determine rate for other categories? (Y/N)",null,null,null,null,null,null,null,null,null,null,null,null,null,null,null,null,"~"]
["SA11",2025,"LIM351",1203,"T","Differential rates used? (Y/N)",null,null,null,null,null,null,null,null,null,null,null,null,null,null,null,null,"~"]
["SA11",2025,"LIM351",1204,"T","Limit on annual rate increase (s20)? (Y/N)",null,null,null,null,null,null,null,null,null,null,null,null,null,null,null,null,"~"]
["SA11",2025,"LIM351",1205,"T","Special rating area used? (Y/N)",null,null,null,null,null,null,null,null,null,null,null,null,null,null,null,null,"~"]
["SA11",2025,"LIM351",1206,"V","Phasing-in properties s21 (number)",null,null,null,null,null,null,null,null,null,null,null,null,null,null,null,null,"~"]
["SA11",2025,"LIM351",1207,"T","Rates policy accompanying budget? (Y/N)",null,null,null,null,null,null,null,null,null,null,null,null,null,null,null,null,"~"]
["SA11",2025,"LIM351",1208,"V","Fixed amount minimum value",null,null,null,null,null,null,null,null,null,null,null,null,null,null,null,null,"~"]
["SA11",2025,"LIM351",1209,"P","Non-residential prescribed ratio s19? (%)",null,null,null,null,null,null,null,null,null,null,null,null,null,null,null,null,"~"]
["SA11",2025,"LIM351",null,null,null,null,null,null,null,null,null,null,null,null,null,null,null,null,null,null,null,"~"]
["SA11",2025,"LIM351",1300,"T","Rate revenue:",null,null,null,null,null,null,null,null,null,null,null,null,null,null,null,null,"~"]
["SA11",2025,"LIM351",1301,"V","Rate revenue budget ",null,null,null,null,null,null,null,null,null,null,null,null,null,null,null,null,"~"]
["SA11",2025,"LIM351",1302,"V","Rate revenue expected to collect",null,null,null,null,null,null,null,null,null,null,null,null,null,null,null,null,"~"]
["SA11",2025,"LIM351",1303,"P","Expected cash collection rate (%)",null,null,null,null,null,null,null,null,null,null,null,null,null,null,null,null,"~"]
["SA11",{"$f":"+MTREF","v":2025},{"$f":"LEFT(muni,(FIND(\" \",muni,1)-1))","v":"LIM351"},1304,"V","Special rating areas",null,null,null,null,null,null,null,null,null,null,null,null,null,null,null,null,"~"]
["SA11",2025,"LIM351",1305,"V","Rebates, exemptions - indigent",null,null,null,null,null,null,null,null,null,null,null,null,null,null,null,null,"~"]
["SA11",2025,"LIM351",1306,"V","Rebates, exemptions - pensioners",null,null,null,null,null,null,null,null,null,null,null,null,null,null,null,null,"~"]
["SA11",2025,"LIM351",1307,"V","Rebates, exemptions - bona fide farm",null,null,null,null,null,null,null,null,null,null,null,null,null,null,null,null,"~"]
["SA11",2025,"LIM351",1308,"V","Rebates, exemptions - other",null,null,null,null,null,null,null,null,null,null,null,null,null,null,null,null,"~"]
["SA11",2025,"LIM351",1309,"V","Phase-in reductions/discounts",null,null,null,null,null,null,null,null,null,null,null,null,null,null,null,null,"~"]
["SA11",2025,"LIM351",1310,"V","Total rebates,exemptns,reductns,discs",null,null,null,null,null,null,null,null,null,null,null,null,null,null,null,null,"~"]
["SA12",2025,"LIM351",1000,"T","Valuation:",null,null,null,null,null,null,null,null,null,null,null,null,null,null,null,null,"~"]
["SA12",2025,"LIM351",1020,"V","No. of properties",null,null,null,null,null,null,null,null,null,null,null,null,null,null,null,null,"~"]
["SA12",2025,"LIM351",1021,"V","No. of sectional title property values",null,null,null,null,null,null,null,null,null,null,null,null,null,null,null,null,"~"]
["SA12",2025,"LIM351",1022,"V","No. of unreasonably difficult properties s7(2)",null,null,null,null,null,null,null,null,null,null,null,null,null,null,null,null,"~"]
["SA12",2025,"LIM351",1023,"V","No. of supplementary valuations",null,null,null,null,null,null,null,null,null,null,null,null,null,null,null,null,"~"]
["SA12",2025,"LIM351",1030,"V","Supplementary valuation ",null,null,null,null,null,null,null,null,null,null,null,null,null,null,null,null,"~"]
["SA12",2025,"LIM351",1024,"V","No. of valuation roll amendments",null,null,null,null,null,null,null,null,null,null,null,null,null,null,null,null,"~"]
["SA12",2025,"LIM351",1025,"V","No. of objections by rate-payers",null,null,null,null,null,null,null,null,null,null,null,null,null,null,null,null,"~"]
["SA12",2025,"LIM351",1026,"V","No. of appeals by rate-payers",null,null,null,null,null,null,null,null,null,null,null,null,null,null,null,null,"~"]
["SA12",2025,"LIM351",1027,"V","No. of appeals by rate-payers finalised",null,null,null,null,null,null,null,null,null,null,null,null,null,null,null,null,"~"]
["SA12",2025,"LIM351",1028,"V","No. of successful objections",null,null,null,null,null,null,null,null,null,null,null,null,null,null,null,null,"~"]
["SA12",2025,"LIM351",1029,"V","No. of successful objections > 10%",null,null,null,null,null,null,null,null,null,null,null,null,null,null,null,null,"~"]
["SA12",2025,"LIM351",1040,"V","Estimated no. of properties not valued",null,null,null,null,null,null,null,null,null,null,null,null,null,null,null,null,"~"]
["SA12",2025,"LIM351",1041,"T","Years since last valuation",null,null,null,null,null,null,null,null,null,null,null,null,null,null,null,null,"~"]
["SA12",2025,"LIM351",1042,"T","Frequency of valuation ",null,null,null,null,null,null,null,null,null,null,null,null,null,null,null,null,"~"]
["SA12",2025,"LIM351",1043,"T","Method of valuation used",null,null,null,null,null,null,null,null,null,null,null,null,null,null,null,null,"~"]
["SA12",2025,"LIM351",1044,"T","Base of valuation",null,null,null,null,null,null,null,null,null,null,null,null,null,null,null,null,"~"]
["SA12",2025,"LIM351",1206,"V","Phasing-in properties s21 (number)",null,null,null,null,null,null,null,null,null,null,null,null,null,null,null,null,"~"]
["SA12",2025,"LIM351",1046,"T","Combination of rating types used? (Y/N)",null,null,null,null,null,null,null,null,null,null,null,null,null,null,null,null,"~"]
["SA12",2025,"LIM351",1047,"T","Flat rate used? (Y/N)",null,null,null,null,null,null,null,null,null,null,null,null,null,null,null,null,"~"]
["SA12",2025,"LIM351",1048,"T","Is balance rated by uniform rate/variable rate?",null,null,null,null,null,null,null,null,null,null,null,null,null,null,null,null,"~"]
["SA12",2025,"LIM351",1100,"T","Valuation reductions:",null,null,null,null,null,null,null,null,null,null,null,null,null,null,null,null,"~"]
["SA12",2025,"LIM351",1101,"V","Valuation reductions-public infrastructure",null,null,null,null,null,null,null,null,null,null,null,null,null,null,null,null,"~"]
["SA12",2025,"LIM351",1102,"V","Valuation reductions-nature reserves/park",null,null,null,null,null,null,null,null,null,null,null,null,null,null,null,null,"~"]
["SA12",2025,"LIM351",1103,"V","Valuation reductions-mineral rights",null,null,null,null,null,null,null,null,null,null,null,null,null,null,null,null,"~"]
["SA12",2025,"LIM351",1104,"V","Valuation reductions-R15,000 threshold ",null,null,null,null,null,null,null,null,null,null,null,null,null,null,null,null,"~"]
["SA12",2025,"LIM351",1105,"V","Valuation reductions-public worship",null,null,null,null,null,null,null,null,null,null,null,null,null,null,null,null,"~"]
["SA12",2025,"LIM351",1106,"V","Valuation reductions-other",null,null,null,null,null,null,null,null,null,null,null,null,null,null,null,null,"~"]
["SA12",2025,"LIM351",1107,"V","Total valuation reductions:",null,null,null,null,null,null,null,null,null,null,null,null,null,null,null,null,"~"]
["SA12",2025,"LIM351",1108,"V","Total value used for rating",null,null,null,null,null,null,null,null,null,null,null,null,null,null,null,null,"~"]
["SA12",2025,"LIM351",1109,"V","Total land value ",null,null,null,null,null,null,null,null,null,null,null,null,null,null,null,null,"~"]
["SA12",2025,"LIM351",1110,"V","Total value of improvements",null,null,null,null,null,null,null,null,null,null,null,null,null,null,null,null,"~"]
["SA12",2025,"LIM351",1111,"V","Total market value ",null,null,null,null,null,null,null,null,null,null,null,null,null,null,null,null,"~"]
["SA12",2025,"LIM351",1200,"T","Rating:",null,null,null,null,null,null,null,null,null,null,null,null,null,null,null,null,"~"]
["SA12",2025,"LIM351",1201,"V","Average rate",null,null,null,null,null,null,null,null,null,null,null,null,null,null,null,null,"~"]
["SA12",2025,"LIM351",1301,"V","Rate revenue budget ",null,null,null,null,null,null,null,null,null,null,null,null,null,null,null,null,"~"]
["SA12",2025,"LIM351",1302,"V","Rate revenue expected to collect",null,null,null,null,null,null,null,null,null,null,null,null,null,null,null,null,"~"]
["SA12",2025,"LIM351",1303,"P","Expected cash collection rate (%)",null,null,null,null,null,null,null,null,null,null,null,null,null,null,null,null,"~"]
["SA12",2025,"LIM351",1304,"V","Special rating areas",null,null,null,null,null,null,null,null,null,null,null,null,null,null,null,null,"~"]
["SA12",2025,"LIM351",1305,"V","Rebates, exemptions - indigent",null,null,null,null,null,null,null,null,null,null,null,null,null,null,null,null,"~"]
["SA12",2025,"LIM351",1306,"V","Rebates, exemptions - pensioners",null,null,null,null,null,null,null,null,null,null,null,null,null,null,null,null,"~"]
["SA12",2025,"LIM351",1307,"V","Rebates, exemptions - bona fide farm. ",null,null,null,null,null,null,null,null,null,null,null,null,null,null,null,null,"~"]
["SA12",2025,"LIM351",1308,"V","Rebates, exemptions - other ",null,null,null,null,null,null,null,null,null,null,null,null,null,null,null,null,"~"]
["SA12",2025,"LIM351",1309,"V","Phase-in reductions/discounts ",null,null,null,null,null,null,null,null,null,null,null,null,null,null,null,null,"~"]
["SA12",2025,"LIM351",1310,"V","Total rebates,exemptns,reductns,discs",null,null,null,null,null,null,null,null,null,null,null,null,null,null,null,null,"~"]
["SA12",2025,"LIM351",null,null,null,null,null,null,null,null,null,null,null,null,null,null,null,null,null,null,null,"~"]
["SA12",2025,"LIM351",null,null,null,null,null,null,null,null,null,null,null,null,null,null,null,null,null,null,null,"~"]
["SA12",2025,"LIM351",null,null,null,null,null,null,null,null,null,null,null,null,null,null,null,null,null,null,null,"~"]
["SA12",2025,"LIM351",null,null,null,null,null,null,null,null,null,null,null,null,null,null,null,null,null,null,null,"~"]
["SA12",2025,"LIM351",1000,"T","Valuation:",null,null,null,null,null,null,null,null,null,null,null,null,null,null,null,null,"~"]
["SA12",2025,"LIM351",1020,"V","No. of properties",null,null,null,null,null,null,null,null,null,null,null,null,null,null,null,null,"~"]
["SA12",2025,"LIM351",1021,"V","No. of sectional title property values",null,null,null,null,null,null,null,null,null,null,null,null,null,null,null,null,"~"]
["SA12",2025,"LIM351",1022,"V","No. of unreasonably difficult properties s7(2)",null,null,null,null,null,null,null,null,null,null,null,null,null,null,null,null,"~"]
["SA12",2025,"LIM351",1023,"V","No. of supplementary valuations",null,null,null,null,null,null,null,null,null,null,null,null,null,null,null,null,"~"]
["SA12",2025,"LIM351",1030,"V","Supplementary valuation ",null,null,null,null,null,null,null,null,null,null,null,null,null,null,null,null,"~"]
["SA12",2025,"LIM351",1024,"V","No. of valuation roll amendments",null,null,null,null,null,null,null,null,null,null,null,null,null,null,null,null,"~"]
["SA12",2025,"LIM351",1025,"V","No. of objections by rate-payers",null,null,null,null,null,null,null,null,null,null,null,null,null,null,null,null,"~"]
["SA12",{"$f":"+MTREF","v":2025},{"$f":"LEFT(muni,(FIND(\" \",muni,1)-1))","v":"LIM351"},1026,"V","No. of appeals by rate-payers",null,null,null,null,null,null,null,null,null,null,null,null,null,null,null,null,"~"]
["SA12",2025,"LIM351",1027,"V","No. of appeals by rate-payers finalised",null,null,null,null,null,null,null,null,null,null,null,null,null,null,null,null,"~"]
["SA12",2025,"LIM351",1028,"V","No. of successful objections",null,null,null,null,null,null,null,null,null,null,null,null,null,null,null,null,"~"]
["SA12",2025,"LIM351",1029,"V","No. of successful objections > 10%",null,null,null,null,null,null,null,null,null,null,null,null,null,null,null,null,"~"]
["SA12",2025,"LIM351",1040,"V","Estimated no. of properties not valued",null,null,null,null,null,null,null,null,null,null,null,null,null,null,null,null,"~"]
["SA12",2025,"LIM351",1041,"T","Years since last valuation",null,null,null,null,null,null,null,null,null,null,null,null,null,null,null,null,"~"]
["SA12",2025,"LIM351",1042,"T","Frequency of valuation ",null,null,null,null,null,null,null,null,null,null,null,null,null,null,null,null,"~"]
["SA12",2025,"LIM351",1043,"T","Method of valuation used",null,null,null,null,null,null,null,null,null,null,null,null,null,null,null,null,"~"]
["SA12",2025,"LIM351",1044,"T","Base of valuation",null,null,null,null,null,null,null,null,null,null,null,null,null,null,null,null,"~"]
["SA12",2025,"LIM351",1206,"V","Phasing-in properties s21 (number)",null,null,null,null,null,null,null,null,null,null,null,null,null,null,null,null,"~"]
["SA12",2025,"LIM351",1046,"T","Combination of rating types used? (Y/N)",null,null,null,null,null,null,null,null,null,null,null,null,null,null,null,null,"~"]
["SA12",2025,"LIM351",1047,"T","Flat rate used? (Y/N)",null,null,null,null,null,null,null,null,null,null,null,null,null,null,null,null,"~"]
["SA12",2025,"LIM351",1048,"T","Is balance rated by uniform rate/variable rate?",null,null,null,null,null,null,null,null,null,null,null,null,null,null,null,null,"~"]
["SA12",2025,"LIM351",1100,"T","Valuation reductions:",null,null,null,null,null,null,null,null,null,null,null,null,null,null,null,null,"~"]
["SA12",2025,"LIM351",1101,"V","Valuation reductions-public infrastructure",null,null,null,null,null,null,null,null,null,null,null,null,null,null,null,null,"~"]
["SA12",2025,"LIM351",1102,"V","Valuation reductions-nature reserves/park",null,null,null,null,null,null,null,null,null,null,null,null,null,null,null,null,"~"]
["SA12",2025,"LIM351",1103,"V","Valuation reductions-mineral rights",null,null,null,null,null,null,null,null,null,null,null,null,null,null,null,null,"~"]
["SA12",2025,"LIM351",1104,"V","Valuation reductions-R15,000 threshold ",null,null,null,null,null,null,null,null,null,null,null,null,null,null,null,null,"~"]
["SA12",2025,"LIM351",1105,"V","Valuation reductions-public worship",null,null,null,null,null,null,null,null,null,null,null,null,null,null,null,null,"~"]
["SA12",2025,"LIM351",1106,"V","Valuation reductions-other",null,null,null,null,null,null,null,null,null,null,null,null,null,null,null,null,"~"]
["SA12",2025,"LIM351",1107,"V","Total valuation reductions:",null,null,null,null,null,null,null,null,null,null,null,null,null,null,null,null,"~"]
["SA12",2025,"LIM351",1108,"V","Total value used for rating",null,null,null,null,null,null,null,null,null,null,null,null,null,null,null,null,"~"]
["SA12",2025,"LIM351",1109,"V","Total land value ",null,null,null,null,null,null,null,null,null,null,null,null,null,null,null,null,"~"]
["SA12",2025,"LIM351",1110,"V","Total value of improvements",null,null,null,null,null,null,null,null,null,null,null,null,null,null,null,null,"~"]
["SA12",2025,"LIM351",1111,"V","Total market value ",null,null,null,null,null,null,null,null,null,null,null,null,null,null,null,null,"~"]
["SA12",2025,"LIM351",1200,"T","Rating:",null,null,null,null,null,null,null,null,null,null,null,null,null,null,null,null,"~"]
["SA12",2025,"LIM351",1201,"V","Average rate",null,null,null,null,null,null,null,null,null,null,null,null,null,null,null,null,"~"]
["SA12",2025,"LIM351",1301,"V","Rate revenue budget ",null,null,null,null,null,null,null,null,null,null,null,null,null,null,null,null,"~"]
["SA12",2025,"LIM351",1302,"V","Rate revenue expected to collect",null,null,null,null,null,null,null,null,null,null,null,null,null,null,null,null,"~"]
["SA12",2025,"LIM351",1303,"P","Expected cash collection rate (%)",null,null,null,null,null,null,null,null,null,null,null,null,null,null,null,null,"~"]
["SA12",2025,"LIM351",1304,"V","Special rating areas",null,null,null,null,null,null,null,null,null,null,null,null,null,null,null,null,"~"]
["SA12",2025,"LIM351",1305,"V","Rebates, exemptions - indigent",null,null,null,null,null,null,null,null,null,null,null,null,null,null,null,null,"~"]
["SA12",2025,"LIM351",1306,"V","Rebates, exemptions - pensioners",null,null,null,null,null,null,null,null,null,null,null,null,null,null,null,null,"~"]
["SA12",2025,"LIM351",1307,"V","Rebates, exemptions - bona fide farm. ",null,null,null,null,null,null,null,null,null,null,null,null,null,null,null,null,"~"]
["SA12",2025,"LIM351",1308,"V","Rebates, exemptions - other ",null,null,null,null,null,null,null,null,null,null,null,null,null,null,null,null,"~"]
["SA12",2025,"LIM351",1309,"V","Phase-in reductions/discounts ",null,null,null,null,null,null,null,null,null,null,null,null,null,null,null,null,"~"]
["SA12",2025,"LIM351",1310,"V","Total rebates,exemptns,reductns,discs",null,null,null,null,null,null,null,null,null,null,null,null,null,null,null,null,"~"]
["SA13",2025,"LIM351",1000,1,"Property rates (rate in the Rand)",null,null,null,null,null,null,null,null,null,null,null,null,null,null,null,null,"~"]
["SA13",2025,"LIM351",1001,2,"Residential properties",null,null,null,null,null,null,null,null,null,null,null,null,null,null,null,null,"~"]
["SA13",2025,"LIM351",1002,3,"Residential properties - vacant land",null,null,null,null,null,null,null,null,null,null,null,null,null,null,null,null,"~"]
["SA13",2025,"LIM351",1003,4,"Formal/informal settlements",null,null,null,null,null,null,null,null,null,null,null,null,null,null,null,null,"~"]
["SA13",2025,"LIM351",1004,5,"Small holdings",null,null,null,null,null,null,null,null,null,null,null,null,null,null,null,null,"~"]
["SA13",2025,"LIM351",1005,6,"Farm properties - used",null,null,null,null,null,null,null,null,null,null,null,null,null,null,null,null,"~"]
["SA13",2025,"LIM351",1006,7,"Farm properties - not used",null,null,null,null,null,null,null,null,null,null,null,null,null,null,null,null,"~"]
["SA13",2025,"LIM351",1007,8,"Industrial properties",null,null,null,null,null,null,null,null,null,null,null,null,null,null,null,null,"~"]
["SA13",2025,"LIM351",1008,9,"Business and commercial properties",null,null,null,null,null,null,null,null,null,null,null,null,null,null,null,null,"~"]
["SA13",2025,"LIM351",1009,10,"Communal land - residential",null,null,null,null,null,null,null,null,null,null,null,null,null,null,null,null,"~"]
["SA13",2025,"LIM351",1010,11,"Communal land - small holdings",null,null,null,null,null,null,null,null,null,null,null,null,null,null,null,null,"~"]
["SA13",2025,"LIM351",1011,12,"Communal land - farm property",null,null,null,null,null,null,null,null,null,null,null,null,null,null,null,null,"~"]
["SA13",2025,"LIM351",1012,13,"Communal land - business and commercial",null,null,null,null,null,null,null,null,null,null,null,null,null,null,null,null,"~"]
["SA13",2025,"LIM351",1013,14,"Communal land - other",null,null,null,null,null,null,null,null,null,null,null,null,null,null,null,null,"~"]
["SA13",2025,"LIM351",1014,15,"State-owned properties",null,null,null,null,null,null,null,null,null,null,null,null,null,null,null,null,"~"]
["SA13",2025,"LIM351",1015,16,"Municipal properties",null,null,null,null,null,null,null,null,null,null,null,null,null,null,null,null,"~"]
["SA13",2025,"LIM351",1016,17,"Public service infrastructure",null,null,null,null,null,null,null,null,null,null,null,null,null,null,null,null,"~"]
["SA13",2025,"LIM351",1017,18,"Privately owned towns serviced by the owner",null,null,null,null,null,null,null,null,null,null,null,null,null,null,null,null,"~"]
["SA13",2025,"LIM351",1018,19,"State trust land",null,null,null,null,null,null,null,null,null,null,null,null,null,null,null,null,"~"]
["SA13",2025,"LIM351",1019,20,"Restitution and redistribution properties",null,null,null,null,null,null,null,null,null,null,null,null,null,null,null,null,"~"]
["SA13",2025,"LIM351",1020,21,"Protected areas",null,null,null,null,null,null,null,null,null,null,null,null,null,null,null,null,"~"]
["SA13",2025,"LIM351",1021,22,"National monuments properties",null,null,null,null,null,null,null,null,null,null,null,null,null,null,null,null,"~"]
["SA13",2025,"LIM351",null,null,null,null,null,null,null,null,null,null,null,null,null,null,null,null,null,null,null,"~"]
["SA13",2025,"LIM351",1030,23,"Exemptions, reductions and rebates (Rands)",null,null,null,null,null,null,null,null,null,null,null,null,null,null,null,null,"~"]
["SA13",2025,"LIM351",1031,24,"Residential properties",null,null,null,null,null,null,null,null,null,null,null,null,null,null,null,null,"~"]
["SA13",2025,"LIM351",1032,25,"R15 000 threshhold rebate",null,null,null,null,null,null,null,null,null,null,null,null,null,null,null,null,"~"]
["SA13",2025,"LIM351",1033,26,"General residential rebate",null,null,null,null,null,null,null,null,null,null,null,null,null,null,null,null,"~"]
["SA13",{"$f":"+MTREF","v":2025},{"$f":"LEFT(muni,(FIND(\" \",muni,1)-1))","v":"LIM351"},1034,27,"Indigent rebate or exemption",null,null,null,null,null,null,null,null,null,null,null,null,null,null,null,null,"~"]
["SA13",2025,"LIM351",1035,28,"Pensioners/social grants rebate or exemption ",null,null,null,null,null,null,null,null,null,null,null,null,null,null,null,null,"~"]
["SA13",2025,"LIM351",1036,29,"Temporary relief rebate or exemption",null,null,null,null,null,null,null,null,null,null,null,null,null,null,null,null,"~"]
["SA13",2025,"LIM351",1037,30," Bona fide farmers rebate or exemption",null,null,null,null,null,null,null,null,null,null,null,null,null,null,null,null,"~"]
["SA13",2025,"LIM351",1038,31,"Other rebates or exemptions",null,null,null,null,null,null,null,null,null,null,null,null,null,null,null,null,"~"]
["SA13",2025,"LIM351",null,null,null,null,null,null,null,null,null,null,null,null,null,null,null,null,null,null,null,"~"]
["SA13",2025,"LIM351",1100,32,"Water tariffs",null,null,null,null,null,null,null,null,null,null,null,null,null,null,null,null,"~"]
["SA13",2025,"LIM351",1101,33,"Domestic",null,null,null,null,null,null,null,null,null,null,null,null,null,null,null,null,"~"]
["SA13",2025,"LIM351",1102,34,"Basic charge/fixed fee (Rands/month)",null,null,null,null,null,null,null,null,null,null,null,null,null,null,null,null,"~"]
["SA13",2025,"LIM351",1103,35,"Service point - vacant land (Rands/month)",null,null,null,null,null,null,null,null,null,null,null,null,null,null,null,null,"~"]
["SA13",2025,"LIM351",1104,36,"Water usage - flat rate tariff (c/kl)",null,null,null,null,null,null,null,null,null,null,null,null,null,null,null,null,"~"]
["SA13",2025,"LIM351",1105,37,"Water usage - life line tariff",null,null,null,null,null,null,null,null,null,null,null,null,null,null,null,null,"~"]
["SA13",2025,"LIM351",1106,38,"Water usage - Block 1 (c/kl)",null,null,null,null,null,null,null,null,null,null,null,null,null,null,null,null,"~"]
["SA13",2025,"LIM351",1107,39,"Water usage - Block 2 (c/kl)",null,null,null,null,null,null,null,null,null,null,null,null,null,null,null,null,"~"]
["SA13",2025,"LIM351",1108,40,"Water usage - Block 3 (c/kl)",null,null,null,null,null,null,null,null,null,null,null,null,null,null,null,null,"~"]
["SA13",2025,"LIM351",1109,41,"Water usage - Block 4 (c/kl)",null,null,null,null,null,null,null,null,null,null,null,null,null,null,null,null,"~"]
["SA13",2025,"LIM351",1110,42,"Other",null,null,null,null,null,null,null,null,null,null,null,null,null,null,null,null,"~"]
["SA13",2025,"LIM351",null,null,null,null,null,null,null,null,null,null,null,null,null,null,null,null,null,null,null,"~"]
["SA13",2025,"LIM351",1200,43,"Waste water tariffs",null,null,null,null,null,null,null,null,null,null,null,null,null,null,null,null,"~"]
["SA13",2025,"LIM351",1201,44,"Domestic",null,null,null,null,null,null,null,null,null,null,null,null,null,null,null,null,"~"]
["SA13",2025,"LIM351",1202,45,"Basic charge/fixed fee (Rands/month)",null,null,null,null,null,null,null,null,null,null,null,null,null,null,null,null,"~"]
["SA13",2025,"LIM351",1203,46,"Service point - vacant land (Rands/month)",null,null,null,null,null,null,null,null,null,null,null,null,null,null,null,null,"~"]
["SA13",2025,"LIM351",1204,47,"Waste water - flat rate tariff (c/kl)",null,null,null,null,null,null,null,null,null,null,null,null,null,null,null,null,"~"]
["SA13",2025,"LIM351",1205,48,"Volumetric charge - Block 1 (c/kl)",null,null,null,null,null,null,null,null,null,null,null,null,null,null,null,null,"~"]
["SA13",2025,"LIM351",1206,49,"Volumetric charge - Block 2 (c/kl)",null,null,null,null,null,null,null,null,null,null,null,null,null,null,null,null,"~"]
["SA13",2025,"LIM351",1207,50,"Volumetric charge - Block 3 (c/kl)",null,null,null,null,null,null,null,null,null,null,null,null,null,null,null,null,"~"]
["SA13",2025,"LIM351",1208,51,"Volumetric charge - Block 4 (c/kl)",null,null,null,null,null,null,null,null,null,null,null,null,null,null,null,null,"~"]
["SA13",2025,"LIM351",1209,52,"Other",null,null,null,null,null,null,null,null,null,null,null,null,null,null,null,null,"~"]
["SA13",2025,"LIM351",null,null,null,null,null,null,null,null,null,null,null,null,null,null,null,null,null,null,null,"~"]
["SA13",2025,"LIM351",1300,53,"Electricity tariffs",null,null,null,null,null,null,null,null,null,null,null,null,null,null,null,null,"~"]
["SA13",2025,"LIM351",1301,54,"Domestic",null,null,null,null,null,null,null,null,null,null,null,null,null,null,null,null,"~"]
["SA13",2025,"LIM351",1302,55,"Basic charge/fixed fee (Rands/month)",null,null,null,null,null,null,null,null,null,null,null,null,null,null,null,null,"~"]
["SA13",2025,"LIM351",1303,56,"Service point - vacant land (Rands/month)",null,null,null,null,null,null,null,null,null,null,null,null,null,null,null,null,"~"]
["SA13",2025,"LIM351",1304,57,"FBE",null,null,null,null,null,null,null,null,null,null,null,null,null,null,null,null,"~"]
["SA13",2025,"LIM351",1305,58,"Life-line tariff - meter",null,null,null,null,null,null,null,null,null,null,null,null,null,null,null,null,"~"]
["SA13",2025,"LIM351",1306,59,"Life-line tariff - prepaid",null,null,null,null,null,null,null,null,null,null,null,null,null,null,null,null,"~"]
["SA13",2025,"LIM351",1307,60,"Flat rate tariff - meter (c/kwh)",null,null,null,null,null,null,null,null,null,null,null,null,null,null,null,null,"~"]
["SA13",2025,"LIM351",1308,61,"Flat rate tariff - prepaid(c/kwh)",null,null,null,null,null,null,null,null,null,null,null,null,null,null,null,null,"~"]
["SA13",2025,"LIM351",1309,62,"Meter - IBT Block 1 (c/kwh)",null,null,null,null,null,null,null,null,null,null,null,null,null,null,null,null,"~"]
["SA13",2025,"LIM351",1310,63,"Meter - IBT Block 2 (c/kwh)",null,null,null,null,null,null,null,null,null,null,null,null,null,null,null,null,"~"]
["SA13",2025,"LIM351",1311,64,"Meter - IBT Block 3 (c/kwh)",null,null,null,null,null,null,null,null,null,null,null,null,null,null,null,null,"~"]
["SA13",2025,"LIM351",1312,65,"Meter - IBT Block 4 (c/kwh)",null,null,null,null,null,null,null,null,null,null,null,null,null,null,null,null,"~"]
["SA13",2025,"LIM351",1313,66,"Meter - IBT Block 5 (c/kwh)",null,null,null,null,null,null,null,null,null,null,null,null,null,null,null,null,"~"]
["SA13",2025,"LIM351",1314,67,"Prepaid - IBT Block 1 (c/kwh)",null,null,null,null,null,null,null,null,null,null,null,null,null,null,null,null,"~"]
["SA13",2025,"LIM351",1315,68,"Prepaid - IBT Block 2 (c/kwh)",null,null,null,null,null,null,null,null,null,null,null,null,null,null,null,null,"~"]
["SA13",2025,"LIM351",1316,69,"Prepaid - IBT Block 3 (c/kwh)",null,null,null,null,null,null,null,null,null,null,null,null,null,null,null,null,"~"]
["SA13",2025,"LIM351",1317,70,"Prepaid - IBT Block 4 (c/kwh)",null,null,null,null,null,null,null,null,null,null,null,null,null,null,null,null,"~"]
["SA13",2025,"LIM351",1318,71,"Prepaid - IBT Block 5 (c/kwh)",null,null,null,null,null,null,null,null,null,null,null,null,null,null,null,null,"~"]
["SA13",2025,"LIM351",1319,72,"Other",null,null,null,null,null,null,null,null,null,null,null,null,null,null,null,null,"~"]
["SA13",2025,"LIM351",null,null,null,null,null,null,null,null,null,null,null,null,null,null,null,null,null,null,null,"~"]
["SA13",2025,"LIM351",1400,73,"Waste management tariffs",null,null,null,null,null,null,null,null,null,null,null,null,null,null,null,null,"~"]
["SA13",2025,"LIM351",1401,74,"Domestic",null,null,null,null,null,null,null,null,null,null,null,null,null,null,null,null,"~"]
["SA13",2025,"LIM351",1402,75,"Street cleaning charge",null,null,null,null,null,null,null,null,null,null,null,null,null,null,null,null,"~"]
["SA13",2025,"LIM351",1403,76,"Basic charge/fixed fee",null,null,null,null,null,null,null,null,null,null,null,null,null,null,null,null,"~"]
["SA13",2025,"LIM351",1404,77,"80l bin - once a week",null,null,null,null,null,null,null,null,null,null,null,null,null,null,null,null,"~"]
["SA13",2025,"LIM351",1405,78,"250l bin - once a week",null,null,null,null,null,null,null,null,null,null,null,null,null,null,null,null,"~"]
["SA14",2025,"LIM351",1000,1,"Monthly Account for Household - 'Middle Income Range'",null,null,null,null,null,null,null,null,null,null,null,null,null,null,null,null,"~"]
["SA14",2025,"LIM351",1001,2,"Rates and services charges:",null,null,null,null,null,null,null,null,null,null,null,null,null,null,null,null,"~"]
["SA14",2025,"LIM351",1002,3,"Property rates",null,null,null,null,null,null,null,null,null,null,null,null,null,null,null,null,"~"]
["SA14",2025,"LIM351",1003,4,"Electricity: Basic levy",null,null,null,null,null,null,null,null,null,null,null,null,null,null,null,null,"~"]
["SA14",2025,"LIM351",1004,5,"Electricity: Consumption",null,null,null,null,null,null,null,null,null,null,null,null,null,null,null,null,"~"]
["SA14",2025,"LIM351",1005,6,"Water: Basic levy",null,null,null,null,null,null,null,null,null,null,null,null,null,null,null,null,"~"]
["SA14",2025,"LIM351",1006,7,"Water: Consumption",null,null,null,null,null,null,null,null,null,null,null,null,null,null,null,null,"~"]
["SA14",2025,"LIM351",1007,8,"Sanitation",null,null,null,null,null,null,null,null,null,null,null,null,null,null,null,null,"~"]
["SA14",{"$f":"+MTREF","v":2025},{"$f":"LEFT(muni,(FIND(\" \",muni,1)-1))","v":"LIM351"},1008,9,"Refuse removal",null,null,null,null,null,null,null,null,null,null,null,null,null,null,null,null,"~"]
["SA14",2025,"LIM351",1009,10,"Other",null,null,null,null,null,null,null,null,null,null,null,null,null,null,null,null,"~"]
["SA14",2025,"LIM351",1090,11,"sub-total",null,null,null,null,null,null,null,null,null,null,null,null,null,null,null,null,"~"]
["SA14",2025,"LIM351",1091,12,"VAT on Services",null,null,null,null,null,null,null,null,null,null,null,null,null,null,null,null,"~"]
["SA14",2025,"LIM351",1095,13,"Total large household bill:",null,null,null,null,null,null,null,null,null,null,null,null,null,null,null,null,"~"]
["SA14",2025,"LIM351",1096,14,"% increase/-decrease",null,null,null,null,null,null,null,null,null,null,null,null,null,null,null,null,"~"]
["SA14",2025,"LIM351",null,null,null,null,null,null,null,null,null,null,null,null,null,null,null,null,null,null,null,"~"]
["SA14",2025,"LIM351",1100,15,"Monthly Account for Household - 'Affordable Range' ",null,null,null,null,null,null,null,null,null,null,null,null,null,null,null,null,"~"]
["SA14",2025,"LIM351",1101,16,"Rates and services charges:",null,null,null,null,null,null,null,null,null,null,null,null,null,null,null,null,"~"]
["SA14",2025,"LIM351",1102,17,"Property rates",null,null,null,null,null,null,null,null,null,null,null,null,null,null,null,null,"~"]
["SA14",2025,"LIM351",1103,18,"Electricity: Basic levy",null,null,null,null,null,null,null,null,null,null,null,null,null,null,null,null,"~"]
["SA14",2025,"LIM351",1110,19,"Electricity: Consumption",null,null,null,null,null,null,null,null,null,null,null,null,null,null,null,null,"~"]
["SA14",2025,"LIM351",1107,20,"Water: Basic levy",null,null,null,null,null,null,null,null,null,null,null,null,null,null,null,null,"~"]
["SA14",2025,"LIM351",1104,21,"Water: Consumption",null,null,null,null,null,null,null,null,null,null,null,null,null,null,null,null,"~"]
["SA14",2025,"LIM351",1105,22,"Sanitation",null,null,null,null,null,null,null,null,null,null,null,null,null,null,null,null,"~"]
["SA14",2025,"LIM351",1106,23,"Refuse removal",null,null,null,null,null,null,null,null,null,null,null,null,null,null,null,null,"~"]
["SA14",2025,"LIM351",1108,24,"Other",null,null,null,null,null,null,null,null,null,null,null,null,null,null,null,null,"~"]
["SA14",2025,"LIM351",1190,25,"sub-total",null,null,null,null,null,null,null,null,null,null,null,null,null,null,null,null,"~"]
["SA14",2025,"LIM351",1191,26,"VAT on Services",null,null,null,null,null,null,null,null,null,null,null,null,null,null,null,null,"~"]
["SA14",2025,"LIM351",1195,27,"Total small household bill:",null,null,null,null,null,null,null,null,null,null,null,null,null,null,null,null,"~"]
["SA14",2025,"LIM351",1196,28,"% increase/-decrease",null,null,null,null,null,null,null,null,null,null,null,null,null,null,null,null,"~"]
["SA14",2025,"LIM351",null,null,null,null,null,null,null,null,null,null,null,null,null,null,null,null,null,null,null,"~"]
["SA14",2025,"LIM351",1200,29,"Monthly Account for Household - 'Indigent' HH receiving FBS",null,null,null,null,null,null,null,null,null,null,null,null,null,null,null,null,"~"]
["SA14",2025,"LIM351",1201,30,"Rates and services charges:",null,null,null,null,null,null,null,null,null,null,null,null,null,null,null,null,"~"]
["SA14",2025,"LIM351",1202,31,"Property rates",null,null,null,null,null,null,null,null,null,null,null,null,null,null,null,null,"~"]
["SA14",2025,"LIM351",1203,32,"Electricity: Basic levy",null,null,null,null,null,null,null,null,null,null,null,null,null,null,null,null,"~"]
["SA14",2025,"LIM351",1207,33,"Electricity: Consumption",null,null,null,null,null,null,null,null,null,null,null,null,null,null,null,null,"~"]
["SA14",2025,"LIM351",1208,34,"Water: Basic levy",null,null,null,null,null,null,null,null,null,null,null,null,null,null,null,null,"~"]
["SA14",2025,"LIM351",1204,35,"Water: Consumption",null,null,null,null,null,null,null,null,null,null,null,null,null,null,null,null,"~"]
["SA14",2025,"LIM351",1205,36,"Sanitation",null,null,null,null,null,null,null,null,null,null,null,null,null,null,null,null,"~"]
["SA14",2025,"LIM351",1206,37,"Refuse removal",null,null,null,null,null,null,null,null,null,null,null,null,null,null,null,null,"~"]
["SA14",2025,"LIM351",1209,38,"Other",null,null,null,null,null,null,null,null,null,null,null,null,null,null,null,null,"~"]
["SA14",2025,"LIM351",1290,39,"sub-total",null,null,null,null,null,null,null,null,null,null,null,null,null,null,null,null,"~"]
["SA14",2025,"LIM351",1291,40,"VAT on Services",null,null,null,null,null,null,null,null,null,null,null,null,null,null,null,null,"~"]
["SA14",2025,"LIM351",1295,41,"Total small household bill:",null,null,null,null,null,null,null,null,null,null,null,null,null,null,null,null,"~"]
["SA14",2025,"LIM351",1296,42,"% increase/-decrease",null,null,null,null,null,null,null,null,null,null,null,null,null,null,null,null,"~"]
["SA22",2025,"LIM351",1000,1,"Councillors (Political Office Bearers plus Other)",null,null,null,null,null,null,null,null,null,null,null,null,null,null,null,null,"~"]
["SA22",2025,"LIM351",1001,2,"Basic Salaries and Wages",null,null,null,null,null,null,null,null,null,null,null,null,null,null,null,null,"~"]
["SA22",2025,"LIM351",1002,3,"Pension and UIF Contributions",null,null,null,null,null,null,null,null,null,null,null,null,null,null,null,null,"~"]
["SA22",2025,"LIM351",1003,4,"Medical Aid Contributions",null,null,null,null,null,null,null,null,null,null,null,null,null,null,null,null,"~"]
["SA22",2025,"LIM351",1004,5,"Motor Vehicle Allowance",null,null,null,null,null,null,null,null,null,null,null,null,null,null,null,null,"~"]
["SA22",2025,"LIM351",1005,6,"Cellphone Allowance",null,null,null,null,null,null,null,null,null,null,null,null,null,null,null,null,"~"]
["SA22",2025,"LIM351",1006,7,"Housing Allowances",null,null,null,null,null,null,null,null,null,null,null,null,null,null,null,null,"~"]
["SA22",2025,"LIM351",1007,8,"Other benefits and allowances",null,null,null,null,null,null,null,null,null,null,null,null,null,null,null,null,"~"]
["SA22",2025,"LIM351",1090,9,"Sub Total - Councillors",null,null,null,null,null,null,null,null,null,null,null,null,null,null,null,null,"~"]
["SA22",2025,"LIM351",1091,10,"% increase",null,null,null,null,null,null,null,null,null,null,null,null,null,null,null,null,"~"]
["SA22",2025,"LIM351",null,null,null,null,null,null,null,null,null,null,null,null,null,null,null,null,null,null,null,"~"]
["SA22",2025,"LIM351",1100,11,"Senior Managers of the Municipality",null,null,null,null,null,null,null,null,null,null,null,null,null,null,null,null,"~"]
["SA22",2025,"LIM351",1101,12,"Basic Salaries and Wages",null,null,null,null,null,null,null,null,null,null,null,null,null,null,null,null,"~"]
["SA22",2025,"LIM351",1102,13,"Pension and UIF Contributions",null,null,null,null,null,null,null,null,null,null,null,null,null,null,null,null,"~"]
["SA22",2025,"LIM351",1103,14,"Medical Aid Contributions",null,null,null,null,null,null,null,null,null,null,null,null,null,null,null,null,"~"]
["SA22",2025,"LIM351",1110,15,"Overtime",null,null,null,null,null,null,null,null,null,null,null,null,null,null,null,null,"~"]
["SA22",2025,"LIM351",1107,16,"Performance Bonus",null,null,null,null,null,null,null,null,null,null,null,null,null,null,null,null,"~"]
["SA22",2025,"LIM351",1104,17,"Motor Vehicle Allowance",null,null,null,null,null,null,null,null,null,null,null,null,null,null,null,null,"~"]
["SA22",2025,"LIM351",1105,18,"Cellphone Allowance",null,null,null,null,null,null,null,null,null,null,null,null,null,null,null,null,"~"]
["SA22",2025,"LIM351",1106,19,"Housing Allowances",null,null,null,null,null,null,null,null,null,null,null,null,null,null,null,null,"~"]
["SA22",2025,"LIM351",1108,20,"Other benefits and allowances",null,null,null,null,null,null,null,null,null,null,null,null,null,null,null,null,"~"]
["SA22",2025,"LIM351",1111,21,"Payments in lieu of leave",null,null,null,null,null,null,null,null,null,null,null,null,null,null,null,null,"~"]
["SA22",2025,"LIM351",1112,22,"Long service awards",null,null,null,null,null,null,null,null,null,null,null,null,null,null,null,null,"~"]
["SA22",2025,"LIM351",1113,23,"Post-retirement benefit obligations",null,null,null,null,null,null,null,null,null,null,null,null,null,null,null,null,"~"]
["SA22",2025,"LIM351",1190,24,"Sub Total - Senior Managers of Municipality",null,null,null,null,null,null,null,null,null,null,null,null,null,null,null,null,"~"]
["SA22",2025,"LIM351",1191,25,"% increase",null,null,null,null,null,null,null,null,null,null,null,null,null,null,null,null,"~"]
["SA22",2025,"LIM351",null,null,null,null,null,null,null,null,null,null,null,null,null,null,null,null,null,null,null,"~"]
["SA22",2025,"LIM351",1200,26,"Other Municipal Staff",null,null,null,null,null,null,null,null,null,null,null,null,null,null,null,null,"~"]
["SA22",{"$f":"+MTREF","v":2025},{"$f":"LEFT(muni,(FIND(\" \",muni,1)-1))","v":"LIM351"},1201,27,"Basic Salaries and Wages",null,null,null,null,null,null,null,null,null,null,null,null,null,null,null,null,"~"]
["SA22",2025,"LIM351",1202,28,"Pension and UIF Contributions",null,null,null,null,null,null,null,null,null,null,null,null,null,null,null,null,"~"]
["SA22",2025,"LIM351",1203,29,"Medical Aid Contributions",null,null,null,null,null,null,null,null,null,null,null,null,null,null,null,null,"~"]
["SA22",2025,"LIM351",1207,30,"Overtime",null,null,null,null,null,null,null,null,null,null,null,null,null,null,null,null,"~"]
["SA22",2025,"LIM351",1208,31,"Performance Bonus",null,null,null,null,null,null,null,null,null,null,null,null,null,null,null,null,"~"]
["SA22",2025,"LIM351",1204,32,"Motor Vehicle Allowance",null,null,null,null,null,null,null,null,null,null,null,null,null,null,null,null,"~"]
["SA22",2025,"LIM351",1205,33,"Cellphone Allowance",null,null,null,null,null,null,null,null,null,null,null,null,null,null,null,null,"~"]
["SA22",2025,"LIM351",1206,34,"Housing Allowances",null,null,null,null,null,null,null,null,null,null,null,null,null,null,null,null,"~"]
["SA22",2025,"LIM351",1209,35,"Other benefits and allowances",null,null,null,null,null,null,null,null,null,null,null,null,null,null,null,null,"~"]
["SA22",2025,"LIM351",1211,36,"Payments in lieu of leave",null,null,null,null,null,null,null,null,null,null,null,null,null,null,null,null,"~"]
["SA22",2025,"LIM351",1212,37,"Long service awards",null,null,null,null,null,null,null,null,null,null,null,null,null,null,null,null,"~"]
["SA22",2025,"LIM351",1213,38,"Post-retirement benefit obligations",null,null,null,null,null,null,null,null,null,null,null,null,null,null,null,null,"~"]
["SA22",2025,"LIM351",1290,39,"Sub Total - Other Municipal Staff",null,null,null,null,null,null,null,null,null,null,null,null,null,null,null,null,"~"]
["SA22",2025,"LIM351",1291,40,"% increase",null,null,null,null,null,null,null,null,null,null,null,null,null,null,null,null,"~"]
["SA22",2025,"LIM351",null,null,null,null,null,null,null,null,null,null,null,null,null,null,null,null,null,null,null,"~"]
["SA22",2025,"LIM351",1295,41,"Total Parent Municipality",null,null,null,null,null,null,null,null,null,null,null,null,null,null,null,null,"~"]
["SA22",2025,"LIM351",1297,42,"% increase",null,null,null,null,null,null,null,null,null,null,null,null,null,null,null,null,"~"]
["SA22",2025,"LIM351",null,null,null,null,null,null,null,null,null,null,null,null,null,null,null,null,null,null,null,"~"]
["SA22",2025,"LIM351",2000,43,"Board Members of Entities",null,null,null,null,null,null,null,null,null,null,null,null,null,null,null,null,"~"]
["SA22",2025,"LIM351",2001,44,"Basic Salaries and Wages",null,null,null,null,null,null,null,null,null,null,null,null,null,null,null,null,"~"]
["SA22",2025,"LIM351",2002,45,"Pension and UIF Contributions",null,null,null,null,null,null,null,null,null,null,null,null,null,null,null,null,"~"]
["SA22",2025,"LIM351",2003,46,"Medical Aid Contributions",null,null,null,null,null,null,null,null,null,null,null,null,null,null,null,null,"~"]
["SA22",2025,"LIM351",2010,47,"Overtime",null,null,null,null,null,null,null,null,null,null,null,null,null,null,null,null,"~"]
["SA22",2025,"LIM351",2011,48,"Performance Bonus",null,null,null,null,null,null,null,null,null,null,null,null,null,null,null,null,"~"]
["SA22",2025,"LIM351",2004,49,"Motor Vehicle Allowance",null,null,null,null,null,null,null,null,null,null,null,null,null,null,null,null,"~"]
["SA22",2025,"LIM351",2005,50,"Cellphone Allowance",null,null,null,null,null,null,null,null,null,null,null,null,null,null,null,null,"~"]
["SA22",2025,"LIM351",2006,51,"Housing Allowances",null,null,null,null,null,null,null,null,null,null,null,null,null,null,null,null,"~"]
["SA22",2025,"LIM351",2008,52,"Other benefits and allowances",null,null,null,null,null,null,null,null,null,null,null,null,null,null,null,null,"~"]
["SA22",2025,"LIM351",2007,53,"Board Fees",null,null,null,null,null,null,null,null,null,null,null,null,null,null,null,null,"~"]
["SA22",2025,"LIM351",2012,54,"Payments in lieu of leave",null,null,null,null,null,null,null,null,null,null,null,null,null,null,null,null,"~"]
["SA22",2025,"LIM351",2013,55,"Long service awards",null,null,null,null,null,null,null,null,null,null,null,null,null,null,null,null,"~"]
["SA22",2025,"LIM351",2014,56,"Post-retirement benefit obligations",null,null,null,null,null,null,null,null,null,null,null,null,null,null,null,null,"~"]
["SA22",2025,"LIM351",2090,57,"Sub Total - Board Members of Entities",null,null,null,null,null,null,null,null,null,null,null,null,null,null,null,null,"~"]
["SA22",2025,"LIM351",2091,58,"% increase",null,null,null,null,null,null,null,null,null,null,null,null,null,null,null,null,"~"]
["SA22",2025,"LIM351",null,null,null,null,null,null,null,null,null,null,null,null,null,null,null,null,null,null,null,"~"]
["SA22",2025,"LIM351",2100,59,"Senior Managers of Entities",null,null,null,null,null,null,null,null,null,null,null,null,null,null,null,null,"~"]
["SA22",2025,"LIM351",2101,60,"Basic Salaries and Wages",null,null,null,null,null,null,null,null,null,null,null,null,null,null,null,null,"~"]
["SA22",2025,"LIM351",2102,61,"Pension and UIF Contributions",null,null,null,null,null,null,null,null,null,null,null,null,null,null,null,null,"~"]
["SA22",2025,"LIM351",2103,62,"Medical Aid Contributions",null,null,null,null,null,null,null,null,null,null,null,null,null,null,null,null,"~"]
["SA22",2025,"LIM351",2110,63,"Overtime",null,null,null,null,null,null,null,null,null,null,null,null,null,null,null,null,"~"]
["SA22",2025,"LIM351",2107,64,"Performance Bonus",null,null,null,null,null,null,null,null,null,null,null,null,null,null,null,null,"~"]
["SA22",2025,"LIM351",2104,65,"Motor Vehicle Allowance",null,null,null,null,null,null,null,null,null,null,null,null,null,null,null,null,"~"]
["SA22",2025,"LIM351",2105,66,"Cellphone Allowance",null,null,null,null,null,null,null,null,null,null,null,null,null,null,null,null,"~"]
["SA22",2025,"LIM351",2106,67,"Housing Allowances",null,null,null,null,null,null,null,null,null,null,null,null,null,null,null,null,"~"]
["SA22",2025,"LIM351",2108,68,"Other benefits and allowances",null,null,null,null,null,null,null,null,null,null,null,null,null,null,null,null,"~"]
["SA22",2025,"LIM351",2111,69,"Payments in lieu of leave",null,null,null,null,null,null,null,null,null,null,null,null,null,null,null,null,"~"]
["SA22",2025,"LIM351",2112,70,"Long service awards",null,null,null,null,null,null,null,null,null,null,null,null,null,null,null,null,"~"]
["SA22",2025,"LIM351",2113,71,"Post-retirement benefit obligations",null,null,null,null,null,null,null,null,null,null,null,null,null,null,null,null,"~"]
["SA22",2025,"LIM351",2190,72,"Sub Total - Senior Managers of Entities",null,null,null,null,null,null,null,null,null,null,null,null,null,null,null,null,"~"]
["SA22",2025,"LIM351",2191,73,"% increase",null,null,null,null,null,null,null,null,null,null,null,null,null,null,null,null,"~"]
["SA22",2025,"LIM351",null,null,null,null,null,null,null,null,null,null,null,null,null,null,null,null,null,null,null,"~"]
["SA22",2025,"LIM351",2200,74,"Other Staff of Entities",null,null,null,null,null,null,null,null,null,null,null,null,null,null,null,null,"~"]
["SA22",2025,"LIM351",2201,75,"Basic Salaries and Wages",null,null,null,null,null,null,null,null,null,null,null,null,null,null,null,null,"~"]
["SA22",2025,"LIM351",2202,76,"Pension and UIF Contributions",null,null,null,null,null,null,null,null,null,null,null,null,null,null,null,null,"~"]
["SA22",2025,"LIM351",2203,77,"Medical Aid Contributions",null,null,null,null,null,null,null,null,null,null,null,null,null,null,null,null,"~"]
["SA22",2025,"LIM351",2207,78,"Overtime",null,null,null,null,null,null,null,null,null,null,null,null,null,null,null,null,"~"]
["SA22",2025,"LIM351",2208,79,"Performance Bonus",null,null,null,null,null,null,null,null,null,null,null,null,null,null,null,null,"~"]
["SA22",2025,"LIM351",2204,80,"Motor Vehicle Allowance",null,null,null,null,null,null,null,null,null,null,null,null,null,null,null,null,"~"]
["SA22",2025,"LIM351",2205,81,"Cellphone Allowance",null,null,null,null,null,null,null,null,null,null,null,null,null,null,null,null,"~"]
["SA22",2025,"LIM351",2206,82,"Housing Allowances",null,null,null,null,null,null,null,null,null,null,null,null,null,null,null,null,"~"]
["SA22",2025,"LIM351",2209,83,"Other benefits and allowances",null,null,null,null,null,null,null,null,null,null,null,null,null,null,null,null,"~"]
["SA22",2025,"LIM351",2211,84,"Payments in lieu of leave",null,null,null,null,null,null,null,null,null,null,null,null,null,null,null,null,"~"]
["SA22",2025,"LIM351",2212,85,"Long service awards",null,null,null,null,null,null,null,null,null,null,null,null,null,null,null,null,"~"]
["SA22",2025,"LIM351",2213,86,"Post-retirement benefit obligations",null,null,null,null,null,null,null,null,null,null,null,null,null,null,null,null,"~"]
["SA22",{"$f":"+MTREF","v":2025},{"$f":"LEFT(muni,(FIND(\" \",muni,1)-1))","v":"LIM351"},2290,87,"Sub Total - Other Staff of Entities",null,null,null,null,null,null,null,null,null,null,null,null,null,null,null,null,"~"]
["SA22",2025,"LIM351",2291,89,"% increase",null,null,null,null,null,null,null,null,null,null,null,null,null,null,null,null,"~"]
["SA22",2025,"LIM351",null,null,null,null,null,null,null,null,null,null,null,null,null,null,null,null,null,null,null,"~"]
["SA22",2025,"LIM351",2295,90,"Total Municipal Entities",null,null,null,null,null,null,null,null,null,null,null,null,null,null,null,null,"~"]
["SA22",2025,"LIM351",null,null,null,null,null,null,null,null,null,null,null,null,null,null,null,null,null,null,null,"~"]
["SA22",2025,"LIM351",2296,91,"TOTAL SALARY, ALLOWANCES & BENEFITS",null,null,null,null,null,null,null,null,null,null,null,null,null,null,null,null,"~"]
["SA22",2025,"LIM351",2297,92,"% increase",null,null,null,null,null,null,null,null,null,null,null,null,null,null,null,null,"~"]
["SA22",2025,"LIM351",2298,93,"TOTAL MANAGERS AND STAFF",null,null,null,null,null,null,null,null,null,null,null,null,null,null,null,null,"~"]
["SA23",2025,"LIM351",1000,1,null,null,null,null,null,null,null,null,null,null,null,null,null,null,null,null,null,"~"]
["SA23",2025,"LIM351",1001,2,null,null,null,null,null,null,null,null,null,null,null,null,null,null,null,null,null,"~"]
["SA23",2025,"LIM351",1002,3,null,null,null,null,null,null,null,null,null,null,null,null,null,null,null,null,null,"~"]
["SA23",2025,"LIM351",1003,4,null,null,null,null,null,null,null,null,null,null,null,null,null,null,null,null,null,"~"]
["SA23",2025,"LIM351",1004,5,null,null,null,null,null,null,null,null,null,null,null,null,null,null,null,null,null,"~"]
["SA23",2025,"LIM351",1005,6,null,null,null,null,null,null,null,null,null,null,null,null,null,null,null,null,null,"~"]
["SA23",2025,"LIM351",1006,7,null,null,null,null,null,null,null,null,null,null,null,null,null,null,null,null,null,"~"]
["SA23",2025,"LIM351",1090,8,null,null,null,null,null,null,null,null,null,null,null,null,null,null,null,null,null,"~"]
["SA23",2025,"LIM351",null,null,null,null,null,null,null,null,null,null,null,null,null,null,null,null,null,null,null,"~"]
["SA23",2025,"LIM351",null,null,null,null,null,null,null,null,null,null,null,null,null,null,null,null,null,null,null,"~"]
["SA23",2025,"LIM351",null,null,null,null,null,null,null,null,null,null,null,null,null,null,null,null,null,null,null,"~"]
["SA23",2025,"LIM351",null,null,null,null,null,null,null,null,null,null,null,null,null,null,null,null,null,null,null,"~"]
["SA23",2025,"LIM351",null,null,null,null,null,null,null,null,null,null,null,null,null,null,null,null,null,null,null,"~"]
["SA23",2025,"LIM351",null,null,null,null,null,null,null,null,null,null,null,null,null,null,null,null,null,null,null,"~"]
["SA23",2025,"LIM351",null,null,null,null,null,null,null,null,null,null,null,null,null,null,null,null,null,null,null,"~"]
["SA23",2025,"LIM351",null,null,null,null,null,null,null,null,null,null,null,null,null,null,null,null,null,null,null,"~"]
["SA23",2025,"LIM351",null,null,null,null,null,null,null,null,null,null,null,null,null,null,null,null,null,null,null,"~"]
["SA23",2025,"LIM351",null,null,null,null,null,null,null,null,null,null,null,null,null,null,null,null,null,null,null,"~"]
["SA23",2025,"LIM351",null,null,null,null,null,null,null,null,null,null,null,null,null,null,null,null,null,null,null,"~"]
["SA23",2025,"LIM351",null,null,null,null,null,null,null,null,null,null,null,null,null,null,null,null,null,null,null,"~"]
["SA23",2025,"LIM351",null,null,null,null,null,null,null,null,null,null,null,null,null,null,null,null,null,null,null,"~"]
["SA23",2025,"LIM351",null,null,null,null,null,null,null,null,null,null,null,null,null,null,null,null,null,null,null,"~"]
["SA23",2025,"LIM351",null,null,null,null,null,null,null,null,null,null,null,null,null,null,null,null,null,null,null,"~"]
["SA23",2025,"LIM351",null,null,null,null,null,null,null,null,null,null,null,null,null,null,null,null,null,null,null,"~"]
["SA23",2025,"LIM351",null,null,null,null,null,null,null,null,null,null,null,null,null,null,null,null,null,null,null,"~"]
["SA23",2025,"LIM351",null,null,null,null,null,null,null,null,null,null,null,null,null,null,null,null,null,null,null,"~"]
["SA23",2025,"LIM351",null,null,null,null,null,null,null,null,null,null,null,null,null,null,null,null,null,null,null,"~"]
["SA23",2025,"LIM351",null,null,null,null,null,null,null,null,null,null,null,null,null,null,null,null,null,null,null,"~"]
["SA23",2025,"LIM351",null,null,null,null,null,null,null,null,null,null,null,null,null,null,null,null,null,null,null,"~"]
["SA23",2025,"LIM351",null,null,null,null,null,null,null,null,null,null,null,null,null,null,null,null,null,null,null,"~"]
["SA23",2025,"LIM351",null,null,null,null,null,null,null,null,null,null,null,null,null,null,null,null,null,null,null,"~"]
["SA23",2025,"LIM351",null,null,null,null,null,null,null,null,null,null,null,null,null,null,null,null,null,null,null,"~"]
["SA23",2025,"LIM351",null,null,null,null,null,null,null,null,null,null,null,null,null,null,null,null,null,null,null,"~"]
["SA23",2025,"LIM351",null,null,null,null,null,null,null,null,null,null,null,null,null,null,null,null,null,null,null,"~"]
["SA23",2025,"LIM351",null,null,null,null,null,null,null,null,null,null,null,null,null,null,null,null,null,null,null,"~"]
["SA23",2025,"LIM351",null,null,null,null,null,null,null,null,null,null,null,null,null,null,null,null,null,null,null,"~"]
["SA23",2025,"LIM351",null,null,null,null,null,null,null,null,null,null,null,null,null,null,null,null,null,null,null,"~"]
["SA23",2025,"LIM351",null,null,null,null,null,null,null,null,null,null,null,null,null,null,null,null,null,null,null,"~"]
["SA23",2025,"LIM351",null,null,null,null,null,null,null,null,null,null,null,null,null,null,null,null,null,null,null,"~"]
["SA23",2025,"LIM351",null,null,null,null,null,null,null,null,null,null,null,null,null,null,null,null,null,null,null,"~"]
["SA23",2025,"LIM351",null,null,null,null,null,null,null,null,null,null,null,null,null,null,null,null,null,null,null,"~"]
["SA23",2025,"LIM351",null,null,null,null,null,null,null,null,null,null,null,null,null,null,null,null,null,null,null,"~"]
["SA23",2025,"LIM351",null,null,null,null,null,null,null,null,null,null,null,null,null,null,null,null,null,null,null,"~"]
["SA23",2025,"LIM351",null,null,null,null,null,null,null,null,null,null,null,null,null,null,null,null,null,null,null,"~"]
["SA23",2025,"LIM351",null,null,null,null,null,null,null,null,null,null,null,null,null,null,null,null,null,null,null,"~"]
["SA23",2025,"LIM351",null,null,null,null,null,null,null,null,null,null,null,null,null,null,null,null,null,null,null,"~"]
["SA23",2025,"LIM351",null,null,null,null,null,null,null,null,null,null,null,null,null,null,null,null,null,null,null,"~"]
["SA23",2025,"LIM351",null,null,null,null,null,null,null,null,null,null,null,null,null,null,null,null,null,null,null,"~"]
["SA23",2025,"LIM351",null,null,null,null,null,null,null,null,null,null,null,null,null,null,null,null,null,null,null,"~"]
["SA23",2025,"LIM351",null,null,null,null,null,null,null,null,null,null,null,null,null,null,null,null,null,null,null,"~"]
["SA23",2025,"LIM351",null,null,null,null,null,null,null,null,null,null,null,null,null,null,null,null,null,null,null,"~"]
["SA23",2025,"LIM351",null,null,null,null,null,null,null,null,null,null,null,null,null,null,null,null,null,null,null,"~"]
["SA23",2025,"LIM351",null,null,null,null,null,null,null,null,null,null,null,null,null,null,null,null,null,null,null,"~"]
["SA23",2025,"LIM351",null,null,null,null,null,null,null,null,null,null,null,null,null,null,null,null,null,null,null,"~"]
["SA23",2025,"LIM351",null,null,null,null,null,null,null,null,null,null,null,null,null,null,null,null,null,null,null,"~"]
["SA23",2025,"LIM351",null,null,null,null,null,null,null,null,null,null,null,null,null,null,null,null,null,null,null,"~"]
["SA23",{"$f":"+MTREF","v":2025},{"$f":"LEFT(muni,(FIND(\" \",muni,1)-1))","v":"LIM351"},null,null,null,null,null,null,null,null,null,null,null,null,null,null,null,null,null,null,null,"~"]
["SA23",2025,"LIM351",null,null,null,null,null,null,null,null,null,null,null,null,null,null,null,null,null,null,null,"~"]
["SA23",2025,"LIM351",null,null,null,null,null,null,null,null,null,null,null,null,null,null,null,null,null,null,null,"~"]
["SA23",2025,"LIM351",null,null,null,null,null,null,null,null,null,null,null,null,null,null,null,null,null,null,null,"~"]
["SA23",2025,"LIM351",null,null,null,null,null,null,null,null,null,null,null,null,null,null,null,null,null,null,null,"~"]
["SA23",2025,"LIM351",null,null,null,null,null,null,null,null,null,null,null,null,null,null,null,null,null,null,null,"~"]
["SA23",2025,"LIM351",null,null,null,null,null,null,null,null,null,null,null,null,null,null,null,null,null,null,null,"~"]
["SA23",2025,"LIM351",null,null,null,null,null,null,null,null,null,null,null,null,null,null,null,null,null,null,null,"~"]
["SA23",2025,"LIM351",null,null,null,null,null,null,null,null,null,null,null,null,null,null,null,null,null,null,null,"~"]
["SA23",2025,"LIM351",null,null,null,null,null,null,null,null,null,null,null,null,null,null,null,null,null,null,null,"~"]
["SA23",2025,"LIM351",null,null,null,null,null,null,null,null,null,null,null,null,null,null,null,null,null,null,null,"~"]
["SA23",2025,"LIM351",null,null,null,null,null,null,null,null,null,null,null,null,null,null,null,null,null,null,null,"~"]
["SA23",2025,"LIM351",null,null,null,null,null,null,null,null,null,null,null,null,null,null,null,null,null,null,null,"~"]
["SA23",2025,"LIM351",null,null,null,null,null,null,null,null,null,null,null,null,null,null,null,null,null,null,null,"~"]
["SA23",2025,"LIM351",null,null,null,null,null,null,null,null,null,null,null,null,null,null,null,null,null,null,null,"~"]
["SA23",2025,"LIM351",null,null,null,null,null,null,null,null,null,null,null,null,null,null,null,null,null,null,null,"~"]
["SA23",2025,"LIM351",null,null,null,null,null,null,null,null,null,null,null,null,null,null,null,null,null,null,null,"~"]
["SA23",2025,"LIM351",null,null,null,null,null,null,null,null,null,null,null,null,null,null,null,null,null,null,null,"~"]
["SA23",2025,"LIM351",null,null,null,null,null,null,null,null,null,null,null,null,null,null,null,null,null,null,null,"~"]
["SA23",2025,"LIM351",null,null,null,null,null,null,null,null,null,null,null,null,null,null,null,null,null,null,null,"~"]
["SA23",2025,"LIM351",null,null,null,null,null,null,null,null,null,null,null,null,null,null,null,null,null,null,null,"~"]
["SA23",2025,"LIM351",null,null,null,null,null,null,null,null,null,null,null,null,null,null,null,null,null,null,null,"~"]
["SA23",2025,"LIM351",null,null,null,null,null,null,null,null,null,null,null,null,null,null,null,null,null,null,null,"~"]
["SA23",2025,"LIM351",null,null,null,null,null,null,null,null,null,null,null,null,null,null,null,null,null,null,null,"~"]
["SA23",2025,"LIM351",null,null,null,null,null,null,null,null,null,null,null,null,null,null,null,null,null,null,null,"~"]
["SA23",2025,"LIM351",null,null,null,null,null,null,null,null,null,null,null,null,null,null,null,null,null,null,null,"~"]
["SA23",2025,"LIM351",null,null,null,null,null,null,null,null,null,null,null,null,null,null,null,null,null,null,null,"~"]
["SA23",2025,"LIM351",null,null,null,null,null,null,null,null,null,null,null,null,null,null,null,null,null,null,null,"~"]
["SA23",2025,"LIM351",null,null,null,null,null,null,null,null,null,null,null,null,null,null,null,null,null,null,null,"~"]
["SA23",2025,"LIM351",null,null,null,null,null,null,null,null,null,null,null,null,null,null,null,null,null,null,null,"~"]
["SA23",2025,"LIM351",null,null,null,null,null,null,null,null,null,null,null,null,null,null,null,null,null,null,null,"~"]
["SA23",2025,"LIM351",null,null,null,null,null,null,null,null,null,null,null,null,null,null,null,null,null,null,null,"~"]
["SA23",2025,"LIM351",null,null,null,null,null,null,null,null,null,null,null,null,null,null,null,null,null,null,null,"~"]
["SA23",2025,"LIM351",null,null,null,null,null,null,null,null,null,null,null,null,null,null,null,null,null,null,null,"~"]
["SA23",2025,"LIM351",null,null,null,null,null,null,null,null,null,null,null,null,null,null,null,null,null,null,null,"~"]
["SA23",2025,"LIM351",null,null,null,null,null,null,null,null,null,null,null,null,null,null,null,null,null,null,null,"~"]
["SA23",2025,"LIM351",null,null,null,null,null,null,null,null,null,null,null,null,null,null,null,null,null,null,null,"~"]
["SA23",2025,"LIM351",null,null,null,null,null,null,null,null,null,null,null,null,null,null,null,null,null,null,null,"~"]
["SA23",2025,"LIM351",null,null,null,null,null,null,null,null,null,null,null,null,null,null,null,null,null,null,null,"~"]
["SA23",2025,"LIM351",null,null,null,null,null,null,null,null,null,null,null,null,null,null,null,null,null,null,null,"~"]
["SA23",2025,"LIM351",null,null,null,null,null,null,null,null,null,null,null,null,null,null,null,null,null,null,null,"~"]
["SA23",2025,"LIM351",null,null,null,null,null,null,null,null,null,null,null,null,null,null,null,null,null,null,null,"~"]
["SA23",2025,"LIM351",null,null,null,null,null,null,null,null,null,null,null,null,null,null,null,null,null,null,null,"~"]
["SA24",2025,"LIM351",1000,1,"Municipal Council and Boards of Municipal Entities",null,null,null,null,null,null,null,null,null,null,null,null,null,null,null,null,"~"]
["SA24",2025,"LIM351",1001,2,"Councillors (Political Office Bearers and Other Councillors)",null,null,null,null,null,null,null,null,null,null,null,null,null,null,null,null,"~"]
["SA24",2025,"LIM351",1002,3,"Board Members of municipal entities",null,null,null,null,null,null,null,null,null,null,null,null,null,null,null,null,"~"]
["SA24",2025,"LIM351",1100,4,"Municipal employees",null,null,null,null,null,null,null,null,null,null,null,null,null,null,null,null,"~"]
["SA24",2025,"LIM351",1101,5,"Municipal Manager and Senior Managers",null,null,null,null,null,null,null,null,null,null,null,null,null,null,null,null,"~"]
["SA24",2025,"LIM351",1102,6,"Other Managers",null,null,null,null,null,null,null,null,null,null,null,null,null,null,null,null,"~"]
["SA24",2025,"LIM351",1103,7,"Professionals",null,null,null,null,null,null,null,null,null,null,null,null,null,null,null,null,"~"]
["SA24",2025,"LIM351",1104,8,"Finance",null,null,null,null,null,null,null,null,null,null,null,null,null,null,null,null,"~"]
["SA24",2025,"LIM351",1105,9,"Spatial/town planning",null,null,null,null,null,null,null,null,null,null,null,null,null,null,null,null,"~"]
["SA24",2025,"LIM351",1106,10,"Information Technology",null,null,null,null,null,null,null,null,null,null,null,null,null,null,null,null,"~"]
["SA24",2025,"LIM351",1107,11,"Roads",null,null,null,null,null,null,null,null,null,null,null,null,null,null,null,null,"~"]
["SA24",2025,"LIM351",1108,12,"Electricity",null,null,null,null,null,null,null,null,null,null,null,null,null,null,null,null,"~"]
["SA24",2025,"LIM351",1109,13,"Water",null,null,null,null,null,null,null,null,null,null,null,null,null,null,null,null,"~"]
["SA24",2025,"LIM351",1110,14,"Sanitation",null,null,null,null,null,null,null,null,null,null,null,null,null,null,null,null,"~"]
["SA24",2025,"LIM351",1111,15,"Refuse",null,null,null,null,null,null,null,null,null,null,null,null,null,null,null,null,"~"]
["SA24",2025,"LIM351",1112,16,"Other",null,null,null,null,null,null,null,null,null,null,null,null,null,null,null,null,"~"]
["SA24",2025,"LIM351",1113,17,"Technicians",null,null,null,null,null,null,null,null,null,null,null,null,null,null,null,null,"~"]
["SA24",2025,"LIM351",1114,18,"Finance",null,null,null,null,null,null,null,null,null,null,null,null,null,null,null,null,"~"]
["SA24",2025,"LIM351",1115,19,"Spatial/town planning",null,null,null,null,null,null,null,null,null,null,null,null,null,null,null,null,"~"]
["SA24",2025,"LIM351",1116,20,"Information Technology",null,null,null,null,null,null,null,null,null,null,null,null,null,null,null,null,"~"]
["SA24",2025,"LIM351",1117,21,"Roads",null,null,null,null,null,null,null,null,null,null,null,null,null,null,null,null,"~"]
["SA24",{"$f":"+MTREF","v":2025},{"$f":"LEFT(muni,(FIND(\" \",muni,1)-1))","v":"LIM351"},1118,22,"Electricity",null,null,null,null,null,null,null,null,null,null,null,null,null,null,null,null,"~"]
["SA24",2025,"LIM351",1119,23,"Water",null,null,null,null,null,null,null,null,null,null,null,null,null,null,null,null,"~"]
["SA24",2025,"LIM351",1120,24,"Sanitation",null,null,null,null,null,null,null,null,null,null,null,null,null,null,null,null,"~"]
["SA24",2025,"LIM351",1121,25,"Refuse",null,null,null,null,null,null,null,null,null,null,null,null,null,null,null,null,"~"]
["SA24",2025,"LIM351",1122,26,"Other",null,null,null,null,null,null,null,null,null,null,null,null,null,null,null,null,"~"]
["SA24",2025,"LIM351",1123,27,"Clerks (Clerical and administrative)",null,null,null,null,null,null,null,null,null,null,null,null,null,null,null,null,"~"]
["SA24",2025,"LIM351",1124,28,"Service and sales workers",null,null,null,null,null,null,null,null,null,null,null,null,null,null,null,null,"~"]
["SA24",2025,"LIM351",1125,29,"Skilled agricultural and fishery workers",null,null,null,null,null,null,null,null,null,null,null,null,null,null,null,null,"~"]
["SA24",2025,"LIM351",1126,30,"Craft and related trades",null,null,null,null,null,null,null,null,null,null,null,null,null,null,null,null,"~"]
["SA24",2025,"LIM351",1127,31,"Plant and Machine Operators",null,null,null,null,null,null,null,null,null,null,null,null,null,null,null,null,"~"]
["SA24",2025,"LIM351",1128,32,"Elementary Occupations",null,null,null,null,null,null,null,null,null,null,null,null,null,null,null,null,"~"]
["SA24",2025,"LIM351",1190,33,"TOTAL PERSONNEL NUMBERS",null,null,null,null,null,null,null,null,null,null,null,null,null,null,null,null,"~"]
["SA24",2025,"LIM351",1191,34,"% increase",null,null,null,null,null,null,null,null,null,null,null,null,null,null,null,null,"~"]
["SA24",2025,"LIM351",null,null,null,null,null,null,null,null,null,null,null,null,null,null,null,null,null,null,null,"~"]
["SA24",2025,"LIM351",1200,35,"Total municipal employees headcount",null,null,null,null,null,null,null,null,null,null,null,null,null,null,null,null,"~"]
["SA24",2025,"LIM351",1201,36,"Finance personnel headcount",null,null,null,null,null,null,null,null,null,null,null,null,null,null,null,null,"~"]
["SA24",2025,"LIM351",1202,37,"Human Resources personnel headcount",null,null,null,null,null,null,null,null,null,null,null,null,null,null,null,null,"~"]
["OTHER",2025,"LIM351","1001",1,"Unspent conditional transfers",null,null,null,null,null,null,null,null,null,null,null,null,null,null,null,null,"~"]
["OTHER",2025,"LIM351","1002",2,"Unspent borrowing",null,null,null,null,null,null,null,null,null,null,null,null,null,null,null,null,"~"]
["OTHER",2025,"LIM351","1003",3,"Statutory requirements",null,null,null,null,null,null,null,null,null,null,null,null,null,null,null,null,"~"]
["OTHER",2025,"LIM351","1005",5,"Other provisions",null,null,null,null,null,null,null,null,null,null,null,null,null,null,null,null,"~"]
["OTHER",2025,"LIM351","1006",6,"Long term investments committed",null,null,null,null,null,null,null,null,null,null,null,null,null,null,null,null,"~"]
["OTHER",2025,"LIM351","1007",7,"Reserves to be backed by cash/investments",null,null,null,null,null,null,null,null,null,null,null,null,null,null,null,null,"~"]
["OTHER",2025,"LIM351","1008",8,"Estimate of other debtors > 90 days",null,null,null,null,null,null,null,null,null,null,null,null,null,null,null,null,"~"]
["OTHER",2025,"LIM351",2001,9,"Contributions recognised - capital",null,null,null,null,null,null,null,null,null,null,null,null,null,null,null,null,"~"]
["OTHER",2025,"LIM351","3001",10,"Depreciation offsets",null,null,null,null,null,null,null,null,null,null,null,null,null,null,null,null,"~"]
["OTHER",2025,"LIM351","4001",11,"Fixed operational expenditure % assumption",null,null,null,null,null,null,null,null,null,null,null,null,null,null,null,null,"~"]
["OTHER",2025,"LIM351",5000,50,"Repairs and Maintenance by Expenditure Item",null,null,null,null,null,null,null,null,null,null,null,null,null,null,null,null,"~"]
["OTHER",2025,"LIM351",5001,51,"Employee related costs",null,null,null,null,null,null,null,null,null,null,null,null,null,null,null,null,"~"]
["OTHER",2025,"LIM351",5002,52,"Other materials",null,null,null,null,null,null,null,null,null,null,null,null,null,null,null,null,"~"]
["OTHER",2025,"LIM351",5003,53,"Contracted Services",null,null,null,null,null,null,null,null,null,null,null,null,null,null,null,null,"~"]
["OTHER",2025,"LIM351",5004,54,"Other Expenditure",null,null,null,null,null,null,null,null,null,null,null,null,null,null,null,null,"~"]
["OTHER",2025,"LIM351",5005,55,"Total Repairs and Maintenance Expenditure",null,null,null,null,null,null,null,null,null,null,null,null,null,null,null,null,"~"]
["OTHER",2025,"LIM351",6001,61,"Volume Electricity Distribution Losses",null,null,null,null,null,null,null,null,null,null,null,null,null,null,null,null,"~"]
["OTHER",2025,"LIM351",6002,62,"Cost Electiricty Distribution Losses",null,null,null,null,null,null,null,null,null,null,null,null,null,null,null,null,"~"]
["OTHER",2025,"LIM351",null,null,null,null,null,null,null,null,null,null,null,null,null,null,null,null,null,null,null,"~"]
["OTHER",2025,"LIM351",6003,63,"Volume Water Distribution Losses",null,null,null,null,null,null,null,null,null,null,null,null,null,null,null,null,"~"]
["OTHER",2025,"LIM351",6004,64,"Cost Water Distribution Losses",null,null,null,null,null,null,null,null,null,null,null,null,null,null,null,null,"~"]
["OTHER",2025,"LIM351",null,null,null,null,null,null,null,null,null,null,null,null,null,null,null,null,null,null,null,"~"]
["OTHER",2025,"LIM351",7001,71,"Consultant Fees",null,null,null,null,null,null,null,null,null,null,null,null,null,null,null,null,"~"]
["OTHER",2025,"LIM351",7002,72,"Audit Fees",null,null,null,null,null,null,null,null,null,null,null,null,null,null,null,null,"~"]
["SA36",2025,"LIM351",1,null,null,null,null,null,null,null,null,null,null,null,null,null,null,null,null,null,null,"~"]
["SA36",2025,"LIM351",2,null,null,null,null,null,null,null,null,null,null,null,null,null,null,null,null,null,null,"~"]
["SA36",2025,"LIM351",3,null,null,null,null,null,null,null,null,null,null,null,null,null,null,null,null,null,null,"~"]
["SA36",2025,"LIM351",4,null,null,null,null,null,null,null,null,null,null,null,null,null,null,null,null,null,null,"~"]
["SA36",2025,"LIM351",5,null,null,null,null,null,null,null,null,null,null,null,null,null,null,null,null,null,null,"~"]
["SA36",2025,"LIM351",6,null,null,null,null,null,null,null,null,null,null,null,null,null,null,null,null,null,null,"~"]
["SA36",2025,"LIM351",7,null,null,null,null,null,null,null,null,null,null,null,null,null,null,null,null,null,null,"~"]
["SA36",2025,"LIM351",8,null,null,null,null,null,null,null,null,null,null,null,null,null,null,null,null,null,null,"~"]
["SA36",2025,"LIM351",9,null,null,null,null,null,null,null,null,null,null,null,null,null,null,null,null,null,null,"~"]
["SA36",2025,"LIM351",10,null,null,null,null,null,null,null,null,null,null,null,null,null,null,null,null,null,null,"~"]
["SA36",2025,"LIM351",11,null,null,null,null,null,null,null,null,null,null,null,null,null,null,null,null,null,null,"~"]
["SA36",2025,"LIM351",12,null,null,null,null,null,null,null,null,null,null,null,null,null,null,null,null,null,null,"~"]
["SA36",2025,"LIM351",13,null,null,null,null,null,null,null,null,null,null,null,null,null,null,null,null,null,null,"~"]
["SA36",2025,"LIM351",14,null,null,null,null,null,null,null,null,null,null,null,null,null,null,null,null,null,null,"~"]
["SA36",2025,"LIM351",15,null,null,null,null,null,null,null,null,null,null,null,null,null,null,null,null,null,null,"~"]
["SA36",2025,"LIM351",16,null,null,null,null,null,null,null,null,null,null,null,null,null,null,null,null,null,null,"~"]
["SA36",2025,"LIM351",17,null,null,null,null,null,null,null,null,null,null,null,0,0,null,null,0,null,null,"~"]
["SA36",2025,"LIM351",18,null,null,null,null,null,null,null,null,null,null,null,null,null,null,null,null,null,null,"~"]
["SA36",2025,"LIM351",19,null,null,null,null,null,null,null,null,null,null,null,null,null,null,null,null,null,null,"~"]
["SA36",2025,"LIM351",20,null,null,null,null,null,null,null,null,null,null,null,null,null,null,null,null,null,null,"~"]
["SA36",2025,"LIM351",21,null,null,null,null,null,null,null,null,null,null,null,null,null,null,null,null,null,null,"~"]
["SA36",2025,"LIM351",22,null,null,null,null,null,null,null,null,null,null,null,null,null,null,null,null,null,null,"~"]
["SA36",2025,"LIM351",23,null,null,null,null,null,null,null,null,null,null,null,null,null,null,null,null,null,null,"~"]
["SA36",{"$f":"+MTREF","v":2025},{"$f":"LEFT(muni,(FIND(\" \",muni,1)-1))","v":"LIM351"},24,null,null,null,null,null,null,null,null,null,null,null,null,null,null,null,null,null,null,"~"]
["SA36",2025,"LIM351",25,null,null,null,null,null,null,null,null,null,null,null,null,null,null,null,null,null,null,"~"]
["SA36",2025,"LIM351",26,null,null,null,null,null,null,null,null,null,null,null,null,null,null,null,null,null,null,"~"]
["SA36",2025,"LIM351",27,null,null,null,null,null,null,null,null,null,null,null,null,null,null,null,null,null,null,"~"]
["SA36",2025,"LIM351",28,null,null,null,null,null,null,null,null,null,null,null,null,null,null,null,null,null,null,"~"]
["SA36",2025,"LIM351",29,null,null,null,null,null,null,null,null,null,null,null,null,null,null,null,null,null,null,"~"]
["SA36",2025,"LIM351",30,null,null,null,null,null,null,null,null,null,0,0,0,0,null,null,null,null,null,"~"]
["SA36",2025,"LIM351",31,null,null,null,null,null,null,null,null,null,0,0,0,0,null,null,null,null,null,"~"]
["SA36",2025,"LIM351",32,null,null,null,null,null,null,null,null,null,null,null,null,null,null,null,null,null,null,"~"]
["SA36",2025,"LIM351",33,null,null,null,null,null,null,null,null,null,null,null,null,null,null,null,null,null,null,"~"]
["SA36",2025,"LIM351",34,null,null,null,null,null,null,null,null,null,null,null,null,null,null,null,null,null,null,"~"]
["SA36",2025,"LIM351",35,null,null,null,null,null,null,null,null,null,null,null,null,null,null,null,null,null,null,"~"]
["SA36",2025,"LIM351",36,null,null,null,null,null,null,null,null,null,null,null,null,null,null,null,null,null,null,"~"]
["SA36",2025,"LIM351",37,null,null,null,null,null,null,null,null,null,null,null,null,null,null,null,null,null,null,"~"]
["SA36",2025,"LIM351",38,null,null,null,null,null,null,null,null,"Check",0,null,null,null,null,null,null,null,null,"~"]
["SA36",2025,"LIM351",39,null,null,null,null,null,null,null,null,null,null,null,null,null,null,null,null,null,null,"~"]
["SA36",2025,"LIM351",40,null,null,null,null,null,null,null,null,null,null,null,null,null,null,null,null,null,null,"~"]
["SA36",2025,"LIM351",41,null,null,null,null,null,null,null,null,null,null,null,null,null,null,null,null,null,null,"~"]
["SA36",2025,"LIM351",42,null,null,null,null,null,null,null,null,null,null,null,null,null,null,null,null,null,null,"~"]
["SA36",2025,"LIM351",43,null,null,null,null,null,null,null,null,null,null,null,null,null,null,null,null,null,null,"~"]
["SA36",2025,"LIM351",44,null,null,null,null,null,null,null,null,null,null,null,null,null,null,null,null,null,null,"~"]
["SA36",2025,"LIM351",45,null,null,null,null,null,null,null,null,null,null,null,null,null,null,null,null,null,null,"~"]
["SA36",2025,"LIM351",46,null,null,null,null,null,null,null,null,null,null,null,null,null,null,null,null,null,null,"~"]
["SA36",2025,"LIM351",47,null,null,null,null,null,null,null,null,null,null,null,null,null,null,null,null,null,null,"~"]
["SA36",2025,"LIM351",48,null,null,null,null,null,null,null,null,null,null,null,null,null,null,null,null,null,null,"~"]
["SA36",2025,"LIM351",49,null,null,null,null,null,null,null,null,null,null,null,null,null,null,null,null,null,null,"~"]
["SA36",2025,"LIM351",50,null,null,null,null,null,null,null,null,null,null,null,null,null,null,null,null,null,null,"~"]
["SA36",2025,"LIM351",51,null,null,null,null,null,null,null,null,null,null,null,null,null,null,null,null,null,null,"~"]
["SA36",2025,"LIM351",52,null,null,null,null,null,null,null,null,null,null,null,null,null,null,null,null,null,null,"~"]
["SA36",2025,"LIM351",53,null,null,null,null,null,null,null,null,null,null,null,null,null,null,null,null,null,null,"~"]
["SA36",2025,"LIM351",54,null,null,null,null,null,null,null,null,null,null,null,null,null,null,null,null,null,null,"~"]
["SA36",2025,"LIM351",55,null,null,null,null,null,null,null,null,null,null,null,null,null,null,null,null,null,null,"~"]
["SA36",2025,"LIM351",56,null,null,null,null,null,null,null,null,null,null,null,null,null,null,null,null,null,null,"~"]
["SA36",2025,"LIM351",57,null,null,null,null,null,null,null,null,null,null,null,null,null,null,null,null,null,null,"~"]
["SA36",2025,"LIM351",58,null,null,null,null,null,null,null,null,null,null,null,null,null,null,null,null,null,null,"~"]
["SA36",2025,"LIM351",59,null,null,null,null,null,null,null,null,null,null,null,null,null,null,null,null,null,null,"~"]
["SA36",2025,"LIM351",60,null,null,null,null,null,null,null,null,null,null,null,null,null,null,null,null,null,null,"~"]
["SA36",2025,"LIM351",61,null,null,null,null,null,null,null,null,null,null,null,null,null,null,null,null,null,null,"~"]
["SA36",2025,"LIM351",62,null,null,null,null,null,null,null,null,null,null,null,null,null,null,null,null,null,null,"~"]
["SA36",2025,"LIM351",63,null,null,null,null,null,null,null,null,null,null,null,null,null,null,null,null,null,null,"~"]
["SA36",2025,"LIM351",64,null,null,null,null,null,null,null,null,null,null,null,null,null,null,null,null,null,null,"~"]
["SA36",2025,"LIM351",65,null,null,null,null,null,null,null,null,null,null,null,null,null,null,null,null,null,null,"~"]
["SA36",2025,"LIM351",66,null,null,null,null,null,null,null,null,null,null,null,null,null,null,null,null,null,null,"~"]
["SA36",2025,"LIM351",67,null,null,null,null,null,null,null,null,null,null,null,null,null,null,null,null,null,null,"~"]
["SA36",2025,"LIM351",68,null,null,null,null,null,null,null,null,null,null,null,null,null,null,null,null,null,null,"~"]
["SA36",2025,"LIM351",69,null,null,null,null,null,null,null,null,null,null,null,null,null,null,null,null,null,null,"~"]
["SA36",2025,"LIM351",70,null,null,null,null,null,null,null,null,null,null,null,null,null,null,null,null,null,null,"~"]
["SA36",2025,"LIM351",71,null,null,null,null,null,null,null,null,null,null,null,null,null,null,null,null,null,null,"~"]
["SA36",2025,"LIM351",72,null,null,null,null,null,null,null,null,null,null,null,null,null,null,null,null,null,null,"~"]
["SA36",2025,"LIM351",73,null,null,null,null,null,null,null,null,null,null,null,null,null,null,null,null,null,null,"~"]
["SA36",2025,"LIM351",74,null,null,null,null,null,null,null,null,null,null,null,null,null,null,null,null,null,null,"~"]
["SA36",2025,"LIM351",75,null,null,null,null,null,null,null,null,null,null,null,null,null,null,null,null,null,null,"~"]
["SA36",2025,"LIM351",76,null,null,null,null,null,null,null,null,null,null,null,null,null,null,null,null,null,null,"~"]
["SA36",2025,"LIM351",77,null,null,null,null,null,null,null,null,null,null,null,null,null,null,null,null,null,null,"~"]
["SA36",2025,"LIM351",78,null,null,null,null,null,null,null,null,null,null,null,null,null,null,null,null,null,null,"~"]
["SA36",2025,"LIM351",79,null,null,null,null,null,null,null,null,null,null,null,null,null,null,null,null,null,null,"~"]
["SA36",2025,"LIM351",80,null,null,null,null,null,null,null,null,null,null,null,null,null,null,null,null,null,null,"~"]
["SA36",2025,"LIM351",81,null,null,null,null,null,null,null,null,null,null,null,null,null,null,null,null,null,null,"~"]
["SA36",2025,"LIM351",82,null,null,null,null,null,null,null,null,null,null,null,null,null,null,null,null,null,null,"~"]
["SA36",2025,"LIM351",83,null,null,null,null,null,null,null,null,null,null,null,null,null,null,null,null,null,null,"~"]
["SA36",2025,"LIM351",84,null,null,null,null,null,null,null,null,null,null,null,null,null,null,null,null,null,null,"~"]
["SA36",2025,"LIM351",85,null,null,null,null,null,null,null,null,null,null,null,null,null,null,null,null,null,null,"~"]
["SA36",2025,"LIM351",86,null,null,null,null,null,null,null,null,null,null,null,null,null,null,null,null,null,null,"~"]
["SA36",2025,"LIM351",87,null,null,null,null,null,null,null,null,null,null,null,null,null,null,null,null,null,null,"~"]
["SA36",{"$f":"+MTREF","v":2025},{"$f":"LEFT(muni,(FIND(\" \",muni,1)-1))","v":"LIM351"},88,null,null,null,null,null,null,null,null,null,null,null,null,null,null,null,null,null,null,"~"]
["SA36",2025,"LIM351",89,null,null,null,null,null,null,null,null,null,null,null,null,null,null,null,null,null,null,"~"]
["SA36",2025,"LIM351",90,null,null,null,null,null,null,null,null,null,null,null,null,null,null,null,null,null,null,"~"]
["SA36",2025,"LIM351",91,null,null,null,null,null,null,null,null,null,null,null,null,null,null,null,null,null,null,"~"]
["SA36",2025,"LIM351",92,null,null,null,null,null,null,null,null,null,null,null,null,null,null,null,null,null,null,"~"]
["SA36",2025,"LIM351",93,null,null,null,null,null,null,null,null,null,null,null,null,null,null,null,null,null,null,"~"]
["SA36",2025,"LIM351",94,null,null,null,null,null,null,null,null,null,null,null,null,null,null,null,null,null,null,"~"]
["SA36",2025,"LIM351",95,null,null,null,null,null,null,null,null,null,null,null,null,null,null,null,null,null,null,"~"]
["SA36",2025,"LIM351",96,null,null,null,null,null,null,null,null,null,null,null,null,null,null,null,null,null,null,"~"]
["SA36",2025,"LIM351",97,null,null,null,null,null,null,null,null,null,null,null,null,null,null,null,null,null,null,"~"]
["SA36",2025,"LIM351",98,null,null,null,null,null,null,null,null,null,null,null,null,null,null,null,null,null,null,"~"]
["SA36",2025,"LIM351",99,null,null,null,null,null,null,null,null,null,null,null,null,null,null,null,null,null,null,"~"]
["SA36",2025,"LIM351",100,null,null,null,null,null,null,null,null,null,null,null,null,null,null,null,null,null,null,"~"]
["SA36",2025,"LIM351",101,null,null,null,null,null,null,null,null,null,null,null,null,null,null,null,null,null,null,"~"]
["SA36",2025,"LIM351",102,null,null,null,null,null,null,null,null,null,null,null,null,null,null,null,null,null,null,"~"]
["SA36",2025,"LIM351",103,null,null,null,null,null,null,null,null,null,null,null,null,null,null,null,null,null,null,"~"]
["SA36",2025,"LIM351",104,null,null,null,null,null,null,null,null,null,null,null,null,null,null,null,null,null,null,"~"]
["SA36",2025,"LIM351",105,null,null,null,null,null,null,null,null,null,null,null,null,null,null,null,null,null,null,"~"]
["SA36",2025,"LIM351",106,null,null,null,null,null,null,null,null,null,null,null,null,null,null,null,null,null,null,"~"]
["SA36",2025,"LIM351",107,null,null,null,null,null,null,null,null,null,null,null,null,null,null,null,null,null,null,"~"]
["SA36",2025,"LIM351",108,null,null,null,null,null,null,null,null,null,null,null,null,null,null,null,null,null,null,"~"]
["SA36",2025,"LIM351",109,null,null,null,null,null,null,null,null,null,null,null,null,null,null,null,null,null,null,"~"]
["SA36",2025,"LIM351",110,null,null,null,null,null,null,null,null,null,null,null,null,null,null,null,null,null,null,"~"]
["SA36",2025,"LIM351",111,null,null,null,null,null,null,null,null,null,null,null,null,null,null,null,null,null,null,"~"]
["SA36",2025,"LIM351",112,null,null,null,null,null,null,null,null,null,null,null,null,null,null,null,null,null,null,"~"]
["SA36",2025,"LIM351",113,null,null,null,null,null,null,null,null,null,null,null,null,null,null,null,null,null,null,"~"]
["SA36",2025,"LIM351",114,null,null,null,null,null,null,null,null,null,null,null,null,null,null,null,null,null,null,"~"]
["SA36",2025,"LIM351",115,null,null,null,null,null,null,null,null,null,null,null,null,null,null,null,null,null,null,"~"]
["SA36",2025,"LIM351",116,null,null,null,null,null,null,null,null,null,null,null,null,null,null,null,null,null,null,"~"]
["SA36",2025,"LIM351",117,null,null,null,null,null,null,null,null,null,null,null,null,null,null,null,null,null,null,"~"]
["SA36",2025,"LIM351",118,null,null,null,null,null,null,null,null,null,null,null,null,null,null,null,null,null,null,"~"]
["SA36",2025,"LIM351",119,null,null,null,null,null,null,null,null,null,null,null,null,null,null,null,null,null,null,"~"]
["SA36",2025,"LIM351",120,null,null,null,null,null,null,null,null,null,null,null,null,null,null,null,null,null,null,"~"]
["SA36",2025,"LIM351",121,null,null,null,null,null,null,null,null,null,null,null,null,null,null,null,null,null,null,"~"]
["SA36",2025,"LIM351",122,null,null,null,null,null,null,null,null,null,null,null,null,null,null,null,null,null,null,"~"]
["SA36",2025,"LIM351",123,null,null,null,null,null,null,null,null,null,null,null,null,null,null,null,null,null,null,"~"]
["SA36",2025,"LIM351",124,null,null,null,null,null,null,null,null,null,null,null,null,null,null,null,null,null,null,"~"]
["SA36",2025,"LIM351",125,null,null,null,null,null,null,null,null,null,null,null,null,null,null,null,null,null,null,"~"]
["SA36",2025,"LIM351",126,null,null,null,null,null,null,null,null,null,null,null,null,null,null,null,null,null,null,"~"]
["SA36",2025,"LIM351",127,null,null,null,null,null,null,null,null,null,null,null,null,null,null,null,null,null,null,"~"]
["SA36",2025,"LIM351",128,null,null,null,null,null,null,null,null,null,null,null,null,null,null,null,null,null,null,"~"]
["SA36",2025,"LIM351",129,null,null,null,null,null,null,null,null,null,null,null,null,null,null,null,null,null,null,"~"]
["SA36",2025,"LIM351",130,null,null,null,null,null,null,null,null,null,null,null,null,null,null,null,null,null,null,"~"]
["SA36",2025,"LIM351",131,null,null,null,null,null,null,null,null,null,null,null,null,null,null,null,null,null,null,"~"]
["SA36",2025,"LIM351",132,null,null,null,null,null,null,null,null,null,null,null,null,null,null,null,null,null,null,"~"]
["SA36",2025,"LIM351",133,null,null,null,null,null,null,null,null,null,null,null,null,null,null,null,null,null,null,"~"]
["SA36",2025,"LIM351",134,null,null,null,null,null,null,null,null,null,null,null,null,null,null,null,null,null,null,"~"]
["SA36",2025,"LIM351",135,null,null,null,null,null,null,null,null,null,null,null,null,null,null,null,null,null,null,"~"]
["SA36",2025,"LIM351",136,null,null,null,null,null,null,null,null,null,null,null,null,null,null,null,null,null,null,"~"]
["SA36",2025,"LIM351",137,null,null,null,null,null,null,null,null,null,null,null,null,null,null,null,null,null,null,"~"]
["SA36",2025,"LIM351",138,null,null,null,null,null,null,null,null,null,null,null,null,null,null,null,null,null,null,"~"]
["SA36",2025,"LIM351",139,null,null,null,null,null,null,null,null,null,null,null,null,null,null,null,null,null,null,"~"]
["SA36",2025,"LIM351",140,null,null,null,null,null,null,null,null,null,null,null,null,null,null,null,null,null,null,"~"]
["SA36",2025,"LIM351",141,null,null,null,null,null,null,null,null,null,null,null,null,null,null,null,null,null,null,"~"]
["SA36",2025,"LIM351",142,null,null,null,null,null,null,null,null,null,null,null,null,null,null,null,null,null,null,"~"]
["SA36",2025,"LIM351",143,null,null,null,null,null,null,null,null,null,null,null,null,null,null,null,null,null,null,"~"]
["SA36",2025,"LIM351",144,null,null,null,null,null,null,null,null,null,null,null,null,null,null,null,null,null,null,"~"]
["SA36",2025,"LIM351",145,null,null,null,null,null,null,null,null,null,null,null,null,null,null,null,null,null,null,"~"]
["SA36",2025,"LIM351",146,null,null,null,null,null,null,null,null,null,null,null,null,null,null,null,null,null,null,"~"]
["SA36",2025,"LIM351",147,null,null,null,null,null,null,null,null,null,null,null,null,null,null,null,null,null,null,"~"]
["SA36",2025,"LIM351",148,null,null,null,null,null,null,null,null,null,null,null,null,null,null,null,null,null,null,"~"]
["SA36",2025,"LIM351",149,null,null,null,null,null,null,null,null,null,null,null,null,null,null,null,null,null,null,"~"]
["SA36",2025,"LIM351",150,null,null,null,null,null,null,null,null,null,null,null,null,null,null,null,null,null,null,"~"]
["SA36",2025,"LIM351",151,null,null,null,null,null,null,null,null,null,null,null,null,null,null,null,null,null,null,"~"]
["SA36",{"$f":"+MTREF","v":2025},{"$f":"LEFT(muni,(FIND(\" \",muni,1)-1))","v":"LIM351"},152,null,null,null,null,null,null,null,null,null,null,null,null,null,null,null,null,null,null,"~"]
["SA36",2025,"LIM351",153,null,null,null,null,null,null,null,null,null,null,null,null,null,null,null,null,null,null,"~"]
["SA36",2025,"LIM351",154,null,null,null,null,null,null,null,null,null,null,null,null,null,null,null,null,null,null,"~"]
["SA36",2025,"LIM351",155,null,null,null,null,null,null,null,null,null,null,null,null,null,null,null,null,null,null,"~"]
["SA36",2025,"LIM351",156,null,null,null,null,null,null,null,null,null,null,null,null,null,null,null,null,null,null,"~"]
["SA36",2025,"LIM351",157,null,null,null,null,null,null,null,null,null,null,null,null,null,null,null,null,null,null,"~"]
["SA36",2025,"LIM351",158,null,null,null,null,null,null,null,null,null,null,null,null,null,null,null,null,null,null,"~"]
["SA36",2025,"LIM351",159,null,null,null,null,null,null,null,null,null,null,null,null,null,null,null,null,null,null,"~"]
["SA36",2025,"LIM351",160,null,null,null,null,null,null,null,null,null,null,null,null,null,null,null,null,null,null,"~"]
["SA36",2025,"LIM351",161,null,null,null,null,null,null,null,null,null,null,null,null,null,null,null,null,null,null,"~"]
["SA36",2025,"LIM351",162,null,null,null,null,null,null,null,null,null,null,null,null,null,null,null,null,null,null,"~"]
["SA36",2025,"LIM351",163,null,null,null,null,null,null,null,null,null,null,null,null,null,null,null,null,null,null,"~"]
["SA36",2025,"LIM351",164,null,null,null,null,null,null,null,null,null,null,null,null,null,null,null,null,null,null,"~"]
["SA36",2025,"LIM351",165,null,null,null,null,null,null,null,null,null,null,null,null,null,null,null,null,null,null,"~"]
["SA36",2025,"LIM351",166,null,null,null,null,null,null,null,null,null,null,null,null,null,null,null,null,null,null,"~"]
["SA36",2025,"LIM351",167,null,null,null,null,null,null,null,null,null,null,null,null,null,null,null,null,null,null,"~"]
["SA36",2025,"LIM351",168,null,null,null,null,null,null,null,null,null,null,null,null,null,null,null,null,null,null,"~"]
["SA36",2025,"LIM351",169,null,null,null,null,null,null,null,null,null,null,null,null,null,null,null,null,null,null,"~"]
["SA36",2025,"LIM351",170,null,null,null,null,null,null,null,null,null,null,null,null,null,null,null,null,null,null,"~"]
["SA36",2025,"LIM351",171,null,null,null,null,null,null,null,null,null,null,null,null,null,null,null,null,null,null,"~"]
["SA36",2025,"LIM351",172,null,null,null,null,null,null,null,null,null,null,null,null,null,null,null,null,null,null,"~"]
["SA36",2025,"LIM351",173,null,null,null,null,null,null,null,null,null,null,null,null,null,null,null,null,null,null,"~"]
["SA36",2025,"LIM351",174,null,null,null,null,null,null,null,null,null,null,null,null,null,null,null,null,null,null,"~"]
["SA36",2025,"LIM351",175,null,null,null,null,null,null,null,null,null,null,null,null,null,null,null,null,null,null,"~"]
["SA36",2025,"LIM351",176,null,null,null,null,null,null,null,null,null,null,null,null,null,null,null,null,null,null,"~"]
["SA36",2025,"LIM351",177,null,null,null,null,null,null,null,null,null,null,null,null,null,null,null,null,null,null,"~"]
["SA36",2025,"LIM351",178,null,null,null,null,null,null,null,null,null,null,null,null,null,null,null,null,null,null,"~"]
["SA36",2025,"LIM351",179,null,null,null,null,null,null,null,null,null,null,null,null,null,null,null,null,null,null,"~"]
["SA36",2025,"LIM351",180,null,null,null,null,null,null,null,null,null,null,null,null,null,null,null,null,null,null,"~"]
["SA36",2025,"LIM351",181,null,null,null,null,null,null,null,null,null,null,null,null,null,null,null,null,null,null,"~"]
["SA36",2025,"LIM351",182,null,null,null,null,null,null,null,null,null,null,null,null,null,null,null,null,null,null,"~"]
["SA36",2025,"LIM351",183,null,null,null,null,null,null,null,null,null,null,null,null,null,null,null,null,null,null,"~"]
["SA36",2025,"LIM351",184,null,null,null,null,null,null,null,null,null,null,null,null,null,null,null,null,null,null,"~"]
["SA36",2025,"LIM351",185,null,null,null,null,null,null,null,null,null,null,null,null,null,null,null,null,null,null,"~"]
["SA36",2025,"LIM351",186,null,null,null,null,null,null,null,null,null,null,null,null,null,null,null,null,null,null,"~"]
["SA36",2025,"LIM351",187,null,null,null,null,null,null,null,null,null,null,null,null,null,null,null,null,null,null,"~"]
["SA36",2025,"LIM351",188,null,null,null,null,null,null,null,null,null,null,null,null,null,null,null,null,null,null,"~"]
["SA36",2025,"LIM351",189,null,null,null,null,null,null,null,null,null,null,null,null,null,null,null,null,null,null,"~"]
["SA36",2025,"LIM351",190,null,null,null,null,null,null,null,null,null,null,null,null,null,null,null,null,null,null,"~"]
["SA36",2025,"LIM351",191,null,null,null,null,null,null,null,null,null,null,null,null,null,null,null,null,null,null,"~"]
["SA36",2025,"LIM351",192,null,null,null,null,null,null,null,null,null,null,null,null,null,null,null,null,null,null,"~"]
["SA36",2025,"LIM351",193,null,null,null,null,null,null,null,null,null,null,null,null,null,null,null,null,null,null,"~"]
["SA36",2025,"LIM351",194,null,null,null,null,null,null,null,null,null,null,null,null,null,null,null,null,null,null,"~"]
["SA36",2025,"LIM351",195,null,null,null,null,null,null,null,null,null,null,null,null,null,null,null,null,null,null,"~"]
["SA36",2025,"LIM351",196,null,null,null,null,null,null,null,null,null,null,null,null,null,null,null,null,null,null,"~"]
["SA36",2025,"LIM351",197,null,null,null,null,null,null,null,null,null,null,null,null,null,null,null,null,null,null,"~"]
["SA36",2025,"LIM351",198,null,null,null,null,null,null,null,null,null,null,null,null,null,null,null,null,null,null,"~"]
["SA36",2025,"LIM351",199,null,null,null,null,null,null,null,null,null,null,null,null,null,null,null,null,null,null,"~"]
["SA36",2025,"LIM351",200,null,null,null,null,null,null,null,null,null,null,null,null,null,null,null,null,null,null,"~"]
["SA36",2025,"LIM351",201,null,null,null,null,null,null,null,null,null,null,null,null,null,null,null,null,null,null,"~"]
["SA36",2025,"LIM351",202,null,null,null,null,null,null,null,null,null,null,null,null,null,null,null,null,null,null,"~"]
["SA36",2025,"LIM351",203,null,null,null,null,null,null,null,null,null,null,null,null,null,null,null,null,null,null,"~"]
["SA36",2025,"LIM351",204,null,null,null,null,null,null,null,null,null,null,null,null,null,null,null,null,null,null,"~"]
["SA36",2025,"LIM351",205,null,null,null,null,null,null,null,null,null,null,null,null,null,null,null,null,null,null,"~"]
["SA36",2025,"LIM351",206,null,null,null,null,null,null,null,null,null,null,null,null,null,null,null,null,null,null,"~"]
["SA36",2025,"LIM351",207,null,null,null,null,null,null,null,null,null,null,null,null,null,null,null,null,null,null,"~"]
["SA36",2025,"LIM351",208,null,null,null,null,null,null,null,null,null,null,null,null,null,null,null,null,null,null,"~"]
["SA36",2025,"LIM351",209,null,null,null,null,null,null,null,null,null,null,null,null,null,null,null,null,null,null,"~"]
["SA36",2025,"LIM351",210,null,null,null,null,null,null,null,null,null,null,null,null,null,null,null,null,null,null,"~"]
["SA36",2025,"LIM351",211,null,null,null,null,null,null,null,null,null,null,null,null,null,null,null,null,null,null,"~"]
["SA36",2025,"LIM351",212,null,null,null,null,null,null,null,null,null,null,null,null,null,null,null,null,null,null,"~"]
["SA36",2025,"LIM351",213,null,null,null,null,null,null,null,null,null,null,null,null,null,null,null,null,null,null,"~"]
["SA36",2025,"LIM351",214,null,null,null,null,null,null,null,null,null,null,null,null,null,null,null,null,null,null,"~"]
["SA36",2025,"LIM351",215,null,null,null,null,null,null,null,null,null,null,null,null,null,null,null,null,null,null,"~"]
["SA36",{"$f":"+MTREF","v":2025},{"$f":"LEFT(muni,(FIND(\" \",muni,1)-1))","v":"LIM351"},216,null,null,null,null,null,null,null,null,null,null,null,null,null,null,null,null,null,null,"~"]
["SA36",2025,"LIM351",217,null,null,null,null,null,null,null,null,null,null,null,null,null,null,null,null,null,null,"~"]
["SA36",2025,"LIM351",218,null,null,null,null,null,null,null,null,null,null,null,null,null,null,null,null,null,null,"~"]
["SA36",2025,"LIM351",219,null,null,null,null,null,null,null,null,null,null,null,null,null,null,null,null,null,null,"~"]
["SA36",2025,"LIM351",220,null,null,null,null,null,null,null,null,null,null,null,null,null,null,null,null,null,null,"~"]
["SA36",2025,"LIM351",221,null,null,null,null,null,null,null,null,null,null,null,null,null,null,null,null,null,null,"~"]
["SA36",2025,"LIM351",222,null,null,null,null,null,null,null,null,null,null,null,null,null,null,null,null,null,null,"~"]
["SA36",2025,"LIM351",223,null,null,null,null,null,null,null,null,null,null,null,null,null,null,null,null,null,null,"~"]
["SA36",2025,"LIM351",224,null,null,null,null,null,null,null,null,null,null,null,null,null,null,null,null,null,null,"~"]
["SA36",2025,"LIM351",225,null,null,null,null,null,null,null,null,null,null,null,null,null,null,null,null,null,null,"~"]
["SA36",2025,"LIM351",226,null,null,null,null,null,null,null,null,null,null,null,null,null,null,null,null,null,null,"~"]
["SA36",2025,"LIM351",227,null,null,null,null,null,null,null,null,null,null,null,null,null,null,null,null,null,null,"~"]
["SA36",2025,"LIM351",228,null,null,null,null,null,null,null,null,null,null,null,null,null,null,null,null,null,null,"~"]
["SA36",2025,"LIM351",229,null,null,null,null,null,null,null,null,null,null,null,null,null,null,null,null,null,null,"~"]
["SA36",2025,"LIM351",230,null,null,null,null,null,null,null,null,null,null,null,null,null,null,null,null,null,null,"~"]
["SA36",2025,"LIM351",231,null,null,null,null,null,null,null,null,null,null,null,null,null,null,null,null,null,null,"~"]
["SA36",2025,"LIM351",232,null,null,null,null,null,null,null,null,null,null,null,null,null,null,null,null,null,null,"~"]
["SA36",2025,"LIM351",233,null,null,null,null,null,null,null,null,null,null,null,null,null,null,null,null,null,null,"~"]
["SA36",2025,"LIM351",234,null,null,null,null,null,null,null,null,null,null,null,null,null,null,null,null,null,null,"~"]
["SA36",2025,"LIM351",235,null,null,null,null,null,null,null,null,null,null,null,null,null,null,null,null,null,null,"~"]
["SA36",2025,"LIM351",236,null,null,null,null,null,null,null,null,null,null,null,null,null,null,null,null,null,null,"~"]
["SA36",2025,"LIM351",237,null,null,null,null,null,null,null,null,null,null,null,null,null,null,null,null,null,null,"~"]
["SA36",2025,"LIM351",238,null,null,null,null,null,null,null,null,null,null,null,null,null,null,null,null,null,null,"~"]
["SA36",2025,"LIM351",239,null,null,null,null,null,null,null,null,null,null,null,null,null,null,null,null,null,null,"~"]
["SA36",2025,"LIM351",240,null,null,null,null,null,null,null,null,null,null,null,null,null,null,null,null,null,null,"~"]
["SA36",2025,"LIM351",241,null,null,null,null,null,null,null,null,null,null,null,null,null,null,null,null,null,null,"~"]
["SA36",2025,"LIM351",242,null,null,null,null,null,null,null,null,null,null,null,null,null,null,null,null,null,null,"~"]
["SA36",2025,"LIM351",243,null,null,null,null,null,null,null,null,null,null,null,null,null,null,null,null,null,null,"~"]
["SA36",2025,"LIM351",244,null,null,null,null,null,null,null,null,null,null,null,null,null,null,null,null,null,null,"~"]
["SA36",2025,"LIM351",245,null,null,null,null,null,null,null,null,null,null,null,null,null,null,null,null,null,null,"~"]
["SA36",2025,"LIM351",246,null,null,null,null,null,null,null,null,null,null,null,null,null,null,null,null,null,null,"~"]
["SA36",2025,"LIM351",247,null,null,null,null,null,null,null,null,null,null,null,null,null,null,null,null,null,null,"~"]
["SA36",2025,"LIM351",248,null,null,null,null,null,null,null,null,null,null,null,null,null,null,null,null,null,null,"~"]
["SA36",2025,"LIM351",249,null,null,null,null,null,null,null,null,null,null,null,null,null,null,null,null,null,null,"~"]
["SA36",2025,"LIM351",250,null,null,null,null,null,null,null,null,null,null,null,null,null,null,null,null,null,null,"~"]
["SA36",2025,"LIM351",251,null,null,null,null,null,null,null,null,null,null,null,null,null,null,null,null,null,null,"~"]
["SA36",2025,"LIM351",252,null,null,null,null,null,null,null,null,null,null,null,null,null,null,null,null,null,null,"~"]
["SA36",2025,"LIM351",253,null,null,null,null,null,null,null,null,null,null,null,null,null,null,null,null,null,null,"~"]
["SA36",2025,"LIM351",254,null,null,null,null,null,null,null,null,null,null,null,null,null,null,null,null,null,null,"~"]
["SA36",2025,"LIM351",255,null,null,null,null,null,null,null,null,null,null,null,null,null,null,null,null,null,null,"~"]
["SA36",2025,"LIM351",256,null,null,null,null,null,null,null,null,null,null,null,null,null,null,null,null,null,null,"~"]
["SA36",2025,"LIM351",257,null,null,null,null,null,null,null,null,null,null,null,null,null,null,null,null,null,null,"~"]
["SA36",2025,"LIM351",258,null,null,null,null,null,null,null,null,null,null,null,null,null,null,null,null,null,null,"~"]
["SA36",2025,"LIM351",259,null,null,null,null,null,null,null,null,null,null,null,null,null,null,null,null,null,null,"~"]
["SA36",2025,"LIM351",260,null,null,null,null,null,null,null,null,null,null,null,null,null,null,null,null,null,null,"~"]
["SA36",2025,"LIM351",261,null,null,null,null,null,null,null,null,null,null,null,null,null,null,null,null,null,null,"~"]
["SA36",2025,"LIM351",262,null,null,null,null,null,null,null,null,null,null,null,null,null,null,null,null,null,null,"~"]
["SA36",2025,"LIM351",263,null,null,null,null,null,null,null,null,null,null,null,null,null,null,null,null,null,null,"~"]
["SA36",2025,"LIM351",264,null,null,null,null,null,null,null,null,null,null,null,null,null,null,null,null,null,null,"~"]
["SA36",2025,"LIM351",265,null,null,null,null,null,null,null,null,null,null,null,null,null,null,null,null,null,null,"~"]
["SA36",2025,"LIM351",266,null,null,null,null,null,null,null,null,null,null,null,null,null,null,null,null,null,null,"~"]
["SA36",2025,"LIM351",267,null,null,null,null,null,null,null,null,null,null,null,null,null,null,null,null,null,null,"~"]
["SA36",2025,"LIM351",268,null,null,null,null,null,null,null,null,null,null,null,null,null,null,null,null,null,null,"~"]
["SA36",2025,"LIM351",269,null,null,null,null,null,null,null,null,null,null,null,null,null,null,null,null,null,null,"~"]
["SA36",2025,"LIM351",270,null,null,null,null,null,null,null,null,null,null,null,null,null,null,null,null,null,null,"~"]
["SA36",2025,"LIM351",271,null,null,null,null,null,null,null,null,null,null,null,null,null,null,null,null,null,null,"~"]
["SA36",2025,"LIM351",272,null,null,null,null,null,null,null,null,null,null,null,null,null,null,null,null,null,null,"~"]
["SA36",2025,"LIM351",273,null,null,null,null,null,null,null,null,null,null,null,null,null,null,null,null,null,null,"~"]
["SA36",2025,"LIM351",274,null,null,null,null,null,null,null,null,null,null,null,null,null,null,null,null,null,null,"~"]
["SA36",2025,"LIM351",275,null,null,null,null,null,null,null,null,null,null,null,null,null,null,null,null,null,null,"~"]
["SA36",2025,"LIM351",276,null,null,null,null,null,null,null,null,null,null,null,null,null,null,null,null,null,null,"~"]
["SA36",2025,"LIM351",277,null,null,null,null,null,null,null,null,null,null,null,null,null,null,null,null,null,null,"~"]
["SA36",2025,"LIM351",278,null,null,null,null,null,null,null,null,null,null,null,null,null,null,null,null,null,null,"~"]
["SA36",2025,"LIM351",279,null,null,null,null,null,null,null,null,null,null,null,null,null,null,null,null,null,null,"~"]
["SA36",{"$f":"+MTREF","v":2025},{"$f":"LEFT(muni,(FIND(\" \",muni,1)-1))","v":"LIM351"},280,null,null,null,null,null,null,null,null,null,null,null,null,null,null,null,null,null,null,"~"]
["SA36",2025,"LIM351",281,null,null,null,null,null,null,null,null,null,null,null,null,null,null,null,null,null,null,"~"]
["SA36",2025,"LIM351",282,null,null,null,null,null,null,null,null,null,null,null,null,null,null,null,null,null,null,"~"]
["SA36",2025,"LIM351",283,null,null,null,null,null,null,null,null,null,null,null,null,null,null,null,null,null,null,"~"]
["SA36",2025,"LIM351",284,null,null,null,null,null,null,null,null,null,null,null,null,null,null,null,null,null,null,"~"]
["SA36",2025,"LIM351",285,null,null,null,null,null,null,null,null,null,null,null,null,null,null,null,null,null,null,"~"]
["SA36",2025,"LIM351",286,null,null,null,null,null,null,null,null,null,null,null,null,null,null,null,null,null,null,"~"]
["SA36",2025,"LIM351",287,null,null,null,null,null,null,null,null,null,null,null,null,null,null,null,null,null,null,"~"]
["SA36",2025,"LIM351",288,null,null,null,null,null,null,null,null,null,null,null,null,null,null,null,null,null,null,"~"]
["SA36",2025,"LIM351",289,null,null,null,null,null,null,null,null,null,null,null,null,null,null,null,null,null,null,"~"]
["SA36",2025,"LIM351",290,null,null,null,null,null,null,null,null,null,null,null,null,null,null,null,null,null,null,"~"]
["SA36",2025,"LIM351",291,null,null,null,null,null,null,null,null,null,null,null,null,null,null,null,null,null,null,"~"]
["SA36",2025,"LIM351",292,null,null,null,null,null,null,null,null,null,null,null,null,null,null,null,null,null,null,"~"]
["SA36",2025,"LIM351",293,null,null,null,null,null,null,null,null,null,null,null,null,null,null,null,null,null,null,"~"]
["SA36",2025,"LIM351",294,null,null,null,null,null,null,null,null,null,null,null,null,null,null,null,null,null,null,"~"]
["SA36",2025,"LIM351",295,null,null,null,null,null,null,null,null,null,null,null,null,null,null,null,null,null,null,"~"]
["SA36",2025,"LIM351",296,null,null,null,null,null,null,null,null,null,null,null,null,null,null,null,null,null,null,"~"]
["SA36",2025,"LIM351",297,null,null,null,null,null,null,null,null,null,null,null,null,null,null,null,null,null,null,"~"]
["SA36",2025,"LIM351",298,null,null,null,null,null,null,null,null,null,null,null,null,null,null,null,null,null,null,"~"]
["SA36",2025,"LIM351",299,null,null,null,null,null,null,null,null,null,null,null,null,null,null,null,null,null,null,"~"]
["SA36",2025,"LIM351",300,null,null,null,null,null,null,null,null,null,null,null,null,null,null,null,null,null,null,"~"]
["SA36",2025,"LIM351",301,null,null,null,null,null,null,null,null,null,null,null,null,null,null,null,null,null,null,"~"]
["SA36",2025,"LIM351",302,null,null,null,null,null,null,null,null,null,null,null,null,null,null,null,null,null,null,"~"]
["SA36",2025,"LIM351",303,null,null,null,null,null,null,null,null,null,null,null,null,null,null,null,null,null,null,"~"]
["SA36",2025,"LIM351",304,null,null,null,null,null,null,null,null,null,null,null,null,null,null,null,null,null,null,"~"]
["SA36",2025,"LIM351",305,null,null,null,null,null,null,null,null,null,null,null,null,null,null,null,null,null,null,"~"]
["SA36",2025,"LIM351",306,null,null,null,null,null,null,null,null,null,null,null,null,null,null,null,null,null,null,"~"]
["SA36",2025,"LIM351",307,null,null,null,null,null,null,null,null,null,null,null,null,null,null,null,null,null,null,"~"]
["SA36",2025,"LIM351",308,null,null,null,null,null,null,null,null,null,null,null,null,null,null,null,null,null,null,"~"]
["SA36",2025,"LIM351",309,null,null,null,null,null,null,null,null,null,null,null,null,null,null,null,null,null,null,"~"]
["SA36",2025,"LIM351",310,null,null,null,null,null,null,null,null,null,null,null,null,null,null,null,null,null,null,"~"]
["SA36",2025,"LIM351",311,null,null,null,null,null,null,null,null,null,null,null,null,null,null,null,null,null,null,"~"]
["SA36",2025,"LIM351",312,null,null,null,null,null,null,null,null,null,null,null,null,null,null,null,null,null,null,"~"]
["SA36",2025,"LIM351",313,null,null,null,null,null,null,null,null,null,null,null,null,null,null,null,null,null,null,"~"]
["SA36",2025,"LIM351",314,null,null,null,null,null,null,null,null,null,null,null,null,null,null,null,null,null,null,"~"]
["SA36",2025,"LIM351",315,null,null,null,null,null,null,null,null,null,null,null,null,null,null,null,null,null,null,"~"]
["SA36",2025,"LIM351",316,null,null,null,null,null,null,null,null,null,null,null,null,null,null,null,null,null,null,"~"]
["SA36",2025,"LIM351",317,null,null,null,null,null,null,null,null,null,null,null,null,null,null,null,null,null,null,"~"]
["SA36",2025,"LIM351",318,null,null,null,null,null,null,null,null,null,null,null,null,null,null,null,null,null,null,"~"]
["SA36",2025,"LIM351",319,null,null,null,null,null,null,null,null,null,null,null,null,null,null,null,null,null,null,"~"]
["SA36",2025,"LIM351",320,null,null,null,null,null,null,null,null,null,null,null,null,null,null,null,null,null,null,"~"]
["SA36",2025,"LIM351",321,null,null,null,null,null,null,null,null,null,null,null,null,null,null,null,null,null,null,"~"]
["SA36",2025,"LIM351",322,null,null,null,null,null,null,null,null,null,null,null,null,null,null,null,null,null,null,"~"]
["SA36",2025,"LIM351",323,null,null,null,null,null,null,null,null,null,null,null,null,null,null,null,null,null,null,"~"]
["SA36",2025,"LIM351",324,null,null,null,null,null,null,null,null,null,null,null,null,null,null,null,null,null,null,"~"]
["SA36",2025,"LIM351",325,null,null,null,null,null,null,null,null,null,null,null,null,null,null,null,null,null,null,"~"]
["SA36",2025,"LIM351",326,null,null,null,null,null,null,null,null,null,null,null,null,null,null,null,null,null,null,"~"]
["SA36",2025,"LIM351",327,null,null,null,null,null,null,null,null,null,null,null,null,null,null,null,null,null,null,"~"]
["SA36",2025,"LIM351",328,null,null,null,null,null,null,null,null,null,null,null,null,null,null,null,null,null,null,"~"]
["SA36",2025,"LIM351",329,null,null,null,null,null,null,null,null,null,null,null,null,null,null,null,null,null,null,"~"]
["SA36",2025,"LIM351",330,null,null,null,null,null,null,null,null,null,null,null,null,null,null,null,null,null,null,"~"]
["SA36",2025,"LIM351",331,null,null,null,null,null,null,null,null,null,null,null,null,null,null,null,null,null,null,"~"]
["SA36",2025,"LIM351",332,null,null,null,null,null,null,null,null,null,null,null,null,null,null,null,null,null,null,"~"]
["SA36",2025,"LIM351",333,null,null,null,null,null,null,null,null,null,null,null,null,null,null,null,null,null,null,"~"]
["SA36",2025,"LIM351",334,null,null,null,null,null,null,null,null,null,null,null,null,null,null,null,null,null,null,"~"]
["SA36",2025,"LIM351",335,null,null,null,null,null,null,null,null,null,null,null,null,null,null,null,null,null,null,"~"]
["SA36",2025,"LIM351",336,null,null,null,null,null,null,null,null,null,null,null,null,null,null,null,null,null,null,"~"]
["SA36",2025,"LIM351",337,null,null,null,null,null,null,null,null,null,null,null,null,null,null,null,null,null,null,"~"]
["SA36",2025,"LIM351",338,null,null,null,null,null,null,null,null,null,null,null,null,null,null,null,null,null,null,"~"]
["SA36",2025,"LIM351",339,null,null,null,null,null,null,null,null,null,null,null,null,null,null,null,null,null,null,"~"]
["SA36",2025,"LIM351",340,null,null,null,null,null,null,null,null,null,null,null,null,null,null,null,null,null,null,"~"]
["SA36",2025,"LIM351",341,null,null,null,null,null,null,null,null,null,null,null,null,null,null,null,null,null,null,"~"]
["SA36",2025,"LIM351",342,null,null,null,null,null,null,null,null,null,null,null,null,null,null,null,null,null,null,"~"]
["SA36",2025,"LIM351",343,null,null,null,null,null,null,null,null,null,null,null,null,null,null,null,null,null,null,"~"]
["SA36",{"$f":"+MTREF","v":2025},{"$f":"LEFT(muni,(FIND(\" \",muni,1)-1))","v":"LIM351"},344,null,null,null,null,null,null,null,null,null,null,null,null,null,null,null,null,null,null,"~"]
["SA36",2025,"LIM351",345,null,null,null,null,null,null,null,null,null,null,null,null,null,null,null,null,null,null,"~"]
["SA36",2025,"LIM351",346,null,null,null,null,null,null,null,null,null,null,null,null,null,null,null,null,null,null,"~"]
["SA36",2025,"LIM351",347,null,null,null,null,null,null,null,null,null,null,null,null,null,null,null,null,null,null,"~"]
["SA36",2025,"LIM351",348,null,null,null,null,null,null,null,null,null,null,null,null,null,null,null,null,null,null,"~"]
["SA36",2025,"LIM351",349,null,null,null,null,null,null,null,null,null,null,null,null,null,null,null,null,null,null,"~"]
["SA36",2025,"LIM351",350,null,null,null,null,null,null,null,null,null,null,null,null,null,null,null,null,null,null,"~"]
["SA36",2025,"LIM351",351,null,null,null,null,null,null,null,null,null,null,null,null,null,null,null,null,null,null,"~"]
["SA36",2025,"LIM351",352,null,null,null,null,null,null,null,null,null,null,null,null,null,null,null,null,null,null,"~"]
["SA36",2025,"LIM351",353,null,null,null,null,null,null,null,null,null,null,null,null,null,null,null,null,null,null,"~"]
["SA36",2025,"LIM351",354,null,null,null,null,null,null,null,null,null,null,null,null,null,null,null,null,null,null,"~"]
["SA36",2025,"LIM351",355,null,null,null,null,null,null,null,null,null,null,null,null,null,null,null,null,null,null,"~"]
["SA36",2025,"LIM351",356,null,null,null,null,null,null,null,null,null,null,null,null,null,null,null,null,null,null,"~"]
["SA36",2025,"LIM351",357,null,null,null,null,null,null,null,null,null,null,null,null,null,null,null,null,null,null,"~"]
["SA36",2025,"LIM351",358,null,null,null,null,null,null,null,null,null,null,null,null,null,null,null,null,null,null,"~"]
["SA36",2025,"LIM351",359,null,null,null,null,null,null,null,null,null,null,null,null,null,null,null,null,null,null,"~"]
["SA36",2025,"LIM351",360,null,null,null,null,null,null,null,null,null,null,null,null,null,null,null,null,null,null,"~"]
["SA36",2025,"LIM351",361,null,null,null,null,null,null,null,null,null,null,null,null,null,null,null,null,null,null,"~"]
["SA36",2025,"LIM351",362,null,null,null,null,null,null,null,null,null,null,null,null,null,null,null,null,null,null,"~"]
["SA36",2025,"LIM351",363,null,null,null,null,null,null,null,null,null,null,null,null,null,null,null,null,null,null,"~"]
["SA36",2025,"LIM351",364,null,null,null,null,null,null,null,null,null,null,null,null,null,null,null,null,null,null,"~"]
["SA36",2025,"LIM351",365,null,null,null,null,null,null,null,null,null,null,null,null,null,null,null,null,null,null,"~"]
["SA36",2025,"LIM351",366,null,null,null,null,null,null,null,null,null,null,null,null,null,null,null,null,null,null,"~"]
["SA36",2025,"LIM351",367,null,null,null,null,null,null,null,null,null,null,null,null,null,null,null,null,null,null,"~"]
["SA36",2025,"LIM351",368,null,null,null,null,null,null,null,null,null,null,null,null,null,null,null,null,null,null,"~"]
["SA36",2025,"LIM351",369,null,null,null,null,null,null,null,null,null,null,null,null,null,null,null,null,null,null,"~"]
["SA36",2025,"LIM351",370,null,null,null,null,null,null,null,null,null,null,null,null,null,null,null,null,null,null,"~"]
["SA36",2025,"LIM351",371,null,null,null,null,null,null,null,null,null,null,null,null,null,null,null,null,null,null,"~"]
["SA36",2025,"LIM351",372,null,null,null,null,null,null,null,null,null,null,null,null,null,null,null,null,null,null,"~"]
["SA36",2025,"LIM351",373,null,null,null,null,null,null,null,null,null,null,null,null,null,null,null,null,null,null,"~"]
["SA36",2025,"LIM351",374,null,null,null,null,null,null,null,null,null,null,null,null,null,null,null,null,null,null,"~"]
["SA36",2025,"LIM351",375,null,null,null,null,null,null,null,null,null,null,null,null,null,null,null,null,null,null,"~"]
["SA36",2025,"LIM351",376,null,null,null,null,null,null,null,null,null,null,null,null,null,null,null,null,null,null,"~"]
["SA36",2025,"LIM351",377,null,null,null,null,null,null,null,null,null,null,null,null,null,null,null,null,null,null,"~"]
["SA36",2025,"LIM351",378,null,null,null,null,null,null,null,null,null,null,null,null,null,null,null,null,null,null,"~"]
["SA36",2025,"LIM351",379,null,null,null,null,null,null,null,null,null,null,null,null,null,null,null,null,null,null,"~"]
["SA36",2025,"LIM351",380,null,null,null,null,null,null,null,null,null,null,null,null,null,null,null,null,null,null,"~"]
["SA36",2025,"LIM351",381,null,null,null,null,null,null,null,null,null,null,null,null,null,null,null,null,null,null,"~"]
["SA36",2025,"LIM351",382,null,null,null,null,null,null,null,null,null,null,null,null,null,null,null,null,null,null,"~"]
["SA36",2025,"LIM351",383,null,null,null,null,null,null,null,null,null,null,null,null,null,null,null,null,null,null,"~"]
["SA36",2025,"LIM351",384,null,null,null,null,null,null,null,null,null,null,null,null,null,null,null,null,null,null,"~"]
["SA36",2025,"LIM351",385,null,null,null,null,null,null,null,null,null,null,null,null,null,null,null,null,null,null,"~"]
["SA36",2025,"LIM351",386,null,null,null,null,null,null,null,null,null,null,null,null,null,null,null,null,null,null,"~"]
["SA36",2025,"LIM351",387,null,null,null,null,null,null,null,null,null,null,null,null,null,null,null,null,null,null,"~"]
["SA36",2025,"LIM351",388,null,null,null,null,null,null,null,null,null,null,null,null,null,null,null,null,null,null,"~"]
["SA36",2025,"LIM351",389,null,null,null,null,null,null,null,null,null,null,null,null,null,null,null,null,null,null,"~"]
["SA36",2025,"LIM351",390,null,null,null,null,null,null,null,null,null,null,null,null,null,null,null,null,null,null,"~"]
["SA36",2025,"LIM351",391,null,null,null,null,null,null,null,null,null,null,null,null,null,null,null,null,null,null,"~"]
["SA36",2025,"LIM351",392,null,null,null,null,null,null,null,null,null,null,null,null,null,null,null,null,null,null,"~"]
["SA36",2025,"LIM351",393,null,null,null,null,null,null,null,null,null,null,null,null,null,null,null,null,null,null,"~"]
["SA36",2025,"LIM351",394,null,null,null,null,null,null,null,null,null,null,null,null,null,null,null,null,null,null,"~"]
["SA36",2025,"LIM351",395,null,null,null,null,null,null,null,null,null,null,null,null,null,null,null,null,null,null,"~"]
["SA36",2025,"LIM351",396,null,null,null,null,null,null,null,null,null,null,null,null,null,null,null,null,null,null,"~"]
["SA36",2025,"LIM351",397,null,null,null,null,null,null,null,null,null,null,null,null,null,null,null,null,null,null,"~"]
["SA36",2025,"LIM351",398,null,null,null,null,null,null,null,null,null,null,null,null,null,null,null,null,null,null,"~"]
["SA36",2025,"LIM351",399,null,null,null,null,null,null,null,null,null,null,null,null,null,null,null,null,null,null,"~"]
["SA36",2025,"LIM351",400,null,null,null,null,null,null,null,null,null,null,null,null,null,null,null,null,null,null,"~"]
["SA36",2025,"LIM351",401,null,null,null,null,null,null,null,null,null,null,null,null,null,null,null,null,null,null,"~"]
["SA36",2025,"LIM351",402,null,null,null,null,null,null,null,null,null,null,null,null,null,null,null,null,null,null,"~"]
["SA36",2025,"LIM351",403,null,null,null,null,null,null,null,null,null,null,null,null,null,null,null,null,null,null,"~"]
["SA36",2025,"LIM351",404,null,null,null,null,null,null,null,null,null,null,null,null,null,null,null,null,null,null,"~"]
["SA36",2025,"LIM351",405,null,null,null,null,null,null,null,null,null,null,null,null,null,null,null,null,null,null,"~"]
["SA36",2025,"LIM351",406,null,null,null,null,null,null,null,null,null,null,null,null,null,null,null,null,null,null,"~"]
["SA36",2025,"LIM351",407,null,null,null,null,null,null,null,null,null,null,null,null,null,null,null,null,null,null,"~"]
["SA36",{"$f":"+MTREF","v":2025},{"$f":"LEFT(muni,(FIND(\" \",muni,1)-1))","v":"LIM351"},408,null,null,null,null,null,null,null,null,null,null,null,null,null,null,null,null,null,null,"~"]
["SA36",2025,"LIM351",409,null,null,null,null,null,null,null,null,null,null,null,null,null,null,null,null,null,null,"~"]
["SA36",2025,"LIM351",410,null,null,null,null,null,null,null,null,null,null,null,null,null,null,null,null,null,null,"~"]
["SA36",2025,"LIM351",411,null,null,null,null,null,null,null,null,null,null,null,null,null,null,null,null,null,null,"~"]
["SA36",2025,"LIM351",412,null,null,null,null,null,null,null,null,null,null,null,null,null,null,null,null,null,null,"~"]
["SA36",2025,"LIM351",413,null,null,null,null,null,null,null,null,null,null,null,null,null,null,null,null,null,null,"~"]
["SA36",2025,"LIM351",414,null,null,null,null,null,null,null,null,null,null,null,null,null,null,null,null,null,null,"~"]
["SA36",2025,"LIM351",415,null,null,null,null,null,null,null,null,null,null,null,null,null,null,null,null,null,null,"~"]
["SA36",2025,"LIM351",416,null,null,null,null,null,null,null,null,null,null,null,null,null,null,null,null,null,null,"~"]
["SA36",2025,"LIM351",417,null,null,null,null,null,null,null,null,null,null,null,null,null,null,null,null,null,null,"~"]
["SA36",2025,"LIM351",418,null,null,null,null,null,null,null,null,null,null,null,null,null,null,null,null,null,null,"~"]
["SA36",2025,"LIM351",419,null,null,null,null,null,null,null,null,null,null,null,null,null,null,null,null,null,null,"~"]
["SA36",2025,"LIM351",420,null,null,null,null,null,null,null,null,null,null,null,null,null,null,null,null,null,null,"~"]
["SA36",2025,"LIM351",421,null,null,null,null,null,null,null,null,null,null,null,null,null,null,null,null,null,null,"~"]
["SA36",2025,"LIM351",422,null,null,null,null,null,null,null,null,null,null,null,null,null,null,null,null,null,null,"~"]
["SA36",2025,"LIM351",423,null,null,null,null,null,null,null,null,null,null,null,null,null,null,null,null,null,null,"~"]
["SA36",2025,"LIM351",424,null,null,null,null,null,null,null,null,null,null,null,null,null,null,null,null,null,null,"~"]
["SA36",2025,"LIM351",425,null,null,null,null,null,null,null,null,null,null,null,null,null,null,null,null,null,null,"~"]
["SA36",2025,"LIM351",426,null,null,null,null,null,null,null,null,null,null,null,null,null,null,null,null,null,null,"~"]
["SA36",2025,"LIM351",427,null,null,null,null,null,null,null,null,null,null,null,null,null,null,null,null,null,null,"~"]
["SA36",2025,"LIM351",428,null,null,null,null,null,null,null,null,null,null,null,null,null,null,null,null,null,null,"~"]
["SA36",2025,"LIM351",429,null,null,null,null,null,null,null,null,null,null,null,null,null,null,null,null,null,null,"~"]
["SA36",2025,"LIM351",430,null,null,null,null,null,null,null,null,null,null,null,null,null,null,null,null,null,null,"~"]
["SA36",2025,"LIM351",431,null,null,null,null,null,null,null,null,null,null,null,null,null,null,null,null,null,null,"~"]
["SA36",2025,"LIM351",432,null,null,null,null,null,null,null,null,null,null,null,null,null,null,null,null,null,null,"~"]
["SA36",2025,"LIM351",433,null,null,null,null,null,null,null,null,null,null,null,null,null,null,null,null,null,null,"~"]
["SA36",2025,"LIM351",434,null,null,null,null,null,null,null,null,null,null,null,null,null,null,null,null,null,null,"~"]
["SA36",2025,"LIM351",435,null,null,null,null,null,null,null,null,null,null,null,null,null,null,null,null,null,null,"~"]
["SA36",2025,"LIM351",436,null,null,null,null,null,null,null,null,null,null,null,null,null,null,null,null,null,null,"~"]
["SA36",2025,"LIM351",437,null,null,null,null,null,null,null,null,null,null,null,null,null,null,null,null,null,null,"~"]
["SA36",2025,"LIM351",438,null,null,null,null,null,null,null,null,null,null,null,null,null,null,null,null,null,null,"~"]
["SA36",2025,"LIM351",439,null,null,null,null,null,null,null,null,null,null,null,null,null,null,null,null,null,null,"~"]
["SA36",2025,"LIM351",440,null,null,null,null,null,null,null,null,null,null,null,null,null,null,null,null,null,null,"~"]
["SA36",2025,"LIM351",441,null,null,null,null,null,null,null,null,null,null,null,null,null,null,null,null,null,null,"~"]
["SA36",2025,"LIM351",442,null,null,null,null,null,null,null,null,null,null,null,null,null,null,null,null,null,null,"~"]
["SA36",2025,"LIM351",443,null,null,null,null,null,null,null,null,null,null,null,null,null,null,null,null,null,null,"~"]
["SA36",2025,"LIM351",444,null,null,null,null,null,null,null,null,null,null,null,null,null,null,null,null,null,null,"~"]
["SA36",2025,"LIM351",445,null,null,null,null,null,null,null,null,null,null,null,null,null,null,null,null,null,null,"~"]
["SA36",2025,"LIM351",446,null,null,null,null,null,null,null,null,null,null,null,null,null,null,null,null,null,null,"~"]
["SA36",2025,"LIM351",447,null,null,null,null,null,null,null,null,null,null,null,null,null,null,null,null,null,null,"~"]
["SA36",2025,"LIM351",448,null,null,null,null,null,null,null,null,null,null,null,null,null,null,null,null,null,null,"~"]
["SA36",2025,"LIM351",449,null,null,null,null,null,null,null,null,null,null,null,null,null,null,null,null,null,null,"~"]
["SA36",2025,"LIM351",450,null,null,null,null,null,null,null,null,null,null,null,null,null,null,null,null,null,null,"~"]
["SA36",2025,"LIM351",451,null,null,null,null,null,null,null,null,null,null,null,null,null,null,null,null,null,null,"~"]
["SA36",2025,"LIM351",452,null,null,null,null,null,null,null,null,null,null,null,null,null,null,null,null,null,null,"~"]
["SA36",2025,"LIM351",453,null,null,null,null,null,null,null,null,null,null,null,null,null,null,null,null,null,null,"~"]
["SA36",2025,"LIM351",454,null,null,null,null,null,null,null,null,null,null,null,null,null,null,null,null,null,null,"~"]
["SA36",2025,"LIM351",455,null,null,null,null,null,null,null,null,null,null,null,null,null,null,null,null,null,null,"~"]
["SA36",2025,"LIM351",456,null,null,null,null,null,null,null,null,null,null,null,null,null,null,null,null,null,null,"~"]
["SA36",2025,"LIM351",457,null,null,null,null,null,null,null,null,null,null,null,null,null,null,null,null,null,null,"~"]
["SA36",2025,"LIM351",458,null,null,null,null,null,null,null,null,null,null,null,null,null,null,null,null,null,null,"~"]
["SA36",2025,"LIM351",459,null,null,null,null,null,null,null,null,null,null,null,null,null,null,null,null,null,null,"~"]
["SA36",2025,"LIM351",460,null,null,null,null,null,null,null,null,null,null,null,null,null,null,null,null,null,null,"~"]
["SA36",2025,"LIM351",461,null,null,null,null,null,null,null,null,null,null,null,null,null,null,null,null,null,null,"~"]
["SA36",2025,"LIM351",462,null,null,null,null,null,null,null,null,null,null,null,null,null,null,null,null,null,null,"~"]
["SA36",2025,"LIM351",463,null,null,null,null,null,null,null,null,null,null,null,null,null,null,null,null,null,null,"~"]
["SA36",2025,"LIM351",464,null,null,null,null,null,null,null,null,null,null,null,null,null,null,null,null,null,null,"~"]
["SA36",2025,"LIM351",465,null,null,null,null,null,null,null,null,null,null,null,null,null,null,null,null,null,null,"~"]
["SA36",2025,"LIM351",466,null,null,null,null,null,null,null,null,null,null,null,null,null,null,null,null,null,null,"~"]
["SA36",2025,"LIM351",467,null,null,null,null,null,null,null,null,null,null,null,null,null,null,null,null,null,null,"~"]
["SA36",2025,"LIM351",468,null,null,null,null,null,null,null,null,null,null,null,null,null,null,null,null,null,null,"~"]
["SA36",2025,"LIM351",469,null,null,null,null,null,null,null,null,null,null,null,null,null,null,null,null,null,null,"~"]
["SA36",2025,"LIM351",470,null,null,null,null,null,null,null,null,null,null,null,null,null,null,null,null,null,null,"~"]
["SA36",2025,"LIM351",471,null,null,null,null,null,null,null,null,null,null,null,null,null,null,null,null,null,null,"~"]
["SA36",{"$f":"+MTREF","v":2025},{"$f":"LEFT(muni,(FIND(\" \",muni,1)-1))","v":"LIM351"},472,null,null,null,null,null,null,null,null,null,null,null,null,null,null,null,null,null,null,"~"]
["SA36",2025,"LIM351",473,null,null,null,null,null,null,null,null,null,null,null,null,null,null,null,null,null,null,"~"]
["SA36",2025,"LIM351",474,null,null,null,null,null,null,null,null,null,null,null,null,null,null,null,null,null,null,"~"]
["SA36",2025,"LIM351",475,null,null,null,null,null,null,null,null,null,null,null,null,null,null,null,null,null,null,"~"]
["SA36",2025,"LIM351",476,null,null,null,null,null,null,null,null,null,null,null,null,null,null,null,null,null,null,"~"]
["SA36",2025,"LIM351",477,null,null,null,null,null,null,null,null,null,null,null,null,null,null,null,null,null,null,"~"]
["SA36",2025,"LIM351",478,null,null,null,null,null,null,null,null,null,null,null,null,null,null,null,null,null,null,"~"]
["SA36",2025,"LIM351",479,null,null,null,null,null,null,null,null,null,null,null,null,null,null,null,null,null,null,"~"]
["SA36",2025,"LIM351",480,null,null,null,null,null,null,null,null,null,null,null,null,null,null,null,null,null,null,"~"]
["SA36",2025,"LIM351",481,null,null,null,null,null,null,null,null,null,null,null,null,null,null,null,null,null,null,"~"]
["SA36",2025,"LIM351",482,null,null,null,null,null,null,null,null,null,null,null,null,null,null,null,null,null,null,"~"]
["SA36",2025,"LIM351",483,null,null,null,null,null,null,null,null,null,null,null,null,null,null,null,null,null,null,"~"]
["SA36",2025,"LIM351",484,null,null,null,null,null,null,null,null,null,null,null,null,null,null,null,null,null,null,"~"]
["SA36",2025,"LIM351",485,null,null,null,null,null,null,null,null,null,null,null,null,null,null,null,null,null,null,"~"]
["SA36",2025,"LIM351",486,null,null,null,null,null,null,null,null,null,null,null,null,null,null,null,null,null,null,"~"]
["SA36",2025,"LIM351",487,null,null,null,null,null,null,null,null,null,null,null,null,null,null,null,null,null,null,"~"]
["SA36",2025,"LIM351",488,null,null,null,null,null,null,null,null,null,null,null,null,null,null,null,null,null,null,"~"]
["SA36",2025,"LIM351",489,null,null,null,null,null,null,null,null,null,null,null,null,null,null,null,null,null,null,"~"]
["SA36",2025,"LIM351",490,null,null,null,null,null,null,null,null,null,null,null,null,null,null,null,null,null,null,"~"]
["SA36",2025,"LIM351",491,null,null,null,null,null,null,null,null,null,null,null,null,null,null,null,null,null,null,"~"]
["SA36",2025,"LIM351",492,null,null,null,null,null,null,null,null,null,null,null,null,null,null,null,null,null,null,"~"]
["SA36",2025,"LIM351",493,null,null,null,null,null,null,null,null,null,null,null,null,null,null,null,null,null,null,"~"]
["SA36",2025,"LIM351",494,null,null,null,null,null,null,null,null,null,null,null,null,null,null,null,null,null,null,"~"]
["SA36",2025,"LIM351",495,null,null,null,null,null,null,null,null,null,null,null,null,null,null,null,null,null,null,"~"]
["SA36",2025,"LIM351",496,null,null,null,null,null,null,null,null,null,null,null,null,null,null,null,null,null,null,"~"]
["SA36",2025,"LIM351",497,null,null,null,null,null,null,null,null,null,null,null,null,null,null,null,null,null,null,"~"]
["SA36",2025,"LIM351",498,null,null,null,null,null,null,null,null,null,null,null,null,null,null,null,null,null,null,"~"]
["SA36",2025,"LIM351",499,null,null,null,null,null,null,null,null,null,null,null,null,null,null,null,null,null,null,"~"]
["SA36",2025,"LIM351",500,null,null,null,null,null,null,null,null,null,null,null,null,null,null,null,null,null,null,"~"]
["SA36",2025,"LIM351",501,null,null,null,null,null,null,null,null,null,null,null,null,null,null,null,null,null,null,"~"]
["SA36",2025,"LIM351",502,null,null,null,null,null,null,null,null,null,null,null,null,null,null,null,null,null,null,"~"]
["SA36",2025,"LIM351",503,null,null,null,null,null,null,null,null,null,null,null,null,null,null,null,null,null,null,"~"]
["SA36",2025,"LIM351",504,null,null,null,null,null,null,null,null,null,null,null,null,null,null,null,null,null,null,"~"]
["SA36",2025,"LIM351",505,null,null,null,null,null,null,null,null,null,null,null,null,null,null,null,null,null,null,"~"]
["SA36",2025,"LIM351",506,null,null,null,null,null,null,null,null,null,null,null,null,null,null,null,null,null,null,"~"]
["SA36",2025,"LIM351",507,null,null,null,null,null,null,null,null,null,null,null,null,null,null,null,null,null,null,"~"]
["SA36",2025,"LIM351",508,null,null,null,null,null,null,null,null,null,null,null,null,null,null,null,null,null,null,"~"]
["SA36",2025,"LIM351",509,null,null,null,null,null,null,null,null,null,null,null,null,null,null,null,null,null,null,"~"]
["SA36",2025,"LIM351",510,null,null,null,null,null,null,null,null,null,null,null,null,null,null,null,null,null,null,"~"]
["SA36",2025,"LIM351",511,null,null,null,null,null,null,null,null,null,null,null,null,null,null,null,null,null,null,"~"]
["SA36",2025,"LIM351",512,null,null,null,null,null,null,null,null,null,null,null,null,null,null,null,null,null,null,"~"]
["SA36",2025,"LIM351",513,null,null,null,null,null,null,null,null,null,null,null,null,null,null,null,null,null,null,"~"]
["SA36",2025,"LIM351",514,null,null,null,null,null,null,null,null,null,null,null,null,null,null,null,null,null,null,"~"]
["SA36",2025,"LIM351",515,null,null,null,null,null,null,null,null,null,null,null,null,null,null,null,null,null,null,"~"]
["SA36",2025,"LIM351",516,null,null,null,null,null,null,null,null,null,null,null,null,null,null,null,null,null,null,"~"]
["SA36",2025,"LIM351",517,null,null,null,null,null,null,null,null,null,null,null,null,null,null,null,null,null,null,"~"]
["SA36",2025,"LIM351",518,null,null,null,null,null,null,null,null,null,null,null,null,null,null,null,null,null,null,"~"]
["SA36",2025,"LIM351",519,null,null,null,null,null,null,null,null,null,null,null,null,null,null,null,null,null,null,"~"]
["SA36",2025,"LIM351",520,null,null,null,null,null,null,null,null,null,null,null,null,null,null,null,null,null,null,"~"]
["SA36",2025,"LIM351",521,null,null,null,null,null,null,null,null,null,null,null,null,null,null,null,null,null,null,"~"]
["SA36",2025,"LIM351",522,null,null,null,null,null,null,null,null,null,null,null,null,null,null,null,null,null,null,"~"]
["SA36",2025,"LIM351",523,null,null,null,null,null,null,null,null,null,null,null,null,null,null,null,null,null,null,"~"]
["SA36",2025,"LIM351",524,null,null,null,null,null,null,null,null,null,null,null,null,null,null,null,null,null,null,"~"]
["SA36",2025,"LIM351",525,null,null,null,null,null,null,null,null,null,null,null,null,null,null,null,null,null,null,"~"]
["SA36",2025,"LIM351",526,null,null,null,null,null,null,null,null,null,null,null,null,null,null,null,null,null,null,"~"]
["SA36",2025,"LIM351",527,null,null,null,null,null,null,null,null,null,null,null,null,null,null,null,null,null,null,"~"]
["SA36",2025,"LIM351",528,null,null,null,null,null,null,null,null,null,null,null,null,null,null,null,null,null,null,"~"]
["SA36",2025,"LIM351",529,null,null,null,null,null,null,null,null,null,null,null,null,null,null,null,null,null,null,"~"]
["SA36",2025,"LIM351",530,null,null,null,null,null,null,null,null,null,null,null,null,null,null,null,null,null,null,"~"]
["SA36",2025,"LIM351",531,null,null,null,null,null,null,null,null,null,null,null,null,null,null,null,null,null,null,"~"]
["SA36",2025,"LIM351",532,null,null,null,null,null,null,null,null,null,null,null,null,null,null,null,null,null,null,"~"]
["SA36",2025,"LIM351",533,null,null,null,null,null,null,null,null,null,null,null,null,null,null,null,null,null,null,"~"]
["SA36",2025,"LIM351",534,null,null,null,null,null,null,null,null,null,null,null,null,null,null,null,null,null,null,"~"]
["SA36",2025,"LIM351",535,null,null,null,null,null,null,null,null,null,null,null,null,null,null,null,null,null,null,"~"]
["SA36",{"$f":"+MTREF","v":2025},{"$f":"LEFT(muni,(FIND(\" \",muni,1)-1))","v":"LIM351"},536,null,null,null,null,null,null,null,null,null,null,null,null,null,null,null,null,null,null,"~"]
["SA36",2025,"LIM351",537,null,null,null,null,null,null,null,null,null,null,null,null,null,null,null,null,null,null,"~"]
["SA36",2025,"LIM351",538,null,null,null,null,null,null,null,null,null,null,null,null,null,null,null,null,null,null,"~"]
["SA36",2025,"LIM351",539,null,null,null,null,null,null,null,null,null,null,null,null,null,null,null,null,null,null,"~"]
["SA36",2025,"LIM351",540,null,null,null,null,null,null,null,null,null,null,null,null,null,null,null,null,null,null,"~"]
["SA36",2025,"LIM351",541,null,null,null,null,null,null,null,null,null,null,null,null,null,null,null,null,null,null,"~"]
["SA36",2025,"LIM351",542,null,null,null,null,null,null,null,null,null,null,null,null,null,null,null,null,null,null,"~"]
["SA36",2025,"LIM351",543,null,null,null,null,null,null,null,null,null,null,null,null,null,null,null,null,null,null,"~"]
["SA36",2025,"LIM351",544,null,null,null,null,null,null,null,null,null,null,null,null,null,null,null,null,null,null,"~"]
["SA36",2025,"LIM351",545,null,null,null,null,null,null,null,null,null,null,null,null,null,null,null,null,null,null,"~"]
["SA36",2025,"LIM351",546,null,null,null,null,null,null,null,null,null,null,null,null,null,null,null,null,null,null,"~"]
["SA36",2025,"LIM351",547,null,null,null,null,null,null,null,null,null,null,null,null,null,null,null,null,null,null,"~"]
["SA36",2025,"LIM351",548,null,null,null,null,null,null,null,null,null,null,null,null,null,null,null,null,null,null,"~"]
["SA36",2025,"LIM351",549,null,null,null,null,null,null,null,null,null,null,null,null,null,null,null,null,null,null,"~"]
["SA36",2025,"LIM351",550,null,null,null,null,null,null,null,null,null,null,null,null,null,null,null,null,null,null,"~"]
["SA36",2025,"LIM351",551,null,null,null,null,null,null,null,null,null,null,null,null,null,null,null,null,null,null,"~"]
["SA36",2025,"LIM351",552,null,null,null,null,null,null,null,null,null,null,null,null,null,null,null,null,null,null,"~"]
["SA36",2025,"LIM351",553,null,null,null,null,null,null,null,null,null,null,null,null,null,null,null,null,null,null,"~"]
["SA36",2025,"LIM351",554,null,null,null,null,null,null,null,null,null,null,null,null,null,null,null,null,null,null,"~"]
["SA36",2025,"LIM351",555,null,null,null,null,null,null,null,null,null,null,null,null,null,null,null,null,null,null,"~"]
["SA36",2025,"LIM351",556,null,null,null,null,null,null,null,null,null,null,null,null,null,null,null,null,null,null,"~"]
["SA36",2025,"LIM351",557,null,null,null,null,null,null,null,null,null,null,null,null,null,null,null,null,null,null,"~"]
["SA36",2025,"LIM351",558,null,null,null,null,null,null,null,null,null,null,null,null,null,null,null,null,null,null,"~"]
["SA36",2025,"LIM351",559,null,null,null,null,null,null,null,null,null,null,null,null,null,null,null,null,null,null,"~"]
["SA36",2025,"LIM351",560,null,null,null,null,null,null,null,null,null,null,null,null,null,null,null,null,null,null,"~"]
["SA36",2025,"LIM351",561,null,null,null,null,null,null,null,null,null,null,null,null,null,null,null,null,null,null,"~"]
["SA36",2025,"LIM351",562,null,null,null,null,null,null,null,null,null,null,null,null,null,null,null,null,null,null,"~"]
["SA36",2025,"LIM351",563,null,null,null,null,null,null,null,null,null,null,null,null,null,null,null,null,null,null,"~"]
["SA36",2025,"LIM351",564,null,null,null,null,null,null,null,null,null,null,null,null,null,null,null,null,null,null,"~"]
["SA36",2025,"LIM351",565,null,null,null,null,null,null,null,null,null,null,null,null,null,null,null,null,null,null,"~"]
["SA36",2025,"LIM351",566,null,null,null,null,null,null,null,null,null,null,null,null,null,null,null,null,null,null,"~"]
["SA36",2025,"LIM351",567,null,null,null,null,null,null,null,null,null,null,null,null,null,null,null,null,null,null,"~"]
["SA36",2025,"LIM351",568,null,null,null,null,null,null,null,null,null,null,null,null,null,null,null,null,null,null,"~"]
["SA36",2025,"LIM351",569,null,null,null,null,null,null,null,null,null,null,null,null,null,null,null,null,null,null,"~"]
["SA36",2025,"LIM351",570,null,null,null,null,null,null,null,null,null,null,null,null,null,null,null,null,null,null,"~"]
["SA36",2025,"LIM351",571,null,null,null,null,null,null,null,null,null,null,null,null,null,null,null,null,null,null,"~"]
["SA36",2025,"LIM351",572,null,null,null,null,null,null,null,null,null,null,null,null,null,null,null,null,null,null,"~"]
["SA36",2025,"LIM351",573,null,null,null,null,null,null,null,null,null,null,null,null,null,null,null,null,null,null,"~"]
["SA36",2025,"LIM351",574,null,null,null,null,null,null,null,null,null,null,null,null,null,null,null,null,null,null,"~"]
["SA36",2025,"LIM351",575,null,null,null,null,null,null,null,null,null,null,null,null,null,null,null,null,null,null,"~"]
["SA36",2025,"LIM351",576,null,null,null,null,null,null,null,null,null,null,null,null,null,null,null,null,null,null,"~"]
["SA36",2025,"LIM351",577,null,null,null,null,null,null,null,null,null,null,null,null,null,null,null,null,null,null,"~"]
["SA36",2025,"LIM351",578,null,null,null,null,null,null,null,null,null,null,null,null,null,null,null,null,null,null,"~"]
["SA36",2025,"LIM351",579,null,null,null,null,null,null,null,null,null,null,null,null,null,null,null,null,null,null,"~"]
["SA36",2025,"LIM351",580,null,null,null,null,null,null,null,null,null,null,null,null,null,null,null,null,null,null,"~"]
["SA36",2025,"LIM351",581,null,null,null,null,null,null,null,null,null,null,null,null,null,null,null,null,null,null,"~"]
["SA36",2025,"LIM351",582,null,null,null,null,null,null,null,null,null,null,null,null,null,null,null,null,null,null,"~"]
["SA36",2025,"LIM351",583,null,null,null,null,null,null,null,null,null,null,null,null,null,null,null,null,null,null,"~"]
["SA36",2025,"LIM351",584,null,null,null,null,null,null,null,null,null,null,null,null,null,null,null,null,null,null,"~"]
["SA36",2025,"LIM351",585,null,null,null,null,null,null,null,null,null,null,null,null,null,null,null,null,null,null,"~"]
["SA36",2025,"LIM351",586,null,null,null,null,null,null,null,null,null,null,null,null,null,null,null,null,null,null,"~"]
["SA36",2025,"LIM351",587,null,null,null,null,null,null,null,null,null,null,null,null,null,null,null,null,null,null,"~"]
["SA36",2025,"LIM351",588,null,null,null,null,null,null,null,null,null,null,null,null,null,null,null,null,null,null,"~"]
["SA36",2025,"LIM351",589,null,null,null,null,null,null,null,null,null,null,null,null,null,null,null,null,null,null,"~"]
["SA36",2025,"LIM351",590,null,null,null,null,null,null,null,null,null,null,null,null,null,null,null,null,null,null,"~"]
["SA36",2025,"LIM351",591,null,null,null,null,null,null,null,null,null,null,null,null,null,null,null,null,null,null,"~"]
["SA36",2025,"LIM351",592,null,null,null,null,null,null,null,null,null,null,null,null,null,null,null,null,null,null,"~"]
["SA36",2025,"LIM351",593,null,null,null,null,null,null,null,null,null,null,null,null,null,null,null,null,null,null,"~"]
["SA36",2025,"LIM351",594,null,null,null,null,null,null,null,null,null,null,null,null,null,null,null,null,null,null,"~"]
["SA36",2025,"LIM351",595,null,null,null,null,null,null,null,null,null,null,null,null,null,null,null,null,null,null,"~"]
["SA36",2025,"LIM351",596,null,null,null,null,null,null,null,null,null,null,null,null,null,null,null,null,null,null,"~"]
["SA36",2025,"LIM351",597,null,null,null,null,null,null,null,null,null,null,null,null,null,null,null,null,null,null,"~"]
["SA36",2025,"LIM351",598,null,null,null,null,null,null,null,null,null,null,null,null,null,null,null,null,null,null,"~"]
["SA36",2025,"LIM351",599,null,null,null,null,null,null,null,null,null,null,null,null,null,null,null,null,null,null,"~"]
["SA36",{"$f":"+MTREF","v":2025},{"$f":"LEFT(muni,(FIND(\" \",muni,1)-1))","v":"LIM351"},600,null,null,null,null,null,null,null,null,null,null,null,null,null,null,null,null,null,null,"~"]
["SA36",2025,"LIM351",601,null,null,null,null,null,null,null,null,null,null,null,null,null,null,null,null,null,null,"~"]
["SA36",2025,"LIM351",602,null,null,null,null,null,null,null,null,null,null,null,null,null,null,null,null,null,null,"~"]
["SA36",2025,"LIM351",603,null,null,null,null,null,null,null,null,null,null,null,null,null,null,null,null,null,null,"~"]
["SA36",2025,"LIM351",604,null,null,null,null,null,null,null,null,null,null,null,null,null,null,null,null,null,null,"~"]
["SA36",2025,"LIM351",605,null,null,null,null,null,null,null,null,null,null,null,null,null,null,null,null,null,null,"~"]
["SA36",2025,"LIM351",606,null,null,null,null,null,null,null,null,null,null,null,null,null,null,null,null,null,null,"~"]
["SA36",2025,"LIM351",607,null,null,null,null,null,null,null,null,null,null,null,null,null,null,null,null,null,null,"~"]
["SA36",2025,"LIM351",608,null,null,null,null,null,null,null,null,null,null,null,null,null,null,null,null,null,null,"~"]
["SA36",2025,"LIM351",609,null,null,null,null,null,null,null,null,null,null,null,null,null,null,null,null,null,null,"~"]
["SA36",2025,"LIM351",610,null,null,null,null,null,null,null,null,null,null,null,null,null,null,null,null,null,null,"~"]
["SA36",2025,"LIM351",611,null,null,null,null,null,null,null,null,null,null,null,null,null,null,null,null,null,null,"~"]
["SA36",2025,"LIM351",612,null,null,null,null,null,null,null,null,null,null,null,null,null,null,null,null,null,null,"~"]
["SA36",2025,"LIM351",613,null,null,null,null,null,null,null,null,null,null,null,null,null,null,null,null,null,null,"~"]
["SA36",2025,"LIM351",614,null,null,null,null,null,null,null,null,null,null,null,null,null,null,null,null,null,null,"~"]
["SA36",2025,"LIM351",615,null,null,null,null,null,null,null,null,null,null,null,null,null,null,null,null,null,null,"~"]
["SA36",2025,"LIM351",616,null,null,null,null,null,null,null,null,null,null,null,null,null,null,null,null,null,null,"~"]
["SA36",2025,"LIM351",617,null,null,null,null,null,null,null,null,null,null,null,null,null,null,null,null,null,null,"~"]
["SA36",2025,"LIM351",618,null,null,null,null,null,null,null,null,null,null,null,null,null,null,null,null,null,null,"~"]
["SA36",2025,"LIM351",619,null,null,null,null,null,null,null,null,null,null,null,null,null,null,null,null,null,null,"~"]
["SA36",2025,"LIM351",620,null,null,null,null,null,null,null,null,null,null,null,null,null,null,null,null,null,null,"~"]
["SA36",2025,"LIM351",621,null,null,null,null,null,null,null,null,null,null,null,null,null,null,null,null,null,null,"~"]
["SA36",2025,"LIM351",622,null,null,null,null,null,null,null,null,null,null,null,null,null,null,null,null,null,null,"~"]
["SA36",2025,"LIM351",623,null,null,null,null,null,null,null,null,null,null,null,null,null,null,null,null,null,null,"~"]
["SA36",2025,"LIM351",624,null,null,null,null,null,null,null,null,null,null,null,null,null,null,null,null,null,null,"~"]
["SA36",2025,"LIM351",625,null,null,null,null,null,null,null,null,null,null,null,null,null,null,null,null,null,null,"~"]
["SA36",2025,"LIM351",626,null,null,null,null,null,null,null,null,null,null,null,null,null,null,null,null,null,null,"~"]
["SA36",2025,"LIM351",627,null,null,null,null,null,null,null,null,null,null,null,null,null,null,null,null,null,null,"~"]
["SA36",2025,"LIM351",628,null,null,null,null,null,null,null,null,null,null,null,null,null,null,null,null,null,null,"~"]
["SA36",2025,"LIM351",629,null,null,null,null,null,null,null,null,null,null,null,null,null,null,null,null,null,null,"~"]
["SA36",2025,"LIM351",630,null,null,null,null,null,null,null,null,null,null,null,null,null,null,null,null,null,null,"~"]
["SA36",2025,"LIM351",631,null,null,null,null,null,null,null,null,null,null,null,null,null,null,null,null,null,null,"~"]
["SA36",2025,"LIM351",632,null,null,null,null,null,null,null,null,null,null,null,null,null,null,null,null,null,null,"~"]
["SA36",2025,"LIM351",633,null,null,null,null,null,null,null,null,null,null,null,null,null,null,null,null,null,null,"~"]
["SA36",2025,"LIM351",634,null,null,null,null,null,null,null,null,null,null,null,null,null,null,null,null,null,null,"~"]
["SA36",2025,"LIM351",635,null,null,null,null,null,null,null,null,null,null,null,null,null,null,null,null,null,null,"~"]
["SA36",2025,"LIM351",636,null,null,null,null,null,null,null,null,null,null,null,null,null,null,null,null,null,null,"~"]
["SA36",2025,"LIM351",637,null,null,null,null,null,null,null,null,null,null,null,null,null,null,null,null,null,null,"~"]
["SA36",2025,"LIM351",638,null,null,null,null,null,null,null,null,null,null,null,null,null,null,null,null,null,null,"~"]
["SA36",2025,"LIM351",639,null,null,null,null,null,null,null,null,null,null,null,null,null,null,null,null,null,null,"~"]
["SA36",2025,"LIM351",640,null,null,null,null,null,null,null,null,null,null,null,null,null,null,null,null,null,null,"~"]
["SA36",2025,"LIM351",641,null,null,null,null,null,null,null,null,null,null,null,null,null,null,null,null,null,null,"~"]
["SA36",2025,"LIM351",642,null,null,null,null,null,null,null,null,null,null,null,null,null,null,null,null,null,null,"~"]
["SA36",2025,"LIM351",643,null,null,null,null,null,null,null,null,null,null,null,null,null,null,null,null,null,null,"~"]
["SA36",2025,"LIM351",644,null,null,null,null,null,null,null,null,null,null,null,null,null,null,null,null,null,null,"~"]
["SA36",2025,"LIM351",645,null,null,null,null,null,null,null,null,null,null,null,null,null,null,null,null,null,null,"~"]
["SA36",2025,"LIM351",646,null,null,null,null,null,null,null,null,null,null,null,null,null,null,null,null,null,null,"~"]
["SA36",2025,"LIM351",647,null,null,null,null,null,null,null,null,null,null,null,null,null,null,null,null,null,null,"~"]
["SA36",2025,"LIM351",648,null,null,null,null,null,null,null,null,null,null,null,null,null,null,null,null,null,null,"~"]
["SA36",2025,"LIM351",649,null,null,null,null,null,null,null,null,null,null,null,null,null,null,null,null,null,null,"~"]
["SA36",2025,"LIM351",650,null,null,null,null,null,null,null,null,null,null,null,null,null,null,null,null,null,null,"~"]
["SA36",2025,"LIM351",651,null,null,null,null,null,null,null,null,null,null,null,null,null,null,null,null,null,null,"~"]
["SA36",2025,"LIM351",652,null,null,null,null,null,null,null,null,null,null,null,null,null,null,null,null,null,null,"~"]
["SA36",2025,"LIM351",653,null,null,null,null,null,null,null,null,null,null,null,null,null,null,null,null,null,null,"~"]
["SA36",2025,"LIM351",654,null,null,null,null,null,null,null,null,null,null,null,null,null,null,null,null,null,null,"~"]
["SA36",2025,"LIM351",655,null,null,null,null,null,null,null,null,null,null,null,null,null,null,null,null,null,null,"~"]
["SA36",2025,"LIM351",656,null,null,null,null,null,null,null,null,null,null,null,null,null,null,null,null,null,null,"~"]
["SA36",2025,"LIM351",657,null,null,null,null,null,null,null,null,null,null,null,null,null,null,null,null,null,null,"~"]
["SA36",2025,"LIM351",658,null,null,null,null,null,null,null,null,null,null,null,null,null,null,null,null,null,null,"~"]
["SA36",2025,"LIM351",659,null,null,null,null,null,null,null,null,null,null,null,null,null,null,null,null,null,null,"~"]
["SA36",2025,"LIM351",660,null,null,null,null,null,null,null,null,null,null,null,null,null,null,null,null,null,null,"~"]
["SA36",2025,"LIM351",661,null,null,null,null,null,null,null,null,null,null,null,null,null,null,null,null,null,null,"~"]
["SA36",2025,"LIM351",662,null,null,null,null,null,null,null,null,null,null,null,null,null,null,null,null,null,null,"~"]
["SA36",2025,"LIM351",663,null,null,null,null,null,null,null,null,null,null,null,null,null,null,null,null,null,null,"~"]
["SA36",{"$f":"+MTREF","v":2025},{"$f":"LEFT(muni,(FIND(\" \",muni,1)-1))","v":"LIM351"},664,null,null,null,null,null,null,null,null,null,null,null,null,null,null,null,null,null,null,"~"]
["SA36",2025,"LIM351",665,null,null,null,null,null,null,null,null,null,null,null,null,null,null,null,null,null,null,"~"]
["SA36",2025,"LIM351",666,null,null,null,null,null,null,null,null,null,null,null,null,null,null,null,null,null,null,"~"]
["SA36",2025,"LIM351",667,null,null,null,null,null,null,null,null,null,null,null,null,null,null,null,null,null,null,"~"]
["SA36",2025,"LIM351",668,null,null,null,null,null,null,null,null,null,null,null,null,null,null,null,null,null,null,"~"]
["SA36",2025,"LIM351",669,null,null,null,null,null,null,null,null,null,null,null,null,null,null,null,null,null,null,"~"]
["SA36",2025,"LIM351",670,null,null,null,null,null,null,null,null,null,null,null,null,null,null,null,null,null,null,"~"]
["SA36",2025,"LIM351",671,null,null,null,null,null,null,null,null,null,null,null,null,null,null,null,null,null,null,"~"]
["SA36",2025,"LIM351",672,null,null,null,null,null,null,null,null,null,null,null,null,null,null,null,null,null,null,"~"]
["SA36",2025,"LIM351",673,null,null,null,null,null,null,null,null,null,null,null,null,null,null,null,null,null,null,"~"]
["SA36",2025,"LIM351",674,null,null,null,null,null,null,null,null,null,null,null,null,null,null,null,null,null,null,"~"]
["SA36",2025,"LIM351",675,null,null,null,null,null,null,null,null,null,null,null,null,null,null,null,null,null,null,"~"]
["SA36",2025,"LIM351",676,null,null,null,null,null,null,null,null,null,null,null,null,null,null,null,null,null,null,"~"]
["SA36",2025,"LIM351",677,null,null,null,null,null,null,null,null,null,null,null,null,null,null,null,null,null,null,"~"]
["SA36",2025,"LIM351",678,null,null,null,null,null,null,null,null,null,null,null,null,null,null,null,null,null,null,"~"]
["SA36",2025,"LIM351",679,null,null,null,null,null,null,null,null,null,null,null,null,null,null,null,null,null,null,"~"]
["SA36",2025,"LIM351",680,null,null,null,null,null,null,null,null,null,null,null,null,null,null,null,null,null,null,"~"]
["SA36",2025,"LIM351",681,null,null,null,null,null,null,null,null,null,null,null,null,null,null,null,null,null,null,"~"]
["SA36",2025,"LIM351",682,null,null,null,null,null,null,null,null,null,null,null,null,null,null,null,null,null,null,"~"]
["SA36",2025,"LIM351",683,null,null,null,null,null,null,null,null,null,null,null,null,null,null,null,null,null,null,"~"]
["SA36",2025,"LIM351",684,null,null,null,null,null,null,null,null,null,null,null,null,null,null,null,null,null,null,"~"]
["SA36",2025,"LIM351",685,null,null,null,null,null,null,null,null,null,null,null,null,null,null,null,null,null,null,"~"]
["SA36",2025,"LIM351",686,null,null,null,null,null,null,null,null,null,null,null,null,null,null,null,null,null,null,"~"]
["SA36",2025,"LIM351",687,null,null,null,null,null,null,null,null,null,null,null,null,null,null,null,null,null,null,"~"]
["SA36",2025,"LIM351",688,null,null,null,null,null,null,null,null,null,null,null,null,null,null,null,null,null,null,"~"]
["SA36",2025,"LIM351",689,null,null,null,null,null,null,null,null,null,null,null,null,null,null,null,null,null,null,"~"]
["SA36",2025,"LIM351",690,null,null,null,null,null,null,null,null,null,null,null,null,null,null,null,null,null,null,"~"]
["SA36",2025,"LIM351",691,null,null,null,null,null,null,null,null,null,null,null,null,null,null,null,null,null,null,"~"]
["SA36",2025,"LIM351",692,null,null,null,null,null,null,null,null,null,null,null,null,null,null,null,null,null,null,"~"]
["SA36",2025,"LIM351",693,null,null,null,null,null,null,null,null,null,null,null,null,null,null,null,null,null,null,"~"]
["SA36",2025,"LIM351",694,null,null,null,null,null,null,null,null,null,null,null,null,null,null,null,null,null,null,"~"]
["SA36",2025,"LIM351",695,null,null,null,null,null,null,null,null,null,null,null,null,null,null,null,null,null,null,"~"]
["SA36",2025,"LIM351",696,null,null,null,null,null,null,null,null,null,null,null,null,null,null,null,null,null,null,"~"]
["SA36",2025,"LIM351",697,null,null,null,null,null,null,null,null,null,null,null,null,null,null,null,null,null,null,"~"]
["SA36",2025,"LIM351",698,null,null,null,null,null,null,null,null,null,null,null,null,null,null,null,null,null,null,"~"]
["SA36",2025,"LIM351",699,null,null,null,null,null,null,null,null,null,null,null,null,null,null,null,null,null,null,"~"]
["SA36",2025,"LIM351",700,null,null,null,null,null,null,null,null,null,null,null,null,null,null,null,null,null,null,"~"]
["SA36",2025,"LIM351",701,null,null,null,null,null,null,null,null,null,null,null,null,null,null,null,null,null,null,"~"]
["SA36",2025,"LIM351",702,null,null,null,null,null,null,null,null,null,null,null,null,null,null,null,null,null,null,"~"]
["SA36",2025,"LIM351",703,null,null,null,null,null,null,null,null,null,null,null,null,null,null,null,null,null,null,"~"]
["SA36",2025,"LIM351",704,null,null,null,null,null,null,null,null,null,null,null,null,null,null,null,null,null,null,"~"]
["SA36",2025,"LIM351",705,null,null,null,null,null,null,null,null,null,null,null,null,null,null,null,null,null,null,"~"]
["SA36",2025,"LIM351",706,null,null,null,null,null,null,null,null,null,null,null,null,null,null,null,null,null,null,"~"]
["SA36",2025,"LIM351",707,null,null,null,null,null,null,null,null,null,null,null,null,null,null,null,null,null,null,"~"]
["SA36",2025,"LIM351",708,null,null,null,null,null,null,null,null,null,null,null,null,null,null,null,null,null,null,"~"]
["SA36",2025,"LIM351",709,null,null,null,null,null,null,null,null,null,null,null,null,null,null,null,null,null,null,"~"]
["SA36",2025,"LIM351",710,null,null,null,null,null,null,null,null,null,null,null,null,null,null,null,null,null,null,"~"]
["SA36",2025,"LIM351",711,null,null,null,null,null,null,null,null,null,null,null,null,null,null,null,null,null,null,"~"]
["SA36",2025,"LIM351",712,null,null,null,null,null,null,null,null,null,null,null,null,null,null,null,null,null,null,"~"]
["SA36",2025,"LIM351",713,null,null,null,null,null,null,null,null,null,null,null,null,null,null,null,null,null,null,"~"]
["SA36",2025,"LIM351",714,null,null,null,null,null,null,null,null,null,null,null,null,null,null,null,null,null,null,"~"]
["SA36",2025,"LIM351",715,null,null,null,null,null,null,null,null,null,null,null,null,null,null,null,null,null,null,"~"]
["SA36",2025,"LIM351",716,null,null,null,null,null,null,null,null,null,null,null,null,null,null,null,null,null,null,"~"]
["SA36",2025,"LIM351",717,null,null,null,null,null,null,null,null,null,null,null,null,null,null,null,null,null,null,"~"]
["SA36",2025,"LIM351",718,null,null,null,null,null,null,null,null,null,null,null,null,null,null,null,null,null,null,"~"]
["SA36",2025,"LIM351",719,null,null,null,null,null,null,null,null,null,null,null,null,null,null,null,null,null,null,"~"]
["SA36",2025,"LIM351",720,null,null,null,null,null,null,null,null,null,null,null,null,null,null,null,null,null,null,"~"]
["SA36",2025,"LIM351",721,null,null,null,null,null,null,null,null,null,null,null,null,null,null,null,null,null,null,"~"]
["SA36",2025,"LIM351",722,null,null,null,null,null,null,null,null,null,null,null,null,null,null,null,null,null,null,"~"]
["SA36",2025,"LIM351",723,null,null,null,null,null,null,null,null,null,null,null,null,null,null,null,null,null,null,"~"]
["SA36",2025,"LIM351",724,null,null,null,null,null,null,null,null,null,null,null,null,null,null,null,null,null,null,"~"]
["SA36",2025,"LIM351",725,null,null,null,null,null,null,null,null,null,null,null,null,null,null,null,null,null,null,"~"]
["SA36",2025,"LIM351",726,null,null,null,null,null,null,null,null,null,null,null,null,null,null,null,null,null,null,"~"]
["SA36",2025,"LIM351",727,null,null,null,null,null,null,null,null,null,null,null,null,null,null,null,null,null,null,"~"]
["SA36",{"$f":"+MTREF","v":2025},{"$f":"LEFT(muni,(FIND(\" \",muni,1)-1))","v":"LIM351"},728,null,null,null,null,null,null,null,null,null,null,null,null,null,null,null,null,null,null,"~"]
["SA36",2025,"LIM351",729,null,null,null,null,null,null,null,null,null,null,null,null,null,null,null,null,null,null,"~"]
["SA36",2025,"LIM351",730,null,null,null,null,null,null,null,null,null,null,null,null,null,null,null,null,null,null,"~"]
["SA36",2025,"LIM351",731,null,null,null,null,null,null,null,null,null,null,null,null,null,null,null,null,null,null,"~"]
["SA36",2025,"LIM351",732,null,null,null,null,null,null,null,null,null,null,null,null,null,null,null,null,null,null,"~"]
["SA36",2025,"LIM351",733,null,null,null,null,null,null,null,null,null,null,null,null,null,null,null,null,null,null,"~"]
["SA36",2025,"LIM351",734,null,null,null,null,null,null,null,null,null,null,null,null,null,null,null,null,null,null,"~"]
["SA36",2025,"LIM351",735,null,null,null,null,null,null,null,null,null,null,null,null,null,null,null,null,null,null,"~"]
["SA36",2025,"LIM351",736,null,null,null,null,null,null,null,null,null,null,null,null,null,null,null,null,null,null,"~"]
["SA36",2025,"LIM351",737,null,null,null,null,null,null,null,null,null,null,null,null,null,null,null,null,null,null,"~"]
["SA36",2025,"LIM351",738,null,null,null,null,null,null,null,null,null,null,null,null,null,null,null,null,null,null,"~"]
["SA36",2025,"LIM351",739,null,null,null,null,null,null,null,null,null,null,null,null,null,null,null,null,null,null,"~"]
["SA36",2025,"LIM351",740,null,null,null,null,null,null,null,null,null,null,null,null,null,null,null,null,null,null,"~"]
["SA36",2025,"LIM351",741,null,null,null,null,null,null,null,null,null,null,null,null,null,null,null,null,null,null,"~"]
["SA36",2025,"LIM351",742,null,null,null,null,null,null,null,null,null,null,null,null,null,null,null,null,null,null,"~"]
["SA36",2025,"LIM351",743,null,null,null,null,null,null,null,null,null,null,null,null,null,null,null,null,null,null,"~"]
["SA36",2025,"LIM351",744,null,null,null,null,null,null,null,null,null,null,null,null,null,null,null,null,null,null,"~"]
["SA36",2025,"LIM351",745,null,null,null,null,null,null,null,null,null,null,null,null,null,null,null,null,null,null,"~"]
["SA36",2025,"LIM351",746,null,null,null,null,null,null,null,null,null,null,null,null,null,null,null,null,null,null,"~"]
["SA36",2025,"LIM351",747,null,null,null,null,null,null,null,null,null,null,null,null,null,null,null,null,null,null,"~"]
["SA36",2025,"LIM351",748,null,null,null,null,null,null,null,null,null,null,null,null,null,null,null,null,null,null,"~"]
["SA36",2025,"LIM351",749,null,null,null,null,null,null,null,null,null,null,null,null,null,null,null,null,null,null,"~"]
["SA36",2025,"LIM351",750,null,null,null,null,null,null,null,null,null,null,null,null,null,null,null,null,null,null,"~"]
["SA36",2025,"LIM351",751,null,null,null,null,null,null,null,null,null,null,null,null,null,null,null,null,null,null,"~"]
["SA36",2025,"LIM351",752,null,null,null,null,null,null,null,null,null,null,null,null,null,null,null,null,null,null,"~"]
["SA36",2025,"LIM351",753,null,null,null,null,null,null,null,null,null,null,null,null,null,null,null,null,null,null,"~"]
["SA36",2025,"LIM351",754,null,null,null,null,null,null,null,null,null,null,null,null,null,null,null,null,null,null,"~"]
["SA36",2025,"LIM351",755,null,null,null,null,null,null,null,null,null,null,null,null,null,null,null,null,null,null,"~"]
["SA36",2025,"LIM351",756,null,null,null,null,null,null,null,null,null,null,null,null,null,null,null,null,null,null,"~"]
["SA36",2025,"LIM351",757,null,null,null,null,null,null,null,null,null,null,null,null,null,null,null,null,null,null,"~"]
["SA36",2025,"LIM351",758,null,null,null,null,null,null,null,null,null,null,null,null,null,null,null,null,null,null,"~"]
["SA36",2025,"LIM351",759,null,null,null,null,null,null,null,null,null,null,null,null,null,null,null,null,null,null,"~"]
["SA36",2025,"LIM351",760,null,null,null,null,null,null,null,null,null,null,null,null,null,null,null,null,null,null,"~"]
["SA36",2025,"LIM351",761,null,null,null,null,null,null,null,null,null,null,null,null,null,null,null,null,null,null,"~"]
["SA36",2025,"LIM351",762,null,null,null,null,null,null,null,null,null,null,null,null,null,null,null,null,null,null,"~"]
["SA36",2025,"LIM351",763,null,null,null,null,null,null,null,null,null,null,null,null,null,null,null,null,null,null,"~"]
["SA36",2025,"LIM351",764,null,null,null,null,null,null,null,null,null,null,null,null,null,null,null,null,null,null,"~"]
["SA36",2025,"LIM351",765,null,null,null,null,null,null,null,null,null,null,null,null,null,null,null,null,null,null,"~"]
["SA36",2025,"LIM351",766,null,null,null,null,null,null,null,null,null,null,null,null,null,null,null,null,null,null,"~"]
["SA36",2025,"LIM351",767,null,null,null,null,null,null,null,null,null,null,null,null,null,null,null,null,null,null,"~"]
["SA36",2025,"LIM351",768,null,null,null,null,null,null,null,null,null,null,null,null,null,null,null,null,null,null,"~"]
["SA36",2025,"LIM351",769,null,null,null,null,null,null,null,null,null,null,null,null,null,null,null,null,null,null,"~"]
["SA36",2025,"LIM351",770,null,null,null,null,null,null,null,null,null,null,null,null,null,null,null,null,null,null,"~"]
["SA36",2025,"LIM351",771,null,null,null,null,null,null,null,null,null,null,null,null,null,null,null,null,null,null,"~"]
["SA36",2025,"LIM351",772,null,null,null,null,null,null,null,null,null,null,null,null,null,null,null,null,null,null,"~"]
["SA36",2025,"LIM351",773,null,null,null,null,null,null,null,null,null,null,null,null,null,null,null,null,null,null,"~"]
["SA36",2025,"LIM351",774,null,null,null,null,null,null,null,null,null,null,null,null,null,null,null,null,null,null,"~"]
["SA36",2025,"LIM351",775,null,null,null,null,null,null,null,null,null,null,null,null,null,null,null,null,null,null,"~"]
["SA36",2025,"LIM351",776,null,null,null,null,null,null,null,null,null,null,null,null,null,null,null,null,null,null,"~"]
["SA36",2025,"LIM351",777,null,null,null,null,null,null,null,null,null,null,null,null,null,null,null,null,null,null,"~"]
["SA36",2025,"LIM351",778,null,null,null,null,null,null,null,null,null,null,null,null,null,null,null,null,null,null,"~"]
["SA36",2025,"LIM351",779,null,null,null,null,null,null,null,null,null,null,null,null,null,null,null,null,null,null,"~"]
["SA36",2025,"LIM351",780,null,null,null,null,null,null,null,null,null,null,null,null,null,null,null,null,null,null,"~"]
["SA36",2025,"LIM351",781,null,null,null,null,null,null,null,null,null,null,null,null,null,null,null,null,null,null,"~"]
["SA36",2025,"LIM351",782,null,null,null,null,null,null,null,null,null,null,null,null,null,null,null,null,null,null,"~"]
["SA36",2025,"LIM351",783,null,null,null,null,null,null,null,null,null,null,null,null,null,null,null,null,null,null,"~"]
["SA36",2025,"LIM351",784,null,null,null,null,null,null,null,null,null,null,null,null,null,null,null,null,null,null,"~"]
["SA36",2025,"LIM351",785,null,null,null,null,null,null,null,null,null,null,null,null,null,null,null,null,null,null,"~"]
["SA36",2025,"LIM351",786,null,null,null,null,null,null,null,null,null,null,null,null,null,null,null,null,null,null,"~"]
["SA36",2025,"LIM351",787,null,null,null,null,null,null,null,null,null,null,null,null,null,null,null,null,null,null,"~"]
["SA36",2025,"LIM351",788,null,null,null,null,null,null,null,null,null,null,null,null,null,null,null,null,null,null,"~"]
["SA36",2025,"LIM351",789,null,null,null,null,null,null,null,null,null,null,null,null,null,null,null,null,null,null,"~"]
["SA36",2025,"LIM351",790,null,null,null,null,null,null,null,null,null,null,null,null,null,null,null,null,null,null,"~"]
["SA36",2025,"LIM351",791,null,null,null,null,null,null,null,null,null,null,null,null,null,null,null,null,null,null,"~"]
["SA36",{"$f":"+MTREF","v":2025},{"$f":"LEFT(muni,(FIND(\" \",muni,1)-1))","v":"LIM351"},792,null,null,null,null,null,null,null,null,null,null,null,null,null,null,null,null,null,null,"~"]
["SA36",2025,"LIM351",793,null,null,null,null,null,null,null,null,null,null,null,null,null,null,null,null,null,null,"~"]
["SA36",2025,"LIM351",794,null,null,null,null,null,null,null,null,null,null,null,null,null,null,null,null,null,null,"~"]
["SA36",2025,"LIM351",795,null,null,null,null,null,null,null,null,null,null,null,null,null,null,null,null,null,null,"~"]
["SA36",2025,"LIM351",796,null,null,null,null,null,null,null,null,null,null,null,null,null,null,null,null,null,null,"~"]
["SA36",2025,"LIM351",797,null,null,null,null,null,null,null,null,null,null,null,null,null,null,null,null,null,null,"~"]
["SA36",2025,"LIM351",798,null,null,null,null,null,null,null,null,null,null,null,null,null,null,null,null,null,null,"~"]
["SA36",2025,"LIM351",799,null,null,null,null,null,null,null,null,null,null,null,null,null,null,null,null,null,null,"~"]
["SA36",2025,"LIM351",800,null,null,null,null,null,null,null,null,null,null,null,null,null,null,null,null,null,null,"~"]
["SA36",2025,"LIM351",801,null,null,null,null,null,null,null,null,null,null,null,null,null,null,null,null,null,null,"~"]
["SA36",2025,"LIM351",802,null,null,null,null,null,null,null,null,null,null,null,null,null,null,null,null,null,null,"~"]
["SA36",2025,"LIM351",803,null,null,null,null,null,null,null,null,null,null,null,null,null,null,null,null,null,null,"~"]
["SA36",2025,"LIM351",804,null,null,null,null,null,null,null,null,null,null,null,null,null,null,null,null,null,null,"~"]
["SA36",2025,"LIM351",805,null,null,null,null,null,null,null,null,null,null,null,null,null,null,null,null,null,null,"~"]
["SA36",2025,"LIM351",806,null,null,null,null,null,null,null,null,null,null,null,null,null,null,null,null,null,null,"~"]
["SA36",2025,"LIM351",807,null,null,null,null,null,null,null,null,null,null,null,null,null,null,null,null,null,null,"~"]
["SA36",2025,"LIM351",808,null,null,null,null,null,null,null,null,null,null,null,null,null,null,null,null,null,null,"~"]
["SA36",2025,"LIM351",809,null,null,null,null,null,null,null,null,null,null,null,null,null,null,null,null,null,null,"~"]
["SA36",2025,"LIM351",810,null,null,null,null,null,null,null,null,null,null,null,null,null,null,null,null,null,null,"~"]
["SA36",2025,"LIM351",811,null,null,null,null,null,null,null,null,null,null,null,null,null,null,null,null,null,null,"~"]
["SA36",2025,"LIM351",812,null,null,null,null,null,null,null,null,null,null,null,null,null,null,null,null,null,null,"~"]
["SA36",2025,"LIM351",813,null,null,null,null,null,null,null,null,null,null,null,null,null,null,null,null,null,null,"~"]
["SA36",2025,"LIM351",814,null,null,null,null,null,null,null,null,null,null,null,null,null,null,null,null,null,null,"~"]
["SA36",2025,"LIM351",815,null,null,null,null,null,null,null,null,null,null,null,null,null,null,null,null,null,null,"~"]
["SA36",2025,"LIM351",816,null,null,null,null,null,null,null,null,null,null,null,null,null,null,null,null,null,null,"~"]
["SA36",2025,"LIM351",817,null,null,null,null,null,null,null,null,null,null,null,null,null,null,null,null,null,null,"~"]
["SA36",2025,"LIM351",818,null,null,null,null,null,null,null,null,null,null,null,null,null,null,null,null,null,null,"~"]
["SA36",2025,"LIM351",819,null,null,null,null,null,null,null,null,null,null,null,null,null,null,null,null,null,null,"~"]
["SA36",2025,"LIM351",820,null,null,null,null,null,null,null,null,null,null,null,null,null,null,null,null,null,null,"~"]
["SA36",2025,"LIM351",821,null,null,null,null,null,null,null,null,null,null,null,null,null,null,null,null,null,null,"~"]
["SA36",2025,"LIM351",822,null,null,null,null,null,null,null,null,null,null,null,null,null,null,null,null,null,null,"~"]
["SA36",2025,"LIM351",823,null,null,null,null,null,null,null,null,null,null,null,null,null,null,null,null,null,null,"~"]
["SA36",2025,"LIM351",824,null,null,null,null,null,null,null,null,null,null,null,null,null,null,null,null,null,null,"~"]
["SA36",2025,"LIM351",825,null,null,null,null,null,null,null,null,null,null,null,null,null,null,null,null,null,null,"~"]
["SA36",2025,"LIM351",826,null,null,null,null,null,null,null,null,null,null,null,null,null,null,null,null,null,null,"~"]
["SA36",2025,"LIM351",827,null,null,null,null,null,null,null,null,null,null,null,null,null,null,null,null,null,null,"~"]
["SA36",2025,"LIM351",828,null,null,null,null,null,null,null,null,null,null,null,null,null,null,null,null,null,null,"~"]
["SA36",2025,"LIM351",829,null,null,null,null,null,null,null,null,null,null,null,null,null,null,null,null,null,null,"~"]
["SA36",2025,"LIM351",830,null,null,null,null,null,null,null,null,null,null,null,null,null,null,null,null,null,null,"~"]
["SA36",2025,"LIM351",831,null,null,null,null,null,null,null,null,null,null,null,null,null,null,null,null,null,null,"~"]
["SA36",2025,"LIM351",832,null,null,null,null,null,null,null,null,null,null,null,null,null,null,null,null,null,null,"~"]
["SA36",2025,"LIM351",833,null,null,null,null,null,null,null,null,null,null,null,null,null,null,null,null,null,null,"~"]
["SA36",2025,"LIM351",834,null,null,null,null,null,null,null,null,null,null,null,null,null,null,null,null,null,null,"~"]
["SA36",2025,"LIM351",835,null,null,null,null,null,null,null,null,null,null,null,null,null,null,null,null,null,null,"~"]
["SA36",2025,"LIM351",836,null,null,null,null,null,null,null,null,null,null,null,null,null,null,null,null,null,null,"~"]
["SA36",2025,"LIM351",837,null,null,null,null,null,null,null,null,null,null,null,null,null,null,null,null,null,null,"~"]
["SA36",2025,"LIM351",838,null,null,null,null,null,null,null,null,null,null,null,null,null,null,null,null,null,null,"~"]
["SA36",2025,"LIM351",839,null,null,null,null,null,null,null,null,null,null,null,null,null,null,null,null,null,null,"~"]
["SA36",2025,"LIM351",840,null,null,null,null,null,null,null,null,null,null,null,null,null,null,null,null,null,null,"~"]
["SA36",2025,"LIM351",841,null,null,null,null,null,null,null,null,null,null,null,null,null,null,null,null,null,null,"~"]
["SA36",2025,"LIM351",842,null,null,null,null,null,null,null,null,null,null,null,null,null,null,null,null,null,null,"~"]
["SA36",2025,"LIM351",843,null,null,null,null,null,null,null,null,null,null,null,null,null,null,null,null,null,null,"~"]
["SA36",2025,"LIM351",844,null,null,null,null,null,null,null,null,null,null,null,null,null,null,null,null,null,null,"~"]
["SA36",2025,"LIM351",845,null,null,null,null,null,null,null,null,null,null,null,null,null,null,null,null,null,null,"~"]
["SA36",2025,"LIM351",846,null,null,null,null,null,null,null,null,null,null,null,null,null,null,null,null,null,null,"~"]
["SA36",2025,"LIM351",847,null,null,null,null,null,null,null,null,null,null,null,null,null,null,null,null,null,null,"~"]
["SA36",2025,"LIM351",848,null,null,null,null,null,null,null,null,null,null,null,null,null,null,null,null,null,null,"~"]
["SA36",2025,"LIM351",849,null,null,null,null,null,null,null,null,null,null,null,null,null,null,null,null,null,null,"~"]
["SA36",2025,"LIM351",850,null,null,null,null,null,null,null,null,null,null,null,null,null,null,null,null,null,null,"~"]
["SA36",2025,"LIM351",851,null,null,null,null,null,null,null,null,null,null,null,null,null,null,null,null,null,null,"~"]
["SA36",2025,"LIM351",852,null,null,null,null,null,null,null,null,null,null,null,null,null,null,null,null,null,null,"~"]
["SA36",2025,"LIM351",853,null,null,null,null,null,null,null,null,null,null,null,null,null,null,null,null,null,null,"~"]
["SA36",2025,"LIM351",854,null,null,null,null,null,null,null,null,null,null,null,null,null,null,null,null,null,null,"~"]
["SA36",2025,"LIM351",855,null,null,null,null,null,null,null,null,null,null,null,null,null,null,null,null,null,null,"~"]
["SA36",{"$f":"+MTREF","v":2025},{"$f":"LEFT(muni,(FIND(\" \",muni,1)-1))","v":"LIM351"},856,null,null,null,null,null,null,null,null,null,null,null,null,null,null,null,null,null,null,"~"]
["SA36",2025,"LIM351",857,null,null,null,null,null,null,null,null,null,null,null,null,null,null,null,null,null,null,"~"]
["SA36",2025,"LIM351",858,null,null,null,null,null,null,null,null,null,null,null,null,null,null,null,null,null,null,"~"]
["SA36",2025,"LIM351",859,null,null,null,null,null,null,null,null,null,null,null,null,null,null,null,null,null,null,"~"]
["SA36",2025,"LIM351",860,null,null,null,null,null,null,null,null,null,null,null,null,null,null,null,null,null,null,"~"]
["SA36",2025,"LIM351",861,null,null,null,null,null,null,null,null,null,null,null,null,null,null,null,null,null,null,"~"]
["SA36",2025,"LIM351",862,null,null,null,null,null,null,null,null,null,null,null,null,null,null,null,null,null,null,"~"]
["SA36",2025,"LIM351",863,null,null,null,null,null,null,null,null,null,null,null,null,null,null,null,null,null,null,"~"]
["SA36",2025,"LIM351",864,null,null,null,null,null,null,null,null,null,null,null,null,null,null,null,null,null,null,"~"]
["SA36",2025,"LIM351",865,null,null,null,null,null,null,null,null,null,null,null,null,null,null,null,null,null,null,"~"]
["SA36",2025,"LIM351",866,null,null,null,null,null,null,null,null,null,null,null,null,null,null,null,null,null,null,"~"]
["SA36",2025,"LIM351",867,null,null,null,null,null,null,null,null,null,null,null,null,null,null,null,null,null,null,"~"]
["SA36",2025,"LIM351",868,null,null,null,null,null,null,null,null,null,null,null,null,null,null,null,null,null,null,"~"]
["SA36",2025,"LIM351",869,null,null,null,null,null,null,null,null,null,null,null,null,null,null,null,null,null,null,"~"]
["SA36",2025,"LIM351",870,null,null,null,null,null,null,null,null,null,null,null,null,null,null,null,null,null,null,"~"]
["SA36",2025,"LIM351",871,null,null,null,null,null,null,null,null,null,null,null,null,null,null,null,null,null,null,"~"]
["SA36",2025,"LIM351",872,null,null,null,null,null,null,null,null,null,null,null,null,null,null,null,null,null,null,"~"]
["SA36",2025,"LIM351",873,null,null,null,null,null,null,null,null,null,null,null,null,null,null,null,null,null,null,"~"]
["SA36",2025,"LIM351",874,null,null,null,null,null,null,null,null,null,null,null,null,null,null,null,null,null,null,"~"]
["SA36",2025,"LIM351",875,null,null,null,null,null,null,null,null,null,null,null,null,null,null,null,null,null,null,"~"]
["SA36",2025,"LIM351",876,null,null,null,null,null,null,null,null,null,null,null,null,null,null,null,null,null,null,"~"]
["SA36",2025,"LIM351",877,null,null,null,null,null,null,null,null,null,null,null,null,null,null,null,null,null,null,"~"]
["SA36",2025,"LIM351",878,null,null,null,null,null,null,null,null,null,null,null,null,null,null,null,null,null,null,"~"]
["SA36",2025,"LIM351",879,null,null,null,null,null,null,null,null,null,null,null,null,null,null,null,null,null,null,"~"]
["SA36",2025,"LIM351",880,null,null,null,null,null,null,null,null,null,null,null,null,null,null,null,null,null,null,"~"]
["SA36",2025,"LIM351",881,null,null,null,null,null,null,null,null,null,null,null,null,null,null,null,null,null,null,"~"]
["SA36",2025,"LIM351",882,null,null,null,null,null,null,null,null,null,null,null,null,null,null,null,null,null,null,"~"]
["SA36",2025,"LIM351",883,null,null,null,null,null,null,null,null,null,null,null,null,null,null,null,null,null,null,"~"]
["SA36",2025,"LIM351",884,null,null,null,null,null,null,null,null,null,null,null,null,null,null,null,null,null,null,"~"]
["SA36",2025,"LIM351",885,null,null,null,null,null,null,null,null,null,null,null,null,null,null,null,null,null,null,"~"]
["SA36",2025,"LIM351",886,null,null,null,null,null,null,null,null,null,null,null,null,null,null,null,null,null,null,"~"]
["SA36",2025,"LIM351",887,null,null,null,null,null,null,null,null,null,null,null,null,null,null,null,null,null,null,"~"]
["SA36",2025,"LIM351",888,null,null,null,null,null,null,null,null,null,null,null,null,null,null,null,null,null,null,"~"]
["SA36",2025,"LIM351",889,null,null,null,null,null,null,null,null,null,null,null,null,null,null,null,null,null,null,"~"]
["SA36",2025,"LIM351",890,null,null,null,null,null,null,null,null,null,null,null,null,null,null,null,null,null,null,"~"]
["SA36",2025,"LIM351",891,null,null,null,null,null,null,null,null,null,null,null,null,null,null,null,null,null,null,"~"]
["SA36",2025,"LIM351",892,null,null,null,null,null,null,null,null,null,null,null,null,null,null,null,null,null,null,"~"]
["SA36",2025,"LIM351",893,null,null,null,null,null,null,null,null,null,null,null,null,null,null,null,null,null,null,"~"]
["SA36",2025,"LIM351",894,null,null,null,null,null,null,null,null,null,null,null,null,null,null,null,null,null,null,"~"]
["SA36",2025,"LIM351",895,null,null,null,null,null,null,null,null,null,null,null,null,null,null,null,null,null,null,"~"]
["SA36",2025,"LIM351",896,null,null,null,null,null,null,null,null,null,null,null,null,null,null,null,null,null,null,"~"]
["SA36",2025,"LIM351",897,null,null,null,null,null,null,null,null,null,null,null,null,null,null,null,null,null,null,"~"]
["SA36",2025,"LIM351",898,null,null,null,null,null,null,null,null,null,null,null,null,null,null,null,null,null,null,"~"]
["SA36",2025,"LIM351",899,null,null,null,null,null,null,null,null,null,null,null,null,null,null,null,null,null,null,"~"]
["SA36",2025,"LIM351",900,null,null,null,null,null,null,null,null,null,null,null,null,null,null,null,null,null,null,"~"]
["SA36",2025,"LIM351",901,null,null,null,null,null,null,null,null,null,null,null,null,null,null,null,null,null,null,"~"]
["SA36",2025,"LIM351",902,null,null,null,null,null,null,null,null,null,null,null,null,null,null,null,null,null,null,"~"]
["SA36",2025,"LIM351",903,null,null,null,null,null,null,null,null,null,null,null,null,null,null,null,null,null,null,"~"]
["SA36",2025,"LIM351",904,null,null,null,null,null,null,null,null,null,null,null,null,null,null,null,null,null,null,"~"]
["SA36",2025,"LIM351",905,null,null,null,null,null,null,null,null,null,null,null,null,null,null,null,null,null,null,"~"]
["SA36",2025,"LIM351",906,null,null,null,null,null,null,null,null,null,null,null,null,null,null,null,null,null,null,"~"]
["SA36",2025,"LIM351",907,null,null,null,null,null,null,null,null,null,null,null,null,null,null,null,null,null,null,"~"]
["SA36",2025,"LIM351",908,null,null,null,null,null,null,null,null,null,null,null,null,null,null,null,null,null,null,"~"]
["SA36",2025,"LIM351",909,null,null,null,null,null,null,null,null,null,null,null,null,null,null,null,null,null,null,"~"]
["SA36",2025,"LIM351",910,null,null,null,null,null,null,null,null,null,null,null,null,null,null,null,null,null,null,"~"]
["SA36",2025,"LIM351",911,null,null,null,null,null,null,null,null,null,null,null,null,null,null,null,null,null,null,"~"]
["SA36",2025,"LIM351",912,null,null,null,null,null,null,null,null,null,null,null,null,null,null,null,null,null,null,"~"]
["SA36",2025,"LIM351",913,null,null,null,null,null,null,null,null,null,null,null,null,null,null,null,null,null,null,"~"]
["SA36",2025,"LIM351",914,null,null,null,null,null,null,null,null,null,null,null,null,null,null,null,null,null,null,"~"]
["SA36",2025,"LIM351",915,null,null,null,null,null,null,null,null,null,null,null,null,null,null,null,null,null,null,"~"]
["SA36",2025,"LIM351",916,null,null,null,null,null,null,null,null,null,null,null,null,null,null,null,null,null,null,"~"]
["SA36",2025,"LIM351",917,null,null,null,null,null,null,null,null,null,null,null,null,null,null,null,null,null,null,"~"]
["SA36",2025,"LIM351",918,null,null,null,null,null,null,null,null,null,null,null,null,null,null,null,null,null,null,"~"]
["SA36",2025,"LIM351",919,null,null,null,null,null,null,null,null,null,null,null,null,null,null,null,null,null,null,"~"]
["SA36",{"$f":"+MTREF","v":2025},{"$f":"LEFT(muni,(FIND(\" \",muni,1)-1))","v":"LIM351"},920,null,null,null,null,null,null,null,null,null,null,null,null,null,null,null,null,null,null,"~"]
["SA36",2025,"LIM351",921,null,null,null,null,null,null,null,null,null,null,null,null,null,null,null,null,null,null,"~"]
["SA36",2025,"LIM351",922,null,null,null,null,null,null,null,null,null,null,null,null,null,null,null,null,null,null,"~"]
["SA36",2025,"LIM351",923,null,null,null,null,null,null,null,null,null,null,null,null,null,null,null,null,null,null,"~"]
["SA36",2025,"LIM351",924,null,null,null,null,null,null,null,null,null,null,null,null,null,null,null,null,null,null,"~"]
["SA36",2025,"LIM351",925,null,null,null,null,null,null,null,null,null,null,null,null,null,null,null,null,null,null,"~"]
["SA36",2025,"LIM351",926,null,null,null,null,null,null,null,null,null,null,null,null,null,null,null,null,null,null,"~"]
["SA36",2025,"LIM351",927,null,null,null,null,null,null,null,null,null,null,null,null,null,null,null,null,null,null,"~"]
["SA36",2025,"LIM351",928,null,null,null,null,null,null,null,null,null,null,null,null,null,null,null,null,null,null,"~"]
["SA36",2025,"LIM351",929,null,null,null,null,null,null,null,null,null,null,null,null,null,null,null,null,null,null,"~"]
["SA36",2025,"LIM351",930,null,null,null,null,null,null,null,null,null,null,null,null,null,null,null,null,null,null,"~"]
["SA36",2025,"LIM351",931,null,null,null,null,null,null,null,null,null,null,null,null,null,null,null,null,null,null,"~"]
["SA36",2025,"LIM351",932,null,null,null,null,null,null,null,null,null,null,null,null,null,null,null,null,null,null,"~"]
["SA36",2025,"LIM351",933,null,null,null,null,null,null,null,null,null,null,null,null,null,null,null,null,null,null,"~"]
["SA36",2025,"LIM351",934,null,null,null,null,null,null,null,null,null,null,null,null,null,null,null,null,null,null,"~"]
["SA36",2025,"LIM351",935,null,null,null,null,null,null,null,null,null,null,null,null,null,null,null,null,null,null,"~"]
["SA36",2025,"LIM351",936,null,null,null,null,null,null,null,null,null,null,null,null,null,null,null,null,null,null,"~"]
["SA36",2025,"LIM351",937,null,null,null,null,null,null,null,null,null,null,null,null,null,null,null,null,null,null,"~"]
["SA36",2025,"LIM351",938,null,null,null,null,null,null,null,null,null,null,null,null,null,null,null,null,null,null,"~"]
["SA36",2025,"LIM351",939,null,null,null,null,null,null,null,null,null,null,null,null,null,null,null,null,null,null,"~"]
["SA36",2025,"LIM351",940,null,null,null,null,null,null,null,null,null,null,null,null,null,null,null,null,null,null,"~"]
["SA36",2025,"LIM351",941,null,null,null,null,null,null,null,null,null,null,null,null,null,null,null,null,null,null,"~"]
["SA36",2025,"LIM351",942,null,null,null,null,null,null,null,null,null,null,null,null,null,null,null,null,null,null,"~"]
["SA36",2025,"LIM351",943,null,null,null,null,null,null,null,null,null,null,null,null,null,null,null,null,null,null,"~"]
["SA36",2025,"LIM351",944,null,null,null,null,null,null,null,null,null,null,null,null,null,null,null,null,null,null,"~"]
["SA36",2025,"LIM351",945,null,null,null,null,null,null,null,null,null,null,null,null,null,null,null,null,null,null,"~"]
["SA36",2025,"LIM351",946,null,null,null,null,null,null,null,null,null,null,null,null,null,null,null,null,null,null,"~"]
["SA36",2025,"LIM351",947,null,null,null,null,null,null,null,null,null,null,null,null,null,null,null,null,null,null,"~"]
["SA36",2025,"LIM351",948,null,null,null,null,null,null,null,null,null,null,null,null,null,null,null,null,null,null,"~"]
["SA36",2025,"LIM351",949,null,null,null,null,null,null,null,null,null,null,null,null,null,null,null,null,null,null,"~"]
["SA36",2025,"LIM351",950,null,null,null,null,null,null,null,null,null,null,null,null,null,null,null,null,null,null,"~"]
["SA36",2025,"LIM351",951,null,null,null,null,null,null,null,null,null,null,null,null,null,null,null,null,null,null,"~"]
["SA36",2025,"LIM351",952,null,null,null,null,null,null,null,null,null,null,null,null,null,null,null,null,null,null,"~"]
["SA36",2025,"LIM351",953,null,null,null,null,null,null,null,null,null,null,null,null,null,null,null,null,null,null,"~"]
["SA36",2025,"LIM351",954,null,null,null,null,null,null,null,null,null,null,null,null,null,null,null,null,null,null,"~"]
["SA36",2025,"LIM351",955,null,null,null,null,null,null,null,null,null,null,null,null,null,null,null,null,null,null,"~"]
["SA36",2025,"LIM351",956,null,null,null,null,null,null,null,null,null,null,null,null,null,null,null,null,null,null,"~"]
["SA36",2025,"LIM351",957,null,null,null,null,null,null,null,null,null,null,null,null,null,null,null,null,null,null,"~"]
["SA36",2025,"LIM351",958,null,null,null,null,null,null,null,null,null,null,null,null,null,null,null,null,null,null,"~"]
["SA36",2025,"LIM351",959,null,null,null,null,null,null,null,null,null,null,null,null,null,null,null,null,null,null,"~"]
["SA36",2025,"LIM351",960,null,null,null,null,null,null,null,null,null,null,null,null,null,null,null,null,null,null,"~"]
["SA36",2025,"LIM351",961,null,null,null,null,null,null,null,null,null,null,null,null,null,null,null,null,null,null,"~"]
["SA36",2025,"LIM351",962,null,null,null,null,null,null,null,null,null,null,null,null,null,null,null,null,null,null,"~"]
["SA36",2025,"LIM351",963,null,null,null,null,null,null,null,null,null,null,null,null,null,null,null,null,null,null,"~"]
["SA36",2025,"LIM351",964,null,null,null,null,null,null,null,null,null,null,null,null,null,null,null,null,null,null,"~"]
["SA36",2025,"LIM351",965,null,null,null,null,null,null,null,null,null,null,null,null,null,null,null,null,null,null,"~"]
["SA36",2025,"LIM351",966,null,null,null,null,null,null,null,null,null,null,null,null,null,null,null,null,null,null,"~"]
["SA36",2025,"LIM351",967,null,null,null,null,null,null,null,null,null,null,null,null,null,null,null,null,null,null,"~"]
["SA36",2025,"LIM351",968,null,null,null,null,null,null,null,null,null,null,null,null,null,null,null,null,null,null,"~"]
["SA36",2025,"LIM351",969,null,null,null,null,null,null,null,null,null,null,null,null,null,null,null,null,null,null,"~"]
["SA36",2025,"LIM351",970,null,null,null,null,null,null,null,null,null,null,null,null,null,null,null,null,null,null,"~"]
["SA36",2025,"LIM351",971,null,null,null,null,null,null,null,null,null,null,null,null,null,null,null,null,null,null,"~"]
["SA36",2025,"LIM351",972,null,null,null,null,null,null,null,null,null,null,null,null,null,null,null,null,null,null,"~"]
["SA36",2025,"LIM351",973,null,null,null,null,null,null,null,null,null,null,null,null,null,null,null,null,null,null,"~"]
["SA36",2025,"LIM351",974,null,null,null,null,null,null,null,null,null,null,null,null,null,null,null,null,null,null,"~"]
["SA36",2025,"LIM351",975,null,null,null,null,null,null,null,null,null,null,null,null,null,null,null,null,null,null,"~"]
["SA36",2025,"LIM351",976,null,null,null,null,null,null,null,null,null,null,null,null,null,null,null,null,null,null,"~"]
["SA36",2025,"LIM351",977,null,null,null,null,null,null,null,null,null,null,null,null,null,null,null,null,null,null,"~"]
["SA36",2025,"LIM351",978,null,null,null,null,null,null,null,null,null,null,null,null,null,null,null,null,null,null,"~"]
["SA36",2025,"LIM351",979,null,null,null,null,null,null,null,null,null,null,null,null,null,null,null,null,null,null,"~"]
["SA36",2025,"LIM351",980,null,null,null,null,null,null,null,null,null,null,null,null,null,null,null,null,null,null,"~"]
["SA36",2025,"LIM351",981,null,null,null,null,null,null,null,null,null,null,null,null,null,null,null,null,null,null,"~"]
["SA36",2025,"LIM351",982,null,null,null,null,null,null,null,null,null,null,null,null,null,null,null,null,null,null,"~"]
["SA36",2025,"LIM351",983,null,null,null,null,null,null,null,null,null,null,null,null,null,null,null,null,null,null,"~"]
["SA36",{"$f":"+MTREF","v":2025},{"$f":"LEFT(muni,(FIND(\" \",muni,1)-1))","v":"LIM351"},984,null,null,null,null,null,null,null,null,null,null,null,null,null,null,null,null,null,null,"~"]
["SA36",2025,"LIM351",985,null,null,null,null,null,null,null,null,null,null,null,null,null,null,null,null,null,null,"~"]
["SA36",2025,"LIM351",986,null,null,null,null,null,null,null,null,null,null,null,null,null,null,null,null,null,null,"~"]
["SA36",2025,"LIM351",987,null,null,null,null,null,null,null,null,null,null,null,null,null,null,null,null,null,null,"~"]
["SA36",2025,"LIM351",988,null,null,null,null,null,null,null,null,null,null,null,null,null,null,null,null,null,null,"~"]
["SA36",2025,"LIM351",989,null,null,null,null,null,null,null,null,null,null,null,null,null,null,null,null,null,null,"~"]
["SA36",2025,"LIM351",990,null,null,null,null,null,null,null,null,null,null,null,null,null,null,null,null,null,null,"~"]
["SA36",2025,"LIM351",991,null,null,null,null,null,null,null,null,null,null,null,null,null,null,null,null,null,null,"~"]
["SA36",2025,"LIM351",992,null,null,null,null,null,null,null,null,null,null,null,null,null,null,null,null,null,null,"~"]
["SA36",2025,"LIM351",993,null,null,null,null,null,null,null,null,null,null,null,null,null,null,null,null,null,null,"~"]
["SA36",2025,"LIM351",994,null,null,null,null,null,null,null,null,null,null,null,null,null,null,null,null,null,null,"~"]
["SA36",2025,"LIM351",995,null,null,null,null,null,null,null,null,null,null,null,null,null,null,null,null,null,null,"~"]
["SA36",2025,"LIM351",996,null,null,null,null,null,null,null,null,null,null,null,null,null,null,null,null,null,null,"~"]
["SA36",2025,"LIM351",997,null,null,null,null,null,null,null,null,null,null,null,null,null,null,null,null,null,null,"~"]
["SA36",2025,"LIM351",998,null,null,null,null,null,null,null,null,null,null,null,null,null,null,null,null,null,null,"~"]
["SA36",2025,"LIM351",999,null,null,null,null,null,null,null,null,null,null,null,null,null,null,null,null,null,null,"~"]
["SA36",2025,"LIM351",1000,null,null,null,null,null,null,null,null,null,null,null,null,null,null,null,null,null,null,"~"]
["SA37",2025,"LIM351",1,null,null,null,null,null,null,null,null,null,null,null,null,null,null,null,null,null,null,"~"]
["SA37",2025,"LIM351",2,null,null,null,null,null,null,null,null,null,null,null,null,null,null,null,null,null,null,"~"]
["SA37",2025,"LIM351",3,null,null,null,null,null,null,null,null,null,null,null,null,null,null,null,null,null,null,"~"]
["SA37",2025,"LIM351",4,null,null,null,null,null,null,null,null,null,null,null,null,null,null,null,null,null,null,"~"]
["SA37",2025,"LIM351",5,null,null,null,null,null,null,null,null,null,null,null,null,null,null,null,null,null,null,"~"]
["SA37",2025,"LIM351",6,null,null,null,null,null,null,null,null,null,null,null,null,null,null,null,null,null,null,"~"]
["SA37",2025,"LIM351",7,null,null,null,null,null,null,null,null,null,null,null,null,null,null,null,null,null,null,"~"]
["SA37",2025,"LIM351",8,null,null,null,null,null,null,null,null,null,null,null,null,null,null,null,null,null,null,"~"]
["SA37",2025,"LIM351",9,null,null,null,null,null,null,null,null,null,null,null,null,null,null,null,null,null,null,"~"]
["SA37",2025,"LIM351",10,null,null,null,null,null,null,null,null,null,null,null,null,null,null,null,null,null,null,"~"]
["SA37",2025,"LIM351",11,null,null,null,null,null,null,null,null,null,null,null,null,null,null,null,null,null,null,"~"]
["SA37",2025,"LIM351",12,null,null,null,null,null,null,null,null,null,null,null,null,null,null,null,null,null,null,"~"]
["SA37",2025,"LIM351",13,null,null,null,null,null,null,null,null,null,null,null,null,null,null,null,null,null,null,"~"]
["SA37",2025,"LIM351",14,null,null,null,null,null,null,null,null,null,null,null,null,null,null,null,null,null,null,"~"]
["SA37",2025,"LIM351",15,null,null,null,null,null,null,null,null,null,null,null,null,null,null,null,null,null,null,"~"]
["SA37",2025,"LIM351",16,null,null,null,null,null,null,null,null,null,null,null,null,null,null,null,null,null,null,"~"]
["SA37",2025,"LIM351",17,null,null,null,null,null,null,null,null,null,null,null,null,null,null,null,null,null,null,"~"]
["SA37",2025,"LIM351",18,null,null,null,null,null,null,null,null,null,null,null,null,null,null,null,null,null,null,"~"]
["SA37",2025,"LIM351",19,null,null,null,null,null,null,null,null,null,null,null,null,null,null,null,null,null,null,"~"]
["SA37",2025,"LIM351",20,null,null,null,null,null,null,null,null,null,null,null,null,null,null,null,null,null,null,"~"]
["SA37",2025,"LIM351",21,null,null,null,null,null,null,null,null,null,null,null,null,null,null,null,null,null,null,"~"]
["SA37",2025,"LIM351",22,null,null,null,null,null,null,null,null,null,null,null,null,null,null,null,null,null,null,"~"]
["SA37",2025,"LIM351",23,null,null,null,null,null,null,null,null,null,null,null,null,null,null,null,null,null,null,"~"]
["SA37",2025,"LIM351",24,null,null,null,null,null,null,null,null,null,null,null,null,null,null,null,null,null,null,"~"]
["SA37",2025,"LIM351",25,null,null,null,null,null,null,null,null,null,null,null,null,null,null,null,null,null,null,"~"]
["SA37",2025,"LIM351",26,null,null,null,null,null,null,null,null,null,null,null,null,null,null,null,null,null,null,"~"]
["SA37",2025,"LIM351",27,null,null,null,null,null,null,null,null,null,null,null,null,null,null,null,null,null,null,"~"]
["SA37",2025,"LIM351",28,null,null,null,null,null,null,null,null,null,null,null,null,null,null,null,null,null,null,"~"]
["SA37",2025,"LIM351",29,null,null,null,null,null,null,null,null,null,null,null,null,null,null,null,null,null,null,"~"]
["SA37",2025,"LIM351",30,null,null,null,null,null,null,null,null,null,null,null,null,null,null,null,null,null,null,"~"]
["SA37",2025,"LIM351",31,null,null,null,null,null,null,null,null,null,null,null,null,null,null,null,null,null,null,"~"]
["SA37",2025,"LIM351",32,null,null,null,null,null,null,null,null,null,null,null,null,null,null,null,null,null,null,"~"]
["SA37",2025,"LIM351",33,null,null,null,null,null,null,null,null,null,null,null,null,null,null,null,null,null,null,"~"]
["SA37",2025,"LIM351",34,null,null,null,null,null,null,null,null,null,null,null,null,null,null,null,null,null,null,"~"]
["SA37",2025,"LIM351",35,null,null,null,null,null,null,null,null,null,null,null,null,null,null,null,null,null,null,"~"]
["SA37",2025,"LIM351",36,null,null,null,null,null,null,null,null,null,null,null,null,null,null,null,null,null,null,"~"]
["SA37",2025,"LIM351",37,null,null,null,null,null,null,null,null,null,null,null,null,null,null,null,null,null,null,"~"]
["SA37",2025,"LIM351",38,null,null,null,null,null,null,null,null,null,null,null,null,null,null,null,null,null,null,"~"]
["SA37",2025,"LIM351",39,null,null,null,null,null,null,null,null,null,null,null,null,null,null,null,null,null,null,"~"]
["SA37",2025,"LIM351",40,null,null,null,null,null,null,null,null,null,null,null,null,null,null,null,null,null,null,"~"]
["SA37",2025,"LIM351",41,null,null,null,null,null,null,null,null,null,null,null,null,null,null,null,null,null,null,"~"]
["SA37",2025,"LIM351",42,null,null,null,null,null,null,null,null,null,null,null,null,null,null,null,null,null,null,"~"]
["SA37",2025,"LIM351",43,null,null,null,null,null,null,null,null,null,null,null,null,null,null,null,null,null,null,"~"]
["SA37",2025,"LIM351",44,null,null,null,null,null,null,null,null,null,null,null,null,null,null,null,null,null,null,"~"]
["SA37",2025,"LIM351",45,null,null,null,null,null,null,null,null,null,null,null,null,null,null,null,null,null,null,"~"]
["SA37",2025,"LIM351",46,null,null,null,null,null,null,null,null,null,null,null,null,null,null,null,null,null,null,"~"]
["SA37",2025,"LIM351",47,null,null,null,null,null,null,null,null,null,null,null,null,null,null,null,null,null,null,"~"]
["SA37",{"$f":"+MTREF","v":2025},{"$f":"LEFT(muni,(FIND(\" \",muni,1)-1))","v":"LIM351"},48,null,null,null,null,null,null,null,null,null,null,null,null,null,null,null,null,null,null,"~"]
["SA37",2025,"LIM351",49,null,null,null,null,null,null,null,null,null,null,null,null,null,null,null,null,null,null,"~"]
["SA37",2025,"LIM351",50,null,null,null,null,null,null,null,null,null,null,null,null,null,null,null,null,null,null,"~"]
["SA37",2025,"LIM351",51,null,null,null,null,null,null,null,null,null,null,null,null,null,null,null,null,null,null,"~"]
["SA37",2025,"LIM351",52,null,null,null,null,null,null,null,null,null,null,null,null,null,null,null,null,null,null,"~"]
["SA37",2025,"LIM351",53,null,null,null,null,null,null,null,null,null,null,null,null,null,null,null,null,null,null,"~"]
["SA37",2025,"LIM351",54,null,null,null,null,null,null,null,null,null,null,null,null,null,null,null,null,null,null,"~"]
["SA37",2025,"LIM351",55,null,null,null,null,null,null,null,null,null,null,null,null,null,null,null,null,null,null,"~"]
["SA37",2025,"LIM351",56,null,null,null,null,null,null,null,null,null,null,null,null,null,null,null,null,null,null,"~"]
["SA37",2025,"LIM351",57,null,null,null,null,null,null,null,null,null,null,null,null,null,null,null,null,null,null,"~"]
["SA37",2025,"LIM351",58,null,null,null,null,null,null,null,null,null,null,null,null,null,null,null,null,null,null,"~"]
["SA37",2025,"LIM351",59,null,null,null,null,null,null,null,null,null,null,null,null,null,null,null,null,null,null,"~"]
["SA37",2025,"LIM351",60,null,null,null,null,null,null,null,null,null,null,null,null,null,null,null,null,null,null,"~"]
["SA37",2025,"LIM351",61,null,null,null,null,null,null,null,null,null,null,null,null,null,null,null,null,null,null,"~"]
["SA37",2025,"LIM351",62,null,null,null,null,null,null,null,null,null,null,null,null,null,null,null,null,null,null,"~"]
["SA37",2025,"LIM351",63,null,null,null,null,null,null,null,null,null,null,null,null,null,null,null,null,null,null,"~"]
["SA37",2025,"LIM351",64,null,null,null,null,null,null,null,null,null,null,null,null,null,null,null,null,null,null,"~"]
["SA37",2025,"LIM351",65,null,null,null,null,null,null,null,null,null,null,null,null,null,null,null,null,null,null,"~"]
["SA37",2025,"LIM351",66,null,null,null,null,null,null,null,null,null,null,null,null,null,null,null,null,null,null,"~"]
["SA37",2025,"LIM351",67,null,null,null,null,null,null,null,null,null,null,null,null,null,null,null,null,null,null,"~"]
["SA37",2025,"LIM351",68,null,null,null,null,null,null,null,null,null,null,null,null,null,null,null,null,null,null,"~"]
["SA37",2025,"LIM351",69,null,null,null,null,null,null,null,null,null,null,null,null,null,null,null,null,null,null,"~"]
["SA37",2025,"LIM351",70,null,null,null,null,null,null,null,null,null,null,null,null,null,null,null,null,null,null,"~"]
["SA37",2025,"LIM351",71,null,null,null,null,null,null,null,null,null,null,null,null,null,null,null,null,null,null,"~"]
["SA37",2025,"LIM351",72,null,null,null,null,null,null,null,null,null,null,null,null,null,null,null,null,null,null,"~"]
["SA37",2025,"LIM351",73,null,null,null,null,null,null,null,null,null,null,null,null,null,null,null,null,null,null,"~"]
["SA37",2025,"LIM351",74,null,null,null,null,null,null,null,null,null,null,null,null,null,null,null,null,null,null,"~"]
["SA37",2025,"LIM351",75,null,null,null,null,null,null,null,null,null,null,null,null,null,null,null,null,null,null,"~"]
["SA37",2025,"LIM351",76,null,null,null,null,null,null,null,null,null,null,null,null,null,null,null,null,null,null,"~"]
["SA37",2025,"LIM351",77,null,null,null,null,null,null,null,null,null,null,null,null,null,null,null,null,null,null,"~"]
["SA37",2025,"LIM351",78,null,null,null,null,null,null,null,null,null,null,null,null,null,null,null,null,null,null,"~"]
["SA37",2025,"LIM351",79,null,null,null,null,null,null,null,null,null,null,null,null,null,null,null,null,null,null,"~"]
["SA37",2025,"LIM351",80,null,null,null,null,null,null,null,null,null,null,null,null,null,null,null,null,null,null,"~"]
["SA37",2025,"LIM351",81,null,null,null,null,null,null,null,null,null,null,null,null,null,null,null,null,null,null,"~"]
["SA37",2025,"LIM351",82,null,null,null,null,null,null,null,null,null,null,null,null,null,null,null,null,null,null,"~"]
["SA37",2025,"LIM351",83,null,null,null,null,null,null,null,null,null,null,null,null,null,null,null,null,null,null,"~"]
["SA37",2025,"LIM351",84,null,null,null,null,null,null,null,null,null,null,null,null,null,null,null,null,null,null,"~"]
["SA37",2025,"LIM351",85,null,null,null,null,null,null,null,null,null,null,null,null,null,null,null,null,null,null,"~"]
["SA37",2025,"LIM351",86,null,null,null,null,null,null,null,null,null,null,null,null,null,null,null,null,null,null,"~"]
["SA37",2025,"LIM351",87,null,null,null,null,null,null,null,null,null,null,null,null,null,null,null,null,null,null,"~"]
["SA37",2025,"LIM351",88,null,null,null,null,null,null,null,null,null,null,null,null,null,null,null,null,null,null,"~"]
["SA37",2025,"LIM351",89,null,null,null,null,null,null,null,null,null,null,null,null,null,null,null,null,null,null,"~"]
["SA37",2025,"LIM351",90,null,null,null,null,null,null,null,null,null,null,null,null,null,null,null,null,null,null,"~"]
["SA37",2025,"LIM351",91,null,null,null,null,null,null,null,null,null,null,null,null,null,null,null,null,null,null,"~"]
["SA37",2025,"LIM351",92,null,null,null,null,null,null,null,null,null,null,null,null,null,null,null,null,null,null,"~"]
["SA37",2025,"LIM351",93,null,null,null,null,null,null,null,null,null,null,null,null,null,null,null,null,null,null,"~"]
["SA37",2025,"LIM351",94,null,null,null,null,null,null,null,null,null,null,null,null,null,null,null,null,null,null,"~"]
["SA37",2025,"LIM351",95,null,null,null,null,null,null,null,null,null,null,null,null,null,null,null,null,null,null,"~"]
["SA37",2025,"LIM351",96,null,null,null,null,null,null,null,null,null,null,null,null,null,null,null,null,null,null,"~"]
["SA37",2025,"LIM351",97,null,null,null,null,null,null,null,null,null,null,null,null,null,null,null,null,null,null,"~"]
["SA37",2025,"LIM351",98,null,null,null,null,null,null,null,null,null,null,null,null,null,null,null,null,null,null,"~"]
["SA37",2025,"LIM351",99,null,null,null,null,null,null,null,null,null,null,null,null,null,null,null,null,null,null,"~"]
["SA37",2025,"LIM351",100,null,null,null,null,null,null,null,null,null,null,null,null,null,null,null,null,null,null,"~"]
["SA37",2025,"LIM351",101,null,null,null,null,null,null,null,null,null,null,null,null,null,null,null,null,null,null,"~"]
["SA37",2025,"LIM351",102,null,null,null,null,null,null,null,null,null,null,null,null,null,null,null,null,null,null,"~"]
["SA37",2025,"LIM351",103,null,null,null,null,null,null,null,null,null,null,null,null,null,null,null,null,null,null,"~"]
["SA37",2025,"LIM351",104,null,null,null,null,null,null,null,null,null,null,null,null,null,null,null,null,null,null,"~"]
["SA37",2025,"LIM351",105,null,null,null,null,null,null,null,null,null,null,null,null,null,null,null,null,null,null,"~"]
["SA37",2025,"LIM351",106,null,null,null,null,null,null,null,null,null,null,null,null,null,null,null,null,null,null,"~"]
["SA37",2025,"LIM351",107,null,null,null,null,null,null,null,null,null,null,null,null,null,null,null,null,null,null,"~"]
["SA37",2025,"LIM351",108,null,null,null,null,null,null,null,null,null,null,null,null,null,null,null,null,null,null,"~"]
["SA37",2025,"LIM351",109,null,null,null,null,null,null,null,null,null,null,null,null,null,null,null,null,null,null,"~"]
["SA37",2025,"LIM351",110,null,null,null,null,null,null,null,null,null,null,null,null,null,null,null,null,null,null,"~"]
["SA37",2025,"LIM351",111,null,null,null,null,null,null,null,null,null,null,null,null,null,null,null,null,null,null,"~"]
["SA37",{"$f":"+MTREF","v":2025},{"$f":"LEFT(muni,(FIND(\" \",muni,1)-1))","v":"LIM351"},112,null,null,null,null,null,null,null,null,null,null,null,null,null,null,null,null,null,null,"~"]
["SA37",2025,"LIM351",113,null,null,null,null,null,null,null,null,null,null,null,null,null,null,null,null,null,null,"~"]
["SA37",2025,"LIM351",114,null,null,null,null,null,null,null,null,null,null,null,null,null,null,null,null,null,null,"~"]
["SA37",2025,"LIM351",115,null,null,null,null,null,null,null,null,null,null,null,null,null,null,null,null,null,null,"~"]
["SA37",2025,"LIM351",116,null,null,null,null,null,null,null,null,null,null,null,null,null,null,null,null,null,null,"~"]
["SA37",2025,"LIM351",117,null,null,null,null,null,null,null,null,null,null,null,null,null,null,null,null,null,null,"~"]
["SA37",2025,"LIM351",118,null,null,null,null,null,null,null,null,null,null,null,null,null,null,null,null,null,null,"~"]
["SA37",2025,"LIM351",119,null,null,null,null,null,null,null,null,null,null,null,null,null,null,null,null,null,null,"~"]
["SA37",2025,"LIM351",120,null,null,null,null,null,null,null,null,null,null,null,null,null,null,null,null,null,null,"~"]
["SA37",2025,"LIM351",121,null,null,null,null,null,null,null,null,null,null,null,null,null,null,null,null,null,null,"~"]
["SA37",2025,"LIM351",122,null,null,null,null,null,null,null,null,null,null,null,null,null,null,null,null,null,null,"~"]
["SA37",2025,"LIM351",123,null,null,null,null,null,null,null,null,null,null,null,null,null,null,null,null,null,null,"~"]
["SA37",2025,"LIM351",124,null,null,null,null,null,null,null,null,null,null,null,null,null,null,null,null,null,null,"~"]
["SA37",2025,"LIM351",125,null,null,null,null,null,null,null,null,null,null,null,null,null,null,null,null,null,null,"~"]
["SA37",2025,"LIM351",126,null,null,null,null,null,null,null,null,null,null,null,null,null,null,null,null,null,null,"~"]
["SA37",2025,"LIM351",127,null,null,null,null,null,null,null,null,null,null,null,null,null,null,null,null,null,null,"~"]
["SA37",2025,"LIM351",128,null,null,null,null,null,null,null,null,null,null,null,null,null,null,null,null,null,null,"~"]
["SA37",2025,"LIM351",129,null,null,null,null,null,null,null,null,null,null,null,null,null,null,null,null,null,null,"~"]
["SA37",2025,"LIM351",130,null,null,null,null,null,null,null,null,null,null,null,null,null,null,null,null,null,null,"~"]
["SA37",2025,"LIM351",131,null,null,null,null,null,null,null,null,null,null,null,null,null,null,null,null,null,null,"~"]
["SA37",2025,"LIM351",132,null,null,null,null,null,null,null,null,null,null,null,null,null,null,null,null,null,null,"~"]
["SA37",2025,"LIM351",133,null,null,null,null,null,null,null,null,null,null,null,null,null,null,null,null,null,null,"~"]
["SA37",2025,"LIM351",134,null,null,null,null,null,null,null,null,null,null,null,null,null,null,null,null,null,null,"~"]
["SA37",2025,"LIM351",135,null,null,null,null,null,null,null,null,null,null,null,null,null,null,null,null,null,null,"~"]
["SA37",2025,"LIM351",136,null,null,null,null,null,null,null,null,null,null,null,null,null,null,null,null,null,null,"~"]
["SA37",2025,"LIM351",137,null,null,null,null,null,null,null,null,null,null,null,null,null,null,null,null,null,null,"~"]
["SA37",2025,"LIM351",138,null,null,null,null,null,null,null,null,null,null,null,null,null,null,null,null,null,null,"~"]
["SA37",2025,"LIM351",139,null,null,null,null,null,null,null,null,null,null,null,null,null,null,null,null,null,null,"~"]
["SA37",2025,"LIM351",140,null,null,null,null,null,null,null,null,null,null,null,null,null,null,null,null,null,null,"~"]
["SA37",2025,"LIM351",141,null,null,null,null,null,null,null,null,null,null,null,null,null,null,null,null,null,null,"~"]
["SA37",2025,"LIM351",142,null,null,null,null,null,null,null,null,null,null,null,null,null,null,null,null,null,null,"~"]
["SA37",2025,"LIM351",143,null,null,null,null,null,null,null,null,null,null,null,null,null,null,null,null,null,null,"~"]
["SA37",2025,"LIM351",144,null,null,null,null,null,null,null,null,null,null,null,null,null,null,null,null,null,null,"~"]
["SA37",2025,"LIM351",145,null,null,null,null,null,null,null,null,null,null,null,null,null,null,null,null,null,null,"~"]
["SA37",2025,"LIM351",146,null,null,null,null,null,null,null,null,null,null,null,null,null,null,null,null,null,null,"~"]
["SA37",2025,"LIM351",147,null,null,null,null,null,null,null,null,null,null,null,null,null,null,null,null,null,null,"~"]
["SA37",2025,"LIM351",148,null,null,null,null,null,null,null,null,null,null,null,null,null,null,null,null,null,null,"~"]
["SA37",2025,"LIM351",149,null,null,null,null,null,null,null,null,null,null,null,null,null,null,null,null,null,null,"~"]
["SA37",2025,"LIM351",150,null,null,null,null,null,null,null,null,null,null,null,null,null,null,null,null,null,null,"~"]
["SA37",2025,"LIM351",151,null,null,null,null,null,null,null,null,null,null,null,null,null,null,null,null,null,null,"~"]
["SA37",2025,"LIM351",152,null,null,null,null,null,null,null,null,null,null,null,null,null,null,null,null,null,null,"~"]
["SA37",2025,"LIM351",153,null,null,null,null,null,null,null,null,null,null,null,null,null,null,null,null,null,null,"~"]
["SA37",2025,"LIM351",154,null,null,null,null,null,null,null,null,null,null,null,null,null,null,null,null,null,null,"~"]
["SA37",2025,"LIM351",155,null,null,null,null,null,null,null,null,null,null,null,null,null,null,null,null,null,null,"~"]
["SA37",2025,"LIM351",156,null,null,null,null,null,null,null,null,null,null,null,null,null,null,null,null,null,null,"~"]
["SA37",2025,"LIM351",157,null,null,null,null,null,null,null,null,null,null,null,null,null,null,null,null,null,null,"~"]
["SA37",2025,"LIM351",158,null,null,null,null,null,null,null,null,null,null,null,null,null,null,null,null,null,null,"~"]
["SA37",2025,"LIM351",159,null,null,null,null,null,null,null,null,null,null,null,null,null,null,null,null,null,null,"~"]
["SA37",2025,"LIM351",160,null,null,null,null,null,null,null,null,null,null,null,null,null,null,null,null,null,null,"~"]
["SA37",2025,"LIM351",161,null,null,null,null,null,null,null,null,null,null,null,null,null,null,null,null,null,null,"~"]
["SA37",2025,"LIM351",162,null,null,null,null,null,null,null,null,null,null,null,null,null,null,null,null,null,null,"~"]
["SA37",2025,"LIM351",163,null,null,null,null,null,null,null,null,null,null,null,null,null,null,null,null,null,null,"~"]
["SA37",2025,"LIM351",164,null,null,null,null,null,null,null,null,null,null,null,null,null,null,null,null,null,null,"~"]
["SA37",2025,"LIM351",165,null,null,null,null,null,null,null,null,null,null,null,null,null,null,null,null,null,null,"~"]
["SA37",2025,"LIM351",166,null,null,null,null,null,null,null,null,null,null,null,null,null,null,null,null,null,null,"~"]
["SA37",2025,"LIM351",167,null,null,null,null,null,null,null,null,null,null,null,null,null,null,null,null,null,null,"~"]
["SA37",2025,"LIM351",168,null,null,null,null,null,null,null,null,null,null,null,null,null,null,null,null,null,null,"~"]
["SA37",2025,"LIM351",169,null,null,null,null,null,null,null,null,null,null,null,null,null,null,null,null,null,null,"~"]
["SA37",2025,"LIM351",170,null,null,null,null,null,null,null,null,null,null,null,null,null,null,null,null,null,null,"~"]
["SA37",2025,"LIM351",171,null,null,null,null,null,null,null,null,null,null,null,null,null,null,null,null,null,null,"~"]
["SA37",2025,"LIM351",172,null,null,null,null,null,null,null,null,null,null,null,null,null,null,null,null,null,null,"~"]
["SA37",2025,"LIM351",173,null,null,null,null,null,null,null,null,null,null,null,null,null,null,null,null,null,null,"~"]
["SA37",2025,"LIM351",174,null,null,null,null,null,null,null,null,null,null,null,null,null,null,null,null,null,null,"~"]
["SA37",2025,"LIM351",175,null,null,null,null,null,null,null,null,null,null,null,null,null,null,null,null,null,null,"~"]
["SA37",{"$f":"+MTREF","v":2025},{"$f":"LEFT(muni,(FIND(\" \",muni,1)-1))","v":"LIM351"},176,null,null,null,null,null,null,null,null,null,null,null,null,null,null,null,null,null,null,"~"]
["SA37",2025,"LIM351",177,null,null,null,null,null,null,null,null,null,null,null,null,null,null,null,null,null,null,"~"]
["SA37",2025,"LIM351",178,null,null,null,null,null,null,null,null,null,null,null,null,null,null,null,null,null,null,"~"]
["SA37",2025,"LIM351",179,null,null,null,null,null,null,null,null,null,null,null,null,null,null,null,null,null,null,"~"]
["SA37",2025,"LIM351",180,null,null,null,null,null,null,null,null,null,null,null,null,null,null,null,null,null,null,"~"]
["SA37",2025,"LIM351",181,null,null,null,null,null,null,null,null,null,null,null,null,null,null,null,null,null,null,"~"]
["SA37",2025,"LIM351",182,null,null,null,null,null,null,null,null,null,null,null,null,null,null,null,null,null,null,"~"]
["SA37",2025,"LIM351",183,null,null,null,null,null,null,null,null,null,null,null,null,null,null,null,null,null,null,"~"]
["SA37",2025,"LIM351",184,null,null,null,null,null,null,null,null,null,null,null,null,null,null,null,null,null,null,"~"]
["SA37",2025,"LIM351",185,null,null,null,null,null,null,null,null,null,null,null,null,null,null,null,null,null,null,"~"]
["SA37",2025,"LIM351",186,null,null,null,null,null,null,null,null,null,null,null,null,null,null,null,null,null,null,"~"]
["SA37",2025,"LIM351",187,null,null,null,null,null,null,null,null,null,null,null,null,null,null,null,null,null,null,"~"]
["SA37",2025,"LIM351",188,null,null,null,null,null,null,null,null,null,null,null,null,null,null,null,null,null,null,"~"]
["SA37",2025,"LIM351",189,null,null,null,null,null,null,null,null,null,null,null,null,null,null,null,null,null,null,"~"]
["SA37",2025,"LIM351",190,null,null,null,null,null,null,null,null,null,null,null,null,null,null,null,null,null,null,"~"]
["SA37",2025,"LIM351",191,null,null,null,null,null,null,null,null,null,null,null,null,null,null,null,null,null,null,"~"]
["SA37",2025,"LIM351",192,null,null,null,null,null,null,null,null,null,null,null,null,null,null,null,null,null,null,"~"]
["SA37",2025,"LIM351",193,null,null,null,null,null,null,null,null,null,null,null,null,null,null,null,null,null,null,"~"]
["SA37",2025,"LIM351",194,null,null,null,null,null,null,null,null,null,null,null,null,null,null,null,null,null,null,"~"]
["SA37",2025,"LIM351",195,null,null,null,null,null,null,null,null,null,null,null,null,null,null,null,null,null,null,"~"]
["SA37",2025,"LIM351",196,null,null,null,null,null,null,null,null,null,null,null,null,null,null,null,null,null,null,"~"]
["SA37",2025,"LIM351",197,null,null,null,null,null,null,null,null,null,null,null,null,null,null,null,null,null,null,"~"]
["SA37",2025,"LIM351",198,null,null,null,null,null,null,null,null,null,null,null,null,null,null,null,null,null,null,"~"]
["SA37",2025,"LIM351",199,null,null,null,null,null,null,null,null,null,null,null,null,null,null,null,null,null,null,"~"]
["SA37",2025,"LIM351",200,null,null,null,null,null,null,null,null,null,null,null,null,null,null,null,null,null,null,"~"]
["SA37",2025,"LIM351",201,null,null,null,null,null,null,null,null,null,null,null,null,null,null,null,null,null,null,"~"]
["SA37",2025,"LIM351",202,null,null,null,null,null,null,null,null,null,null,null,null,null,null,null,null,null,null,"~"]
["SA37",2025,"LIM351",203,null,null,null,null,null,null,null,null,null,null,null,null,null,null,null,null,null,null,"~"]
["SA37",2025,"LIM351",204,null,null,null,null,null,null,null,null,null,null,null,null,null,null,null,null,null,null,"~"]
["SA37",2025,"LIM351",205,null,null,null,null,null,null,null,null,null,null,null,null,null,null,null,null,null,null,"~"]
["SA37",2025,"LIM351",206,null,null,null,null,null,null,null,null,null,null,null,null,null,null,null,null,null,null,"~"]
["SA37",2025,"LIM351",207,null,null,null,null,null,null,null,null,null,null,null,null,null,null,null,null,null,null,"~"]
["SA37",2025,"LIM351",208,null,null,null,null,null,null,null,null,null,null,null,null,null,null,null,null,null,null,"~"]
["SA37",2025,"LIM351",209,null,null,null,null,null,null,null,null,null,null,null,null,null,null,null,null,null,null,"~"]
["SA37",2025,"LIM351",210,null,null,null,null,null,null,null,null,null,null,null,null,null,null,null,null,null,null,"~"]
["SA37",2025,"LIM351",211,null,null,null,null,null,null,null,null,null,null,null,null,null,null,null,null,null,null,"~"]
["SA37",2025,"LIM351",212,null,null,null,null,null,null,null,null,null,null,null,null,null,null,null,null,null,null,"~"]
["SA37",2025,"LIM351",213,null,null,null,null,null,null,null,null,null,null,null,null,null,null,null,null,null,null,"~"]
["SA37",2025,"LIM351",214,null,null,null,null,null,null,null,null,null,null,null,null,null,null,null,null,null,null,"~"]
["SA37",2025,"LIM351",215,null,null,null,null,null,null,null,null,null,null,null,null,null,null,null,null,null,null,"~"]
["SA37",2025,"LIM351",216,null,null,null,null,null,null,null,null,null,null,null,null,null,null,null,null,null,null,"~"]
["SA37",2025,"LIM351",217,null,null,null,null,null,null,null,null,null,null,null,null,null,null,null,null,null,null,"~"]
["SA37",2025,"LIM351",218,null,null,null,null,null,null,null,null,null,null,null,null,null,null,null,null,null,null,"~"]
["SA37",2025,"LIM351",219,null,null,null,null,null,null,null,null,null,null,null,null,null,null,null,null,null,null,"~"]
["SA37",2025,"LIM351",220,null,null,null,null,null,null,null,null,null,null,null,null,null,null,null,null,null,null,"~"]
["SA37",2025,"LIM351",221,null,null,null,null,null,null,null,null,null,null,null,null,null,null,null,null,null,null,"~"]
["SA37",2025,"LIM351",222,null,null,null,null,null,null,null,null,null,null,null,null,null,null,null,null,null,null,"~"]
["SA37",2025,"LIM351",223,null,null,null,null,null,null,null,null,null,null,null,null,null,null,null,null,null,null,"~"]
["SA37",2025,"LIM351",224,null,null,null,null,null,null,null,null,null,null,null,null,null,null,null,null,null,null,"~"]
["SA37",2025,"LIM351",225,null,null,null,null,null,null,null,null,null,null,null,null,null,null,null,null,null,null,"~"]
["SA37",2025,"LIM351",226,null,null,null,null,null,null,null,null,null,null,null,null,null,null,null,null,null,null,"~"]
["SA37",2025,"LIM351",227,null,null,null,null,null,null,null,null,null,null,null,null,null,null,null,null,null,null,"~"]
["SA37",2025,"LIM351",228,null,null,null,null,null,null,null,null,null,null,null,null,null,null,null,null,null,null,"~"]
["SA37",2025,"LIM351",229,null,null,null,null,null,null,null,null,null,null,null,null,null,null,null,null,null,null,"~"]
["SA37",2025,"LIM351",230,null,null,null,null,null,null,null,null,null,null,null,null,null,null,null,null,null,null,"~"]
["SA37",2025,"LIM351",231,null,null,null,null,null,null,null,null,null,null,null,null,null,null,null,null,null,null,"~"]
["SA37",2025,"LIM351",232,null,null,null,null,null,null,null,null,null,null,null,null,null,null,null,null,null,null,"~"]
["SA37",2025,"LIM351",233,null,null,null,null,null,null,null,null,null,null,null,null,null,null,null,null,null,null,"~"]
["SA37",2025,"LIM351",234,null,null,null,null,null,null,null,null,null,null,null,null,null,null,null,null,null,null,"~"]
["SA37",2025,"LIM351",235,null,null,null,null,null,null,null,null,null,null,null,null,null,null,null,null,null,null,"~"]
["SA37",2025,"LIM351",236,null,null,null,null,null,null,null,null,null,null,null,null,null,null,null,null,null,null,"~"]
["SA37",2025,"LIM351",237,null,null,null,null,null,null,null,null,null,null,null,null,null,null,null,null,null,null,"~"]
["SA37",2025,"LIM351",238,null,null,null,null,null,null,null,null,null,null,null,null,null,null,null,null,null,null,"~"]
["SA37",2025,"LIM351",239,null,null,null,null,null,null,null,null,null,null,null,null,null,null,null,null,null,null,"~"]
["SA37",{"$f":"+MTREF","v":2025},{"$f":"LEFT(muni,(FIND(\" \",muni,1)-1))","v":"LIM351"},240,null,null,null,null,null,null,null,null,null,null,null,null,null,null,null,null,null,null,"~"]
["SA37",2025,"LIM351",241,null,null,null,null,null,null,null,null,null,null,null,null,null,null,null,null,null,null,"~"]
["SA37",2025,"LIM351",242,null,null,null,null,null,null,null,null,null,null,null,null,null,null,null,null,null,null,"~"]
["SA37",2025,"LIM351",243,null,null,null,null,null,null,null,null,null,null,null,null,null,null,null,null,null,null,"~"]
["SA37",2025,"LIM351",244,null,null,null,null,null,null,null,null,null,null,null,null,null,null,null,null,null,null,"~"]
["SA37",2025,"LIM351",245,null,null,null,null,null,null,null,null,null,null,null,null,null,null,null,null,null,null,"~"]
["SA37",2025,"LIM351",246,null,null,null,null,null,null,null,null,null,null,null,null,null,null,null,null,null,null,"~"]
["SA37",2025,"LIM351",247,null,null,null,null,null,null,null,null,null,null,null,null,null,null,null,null,null,null,"~"]
["SA37",2025,"LIM351",248,null,null,null,null,null,null,null,null,null,null,null,null,null,null,null,null,null,null,"~"]
["SA37",2025,"LIM351",249,null,null,null,null,null,null,null,null,null,null,null,null,null,null,null,null,null,null,"~"]
["SA37",2025,"LIM351",250,null,null,null,null,null,null,null,null,null,null,null,null,null,null,null,null,null,null,"~"]
["SA37",2025,"LIM351",251,null,null,null,null,null,null,null,null,null,null,null,null,null,null,null,null,null,null,"~"]
["SA37",2025,"LIM351",252,null,null,null,null,null,null,null,null,null,null,null,null,null,null,null,null,null,null,"~"]
["SA37",2025,"LIM351",253,null,null,null,null,null,null,null,null,null,null,null,null,null,null,null,null,null,null,"~"]
["SA37",2025,"LIM351",254,null,null,null,null,null,null,null,null,null,null,null,null,null,null,null,null,null,null,"~"]
["SA37",2025,"LIM351",255,null,null,null,null,null,null,null,null,null,null,null,null,null,null,null,null,null,null,"~"]
["SA37",2025,"LIM351",256,null,null,null,null,null,null,null,null,null,null,null,null,null,null,null,null,null,null,"~"]
["SA37",2025,"LIM351",257,null,null,null,null,null,null,null,null,null,null,null,null,null,null,null,null,null,null,"~"]
["SA37",2025,"LIM351",258,null,null,null,null,null,null,null,null,null,null,null,null,null,null,null,null,null,null,"~"]
["SA37",2025,"LIM351",259,null,null,null,null,null,null,null,null,null,null,null,null,null,null,null,null,null,null,"~"]
["SA37",2025,"LIM351",260,null,null,null,null,null,null,null,null,null,null,null,null,null,null,null,null,null,null,"~"]
["SA37",2025,"LIM351",261,null,null,null,null,null,null,null,null,null,null,null,null,null,null,null,null,null,null,"~"]
["SA37",2025,"LIM351",262,null,null,null,null,null,null,null,null,null,null,null,null,null,null,null,null,null,null,"~"]
["SA37",2025,"LIM351",263,null,null,null,null,null,null,null,null,null,null,null,null,null,null,null,null,null,null,"~"]
["SA37",2025,"LIM351",264,null,null,null,null,null,null,null,null,null,null,null,null,null,null,null,null,null,null,"~"]
["SA37",2025,"LIM351",265,null,null,null,null,null,null,null,null,null,null,null,null,null,null,null,null,null,null,"~"]
["SA37",2025,"LIM351",266,null,null,null,null,null,null,null,null,null,null,null,null,null,null,null,null,null,null,"~"]
["SA37",2025,"LIM351",267,null,null,null,null,null,null,null,null,null,null,null,null,null,null,null,null,null,null,"~"]
["SA37",2025,"LIM351",268,null,null,null,null,null,null,null,null,null,null,null,null,null,null,null,null,null,null,"~"]
["SA37",2025,"LIM351",269,null,null,null,null,null,null,null,null,null,null,null,null,null,null,null,null,null,null,"~"]
["SA37",2025,"LIM351",270,null,null,null,null,null,null,null,null,null,null,null,null,null,null,null,null,null,null,"~"]
["SA37",2025,"LIM351",271,null,null,null,null,null,null,null,null,null,null,null,null,null,null,null,null,null,null,"~"]
["SA37",2025,"LIM351",272,null,null,null,null,null,null,null,null,null,null,null,null,null,null,null,null,null,null,"~"]
["SA37",2025,"LIM351",273,null,null,null,null,null,null,null,null,null,null,null,null,null,null,null,null,null,null,"~"]
["SA37",2025,"LIM351",274,null,null,null,null,null,null,null,null,null,null,null,null,null,null,null,null,null,null,"~"]
["SA37",2025,"LIM351",275,null,null,null,null,null,null,null,null,null,null,null,null,null,null,null,null,null,null,"~"]
["SA37",2025,"LIM351",276,null,null,null,null,null,null,null,null,null,null,null,null,null,null,null,null,null,null,"~"]
["SA37",2025,"LIM351",277,null,null,null,null,null,null,null,null,null,null,null,null,null,null,null,null,null,null,"~"]
["SA37",2025,"LIM351",278,null,null,null,null,null,null,null,null,null,null,null,null,null,null,null,null,null,null,"~"]
["SA37",2025,"LIM351",279,null,null,null,null,null,null,null,null,null,null,null,null,null,null,null,null,null,null,"~"]
["SA37",2025,"LIM351",280,null,null,null,null,null,null,null,null,null,null,null,null,null,null,null,null,null,null,"~"]
["SA37",2025,"LIM351",281,null,null,null,null,null,null,null,null,null,null,null,null,null,null,null,null,null,null,"~"]
["SA37",2025,"LIM351",282,null,null,null,null,null,null,null,null,null,null,null,null,null,null,null,null,null,null,"~"]
["SA37",2025,"LIM351",283,null,null,null,null,null,null,null,null,null,null,null,null,null,null,null,null,null,null,"~"]
["SA37",2025,"LIM351",284,null,null,null,null,null,null,null,null,null,null,null,null,null,null,null,null,null,null,"~"]
["SA37",2025,"LIM351",285,null,null,null,null,null,null,null,null,null,null,null,null,null,null,null,null,null,null,"~"]
["SA37",2025,"LIM351",286,null,null,null,null,null,null,null,null,null,null,null,null,null,null,null,null,null,null,"~"]
["SA37",2025,"LIM351",287,null,null,null,null,null,null,null,null,null,null,null,null,null,null,null,null,null,null,"~"]
["SA37",2025,"LIM351",288,null,null,null,null,null,null,null,null,null,null,null,null,null,null,null,null,null,null,"~"]
["SA37",2025,"LIM351",289,null,null,null,null,null,null,null,null,null,null,null,null,null,null,null,null,null,null,"~"]
["SA37",2025,"LIM351",290,null,null,null,null,null,null,null,null,null,null,null,null,null,null,null,null,null,null,"~"]
["SA37",2025,"LIM351",291,null,null,null,null,null,null,null,null,null,null,null,null,null,null,null,null,null,null,"~"]
["SA37",2025,"LIM351",292,null,null,null,null,null,null,null,null,null,null,null,null,null,null,null,null,null,null,"~"]
["SA37",2025,"LIM351",293,null,null,null,null,null,null,null,null,null,null,null,null,null,null,null,null,null,null,"~"]
["SA37",2025,"LIM351",294,null,null,null,null,null,null,null,null,null,null,null,null,null,null,null,null,null,null,"~"]
["SA37",2025,"LIM351",295,null,null,null,null,null,null,null,null,null,null,null,null,null,null,null,null,null,null,"~"]
["SA37",2025,"LIM351",296,null,null,null,null,null,null,null,null,null,null,null,null,null,null,null,null,null,null,"~"]
["SA37",2025,"LIM351",297,null,null,null,null,null,null,null,null,null,null,null,null,null,null,null,null,null,null,"~"]
["SA37",2025,"LIM351",298,null,null,null,null,null,null,null,null,null,null,null,null,null,null,null,null,null,null,"~"]
["SA37",2025,"LIM351",299,null,null,null,null,null,null,null,null,null,null,null,null,null,null,null,null,null,null,"~"]
["SA37",2025,"LIM351",300,null,null,null,null,null,null,null,null,null,null,null,null,null,null,null,null,null,null,"~"]
["SA37",2025,"LIM351",301,null,null,null,null,null,null,null,null,null,null,null,null,null,null,null,null,null,null,"~"]
["SA37",2025,"LIM351",302,null,null,null,null,null,null,null,null,null,null,null,null,null,null,null,null,null,null,"~"]
["SA37",2025,"LIM351",303,null,null,null,null,null,null,null,null,null,null,null,null,null,null,null,null,null,null,"~"]
["SA37",{"$f":"+MTREF","v":2025},{"$f":"LEFT(muni,(FIND(\" \",muni,1)-1))","v":"LIM351"},304,null,null,null,null,null,null,null,null,null,null,null,null,null,null,null,null,null,null,"~"]
["SA37",2025,"LIM351",305,null,null,null,null,null,null,null,null,null,null,null,null,null,null,null,null,null,null,"~"]
["SA37",2025,"LIM351",306,null,null,null,null,null,null,null,null,null,null,null,null,null,null,null,null,null,null,"~"]
["SA37",2025,"LIM351",307,null,null,null,null,null,null,null,null,null,null,null,null,null,null,null,null,null,null,"~"]
["SA37",2025,"LIM351",308,null,null,null,null,null,null,null,null,null,null,null,null,null,null,null,null,null,null,"~"]
["SA37",2025,"LIM351",309,null,null,null,null,null,null,null,null,null,null,null,null,null,null,null,null,null,null,"~"]
["SA37",2025,"LIM351",310,null,null,null,null,null,null,null,null,null,null,null,null,null,null,null,null,null,null,"~"]
["SA37",2025,"LIM351",311,null,null,null,null,null,null,null,null,null,null,null,null,null,null,null,null,null,null,"~"]
["SA37",2025,"LIM351",312,null,null,null,null,null,null,null,null,null,null,null,null,null,null,null,null,null,null,"~"]
["SA37",2025,"LIM351",313,null,null,null,null,null,null,null,null,null,null,null,null,null,null,null,null,null,null,"~"]
["SA37",2025,"LIM351",314,null,null,null,null,null,null,null,null,null,null,null,null,null,null,null,null,null,null,"~"]
["SA37",2025,"LIM351",315,null,null,null,null,null,null,null,null,null,null,null,null,null,null,null,null,null,null,"~"]
["SA37",2025,"LIM351",316,null,null,null,null,null,null,null,null,null,null,null,null,null,null,null,null,null,null,"~"]
["SA37",2025,"LIM351",317,null,null,null,null,null,null,null,null,null,null,null,null,null,null,null,null,null,null,"~"]
["SA37",2025,"LIM351",318,null,null,null,null,null,null,null,null,null,null,null,null,null,null,null,null,null,null,"~"]
["SA37",2025,"LIM351",319,null,null,null,null,null,null,null,null,null,null,null,null,null,null,null,null,null,null,"~"]
["SA37",2025,"LIM351",320,null,null,null,null,null,null,null,null,null,null,null,null,null,null,null,null,null,null,"~"]
["SA37",2025,"LIM351",321,null,null,null,null,null,null,null,null,null,null,null,null,null,null,null,null,null,null,"~"]
["SA37",2025,"LIM351",322,null,null,null,null,null,null,null,null,null,null,null,null,null,null,null,null,null,null,"~"]
["SA37",2025,"LIM351",323,null,null,null,null,null,null,null,null,null,null,null,null,null,null,null,null,null,null,"~"]
["SA37",2025,"LIM351",324,null,null,null,null,null,null,null,null,null,null,null,null,null,null,null,null,null,null,"~"]
["SA37",2025,"LIM351",325,null,null,null,null,null,null,null,null,null,null,null,null,null,null,null,null,null,null,"~"]
["SA37",2025,"LIM351",326,null,null,null,null,null,null,null,null,null,null,null,null,null,null,null,null,null,null,"~"]
["SA37",2025,"LIM351",327,null,null,null,null,null,null,null,null,null,null,null,null,null,null,null,null,null,null,"~"]
["SA37",2025,"LIM351",328,null,null,null,null,null,null,null,null,null,null,null,null,null,null,null,null,null,null,"~"]
["SA37",2025,"LIM351",329,null,null,null,null,null,null,null,null,null,null,null,null,null,null,null,null,null,null,"~"]
["SA37",2025,"LIM351",330,null,null,null,null,null,null,null,null,null,null,null,null,null,null,null,null,null,null,"~"]
["SA37",2025,"LIM351",331,null,null,null,null,null,null,null,null,null,null,null,null,null,null,null,null,null,null,"~"]
["SA37",2025,"LIM351",332,null,null,null,null,null,null,null,null,null,null,null,null,null,null,null,null,null,null,"~"]
["SA37",2025,"LIM351",333,null,null,null,null,null,null,null,null,null,null,null,null,null,null,null,null,null,null,"~"]
["SA37",2025,"LIM351",334,null,null,null,null,null,null,null,null,null,null,null,null,null,null,null,null,null,null,"~"]
["SA37",2025,"LIM351",335,null,null,null,null,null,null,null,null,null,null,null,null,null,null,null,null,null,null,"~"]
["SA37",2025,"LIM351",336,null,null,null,null,null,null,null,null,null,null,null,null,null,null,null,null,null,null,"~"]
["SA37",2025,"LIM351",337,null,null,null,null,null,null,null,null,null,null,null,null,null,null,null,null,null,null,"~"]
["SA37",2025,"LIM351",338,null,null,null,null,null,null,null,null,null,null,null,null,null,null,null,null,null,null,"~"]
["SA37",2025,"LIM351",339,null,null,null,null,null,null,null,null,null,null,null,null,null,null,null,null,null,null,"~"]
["SA37",2025,"LIM351",340,null,null,null,null,null,null,null,null,null,null,null,null,null,null,null,null,null,null,"~"]
["SA37",2025,"LIM351",341,null,null,null,null,null,null,null,null,null,null,null,null,null,null,null,null,null,null,"~"]
["SA37",2025,"LIM351",342,null,null,null,null,null,null,null,null,null,null,null,null,null,null,null,null,null,null,"~"]
["SA37",2025,"LIM351",343,null,null,null,null,null,null,null,null,null,null,null,null,null,null,null,null,null,null,"~"]
["SA37",2025,"LIM351",344,null,null,null,null,null,null,null,null,null,null,null,null,null,null,null,null,null,null,"~"]
["SA37",2025,"LIM351",345,null,null,null,null,null,null,null,null,null,null,null,null,null,null,null,null,null,null,"~"]
["SA37",2025,"LIM351",346,null,null,null,null,null,null,null,null,null,null,null,null,null,null,null,null,null,null,"~"]
["SA37",2025,"LIM351",347,null,null,null,null,null,null,null,null,null,null,null,null,null,null,null,null,null,null,"~"]
["SA37",2025,"LIM351",348,null,null,null,null,null,null,null,null,null,null,null,null,null,null,null,null,null,null,"~"]
["SA37",2025,"LIM351",349,null,null,null,null,null,null,null,null,null,null,null,null,null,null,null,null,null,null,"~"]
["SA37",2025,"LIM351",350,null,null,null,null,null,null,null,null,null,null,null,null,null,null,null,null,null,null,"~"]
["SA37",2025,"LIM351",351,null,null,null,null,null,null,null,null,null,null,null,null,null,null,null,null,null,null,"~"]
["SA37",2025,"LIM351",352,null,null,null,null,null,null,null,null,null,null,null,null,null,null,null,null,null,null,"~"]
["SA37",2025,"LIM351",353,null,null,null,null,null,null,null,null,null,null,null,null,null,null,null,null,null,null,"~"]
["SA37",2025,"LIM351",354,null,null,null,null,null,null,null,null,null,null,null,null,null,null,null,null,null,null,"~"]
["SA37",2025,"LIM351",355,null,null,null,null,null,null,null,null,null,null,null,null,null,null,null,null,null,null,"~"]
["SA37",2025,"LIM351",356,null,null,null,null,null,null,null,null,null,null,null,null,null,null,null,null,null,null,"~"]
["SA37",2025,"LIM351",357,null,null,null,null,null,null,null,null,null,null,null,null,null,null,null,null,null,null,"~"]
["SA37",2025,"LIM351",358,null,null,null,null,null,null,null,null,null,null,null,null,null,null,null,null,null,null,"~"]
["SA37",2025,"LIM351",359,null,null,null,null,null,null,null,null,null,null,null,null,null,null,null,null,null,null,"~"]
["SA37",2025,"LIM351",360,null,null,null,null,null,null,null,null,null,null,null,null,null,null,null,null,null,null,"~"]
["SA37",2025,"LIM351",361,null,null,null,null,null,null,null,null,null,null,null,null,null,null,null,null,null,null,"~"]
["SA37",2025,"LIM351",362,null,null,null,null,null,null,null,null,null,null,null,null,null,null,null,null,null,null,"~"]
["SA37",2025,"LIM351",363,null,null,null,null,null,null,null,null,null,null,null,null,null,null,null,null,null,null,"~"]
["SA37",2025,"LIM351",364,null,null,null,null,null,null,null,null,null,null,null,null,null,null,null,null,null,null,"~"]
["SA37",2025,"LIM351",365,null,null,null,null,null,null,null,null,null,null,null,null,null,null,null,null,null,null,"~"]
["SA37",2025,"LIM351",366,null,null,null,null,null,null,null,null,null,null,null,null,null,null,null,null,null,null,"~"]
["SA37",2025,"LIM351",367,null,null,null,null,null,null,null,null,null,null,null,null,null,null,null,null,null,null,"~"]
["SA37",{"$f":"+MTREF","v":2025},{"$f":"LEFT(muni,(FIND(\" \",muni,1)-1))","v":"LIM351"},368,null,null,null,null,null,null,null,null,null,null,null,null,null,null,null,null,null,null,"~"]
["SA37",2025,"LIM351",369,null,null,null,null,null,null,null,null,null,null,null,null,null,null,null,null,null,null,"~"]
["SA37",2025,"LIM351",370,null,null,null,null,null,null,null,null,null,null,null,null,null,null,null,null,null,null,"~"]
["SA37",2025,"LIM351",371,null,null,null,null,null,null,null,null,null,null,null,null,null,null,null,null,null,null,"~"]
["SA37",2025,"LIM351",372,null,null,null,null,null,null,null,null,null,null,null,null,null,null,null,null,null,null,"~"]
["SA37",2025,"LIM351",373,null,null,null,null,null,null,null,null,null,null,null,null,null,null,null,null,null,null,"~"]
["SA37",2025,"LIM351",374,null,null,null,null,null,null,null,null,null,null,null,null,null,null,null,null,null,null,"~"]
["SA37",2025,"LIM351",375,null,null,null,null,null,null,null,null,null,null,null,null,null,null,null,null,null,null,"~"]
["SA37",2025,"LIM351",376,null,null,null,null,null,null,null,null,null,null,null,null,null,null,null,null,null,null,"~"]
["SA37",2025,"LIM351",377,null,null,null,null,null,null,null,null,null,null,null,null,null,null,null,null,null,null,"~"]
["SA37",2025,"LIM351",378,null,null,null,null,null,null,null,null,null,null,null,null,null,null,null,null,null,null,"~"]
["SA37",2025,"LIM351",379,null,null,null,null,null,null,null,null,null,null,null,null,null,null,null,null,null,null,"~"]
["SA37",2025,"LIM351",380,null,null,null,null,null,null,null,null,null,null,null,null,null,null,null,null,null,null,"~"]
["SA37",2025,"LIM351",381,null,null,null,null,null,null,null,null,null,null,null,null,null,null,null,null,null,null,"~"]
["SA37",2025,"LIM351",382,null,null,null,null,null,null,null,null,null,null,null,null,null,null,null,null,null,null,"~"]
["SA37",2025,"LIM351",383,null,null,null,null,null,null,null,null,null,null,null,null,null,null,null,null,null,null,"~"]
["SA37",2025,"LIM351",384,null,null,null,null,null,null,null,null,null,null,null,null,null,null,null,null,null,null,"~"]
["SA37",2025,"LIM351",385,null,null,null,null,null,null,null,null,null,null,null,null,null,null,null,null,null,null,"~"]
["SA37",2025,"LIM351",386,null,null,null,null,null,null,null,null,null,null,null,null,null,null,null,null,null,null,"~"]
["SA37",2025,"LIM351",387,null,null,null,null,null,null,null,null,null,null,null,null,null,null,null,null,null,null,"~"]
["SA37",2025,"LIM351",388,null,null,null,null,null,null,null,null,null,null,null,null,null,null,null,null,null,null,"~"]
["SA37",2025,"LIM351",389,null,null,null,null,null,null,null,null,null,null,null,null,null,null,null,null,null,null,"~"]
["SA37",2025,"LIM351",390,null,null,null,null,null,null,null,null,null,null,null,null,null,null,null,null,null,null,"~"]
["SA37",2025,"LIM351",391,null,null,null,null,null,null,null,null,null,null,null,null,null,null,null,null,null,null,"~"]
["SA37",2025,"LIM351",392,null,null,null,null,null,null,null,null,null,null,null,null,null,null,null,null,null,null,"~"]
["SA37",2025,"LIM351",393,null,null,null,null,null,null,null,null,null,null,null,null,null,null,null,null,null,null,"~"]
["SA37",2025,"LIM351",394,null,null,null,null,null,null,null,null,null,null,null,null,null,null,null,null,null,null,"~"]
["SA37",2025,"LIM351",395,null,null,null,null,null,null,null,null,null,null,null,null,null,null,null,null,null,null,"~"]
["SA37",2025,"LIM351",396,null,null,null,null,null,null,null,null,null,null,null,null,null,null,null,null,null,null,"~"]
["SA37",2025,"LIM351",397,null,null,null,null,null,null,null,null,null,null,null,null,null,null,null,null,null,null,"~"]
["SA37",2025,"LIM351",398,null,null,null,null,null,null,null,null,null,null,null,null,null,null,null,null,null,null,"~"]
["SA37",2025,"LIM351",399,null,null,null,null,null,null,null,null,null,null,null,null,null,null,null,null,null,null,"~"]
["SA37",2025,"LIM351",400,null,null,null,null,null,null,null,null,null,null,null,null,null,null,null,null,null,null,"~"]
["SA37",2025,"LIM351",401,null,null,null,null,null,null,null,null,null,null,null,null,null,null,null,null,null,null,"~"]
["SA37",2025,"LIM351",402,null,null,null,null,null,null,null,null,null,null,null,null,null,null,null,null,null,null,"~"]
["SA37",2025,"LIM351",403,null,null,null,null,null,null,null,null,null,null,null,null,null,null,null,null,null,null,"~"]
["SA37",2025,"LIM351",404,null,null,null,null,null,null,null,null,null,null,null,null,null,null,null,null,null,null,"~"]
["SA37",2025,"LIM351",405,null,null,null,null,null,null,null,null,null,null,null,null,null,null,null,null,null,null,"~"]
["SA37",2025,"LIM351",406,null,null,null,null,null,null,null,null,null,null,null,null,null,null,null,null,null,null,"~"]
["SA37",2025,"LIM351",407,null,null,null,null,null,null,null,null,null,null,null,null,null,null,null,null,null,null,"~"]
["SA37",2025,"LIM351",408,null,null,null,null,null,null,null,null,null,null,null,null,null,null,null,null,null,null,"~"]
["SA37",2025,"LIM351",409,null,null,null,null,null,null,null,null,null,null,null,null,null,null,null,null,null,null,"~"]
["SA37",2025,"LIM351",410,null,null,null,null,null,null,null,null,null,null,null,null,null,null,null,null,null,null,"~"]
["SA37",2025,"LIM351",411,null,null,null,null,null,null,null,null,null,null,null,null,null,null,null,null,null,null,"~"]
["SA37",2025,"LIM351",412,null,null,null,null,null,null,null,null,null,null,null,null,null,null,null,null,null,null,"~"]
["SA37",2025,"LIM351",413,null,null,null,null,null,null,null,null,null,null,null,null,null,null,null,null,null,null,"~"]
["SA37",2025,"LIM351",414,null,null,null,null,null,null,null,null,null,null,null,null,null,null,null,null,null,null,"~"]
["SA37",2025,"LIM351",415,null,null,null,null,null,null,null,null,null,null,null,null,null,null,null,null,null,null,"~"]
["SA37",2025,"LIM351",416,null,null,null,null,null,null,null,null,null,null,null,null,null,null,null,null,null,null,"~"]
["SA37",2025,"LIM351",417,null,null,null,null,null,null,null,null,null,null,null,null,null,null,null,null,null,null,"~"]
["SA37",2025,"LIM351",418,null,null,null,null,null,null,null,null,null,null,null,null,null,null,null,null,null,null,"~"]
["SA37",2025,"LIM351",419,null,null,null,null,null,null,null,null,null,null,null,null,null,null,null,null,null,null,"~"]
["SA37",2025,"LIM351",420,null,null,null,null,null,null,null,null,null,null,null,null,null,null,null,null,null,null,"~"]
["SA37",2025,"LIM351",421,null,null,null,null,null,null,null,null,null,null,null,null,null,null,null,null,null,null,"~"]
["SA37",2025,"LIM351",422,null,null,null,null,null,null,null,null,null,null,null,null,null,null,null,null,null,null,"~"]
["SA37",2025,"LIM351",423,null,null,null,null,null,null,null,null,null,null,null,null,null,null,null,null,null,null,"~"]
["SA37",2025,"LIM351",424,null,null,null,null,null,null,null,null,null,null,null,null,null,null,null,null,null,null,"~"]
["SA37",2025,"LIM351",425,null,null,null,null,null,null,null,null,null,null,null,null,null,null,null,null,null,null,"~"]
["SA37",2025,"LIM351",426,null,null,null,null,null,null,null,null,null,null,null,null,null,null,null,null,null,null,"~"]
["SA37",2025,"LIM351",427,null,null,null,null,null,null,null,null,null,null,null,null,null,null,null,null,null,null,"~"]
["SA37",2025,"LIM351",428,null,null,null,null,null,null,null,null,null,null,null,null,null,null,null,null,null,null,"~"]
["SA37",2025,"LIM351",429,null,null,null,null,null,null,null,null,null,null,null,null,null,null,null,null,null,null,"~"]
["SA37",2025,"LIM351",430,null,null,null,null,null,null,null,null,null,null,null,null,null,null,null,null,null,null,"~"]
["SA37",2025,"LIM351",431,null,null,null,null,null,null,null,null,null,null,null,null,null,null,null,null,null,null,"~"]
["SA37",{"$f":"+MTREF","v":2025},{"$f":"LEFT(muni,(FIND(\" \",muni,1)-1))","v":"LIM351"},432,null,null,null,null,null,null,null,null,null,null,null,null,null,null,null,null,null,null,"~"]
["SA37",2025,"LIM351",433,null,null,null,null,null,null,null,null,null,null,null,null,null,null,null,null,null,null,"~"]
["SA37",2025,"LIM351",434,null,null,null,null,null,null,null,null,null,null,null,null,null,null,null,null,null,null,"~"]
["SA37",2025,"LIM351",435,null,null,null,null,null,null,null,null,null,null,null,null,null,null,null,null,null,null,"~"]
["SA37",2025,"LIM351",436,null,null,null,null,null,null,null,null,null,null,null,null,null,null,null,null,null,null,"~"]
["SA37",2025,"LIM351",437,null,null,null,null,null,null,null,null,null,null,null,null,null,null,null,null,null,null,"~"]
["SA37",2025,"LIM351",438,null,null,null,null,null,null,null,null,null,null,null,null,null,null,null,null,null,null,"~"]
["SA37",2025,"LIM351",439,null,null,null,null,null,null,null,null,null,null,null,null,null,null,null,null,null,null,"~"]
["SA37",2025,"LIM351",440,null,null,null,null,null,null,null,null,null,null,null,null,null,null,null,null,null,null,"~"]
["SA37",2025,"LIM351",441,null,null,null,null,null,null,null,null,null,null,null,null,null,null,null,null,null,null,"~"]
["SA37",2025,"LIM351",442,null,null,null,null,null,null,null,null,null,null,null,null,null,null,null,null,null,null,"~"]
["SA37",2025,"LIM351",443,null,null,null,null,null,null,null,null,null,null,null,null,null,null,null,null,null,null,"~"]
["SA37",2025,"LIM351",444,null,null,null,null,null,null,null,null,null,null,null,null,null,null,null,null,null,null,"~"]
["SA37",2025,"LIM351",445,null,null,null,null,null,null,null,null,null,null,null,null,null,null,null,null,null,null,"~"]
["SA37",2025,"LIM351",446,null,null,null,null,null,null,null,null,null,null,null,null,null,null,null,null,null,null,"~"]
["SA37",2025,"LIM351",447,null,null,null,null,null,null,null,null,null,null,null,null,null,null,null,null,null,null,"~"]
["SA37",2025,"LIM351",448,null,null,null,null,null,null,null,null,null,null,null,null,null,null,null,null,null,null,"~"]
["SA37",2025,"LIM351",449,null,null,null,null,null,null,null,null,null,null,null,null,null,null,null,null,null,null,"~"]
["SA37",2025,"LIM351",450,null,null,null,null,null,null,null,null,null,null,null,null,null,null,null,null,null,null,"~"]
["SA37",2025,"LIM351",451,null,null,null,null,null,null,null,null,null,null,null,null,null,null,null,null,null,null,"~"]
["SA37",2025,"LIM351",452,null,null,null,null,null,null,null,null,null,null,null,null,null,null,null,null,null,null,"~"]
["SA37",2025,"LIM351",453,null,null,null,null,null,null,null,null,null,null,null,null,null,null,null,null,null,null,"~"]
["SA37",2025,"LIM351",454,null,null,null,null,null,null,null,null,null,null,null,null,null,null,null,null,null,null,"~"]
["SA37",2025,"LIM351",455,null,null,null,null,null,null,null,null,null,null,null,null,null,null,null,null,null,null,"~"]
["SA37",2025,"LIM351",456,null,null,null,null,null,null,null,null,null,null,null,null,null,null,null,null,null,null,"~"]
["SA37",2025,"LIM351",457,null,null,null,null,null,null,null,null,null,null,null,null,null,null,null,null,null,null,"~"]
["SA37",2025,"LIM351",458,null,null,null,null,null,null,null,null,null,null,null,null,null,null,null,null,null,null,"~"]
["SA37",2025,"LIM351",459,null,null,null,null,null,null,null,null,null,null,null,null,null,null,null,null,null,null,"~"]
["SA37",2025,"LIM351",460,null,null,null,null,null,null,null,null,null,null,null,null,null,null,null,null,null,null,"~"]
["SA37",2025,"LIM351",461,null,null,null,null,null,null,null,null,null,null,null,null,null,null,null,null,null,null,"~"]
["SA37",2025,"LIM351",462,null,null,null,null,null,null,null,null,null,null,null,null,null,null,null,null,null,null,"~"]
["SA37",2025,"LIM351",463,null,null,null,null,null,null,null,null,null,null,null,null,null,null,null,null,null,null,"~"]
["SA37",2025,"LIM351",464,null,null,null,null,null,null,null,null,null,null,null,null,null,null,null,null,null,null,"~"]
["SA37",2025,"LIM351",465,null,null,null,null,null,null,null,null,null,null,null,null,null,null,null,null,null,null,"~"]
["SA37",2025,"LIM351",466,null,null,null,null,null,null,null,null,null,null,null,null,null,null,null,null,null,null,"~"]
["SA37",2025,"LIM351",467,null,null,null,null,null,null,null,null,null,null,null,null,null,null,null,null,null,null,"~"]
["SA37",2025,"LIM351",468,null,null,null,null,null,null,null,null,null,null,null,null,null,null,null,null,null,null,"~"]
["SA37",2025,"LIM351",469,null,null,null,null,null,null,null,null,null,null,null,null,null,null,null,null,null,null,"~"]
["SA37",2025,"LIM351",470,null,null,null,null,null,null,null,null,null,null,null,null,null,null,null,null,null,null,"~"]
["SA37",2025,"LIM351",471,null,null,null,null,null,null,null,null,null,null,null,null,null,null,null,null,null,null,"~"]
["SA37",2025,"LIM351",472,null,null,null,null,null,null,null,null,null,null,null,null,null,null,null,null,null,null,"~"]
["SA37",2025,"LIM351",473,null,null,null,null,null,null,null,null,null,null,null,null,null,null,null,null,null,null,"~"]
["SA37",2025,"LIM351",474,null,null,null,null,null,null,null,null,null,null,null,null,null,null,null,null,null,null,"~"]
["SA37",2025,"LIM351",475,null,null,null,null,null,null,null,null,null,null,null,null,null,null,null,null,null,null,"~"]
["SA37",2025,"LIM351",476,null,null,null,null,null,null,null,null,null,null,null,null,null,null,null,null,null,null,"~"]
["SA37",2025,"LIM351",477,null,null,null,null,null,null,null,null,null,null,null,null,null,null,null,null,null,null,"~"]
["SA37",2025,"LIM351",478,null,null,null,null,null,null,null,null,null,null,null,null,null,null,null,null,null,null,"~"]
["SA37",2025,"LIM351",479,null,null,null,null,null,null,null,null,null,null,null,null,null,null,null,null,null,null,"~"]
["SA37",2025,"LIM351",480,null,null,null,null,null,null,null,null,null,null,null,null,null,null,null,null,null,null,"~"]
["SA37",2025,"LIM351",481,null,null,null,null,null,null,null,null,null,null,null,null,null,null,null,null,null,null,"~"]
["SA37",2025,"LIM351",482,null,null,null,null,null,null,null,null,null,null,null,null,null,null,null,null,null,null,"~"]
["SA37",2025,"LIM351",483,null,null,null,null,null,null,null,null,null,null,null,null,null,null,null,null,null,null,"~"]
["SA37",2025,"LIM351",484,null,null,null,null,null,null,null,null,null,null,null,null,null,null,null,null,null,null,"~"]
["SA37",2025,"LIM351",485,null,null,null,null,null,null,null,null,null,null,null,null,null,null,null,null,null,null,"~"]
["SA37",2025,"LIM351",486,null,null,null,null,null,null,null,null,null,null,null,null,null,null,null,null,null,null,"~"]
["SA37",2025,"LIM351",487,null,null,null,null,null,null,null,null,null,null,null,null,null,null,null,null,null,null,"~"]
["SA37",2025,"LIM351",488,null,null,null,null,null,null,null,null,null,null,null,null,null,null,null,null,null,null,"~"]
["SA37",2025,"LIM351",489,null,null,null,null,null,null,null,null,null,null,null,null,null,null,null,null,null,null,"~"]
["SA37",2025,"LIM351",490,null,null,null,null,null,null,null,null,null,null,null,null,null,null,null,null,null,null,"~"]
["SA37",2025,"LIM351",491,null,null,null,null,null,null,null,null,null,null,null,null,null,null,null,null,null,null,"~"]
["SA37",2025,"LIM351",492,null,null,null,null,null,null,null,null,null,null,null,null,null,null,null,null,null,null,"~"]
["SA37",2025,"LIM351",493,null,null,null,null,null,null,null,null,null,null,null,null,null,null,null,null,null,null,"~"]
["SA37",2025,"LIM351",494,null,null,null,null,null,null,null,null,null,null,null,null,null,null,null,null,null,null,"~"]
["SA37",2025,"LIM351",495,null,null,null,null,null,null,null,null,null,null,null,null,null,null,null,null,null,null,"~"]
["SA37",{"$f":"+MTREF","v":2025},{"$f":"LEFT(muni,(FIND(\" \",muni,1)-1))","v":"LIM351"},496,null,null,null,null,null,null,null,null,null,null,null,null,null,null,null,null,null,null,"~"]
["SA37",2025,"LIM351",497,null,null,null,null,null,null,null,null,null,null,null,null,null,null,null,null,null,null,"~"]
["SA37",2025,"LIM351",498,null,null,null,null,null,null,null,null,null,null,null,null,null,null,null,null,null,null,"~"]
["SA37",2025,"LIM351",499,null,null,null,null,null,null,null,null,null,null,null,null,null,null,null,null,null,null,"~"]
["SA37",2025,"LIM351",500,null,null,null,null,null,null,null,null,null,null,null,null,null,null,null,null,null,null,"~"]
["SA37",2025,"LIM351",501,null,null,null,null,null,null,null,null,null,null,null,null,null,null,null,null,null,null,"~"]
["SA37",2025,"LIM351",502,null,null,null,null,null,null,null,null,null,null,null,null,null,null,null,null,null,null,"~"]
["SA37",2025,"LIM351",503,null,null,null,null,null,null,null,null,null,null,null,null,null,null,null,null,null,null,"~"]
["SA37",2025,"LIM351",504,null,null,null,null,null,null,null,null,null,null,null,null,null,null,null,null,null,null,"~"]
["SA37",2025,"LIM351",505,null,null,null,null,null,null,null,null,null,null,null,null,null,null,null,null,null,null,"~"]
["SA37",2025,"LIM351",506,null,null,null,null,null,null,null,null,null,null,null,null,null,null,null,null,null,null,"~"]
["SA37",2025,"LIM351",507,null,null,null,null,null,null,null,null,null,null,null,null,null,null,null,null,null,null,"~"]
["SA37",2025,"LIM351",508,null,null,null,null,null,null,null,null,null,null,null,null,null,null,null,null,null,null,"~"]
["SA37",2025,"LIM351",509,null,null,null,null,null,null,null,null,null,null,null,null,null,null,null,null,null,null,"~"]
["SA37",2025,"LIM351",510,null,null,null,null,null,null,null,null,null,null,null,null,null,null,null,null,null,null,"~"]
["SA37",2025,"LIM351",511,null,null,null,null,null,null,null,null,null,null,null,null,null,null,null,null,null,null,"~"]
["SA37",2025,"LIM351",512,null,null,null,null,null,null,null,null,null,null,null,null,null,null,null,null,null,null,"~"]
["SA37",2025,"LIM351",513,null,null,null,null,null,null,null,null,null,null,null,null,null,null,null,null,null,null,"~"]
["SA37",2025,"LIM351",514,null,null,null,null,null,null,null,null,null,null,null,null,null,null,null,null,null,null,"~"]
["SA37",2025,"LIM351",515,null,null,null,null,null,null,null,null,null,null,null,null,null,null,null,null,null,null,"~"]
["SA37",2025,"LIM351",516,null,null,null,null,null,null,null,null,null,null,null,null,null,null,null,null,null,null,"~"]
["SA37",2025,"LIM351",517,null,null,null,null,null,null,null,null,null,null,null,null,null,null,null,null,null,null,"~"]
["SA37",2025,"LIM351",518,null,null,null,null,null,null,null,null,null,null,null,null,null,null,null,null,null,null,"~"]
["SA37",2025,"LIM351",519,null,null,null,null,null,null,null,null,null,null,null,null,null,null,null,null,null,null,"~"]
["SA37",2025,"LIM351",520,null,null,null,null,null,null,null,null,null,null,null,null,null,null,null,null,null,null,"~"]
["SA37",2025,"LIM351",521,null,null,null,null,null,null,null,null,null,null,null,null,null,null,null,null,null,null,"~"]
["SA37",2025,"LIM351",522,null,null,null,null,null,null,null,null,null,null,null,null,null,null,null,null,null,null,"~"]
["SA37",2025,"LIM351",523,null,null,null,null,null,null,null,null,null,null,null,null,null,null,null,null,null,null,"~"]
["SA37",2025,"LIM351",524,null,null,null,null,null,null,null,null,null,null,null,null,null,null,null,null,null,null,"~"]
["SA37",2025,"LIM351",525,null,null,null,null,null,null,null,null,null,null,null,null,null,null,null,null,null,null,"~"]
["SA37",2025,"LIM351",526,null,null,null,null,null,null,null,null,null,null,null,null,null,null,null,null,null,null,"~"]
["SA37",2025,"LIM351",527,null,null,null,null,null,null,null,null,null,null,null,null,null,null,null,null,null,null,"~"]
["SA37",2025,"LIM351",528,null,null,null,null,null,null,null,null,null,null,null,null,null,null,null,null,null,null,"~"]
["SA37",2025,"LIM351",529,null,null,null,null,null,null,null,null,null,null,null,null,null,null,null,null,null,null,"~"]
["SA37",2025,"LIM351",530,null,null,null,null,null,null,null,null,null,null,null,null,null,null,null,null,null,null,"~"]
["SA37",2025,"LIM351",531,null,null,null,null,null,null,null,null,null,null,null,null,null,null,null,null,null,null,"~"]
["SA37",2025,"LIM351",532,null,null,null,null,null,null,null,null,null,null,null,null,null,null,null,null,null,null,"~"]
["SA37",2025,"LIM351",533,null,null,null,null,null,null,null,null,null,null,null,null,null,null,null,null,null,null,"~"]
["SA37",2025,"LIM351",534,null,null,null,null,null,null,null,null,null,null,null,null,null,null,null,null,null,null,"~"]
["SA37",2025,"LIM351",535,null,null,null,null,null,null,null,null,null,null,null,null,null,null,null,null,null,null,"~"]
["SA37",2025,"LIM351",536,null,null,null,null,null,null,null,null,null,null,null,null,null,null,null,null,null,null,"~"]
["SA37",2025,"LIM351",537,null,null,null,null,null,null,null,null,null,null,null,null,null,null,null,null,null,null,"~"]
["SA37",2025,"LIM351",538,null,null,null,null,null,null,null,null,null,null,null,null,null,null,null,null,null,null,"~"]
["SA37",2025,"LIM351",539,null,null,null,null,null,null,null,null,null,null,null,null,null,null,null,null,null,null,"~"]
["SA37",2025,"LIM351",540,null,null,null,null,null,null,null,null,null,null,null,null,null,null,null,null,null,null,"~"]
["SA37",2025,"LIM351",541,null,null,null,null,null,null,null,null,null,null,null,null,null,null,null,null,null,null,"~"]
["SA37",2025,"LIM351",542,null,null,null,null,null,null,null,null,null,null,null,null,null,null,null,null,null,null,"~"]
["SA37",2025,"LIM351",543,null,null,null,null,null,null,null,null,null,null,null,null,null,null,null,null,null,null,"~"]
["SA37",2025,"LIM351",544,null,null,null,null,null,null,null,null,null,null,null,null,null,null,null,null,null,null,"~"]
["SA37",2025,"LIM351",545,null,null,null,null,null,null,null,null,null,null,null,null,null,null,null,null,null,null,"~"]
["SA37",2025,"LIM351",546,null,null,null,null,null,null,null,null,null,null,null,null,null,null,null,null,null,null,"~"]
["SA37",2025,"LIM351",547,null,null,null,null,null,null,null,null,null,null,null,null,null,null,null,null,null,null,"~"]
["SA37",2025,"LIM351",548,null,null,null,null,null,null,null,null,null,null,null,null,null,null,null,null,null,null,"~"]
["SA37",2025,"LIM351",549,null,null,null,null,null,null,null,null,null,null,null,null,null,null,null,null,null,null,"~"]
["SA37",2025,"LIM351",550,null,null,null,null,null,null,null,null,null,null,null,null,null,null,null,null,null,null,"~"]
["SA37",2025,"LIM351",551,null,null,null,null,null,null,null,null,null,null,null,null,null,null,null,null,null,null,"~"]
["SA37",2025,"LIM351",552,null,null,null,null,null,null,null,null,null,null,null,null,null,null,null,null,null,null,"~"]
["SA37",2025,"LIM351",553,null,null,null,null,null,null,null,null,null,null,null,null,null,null,null,null,null,null,"~"]
["SA37",2025,"LIM351",554,null,null,null,null,null,null,null,null,null,null,null,null,null,null,null,null,null,null,"~"]
["SA37",2025,"LIM351",555,null,null,null,null,null,null,null,null,null,null,null,null,null,null,null,null,null,null,"~"]
["SA37",2025,"LIM351",556,null,null,null,null,null,null,null,null,null,null,null,null,null,null,null,null,null,null,"~"]
["SA37",2025,"LIM351",557,null,null,null,null,null,null,null,null,null,null,null,null,null,null,null,null,null,null,"~"]
["SA37",2025,"LIM351",558,null,null,null,null,null,null,null,null,null,null,null,null,null,null,null,null,null,null,"~"]
["SA37",2025,"LIM351",559,null,null,null,null,null,null,null,null,null,null,null,null,null,null,null,null,null,null,"~"]
["SA37",{"$f":"+MTREF","v":2025},{"$f":"LEFT(muni,(FIND(\" \",muni,1)-1))","v":"LIM351"},560,null,null,null,null,null,null,null,null,null,null,null,null,null,null,null,null,null,null,"~"]
["SA37",2025,"LIM351",561,null,null,null,null,null,null,null,null,null,null,null,null,null,null,null,null,null,null,"~"]
["SA37",2025,"LIM351",562,null,null,null,null,null,null,null,null,null,null,null,null,null,null,null,null,null,null,"~"]
["SA37",2025,"LIM351",563,null,null,null,null,null,null,null,null,null,null,null,null,null,null,null,null,null,null,"~"]
["SA37",2025,"LIM351",564,null,null,null,null,null,null,null,null,null,null,null,null,null,null,null,null,null,null,"~"]
["SA37",2025,"LIM351",565,null,null,null,null,null,null,null,null,null,null,null,null,null,null,null,null,null,null,"~"]
["SA37",2025,"LIM351",566,null,null,null,null,null,null,null,null,null,null,null,null,null,null,null,null,null,null,"~"]
["SA37",2025,"LIM351",567,null,null,null,null,null,null,null,null,null,null,null,null,null,null,null,null,null,null,"~"]
["SA37",2025,"LIM351",568,null,null,null,null,null,null,null,null,null,null,null,null,null,null,null,null,null,null,"~"]
["SA37",2025,"LIM351",569,null,null,null,null,null,null,null,null,null,null,null,null,null,null,null,null,null,null,"~"]
["SA37",2025,"LIM351",570,null,null,null,null,null,null,null,null,null,null,null,null,null,null,null,null,null,null,"~"]
["SA37",2025,"LIM351",571,null,null,null,null,null,null,null,null,null,null,null,null,null,null,null,null,null,null,"~"]
["SA37",2025,"LIM351",572,null,null,null,null,null,null,null,null,null,null,null,null,null,null,null,null,null,null,"~"]
["SA37",2025,"LIM351",573,null,null,null,null,null,null,null,null,null,null,null,null,null,null,null,null,null,null,"~"]
["SA37",2025,"LIM351",574,null,null,null,null,null,null,null,null,null,null,null,null,null,null,null,null,null,null,"~"]
["SA37",2025,"LIM351",575,null,null,null,null,null,null,null,null,null,null,null,null,null,null,null,null,null,null,"~"]
["SA37",2025,"LIM351",576,null,null,null,null,null,null,null,null,null,null,null,null,null,null,null,null,null,null,"~"]
["SA37",2025,"LIM351",577,null,null,null,null,null,null,null,null,null,null,null,null,null,null,null,null,null,null,"~"]
["SA37",2025,"LIM351",578,null,null,null,null,null,null,null,null,null,null,null,null,null,null,null,null,null,null,"~"]
["SA37",2025,"LIM351",579,null,null,null,null,null,null,null,null,null,null,null,null,null,null,null,null,null,null,"~"]
["SA37",2025,"LIM351",580,null,null,null,null,null,null,null,null,null,null,null,null,null,null,null,null,null,null,"~"]
["SA37",2025,"LIM351",581,null,null,null,null,null,null,null,null,null,null,null,null,null,null,null,null,null,null,"~"]
["SA37",2025,"LIM351",582,null,null,null,null,null,null,null,null,null,null,null,null,null,null,null,null,null,null,"~"]
["SA37",2025,"LIM351",583,null,null,null,null,null,null,null,null,null,null,null,null,null,null,null,null,null,null,"~"]
["SA37",2025,"LIM351",584,null,null,null,null,null,null,null,null,null,null,null,null,null,null,null,null,null,null,"~"]
["SA37",2025,"LIM351",585,null,null,null,null,null,null,null,null,null,null,null,null,null,null,null,null,null,null,"~"]
["SA37",2025,"LIM351",586,null,null,null,null,null,null,null,null,null,null,null,null,null,null,null,null,null,null,"~"]
["SA37",2025,"LIM351",587,null,null,null,null,null,null,null,null,null,null,null,null,null,null,null,null,null,null,"~"]
["SA37",2025,"LIM351",588,null,null,null,null,null,null,null,null,null,null,null,null,null,null,null,null,null,null,"~"]
["SA37",2025,"LIM351",589,null,null,null,null,null,null,null,null,null,null,null,null,null,null,null,null,null,null,"~"]
["SA37",2025,"LIM351",590,null,null,null,null,null,null,null,null,null,null,null,null,null,null,null,null,null,null,"~"]
["SA37",2025,"LIM351",591,null,null,null,null,null,null,null,null,null,null,null,null,null,null,null,null,null,null,"~"]
["SA37",2025,"LIM351",592,null,null,null,null,null,null,null,null,null,null,null,null,null,null,null,null,null,null,"~"]
["SA37",2025,"LIM351",593,null,null,null,null,null,null,null,null,null,null,null,null,null,null,null,null,null,null,"~"]
["SA37",2025,"LIM351",594,null,null,null,null,null,null,null,null,null,null,null,null,null,null,null,null,null,null,"~"]
["SA37",2025,"LIM351",595,null,null,null,null,null,null,null,null,null,null,null,null,null,null,null,null,null,null,"~"]
["SA37",2025,"LIM351",596,null,null,null,null,null,null,null,null,null,null,null,null,null,null,null,null,null,null,"~"]
["SA37",2025,"LIM351",597,null,null,null,null,null,null,null,null,null,null,null,null,null,null,null,null,null,null,"~"]
["SA37",2025,"LIM351",598,null,null,null,null,null,null,null,null,null,null,null,null,null,null,null,null,null,null,"~"]
["SA37",2025,"LIM351",599,null,null,null,null,null,null,null,null,null,null,null,null,null,null,null,null,null,null,"~"]
["SA37",2025,"LIM351",600,null,null,null,null,null,null,null,null,null,null,null,null,null,null,null,null,null,null,"~"]
["SA37",2025,"LIM351",601,null,null,null,null,null,null,null,null,null,null,null,null,null,null,null,null,null,null,"~"]
["SA37",2025,"LIM351",602,null,null,null,null,null,null,null,null,null,null,null,null,null,null,null,null,null,null,"~"]
["SA37",2025,"LIM351",603,null,null,null,null,null,null,null,null,null,null,null,null,null,null,null,null,null,null,"~"]
["SA37",2025,"LIM351",604,null,null,null,null,null,null,null,null,null,null,null,null,null,null,null,null,null,null,"~"]
["SA37",2025,"LIM351",605,null,null,null,null,null,null,null,null,null,null,null,null,null,null,null,null,null,null,"~"]
["SA37",2025,"LIM351",606,null,null,null,null,null,null,null,null,null,null,null,null,null,null,null,null,null,null,"~"]
["SA37",2025,"LIM351",607,null,null,null,null,null,null,null,null,null,null,null,null,null,null,null,null,null,null,"~"]
["SA37",2025,"LIM351",608,null,null,null,null,null,null,null,null,null,null,null,null,null,null,null,null,null,null,"~"]
["SA37",2025,"LIM351",609,null,null,null,null,null,null,null,null,null,null,null,null,null,null,null,null,null,null,"~"]
["SA37",2025,"LIM351",610,null,null,null,null,null,null,null,null,null,null,null,null,null,null,null,null,null,null,"~"]
["SA37",2025,"LIM351",611,null,null,null,null,null,null,null,null,null,null,null,null,null,null,null,null,null,null,"~"]
["SA37",2025,"LIM351",612,null,null,null,null,null,null,null,null,null,null,null,null,null,null,null,null,null,null,"~"]
["SA37",2025,"LIM351",613,null,null,null,null,null,null,null,null,null,null,null,null,null,null,null,null,null,null,"~"]
["SA37",2025,"LIM351",614,null,null,null,null,null,null,null,null,null,null,null,null,null,null,null,null,null,null,"~"]
["SA37",2025,"LIM351",615,null,null,null,null,null,null,null,null,null,null,null,null,null,null,null,null,null,null,"~"]
["SA37",2025,"LIM351",616,null,null,null,null,null,null,null,null,null,null,null,null,null,null,null,null,null,null,"~"]
["SA37",2025,"LIM351",617,null,null,null,null,null,null,null,null,null,null,null,null,null,null,null,null,null,null,"~"]
["SA37",2025,"LIM351",618,null,null,null,null,null,null,null,null,null,null,null,null,null,null,null,null,null,null,"~"]
["SA37",2025,"LIM351",619,null,null,null,null,null,null,null,null,null,null,null,null,null,null,null,null,null,null,"~"]
["SA37",2025,"LIM351",620,null,null,null,null,null,null,null,null,null,null,null,null,null,null,null,null,null,null,"~"]
["SA37",2025,"LIM351",621,null,null,null,null,null,null,null,null,null,null,null,null,null,null,null,null,null,null,"~"]
["SA37",2025,"LIM351",622,null,null,null,null,null,null,null,null,null,null,null,null,null,null,null,null,null,null,"~"]
["SA37",2025,"LIM351",623,null,null,null,null,null,null,null,null,null,null,null,null,null,null,null,null,null,null,"~"]
["SA37",{"$f":"+MTREF","v":2025},{"$f":"LEFT(muni,(FIND(\" \",muni,1)-1))","v":"LIM351"},624,null,null,null,null,null,null,null,null,null,null,null,null,null,null,null,null,null,null,"~"]
["SA37",2025,"LIM351",625,null,null,null,null,null,null,null,null,null,null,null,null,null,null,null,null,null,null,"~"]
["SA37",2025,"LIM351",626,null,null,null,null,null,null,null,null,null,null,null,null,null,null,null,null,null,null,"~"]
["SA37",2025,"LIM351",627,null,null,null,null,null,null,null,null,null,null,null,null,null,null,null,null,null,null,"~"]
["SA37",2025,"LIM351",628,null,null,null,null,null,null,null,null,null,null,null,null,null,null,null,null,null,null,"~"]
["SA37",2025,"LIM351",629,null,null,null,null,null,null,null,null,null,null,null,null,null,null,null,null,null,null,"~"]
["SA37",2025,"LIM351",630,null,null,null,null,null,null,null,null,null,null,null,null,null,null,null,null,null,null,"~"]
["SA37",2025,"LIM351",631,null,null,null,null,null,null,null,null,null,null,null,null,null,null,null,null,null,null,"~"]
["SA37",2025,"LIM351",632,null,null,null,null,null,null,null,null,null,null,null,null,null,null,null,null,null,null,"~"]
["SA37",2025,"LIM351",633,null,null,null,null,null,null,null,null,null,null,null,null,null,null,null,null,null,null,"~"]
["SA37",2025,"LIM351",634,null,null,null,null,null,null,null,null,null,null,null,null,null,null,null,null,null,null,"~"]
["SA37",2025,"LIM351",635,null,null,null,null,null,null,null,null,null,null,null,null,null,null,null,null,null,null,"~"]
["SA37",2025,"LIM351",636,null,null,null,null,null,null,null,null,null,null,null,null,null,null,null,null,null,null,"~"]
["SA37",2025,"LIM351",637,null,null,null,null,null,null,null,null,null,null,null,null,null,null,null,null,null,null,"~"]
["SA37",2025,"LIM351",638,null,null,null,null,null,null,null,null,null,null,null,null,null,null,null,null,null,null,"~"]
["SA37",2025,"LIM351",639,null,null,null,null,null,null,null,null,null,null,null,null,null,null,null,null,null,null,"~"]
["SA37",2025,"LIM351",640,null,null,null,null,null,null,null,null,null,null,null,null,null,null,null,null,null,null,"~"]
["SA37",2025,"LIM351",641,null,null,null,null,null,null,null,null,null,null,null,null,null,null,null,null,null,null,"~"]
["SA37",2025,"LIM351",642,null,null,null,null,null,null,null,null,null,null,null,null,null,null,null,null,null,null,"~"]
["SA37",2025,"LIM351",643,null,null,null,null,null,null,null,null,null,null,null,null,null,null,null,null,null,null,"~"]
["SA37",2025,"LIM351",644,null,null,null,null,null,null,null,null,null,null,null,null,null,null,null,null,null,null,"~"]
["SA37",2025,"LIM351",645,null,null,null,null,null,null,null,null,null,null,null,null,null,null,null,null,null,null,"~"]
["SA37",2025,"LIM351",646,null,null,null,null,null,null,null,null,null,null,null,null,null,null,null,null,null,null,"~"]
["SA37",2025,"LIM351",647,null,null,null,null,null,null,null,null,null,null,null,null,null,null,null,null,null,null,"~"]
["SA37",2025,"LIM351",648,null,null,null,null,null,null,null,null,null,null,null,null,null,null,null,null,null,null,"~"]
["SA37",2025,"LIM351",649,null,null,null,null,null,null,null,null,null,null,null,null,null,null,null,null,null,null,"~"]
["SA37",2025,"LIM351",650,null,null,null,null,null,null,null,null,null,null,null,null,null,null,null,null,null,null,"~"]
["SA37",2025,"LIM351",651,null,null,null,null,null,null,null,null,null,null,null,null,null,null,null,null,null,null,"~"]
["SA37",2025,"LIM351",652,null,null,null,null,null,null,null,null,null,null,null,null,null,null,null,null,null,null,"~"]
["SA37",2025,"LIM351",653,null,null,null,null,null,null,null,null,null,null,null,null,null,null,null,null,null,null,"~"]
["SA37",2025,"LIM351",654,null,null,null,null,null,null,null,null,null,null,null,null,null,null,null,null,null,null,"~"]
["SA37",2025,"LIM351",655,null,null,null,null,null,null,null,null,null,null,null,null,null,null,null,null,null,null,"~"]
["SA37",2025,"LIM351",656,null,null,null,null,null,null,null,null,null,null,null,null,null,null,null,null,null,null,"~"]
["SA37",2025,"LIM351",657,null,null,null,null,null,null,null,null,null,null,null,null,null,null,null,null,null,null,"~"]
["SA37",2025,"LIM351",658,null,null,null,null,null,null,null,null,null,null,null,null,null,null,null,null,null,null,"~"]
["SA37",2025,"LIM351",659,null,null,null,null,null,null,null,null,null,null,null,null,null,null,null,null,null,null,"~"]
["SA37",2025,"LIM351",660,null,null,null,null,null,null,null,null,null,null,null,null,null,null,null,null,null,null,"~"]
["SA37",2025,"LIM351",661,null,null,null,null,null,null,null,null,null,null,null,null,null,null,null,null,null,null,"~"]
["SA37",2025,"LIM351",662,null,null,null,null,null,null,null,null,null,null,null,null,null,null,null,null,null,null,"~"]
["SA37",2025,"LIM351",663,null,null,null,null,null,null,null,null,null,null,null,null,null,null,null,null,null,null,"~"]
["SA37",2025,"LIM351",664,null,null,null,null,null,null,null,null,null,null,null,null,null,null,null,null,null,null,"~"]
["SA37",2025,"LIM351",665,null,null,null,null,null,null,null,null,null,null,null,null,null,null,null,null,null,null,"~"]
["SA37",2025,"LIM351",666,null,null,null,null,null,null,null,null,null,null,null,null,null,null,null,null,null,null,"~"]
["SA37",2025,"LIM351",667,null,null,null,null,null,null,null,null,null,null,null,null,null,null,null,null,null,null,"~"]
["SA37",2025,"LIM351",668,null,null,null,null,null,null,null,null,null,null,null,null,null,null,null,null,null,null,"~"]
["SA37",2025,"LIM351",669,null,null,null,null,null,null,null,null,null,null,null,null,null,null,null,null,null,null,"~"]
["SA37",2025,"LIM351",670,null,null,null,null,null,null,null,null,null,null,null,null,null,null,null,null,null,null,"~"]
["SA37",2025,"LIM351",671,null,null,null,null,null,null,null,null,null,null,null,null,null,null,null,null,null,null,"~"]
["SA37",2025,"LIM351",672,null,null,null,null,null,null,null,null,null,null,null,null,null,null,null,null,null,null,"~"]
["SA37",2025,"LIM351",673,null,null,null,null,null,null,null,null,null,null,null,null,null,null,null,null,null,null,"~"]
["SA37",2025,"LIM351",674,null,null,null,null,null,null,null,null,null,null,null,null,null,null,null,null,null,null,"~"]
["SA37",2025,"LIM351",675,null,null,null,null,null,null,null,null,null,null,null,null,null,null,null,null,null,null,"~"]
["SA37",2025,"LIM351",676,null,null,null,null,null,null,null,null,null,null,null,null,null,null,null,null,null,null,"~"]
["SA37",2025,"LIM351",677,null,null,null,null,null,null,null,null,null,null,null,null,null,null,null,null,null,null,"~"]
["SA37",2025,"LIM351",678,null,null,null,null,null,null,null,null,null,null,null,null,null,null,null,null,null,null,"~"]
["SA37",2025,"LIM351",679,null,null,null,null,null,null,null,null,null,null,null,null,null,null,null,null,null,null,"~"]
["SA37",2025,"LIM351",680,null,null,null,null,null,null,null,null,null,null,null,null,null,null,null,null,null,null,"~"]
["SA37",2025,"LIM351",681,null,null,null,null,null,null,null,null,null,null,null,null,null,null,null,null,null,null,"~"]
["SA37",2025,"LIM351",682,null,null,null,null,null,null,null,null,null,null,null,null,null,null,null,null,null,null,"~"]
["SA37",2025,"LIM351",683,null,null,null,null,null,null,null,null,null,null,null,null,null,null,null,null,null,null,"~"]
["SA37",2025,"LIM351",684,null,null,null,null,null,null,null,null,null,null,null,null,null,null,null,null,null,null,"~"]
["SA37",2025,"LIM351",685,null,null,null,null,null,null,null,null,null,null,null,null,null,null,null,null,null,null,"~"]
["SA37",2025,"LIM351",686,null,null,null,null,null,null,null,null,null,null,null,null,null,null,null,null,null,null,"~"]
["SA37",2025,"LIM351",687,null,null,null,null,null,null,null,null,null,null,null,null,null,null,null,null,null,null,"~"]
["SA37",{"$f":"+MTREF","v":2025},{"$f":"LEFT(muni,(FIND(\" \",muni,1)-1))","v":"LIM351"},688,null,null,null,null,null,null,null,null,null,null,null,null,null,null,null,null,null,null,"~"]
["SA37",2025,"LIM351",689,null,null,null,null,null,null,null,null,null,null,null,null,null,null,null,null,null,null,"~"]
["SA37",2025,"LIM351",690,null,null,null,null,null,null,null,null,null,null,null,null,null,null,null,null,null,null,"~"]
["SA37",2025,"LIM351",691,null,null,null,null,null,null,null,null,null,null,null,null,null,null,null,null,null,null,"~"]
["SA37",2025,"LIM351",692,null,null,null,null,null,null,null,null,null,null,null,null,null,null,null,null,null,null,"~"]
["SA37",2025,"LIM351",693,null,null,null,null,null,null,null,null,null,null,null,null,null,null,null,null,null,null,"~"]
["SA37",2025,"LIM351",694,null,null,null,null,null,null,null,null,null,null,null,null,null,null,null,null,null,null,"~"]
["SA37",2025,"LIM351",695,null,null,null,null,null,null,null,null,null,null,null,null,null,null,null,null,null,null,"~"]
["SA37",2025,"LIM351",696,null,null,null,null,null,null,null,null,null,null,null,null,null,null,null,null,null,null,"~"]
["SA37",2025,"LIM351",697,null,null,null,null,null,null,null,null,null,null,null,null,null,null,null,null,null,null,"~"]
["SA37",2025,"LIM351",698,null,null,null,null,null,null,null,null,null,null,null,null,null,null,null,null,null,null,"~"]
["SA37",2025,"LIM351",699,null,null,null,null,null,null,null,null,null,null,null,null,null,null,null,null,null,null,"~"]
["SA37",2025,"LIM351",700,null,null,null,null,null,null,null,null,null,null,null,null,null,null,null,null,null,null,"~"]
["SA37",2025,"LIM351",701,null,null,null,null,null,null,null,null,null,null,null,null,null,null,null,null,null,null,"~"]
["SA37",2025,"LIM351",702,null,null,null,null,null,null,null,null,null,null,null,null,null,null,null,null,null,null,"~"]
["SA37",2025,"LIM351",703,null,null,null,null,null,null,null,null,null,null,null,null,null,null,null,null,null,null,"~"]
["SA37",2025,"LIM351",704,null,null,null,null,null,null,null,null,null,null,null,null,null,null,null,null,null,null,"~"]
["SA37",2025,"LIM351",705,null,null,null,null,null,null,null,null,null,null,null,null,null,null,null,null,null,null,"~"]
["SA37",2025,"LIM351",706,null,null,null,null,null,null,null,null,null,null,null,null,null,null,null,null,null,null,"~"]
["SA37",2025,"LIM351",707,null,null,null,null,null,null,null,null,null,null,null,null,null,null,null,null,null,null,"~"]
["SA37",2025,"LIM351",708,null,null,null,null,null,null,null,null,null,null,null,null,null,null,null,null,null,null,"~"]
["SA37",2025,"LIM351",709,null,null,null,null,null,null,null,null,null,null,null,null,null,null,null,null,null,null,"~"]
["SA37",2025,"LIM351",710,null,null,null,null,null,null,null,null,null,null,null,null,null,null,null,null,null,null,"~"]
["SA37",2025,"LIM351",711,null,null,null,null,null,null,null,null,null,null,null,null,null,null,null,null,null,null,"~"]
["SA37",2025,"LIM351",712,null,null,null,null,null,null,null,null,null,null,null,null,null,null,null,null,null,null,"~"]
["SA37",2025,"LIM351",713,null,null,null,null,null,null,null,null,null,null,null,null,null,null,null,null,null,null,"~"]
["SA37",2025,"LIM351",714,null,null,null,null,null,null,null,null,null,null,null,null,null,null,null,null,null,null,"~"]
["SA37",2025,"LIM351",715,null,null,null,null,null,null,null,null,null,null,null,null,null,null,null,null,null,null,"~"]
["SA37",2025,"LIM351",716,null,null,null,null,null,null,null,null,null,null,null,null,null,null,null,null,null,null,"~"]
["SA37",2025,"LIM351",717,null,null,null,null,null,null,null,null,null,null,null,null,null,null,null,null,null,null,"~"]
["SA37",2025,"LIM351",718,null,null,null,null,null,null,null,null,null,null,null,null,null,null,null,null,null,null,"~"]
["SA37",2025,"LIM351",719,null,null,null,null,null,null,null,null,null,null,null,null,null,null,null,null,null,null,"~"]
["SA37",2025,"LIM351",720,null,null,null,null,null,null,null,null,null,null,null,null,null,null,null,null,null,null,"~"]
["SA37",2025,"LIM351",721,null,null,null,null,null,null,null,null,null,null,null,null,null,null,null,null,null,null,"~"]
["SA37",2025,"LIM351",722,null,null,null,null,null,null,null,null,null,null,null,null,null,null,null,null,null,null,"~"]
["SA37",2025,"LIM351",723,null,null,null,null,null,null,null,null,null,null,null,null,null,null,null,null,null,null,"~"]
["SA37",2025,"LIM351",724,null,null,null,null,null,null,null,null,null,null,null,null,null,null,null,null,null,null,"~"]
["SA37",2025,"LIM351",725,null,null,null,null,null,null,null,null,null,null,null,null,null,null,null,null,null,null,"~"]
["SA37",2025,"LIM351",726,null,null,null,null,null,null,null,null,null,null,null,null,null,null,null,null,null,null,"~"]
["SA37",2025,"LIM351",727,null,null,null,null,null,null,null,null,null,null,null,null,null,null,null,null,null,null,"~"]
["SA37",2025,"LIM351",728,null,null,null,null,null,null,null,null,null,null,null,null,null,null,null,null,null,null,"~"]
["SA37",2025,"LIM351",729,null,null,null,null,null,null,null,null,null,null,null,null,null,null,null,null,null,null,"~"]
["SA37",2025,"LIM351",730,null,null,null,null,null,null,null,null,null,null,null,null,null,null,null,null,null,null,"~"]
["SA37",2025,"LIM351",731,null,null,null,null,null,null,null,null,null,null,null,null,null,null,null,null,null,null,"~"]
["SA37",2025,"LIM351",732,null,null,null,null,null,null,null,null,null,null,null,null,null,null,null,null,null,null,"~"]
["SA37",2025,"LIM351",733,null,null,null,null,null,null,null,null,null,null,null,null,null,null,null,null,null,null,"~"]
["SA37",2025,"LIM351",734,null,null,null,null,null,null,null,null,null,null,null,null,null,null,null,null,null,null,"~"]
["SA37",2025,"LIM351",735,null,null,null,null,null,null,null,null,null,null,null,null,null,null,null,null,null,null,"~"]
["SA37",2025,"LIM351",736,null,null,null,null,null,null,null,null,null,null,null,null,null,null,null,null,null,null,"~"]
["SA37",2025,"LIM351",737,null,null,null,null,null,null,null,null,null,null,null,null,null,null,null,null,null,null,"~"]
["SA37",2025,"LIM351",738,null,null,null,null,null,null,null,null,null,null,null,null,null,null,null,null,null,null,"~"]
["SA37",2025,"LIM351",739,null,null,null,null,null,null,null,null,null,null,null,null,null,null,null,null,null,null,"~"]
["SA37",2025,"LIM351",740,null,null,null,null,null,null,null,null,null,null,null,null,null,null,null,null,null,null,"~"]
["SA37",2025,"LIM351",741,null,null,null,null,null,null,null,null,null,null,null,null,null,null,null,null,null,null,"~"]
["SA37",2025,"LIM351",742,null,null,null,null,null,null,null,null,null,null,null,null,null,null,null,null,null,null,"~"]
["SA37",2025,"LIM351",743,null,null,null,null,null,null,null,null,null,null,null,null,null,null,null,null,null,null,"~"]
["SA37",2025,"LIM351",744,null,null,null,null,null,null,null,null,null,null,null,null,null,null,null,null,null,null,"~"]
["SA37",2025,"LIM351",745,null,null,null,null,null,null,null,null,null,null,null,null,null,null,null,null,null,null,"~"]
["SA37",2025,"LIM351",746,null,null,null,null,null,null,null,null,null,null,null,null,null,null,null,null,null,null,"~"]
["SA37",2025,"LIM351",747,null,null,null,null,null,null,null,null,null,null,null,null,null,null,null,null,null,null,"~"]
["SA37",2025,"LIM351",748,null,null,null,null,null,null,null,null,null,null,null,null,null,null,null,null,null,null,"~"]
["SA37",2025,"LIM351",749,null,null,null,null,null,null,null,null,null,null,null,null,null,null,null,null,null,null,"~"]
["SA37",2025,"LIM351",750,null,null,null,null,null,null,null,null,null,null,null,null,null,null,null,null,null,null,"~"]
["SA37",2025,"LIM351",751,null,null,null,null,null,null,null,null,null,null,null,null,null,null,null,null,null,null,"~"]
["SA37",{"$f":"+MTREF","v":2025},{"$f":"LEFT(muni,(FIND(\" \",muni,1)-1))","v":"LIM351"},752,null,null,null,null,null,null,null,null,null,null,null,null,null,null,null,null,null,null,"~"]
["SA37",2025,"LIM351",753,null,null,null,null,null,null,null,null,null,null,null,null,null,null,null,null,null,null,"~"]
["SA37",2025,"LIM351",754,null,null,null,null,null,null,null,null,null,null,null,null,null,null,null,null,null,null,"~"]
["SA37",2025,"LIM351",755,null,null,null,null,null,null,null,null,null,null,null,null,null,null,null,null,null,null,"~"]
["SA37",2025,"LIM351",756,null,null,null,null,null,null,null,null,null,null,null,null,null,null,null,null,null,null,"~"]
["SA37",2025,"LIM351",757,null,null,null,null,null,null,null,null,null,null,null,null,null,null,null,null,null,null,"~"]
["SA37",2025,"LIM351",758,null,null,null,null,null,null,null,null,null,null,null,null,null,null,null,null,null,null,"~"]
["SA37",2025,"LIM351",759,null,null,null,null,null,null,null,null,null,null,null,null,null,null,null,null,null,null,"~"]
["SA37",2025,"LIM351",760,null,null,null,null,null,null,null,null,null,null,null,null,null,null,null,null,null,null,"~"]
["SA37",2025,"LIM351",761,null,null,null,null,null,null,null,null,null,null,null,null,null,null,null,null,null,null,"~"]
["SA37",2025,"LIM351",762,null,null,null,null,null,null,null,null,null,null,null,null,null,null,null,null,null,null,"~"]
["SA37",2025,"LIM351",763,null,null,null,null,null,null,null,null,null,null,null,null,null,null,null,null,null,null,"~"]
["SA37",2025,"LIM351",764,null,null,null,null,null,null,null,null,null,null,null,null,null,null,null,null,null,null,"~"]
["SA37",2025,"LIM351",765,null,null,null,null,null,null,null,null,null,null,null,null,null,null,null,null,null,null,"~"]
["SA37",2025,"LIM351",766,null,null,null,null,null,null,null,null,null,null,null,null,null,null,null,null,null,null,"~"]
["SA37",2025,"LIM351",767,null,null,null,null,null,null,null,null,null,null,null,null,null,null,null,null,null,null,"~"]
["SA37",2025,"LIM351",768,null,null,null,null,null,null,null,null,null,null,null,null,null,null,null,null,null,null,"~"]
["SA37",2025,"LIM351",769,null,null,null,null,null,null,null,null,null,null,null,null,null,null,null,null,null,null,"~"]
["SA37",2025,"LIM351",770,null,null,null,null,null,null,null,null,null,null,null,null,null,null,null,null,null,null,"~"]
["SA37",2025,"LIM351",771,null,null,null,null,null,null,null,null,null,null,null,null,null,null,null,null,null,null,"~"]
["SA37",2025,"LIM351",772,null,null,null,null,null,null,null,null,null,null,null,null,null,null,null,null,null,null,"~"]
["SA37",2025,"LIM351",773,null,null,null,null,null,null,null,null,null,null,null,null,null,null,null,null,null,null,"~"]
["SA37",2025,"LIM351",774,null,null,null,null,null,null,null,null,null,null,null,null,null,null,null,null,null,null,"~"]
["SA37",2025,"LIM351",775,null,null,null,null,null,null,null,null,null,null,null,null,null,null,null,null,null,null,"~"]
["SA37",2025,"LIM351",776,null,null,null,null,null,null,null,null,null,null,null,null,null,null,null,null,null,null,"~"]
["SA37",2025,"LIM351",777,null,null,null,null,null,null,null,null,null,null,null,null,null,null,null,null,null,null,"~"]
["SA37",2025,"LIM351",778,null,null,null,null,null,null,null,null,null,null,null,null,null,null,null,null,null,null,"~"]
["SA37",2025,"LIM351",779,null,null,null,null,null,null,null,null,null,null,null,null,null,null,null,null,null,null,"~"]
["SA37",2025,"LIM351",780,null,null,null,null,null,null,null,null,null,null,null,null,null,null,null,null,null,null,"~"]
["SA37",2025,"LIM351",781,null,null,null,null,null,null,null,null,null,null,null,null,null,null,null,null,null,null,"~"]
["SA37",2025,"LIM351",782,null,null,null,null,null,null,null,null,null,null,null,null,null,null,null,null,null,null,"~"]
["SA37",2025,"LIM351",783,null,null,null,null,null,null,null,null,null,null,null,null,null,null,null,null,null,null,"~"]
["SA37",2025,"LIM351",784,null,null,null,null,null,null,null,null,null,null,null,null,null,null,null,null,null,null,"~"]
["SA37",2025,"LIM351",785,null,null,null,null,null,null,null,null,null,null,null,null,null,null,null,null,null,null,"~"]
["SA37",2025,"LIM351",786,null,null,null,null,null,null,null,null,null,null,null,null,null,null,null,null,null,null,"~"]
["SA37",2025,"LIM351",787,null,null,null,null,null,null,null,null,null,null,null,null,null,null,null,null,null,null,"~"]
["SA37",2025,"LIM351",788,null,null,null,null,null,null,null,null,null,null,null,null,null,null,null,null,null,null,"~"]
["SA37",2025,"LIM351",789,null,null,null,null,null,null,null,null,null,null,null,null,null,null,null,null,null,null,"~"]
["SA37",2025,"LIM351",790,null,null,null,null,null,null,null,null,null,null,null,null,null,null,null,null,null,null,"~"]
["SA37",2025,"LIM351",791,null,null,null,null,null,null,null,null,null,null,null,null,null,null,null,null,null,null,"~"]
["SA37",2025,"LIM351",792,null,null,null,null,null,null,null,null,null,null,null,null,null,null,null,null,null,null,"~"]
["SA37",2025,"LIM351",793,null,null,null,null,null,null,null,null,null,null,null,null,null,null,null,null,null,null,"~"]
["SA37",2025,"LIM351",794,null,null,null,null,null,null,null,null,null,null,null,null,null,null,null,null,null,null,"~"]
["SA37",2025,"LIM351",795,null,null,null,null,null,null,null,null,null,null,null,null,null,null,null,null,null,null,"~"]
["SA37",2025,"LIM351",796,null,null,null,null,null,null,null,null,null,null,null,null,null,null,null,null,null,null,"~"]
["SA37",2025,"LIM351",797,null,null,null,null,null,null,null,null,null,null,null,null,null,null,null,null,null,null,"~"]
["SA37",2025,"LIM351",798,null,null,null,null,null,null,null,null,null,null,null,null,null,null,null,null,null,null,"~"]
["SA37",2025,"LIM351",799,null,null,null,null,null,null,null,null,null,null,null,null,null,null,null,null,null,null,"~"]
["SA37",2025,"LIM351",800,null,null,null,null,null,null,null,null,null,null,null,null,null,null,null,null,null,null,"~"]
["SA37",2025,"LIM351",801,null,null,null,null,null,null,null,null,null,null,null,null,null,null,null,null,null,null,"~"]
["SA37",2025,"LIM351",802,null,null,null,null,null,null,null,null,null,null,null,null,null,null,null,null,null,null,"~"]
["SA37",2025,"LIM351",803,null,null,null,null,null,null,null,null,null,null,null,null,null,null,null,null,null,null,"~"]
["SA37",2025,"LIM351",804,null,null,null,null,null,null,null,null,null,null,null,null,null,null,null,null,null,null,"~"]
["SA37",2025,"LIM351",805,null,null,null,null,null,null,null,null,null,null,null,null,null,null,null,null,null,null,"~"]
["SA37",2025,"LIM351",806,null,null,null,null,null,null,null,null,null,null,null,null,null,null,null,null,null,null,"~"]
["SA37",2025,"LIM351",807,null,null,null,null,null,null,null,null,null,null,null,null,null,null,null,null,null,null,"~"]
["SA37",2025,"LIM351",808,null,null,null,null,null,null,null,null,null,null,null,null,null,null,null,null,null,null,"~"]
["SA37",2025,"LIM351",809,null,null,null,null,null,null,null,null,null,null,null,null,null,null,null,null,null,null,"~"]
["SA37",2025,"LIM351",810,null,null,null,null,null,null,null,null,null,null,null,null,null,null,null,null,null,null,"~"]
["SA37",2025,"LIM351",811,null,null,null,null,null,null,null,null,null,null,null,null,null,null,null,null,null,null,"~"]
["SA37",2025,"LIM351",812,null,null,null,null,null,null,null,null,null,null,null,null,null,null,null,null,null,null,"~"]
["SA37",2025,"LIM351",813,null,null,null,null,null,null,null,null,null,null,null,null,null,null,null,null,null,null,"~"]
["SA37",2025,"LIM351",814,null,null,null,null,null,null,null,null,null,null,null,null,null,null,null,null,null,null,"~"]
["SA37",2025,"LIM351",815,null,null,null,null,null,null,null,null,null,null,null,null,null,null,null,null,null,null,"~"]
["SA37",{"$f":"+MTREF","v":2025},{"$f":"LEFT(muni,(FIND(\" \",muni,1)-1))","v":"LIM351"},816,null,null,null,null,null,null,null,null,null,null,null,null,null,null,null,null,null,null,"~"]
["SA37",2025,"LIM351",817,null,null,null,null,null,null,null,null,null,null,null,null,null,null,null,null,null,null,"~"]
["SA37",2025,"LIM351",818,null,null,null,null,null,null,null,null,null,null,null,null,null,null,null,null,null,null,"~"]
["SA37",2025,"LIM351",819,null,null,null,null,null,null,null,null,null,null,null,null,null,null,null,null,null,null,"~"]
["SA37",2025,"LIM351",820,null,null,null,null,null,null,null,null,null,null,null,null,null,null,null,null,null,null,"~"]
["SA37",2025,"LIM351",821,null,null,null,null,null,null,null,null,null,null,null,null,null,null,null,null,null,null,"~"]
["SA37",2025,"LIM351",822,null,null,null,null,null,null,null,null,null,null,null,null,null,null,null,null,null,null,"~"]
["SA37",2025,"LIM351",823,null,null,null,null,null,null,null,null,null,null,null,null,null,null,null,null,null,null,"~"]
["SA37",2025,"LIM351",824,null,null,null,null,null,null,null,null,null,null,null,null,null,null,null,null,null,null,"~"]
["SA37",2025,"LIM351",825,null,null,null,null,null,null,null,null,null,null,null,null,null,null,null,null,null,null,"~"]
["SA37",2025,"LIM351",826,null,null,null,null,null,null,null,null,null,null,null,null,null,null,null,null,null,null,"~"]
["SA37",2025,"LIM351",827,null,null,null,null,null,null,null,null,null,null,null,null,null,null,null,null,null,null,"~"]
["SA37",2025,"LIM351",828,null,null,null,null,null,null,null,null,null,null,null,null,null,null,null,null,null,null,"~"]
["SA37",2025,"LIM351",829,null,null,null,null,null,null,null,null,null,null,null,null,null,null,null,null,null,null,"~"]
["SA37",2025,"LIM351",830,null,null,null,null,null,null,null,null,null,null,null,null,null,null,null,null,null,null,"~"]
["SA37",2025,"LIM351",831,null,null,null,null,null,null,null,null,null,null,null,null,null,null,null,null,null,null,"~"]
["SA37",2025,"LIM351",832,null,null,null,null,null,null,null,null,null,null,null,null,null,null,null,null,null,null,"~"]
["SA37",2025,"LIM351",833,null,null,null,null,null,null,null,null,null,null,null,null,null,null,null,null,null,null,"~"]
["SA37",2025,"LIM351",834,null,null,null,null,null,null,null,null,null,null,null,null,null,null,null,null,null,null,"~"]
["SA37",2025,"LIM351",835,null,null,null,null,null,null,null,null,null,null,null,null,null,null,null,null,null,null,"~"]
["SA37",2025,"LIM351",836,null,null,null,null,null,null,null,null,null,null,null,null,null,null,null,null,null,null,"~"]
["SA37",2025,"LIM351",837,null,null,null,null,null,null,null,null,null,null,null,null,null,null,null,null,null,null,"~"]
["SA37",2025,"LIM351",838,null,null,null,null,null,null,null,null,null,null,null,null,null,null,null,null,null,null,"~"]
["SA37",2025,"LIM351",839,null,null,null,null,null,null,null,null,null,null,null,null,null,null,null,null,null,null,"~"]
["SA37",2025,"LIM351",840,null,null,null,null,null,null,null,null,null,null,null,null,null,null,null,null,null,null,"~"]
["SA37",2025,"LIM351",841,null,null,null,null,null,null,null,null,null,null,null,null,null,null,null,null,null,null,"~"]
["SA37",2025,"LIM351",842,null,null,null,null,null,null,null,null,null,null,null,null,null,null,null,null,null,null,"~"]
["SA37",2025,"LIM351",843,null,null,null,null,null,null,null,null,null,null,null,null,null,null,null,null,null,null,"~"]
["SA37",2025,"LIM351",844,null,null,null,null,null,null,null,null,null,null,null,null,null,null,null,null,null,null,"~"]
["SA37",2025,"LIM351",845,null,null,null,null,null,null,null,null,null,null,null,null,null,null,null,null,null,null,"~"]
["SA37",2025,"LIM351",846,null,null,null,null,null,null,null,null,null,null,null,null,null,null,null,null,null,null,"~"]
["SA37",2025,"LIM351",847,null,null,null,null,null,null,null,null,null,null,null,null,null,null,null,null,null,null,"~"]
["SA37",2025,"LIM351",848,null,null,null,null,null,null,null,null,null,null,null,null,null,null,null,null,null,null,"~"]
["SA37",2025,"LIM351",849,null,null,null,null,null,null,null,null,null,null,null,null,null,null,null,null,null,null,"~"]
["SA37",2025,"LIM351",850,null,null,null,null,null,null,null,null,null,null,null,null,null,null,null,null,null,null,"~"]
["SA37",2025,"LIM351",851,null,null,null,null,null,null,null,null,null,null,null,null,null,null,null,null,null,null,"~"]
["SA37",2025,"LIM351",852,null,null,null,null,null,null,null,null,null,null,null,null,null,null,null,null,null,null,"~"]
["SA37",2025,"LIM351",853,null,null,null,null,null,null,null,null,null,null,null,null,null,null,null,null,null,null,"~"]
["SA37",2025,"LIM351",854,null,null,null,null,null,null,null,null,null,null,null,null,null,null,null,null,null,null,"~"]
["SA37",2025,"LIM351",855,null,null,null,null,null,null,null,null,null,null,null,null,null,null,null,null,null,null,"~"]
["SA37",2025,"LIM351",856,null,null,null,null,null,null,null,null,null,null,null,null,null,null,null,null,null,null,"~"]
["SA37",2025,"LIM351",857,null,null,null,null,null,null,null,null,null,null,null,null,null,null,null,null,null,null,"~"]
["SA37",2025,"LIM351",858,null,null,null,null,null,null,null,null,null,null,null,null,null,null,null,null,null,null,"~"]
["SA37",2025,"LIM351",859,null,null,null,null,null,null,null,null,null,null,null,null,null,null,null,null,null,null,"~"]
["SA37",2025,"LIM351",860,null,null,null,null,null,null,null,null,null,null,null,null,null,null,null,null,null,null,"~"]
["SA37",2025,"LIM351",861,null,null,null,null,null,null,null,null,null,null,null,null,null,null,null,null,null,null,"~"]
["SA37",2025,"LIM351",862,null,null,null,null,null,null,null,null,null,null,null,null,null,null,null,null,null,null,"~"]
["SA37",2025,"LIM351",863,null,null,null,null,null,null,null,null,null,null,null,null,null,null,null,null,null,null,"~"]
["SA37",2025,"LIM351",864,null,null,null,null,null,null,null,null,null,null,null,null,null,null,null,null,null,null,"~"]
["SA37",2025,"LIM351",865,null,null,null,null,null,null,null,null,null,null,null,null,null,null,null,null,null,null,"~"]
["SA37",2025,"LIM351",866,null,null,null,null,null,null,null,null,null,null,null,null,null,null,null,null,null,null,"~"]
["SA37",2025,"LIM351",867,null,null,null,null,null,null,null,null,null,null,null,null,null,null,null,null,null,null,"~"]
["SA37",2025,"LIM351",868,null,null,null,null,null,null,null,null,null,null,null,null,null,null,null,null,null,null,"~"]
["SA37",2025,"LIM351",869,null,null,null,null,null,null,null,null,null,null,null,null,null,null,null,null,null,null,"~"]
["SA37",2025,"LIM351",870,null,null,null,null,null,null,null,null,null,null,null,null,null,null,null,null,null,null,"~"]
["SA37",2025,"LIM351",871,null,null,null,null,null,null,null,null,null,null,null,null,null,null,null,null,null,null,"~"]
["SA37",2025,"LIM351",872,null,null,null,null,null,null,null,null,null,null,null,null,null,null,null,null,null,null,"~"]
["SA37",2025,"LIM351",873,null,null,null,null,null,null,null,null,null,null,null,null,null,null,null,null,null,null,"~"]
["SA37",2025,"LIM351",874,null,null,null,null,null,null,null,null,null,null,null,null,null,null,null,null,null,null,"~"]
["SA37",2025,"LIM351",875,null,null,null,null,null,null,null,null,null,null,null,null,null,null,null,null,null,null,"~"]
["SA37",2025,"LIM351",876,null,null,null,null,null,null,null,null,null,null,null,null,null,null,null,null,null,null,"~"]
["SA37",2025,"LIM351",877,null,null,null,null,null,null,null,null,null,null,null,null,null,null,null,null,null,null,"~"]
["SA37",2025,"LIM351",878,null,null,null,null,null,null,null,null,null,null,null,null,null,null,null,null,null,null,"~"]
["SA37",2025,"LIM351",879,null,null,null,null,null,null,null,null,null,null,null,null,null,null,null,null,null,null,"~"]
["SA37",{"$f":"+MTREF","v":2025},{"$f":"LEFT(muni,(FIND(\" \",muni,1)-1))","v":"LIM351"},880,null,null,null,null,null,null,null,null,null,null,null,null,null,null,null,null,null,null,"~"]
["SA37",2025,"LIM351",881,null,null,null,null,null,null,null,null,null,null,null,null,null,null,null,null,null,null,"~"]
["SA37",2025,"LIM351",882,null,null,null,null,null,null,null,null,null,null,null,null,null,null,null,null,null,null,"~"]
["SA37",2025,"LIM351",883,null,null,null,null,null,null,null,null,null,null,null,null,null,null,null,null,null,null,"~"]
["SA37",2025,"LIM351",884,null,null,null,null,null,null,null,null,null,null,null,null,null,null,null,null,null,null,"~"]
["SA37",2025,"LIM351",885,null,null,null,null,null,null,null,null,null,null,null,null,null,null,null,null,null,null,"~"]
["SA37",2025,"LIM351",886,null,null,null,null,null,null,null,null,null,null,null,null,null,null,null,null,null,null,"~"]
["SA37",2025,"LIM351",887,null,null,null,null,null,null,null,null,null,null,null,null,null,null,null,null,null,null,"~"]
["SA37",2025,"LIM351",888,null,null,null,null,null,null,null,null,null,null,null,null,null,null,null,null,null,null,"~"]
["SA37",2025,"LIM351",889,null,null,null,null,null,null,null,null,null,null,null,null,null,null,null,null,null,null,"~"]
["SA37",2025,"LIM351",890,null,null,null,null,null,null,null,null,null,null,null,null,null,null,null,null,null,null,"~"]
["SA37",2025,"LIM351",891,null,null,null,null,null,null,null,null,null,null,null,null,null,null,null,null,null,null,"~"]
["SA37",2025,"LIM351",892,null,null,null,null,null,null,null,null,null,null,null,null,null,null,null,null,null,null,"~"]
["SA37",2025,"LIM351",893,null,null,null,null,null,null,null,null,null,null,null,null,null,null,null,null,null,null,"~"]
["SA37",2025,"LIM351",894,null,null,null,null,null,null,null,null,null,null,null,null,null,null,null,null,null,null,"~"]
["SA37",2025,"LIM351",895,null,null,null,null,null,null,null,null,null,null,null,null,null,null,null,null,null,null,"~"]
["SA37",2025,"LIM351",896,null,null,null,null,null,null,null,null,null,null,null,null,null,null,null,null,null,null,"~"]
["SA37",2025,"LIM351",897,null,null,null,null,null,null,null,null,null,null,null,null,null,null,null,null,null,null,"~"]
["SA37",2025,"LIM351",898,null,null,null,null,null,null,null,null,null,null,null,null,null,null,null,null,null,null,"~"]
["SA37",2025,"LIM351",899,null,null,null,null,null,null,null,null,null,null,null,null,null,null,null,null,null,null,"~"]
["SA37",2025,"LIM351",900,null,null,null,null,null,null,null,null,null,null,null,null,null,null,null,null,null,null,"~"]
["SA37",2025,"LIM351",901,null,null,null,null,null,null,null,null,null,null,null,null,null,null,null,null,null,null,"~"]
["SA37",2025,"LIM351",902,null,null,null,null,null,null,null,null,null,null,null,null,null,null,null,null,null,null,"~"]
["SA37",2025,"LIM351",903,null,null,null,null,null,null,null,null,null,null,null,null,null,null,null,null,null,null,"~"]
["SA37",2025,"LIM351",904,null,null,null,null,null,null,null,null,null,null,null,null,null,null,null,null,null,null,"~"]
["SA37",2025,"LIM351",905,null,null,null,null,null,null,null,null,null,null,null,null,null,null,null,null,null,null,"~"]
["SA37",2025,"LIM351",906,null,null,null,null,null,null,null,null,null,null,null,null,null,null,null,null,null,null,"~"]
["SA37",2025,"LIM351",907,null,null,null,null,null,null,null,null,null,null,null,null,null,null,null,null,null,null,"~"]
["SA37",2025,"LIM351",908,null,null,null,null,null,null,null,null,null,null,null,null,null,null,null,null,null,null,"~"]
["SA37",2025,"LIM351",909,null,null,null,null,null,null,null,null,null,null,null,null,null,null,null,null,null,null,"~"]
["SA37",2025,"LIM351",910,null,null,null,null,null,null,null,null,null,null,null,null,null,null,null,null,null,null,"~"]
["SA37",2025,"LIM351",911,null,null,null,null,null,null,null,null,null,null,null,null,null,null,null,null,null,null,"~"]
["SA37",2025,"LIM351",912,null,null,null,null,null,null,null,null,null,null,null,null,null,null,null,null,null,null,"~"]
["SA37",2025,"LIM351",913,null,null,null,null,null,null,null,null,null,null,null,null,null,null,null,null,null,null,"~"]
["SA37",2025,"LIM351",914,null,null,null,null,null,null,null,null,null,null,null,null,null,null,null,null,null,null,"~"]
["SA37",2025,"LIM351",915,null,null,null,null,null,null,null,null,null,null,null,null,null,null,null,null,null,null,"~"]
["SA37",2025,"LIM351",916,null,null,null,null,null,null,null,null,null,null,null,null,null,null,null,null,null,null,"~"]
["SA37",2025,"LIM351",917,null,null,null,null,null,null,null,null,null,null,null,null,null,null,null,null,null,null,"~"]
["SA37",2025,"LIM351",918,null,null,null,null,null,null,null,null,null,null,null,null,null,null,null,null,null,null,"~"]
["SA37",2025,"LIM351",919,null,null,null,null,null,null,null,null,null,null,null,null,null,null,null,null,null,null,"~"]
["SA37",2025,"LIM351",920,null,null,null,null,null,null,null,null,null,null,null,null,null,null,null,null,null,null,"~"]
["SA37",2025,"LIM351",921,null,null,null,null,null,null,null,null,null,null,null,null,null,null,null,null,null,null,"~"]
["SA37",2025,"LIM351",922,null,null,null,null,null,null,null,null,null,null,null,null,null,null,null,null,null,null,"~"]
["SA37",2025,"LIM351",923,null,null,null,null,null,null,null,null,null,null,null,null,null,null,null,null,null,null,"~"]
["SA37",2025,"LIM351",924,null,null,null,null,null,null,null,null,null,null,null,null,null,null,null,null,null,null,"~"]
["SA37",2025,"LIM351",925,null,null,null,null,null,null,null,null,null,null,null,null,null,null,null,null,null,null,"~"]
["SA37",2025,"LIM351",926,null,null,null,null,null,null,null,null,null,null,null,null,null,null,null,null,null,null,"~"]
["SA37",2025,"LIM351",927,null,null,null,null,null,null,null,null,null,null,null,null,null,null,null,null,null,null,"~"]
["SA37",2025,"LIM351",928,null,null,null,null,null,null,null,null,null,null,null,null,null,null,null,null,null,null,"~"]
["SA37",2025,"LIM351",929,null,null,null,null,null,null,null,null,null,null,null,null,null,null,null,null,null,null,"~"]
["SA37",2025,"LIM351",930,null,null,null,null,null,null,null,null,null,null,null,null,null,null,null,null,null,null,"~"]
["SA37",2025,"LIM351",931,null,null,null,null,null,null,null,null,null,null,null,null,null,null,null,null,null,null,"~"]
["SA37",2025,"LIM351",932,null,null,null,null,null,null,null,null,null,null,null,null,null,null,null,null,null,null,"~"]
["SA37",2025,"LIM351",933,null,null,null,null,null,null,null,null,null,null,null,null,null,null,null,null,null,null,"~"]
["SA37",2025,"LIM351",934,null,null,null,null,null,null,null,null,null,null,null,null,null,null,null,null,null,null,"~"]
["SA37",2025,"LIM351",935,null,null,null,null,null,null,null,null,null,null,null,null,null,null,null,null,null,null,"~"]
["SA37",2025,"LIM351",936,null,null,null,null,null,null,null,null,null,null,null,null,null,null,null,null,null,null,"~"]
["SA37",2025,"LIM351",937,null,null,null,null,null,null,null,null,null,null,null,null,null,null,null,null,null,null,"~"]
["SA37",2025,"LIM351",938,null,null,null,null,null,null,null,null,null,null,null,null,null,null,null,null,null,null,"~"]
["SA37",2025,"LIM351",939,null,null,null,null,null,null,null,null,null,null,null,null,null,null,null,null,null,null,"~"]
["SA37",2025,"LIM351",940,null,null,null,null,null,null,null,null,null,null,null,null,null,null,null,null,null,null,"~"]
["SA37",2025,"LIM351",941,null,null,null,null,null,null,null,null,null,null,null,null,null,null,null,null,null,null,"~"]
["SA37",2025,"LIM351",942,null,null,null,null,null,null,null,null,null,null,null,null,null,null,null,null,null,null,"~"]
["SA37",2025,"LIM351",943,null,null,null,null,null,null,null,null,null,null,null,null,null,null,null,null,null,null,"~"]
["SA37",{"$f":"+MTREF","v":2025},{"$f":"LEFT(muni,(FIND(\" \",muni,1)-1))","v":"LIM351"},944,null,null,null,null,null,null,null,null,null,null,null,null,null,null,null,null,null,null,"~"]
["SA37",2025,"LIM351",945,null,null,null,null,null,null,null,null,null,null,null,null,null,null,null,null,null,null,"~"]
["SA37",2025,"LIM351",946,null,null,null,null,null,null,null,null,null,null,null,null,null,null,null,null,null,null,"~"]
["SA37",2025,"LIM351",947,null,null,null,null,null,null,null,null,null,null,null,null,null,null,null,null,null,null,"~"]
["SA37",2025,"LIM351",948,null,null,null,null,null,null,null,null,null,null,null,null,null,null,null,null,null,null,"~"]
["SA37",2025,"LIM351",949,null,null,null,null,null,null,null,null,null,null,null,null,null,null,null,null,null,null,"~"]
["SA37",2025,"LIM351",950,null,null,null,null,null,null,null,null,null,null,null,null,null,null,null,null,null,null,"~"]
["SA37",2025,"LIM351",951,null,null,null,null,null,null,null,null,null,null,null,null,null,null,null,null,null,null,"~"]
["SA37",2025,"LIM351",952,null,null,null,null,null,null,null,null,null,null,null,null,null,null,null,null,null,null,"~"]
["SA37",2025,"LIM351",953,null,null,null,null,null,null,null,null,null,null,null,null,null,null,null,null,null,null,"~"]
["SA37",2025,"LIM351",954,null,null,null,null,null,null,null,null,null,null,null,null,null,null,null,null,null,null,"~"]
["SA37",2025,"LIM351",955,null,null,null,null,null,null,null,null,null,null,null,null,null,null,null,null,null,null,"~"]
["SA37",2025,"LIM351",956,null,null,null,null,null,null,null,null,null,null,null,null,null,null,null,null,null,null,"~"]
["SA37",2025,"LIM351",957,null,null,null,null,null,null,null,null,null,null,null,null,null,null,null,null,null,null,"~"]
["SA37",2025,"LIM351",958,null,null,null,null,null,null,null,null,null,null,null,null,null,null,null,null,null,null,"~"]
["SA37",2025,"LIM351",959,null,null,null,null,null,null,null,null,null,null,null,null,null,null,null,null,null,null,"~"]
["SA37",2025,"LIM351",960,null,null,null,null,null,null,null,null,null,null,null,null,null,null,null,null,null,null,"~"]
["SA37",2025,"LIM351",961,null,null,null,null,null,null,null,null,null,null,null,null,null,null,null,null,null,null,"~"]
["SA37",2025,"LIM351",962,null,null,null,null,null,null,null,null,null,null,null,null,null,null,null,null,null,null,"~"]
["SA37",2025,"LIM351",963,null,null,null,null,null,null,null,null,null,null,null,null,null,null,null,null,null,null,"~"]
["SA37",2025,"LIM351",964,null,null,null,null,null,null,null,null,null,null,null,null,null,null,null,null,null,null,"~"]
["SA37",2025,"LIM351",965,null,null,null,null,null,null,null,null,null,null,null,null,null,null,null,null,null,null,"~"]
["SA37",2025,"LIM351",966,null,null,null,null,null,null,null,null,null,null,null,null,null,null,null,null,null,null,"~"]
["SA37",2025,"LIM351",967,null,null,null,null,null,null,null,null,null,null,null,null,null,null,null,null,null,null,"~"]
["SA37",2025,"LIM351",968,null,null,null,null,null,null,null,null,null,null,null,null,null,null,null,null,null,null,"~"]
["SA37",2025,"LIM351",969,null,null,null,null,null,null,null,null,null,null,null,null,null,null,null,null,null,null,"~"]
["SA37",2025,"LIM351",970,null,null,null,null,null,null,null,null,null,null,null,null,null,null,null,null,null,null,"~"]
["SA37",2025,"LIM351",971,null,null,null,null,null,null,null,null,null,null,null,null,null,null,null,null,null,null,"~"]
["SA37",2025,"LIM351",972,null,null,null,null,null,null,null,null,null,null,null,null,null,null,null,null,null,null,"~"]
["SA37",2025,"LIM351",973,null,null,null,null,null,null,null,null,null,null,null,null,null,null,null,null,null,null,"~"]
["SA37",2025,"LIM351",974,null,null,null,null,null,null,null,null,null,null,null,null,null,null,null,null,null,null,"~"]
["SA37",2025,"LIM351",975,null,null,null,null,null,null,null,null,null,null,null,null,null,null,null,null,null,null,"~"]
["SA37",2025,"LIM351",976,null,null,null,null,null,null,null,null,null,null,null,null,null,null,null,null,null,null,"~"]
["SA37",2025,"LIM351",977,null,null,null,null,null,null,null,null,null,null,null,null,null,null,null,null,null,null,"~"]
["SA37",2025,"LIM351",978,null,null,null,null,null,null,null,null,null,null,null,null,null,null,null,null,null,null,"~"]
["SA37",2025,"LIM351",979,null,null,null,null,null,null,null,null,null,null,null,null,null,null,null,null,null,null,"~"]
["SA37",2025,"LIM351",980,null,null,null,null,null,null,null,null,null,null,null,null,null,null,null,null,null,null,"~"]
["SA37",2025,"LIM351",981,null,null,null,null,null,null,null,null,null,null,null,null,null,null,null,null,null,null,"~"]
["SA37",2025,"LIM351",982,null,null,null,null,null,null,null,null,null,null,null,null,null,null,null,null,null,null,"~"]
["SA37",2025,"LIM351",983,null,null,null,null,null,null,null,null,null,null,null,null,null,null,null,null,null,null,"~"]
["SA37",2025,"LIM351",984,null,null,null,null,null,null,null,null,null,null,null,null,null,null,null,null,null,null,"~"]
["SA37",2025,"LIM351",985,null,null,null,null,null,null,null,null,null,null,null,null,null,null,null,null,null,null,"~"]
["SA37",2025,"LIM351",986,null,null,null,null,null,null,null,null,null,null,null,null,null,null,null,null,null,null,"~"]
["SA37",2025,"LIM351",987,null,null,null,null,null,null,null,null,null,null,null,null,null,null,null,null,null,null,"~"]
["SA37",2025,"LIM351",988,null,null,null,null,null,null,null,null,null,null,null,null,null,null,null,null,null,null,"~"]
["SA37",2025,"LIM351",989,null,null,null,null,null,null,null,null,null,null,null,null,null,null,null,null,null,null,"~"]
["SA37",2025,"LIM351",990,null,null,null,null,null,null,null,null,null,null,null,null,null,null,null,null,null,null,"~"]
["SA37",2025,"LIM351",991,null,null,null,null,null,null,null,null,null,null,null,null,null,null,null,null,null,null,"~"]
["SA37",2025,"LIM351",992,null,null,null,null,null,null,null,null,null,null,null,null,null,null,null,null,null,null,"~"]
["SA37",2025,"LIM351",993,null,null,null,null,null,null,null,null,null,null,null,null,null,null,null,null,null,null,"~"]
["SA37",2025,"LIM351",994,null,null,null,null,null,null,null,null,null,null,null,null,null,null,null,null,null,null,"~"]
["SA37",2025,"LIM351",995,null,null,null,null,null,null,null,null,null,null,null,null,null,null,null,null,null,null,"~"]
["SA37",2025,"LIM351",996,null,null,null,null,null,null,null,null,null,null,null,null,null,null,null,null,null,null,"~"]
["SA37",2025,"LIM351",997,null,null,null,null,null,null,null,null,null,null,null,null,null,null,null,null,null,null,"~"]
["SA37",2025,"LIM351",998,null,null,null,null,null,null,null,null,null,null,null,null,null,null,null,null,null,null,"~"]
["SA37",2025,"LIM351",999,null,null,null,null,null,null,null,null,null,null,null,null,null,null,null,null,null,null,"~"]
["SA37",2025,"LIM351",1000,null,null,null,null,null,null,null,null,null,null,null,null,null,null,null,null,null,null,"~"]
["CONTACT",2025,"LIM351",1,null,null,null,null,null,null,null,null,null,null,null,null,null,null,null,null,null,null,"~"]
["CONTACT",2025,"LIM351",2,null,null,null,null,null,null,null,null,null,null,null,null,null,null,null,null,null,null,"~"]
["CONTACT",2025,"LIM351",3,null,null,null,null,null,null,null,null,null,null,null,null,null,null,null,null,null,null,"~"]
["CONTACT",2025,"LIM351",4,null,null,null,null,null,null,null,null,null,null,null,null,null,null,null,null,null,null,"~"]
["CONTACT",2025,"LIM351",5,null,null,null,null,null,null,null,null,null,null,null,null,null,null,null,null,null,null,"~"]
["CONTACT",2025,"LIM351",6,null,null,null,null,null,null,null,null,null,null,null,null,null,null,null,null,null,null,"~"]
["CONTACT",2025,"LIM351",7,null,null,null,null,null,null,null,null,null,null,null,null,null,null,null,null,null,null,"~"]
["CONTACT",{"$f":"+MTREF","v":2025},{"$f":"LEFT(muni,(FIND(\" \",muni,1)-1))","v":"LIM351"},8,null,null,null,null,null,null,null,null,null,null,null,null,null,null,null,null,null,null,"~"]
["CONTACT",2025,"LIM351",9,null,null,null,null,null,null,null,null,null,null,null,null,null,null,null,null,null,null,"~"]
["CONTACT",2025,"LIM351",10,null,null,null,null,null,null,null,null,null,null,null,null,null,null,null,null,null,null,"~"]
["CONTACT",2025,"LIM351",11,null,null,null,null,null,null,null,null,null,null,null,null,null,null,null,null,null,null,"~"]
["CONTACT",2025,"LIM351",12,null,null,null,null,null,null,null,null,null,null,null,null,null,null,null,null,null,null,"~"]
["CONTACT",2025,"LIM351",13,null,null,null,null,null,null,null,null,null,null,null,null,null,null,null,null,null,null,"~"]
["CONTACT",2025,"LIM351",14,null,null,null,null,null,null,null,null,null,null,null,null,null,null,null,null,null,null,"~"]
["CONTACT",2025,"LIM351",15,null,null,null,null,null,null,null,null,null,null,null,null,null,null,null,null,null,null,"~"]
["CONTACT",2025,"LIM351",16,null,null,null,null,null,null,null,null,null,null,null,null,null,null,null,null,null,null,"~"]
["CONTACT",2025,"LIM351",17,null,null,null,null,null,null,null,null,null,null,null,null,null,null,null,null,null,null,"~"]
["CONTACT",2025,"LIM351",18,null,null,null,null,null,null,null,null,null,null,null,null,null,null,null,null,null,null,"~"]
["CONTACT",2025,"LIM351",19,null,null,null,null,null,null,null,null,null,null,null,null,null,null,null,null,null,null,"~"]
["CONTACT",2025,"LIM351",20,null,null,null,null,null,null,null,null,null,null,null,null,null,null,null,null,null,null,"~"]
["CONTACT",2025,"LIM351",21,null,null,null,null,null,null,null,null,null,null,null,null,null,null,null,null,null,null,"~"]
["CONTACT",2025,"LIM351",22,null,null,null,null,null,null,null,null,null,null,null,null,null,null,null,null,null,null,"~"]
["CONTACT",2025,"LIM351",23,null,null,null,null,null,null,null,null,null,null,null,null,null,null,null,null,null,null,"~"]
["CONTACT",2025,"LIM351",24,null,null,null,null,null,null,null,null,null,null,null,null,null,null,null,null,null,null,"~"]
["CONTACT",2025,"LIM351",25,null,null,null,null,null,null,null,null,null,null,null,null,null,null,null,null,null,null,"~"]
["CONTACT",2025,"LIM351",26,null,null,null,null,null,null,null,null,null,null,null,null,null,null,null,null,null,null,"~"]
["CONTACT",2025,"LIM351",27,null,null,null,null,null,null,null,null,null,null,null,null,null,null,null,null,null,null,"~"]
["CONTACT",2025,"LIM351",28,null,null,null,null,null,null,null,null,null,null,null,null,null,null,null,null,null,null,"~"]
["CONTACT",2025,"LIM351",29,null,null,null,null,null,null,null,null,null,null,null,null,null,null,null,null,null,null,"~"]
["CONTACT",2025,"LIM351",30,null,null,null,null,null,null,null,null,null,null,null,null,null,null,null,null,null,null,"~"]
["CONTACT",2025,"LIM351",31,null,null,null,null,null,null,null,null,null,null,null,null,null,null,null,null,null,null,"~"]
["CONTACT",2025,"LIM351",32,null,null,null,null,null,null,null,null,null,null,null,null,null,null,null,null,null,null,"~"]
["CONTACT",2025,"LIM351",33,null,null,null,null,null,null,null,null,null,null,null,null,null,null,null,null,null,null,"~"]
["CONTACT",2025,"LIM351",34,null,null,null,null,null,null,null,null,null,null,null,null,null,null,null,null,null,null,"~"]
["CONTACT",2025,"LIM351",35,null,null,null,null,null,null,null,null,null,null,null,null,null,null,null,null,null,null,"~"]
["CONTACT",2025,"LIM351",36,null,null,null,null,null,null,null,null,null,null,null,null,null,null,null,null,null,null,"~"]
["CONTACT",2025,"LIM351",37,null,null,null,null,null,null,null,null,null,null,null,null,null,null,null,null,null,null,"~"]
["CONTACT",2025,"LIM351",38,null,null,null,null,null,null,null,null,null,null,null,null,null,null,null,null,null,null,"~"]
["CONTACT",2025,"LIM351",39,null,null,null,null,null,null,null,null,null,null,null,null,null,null,null,null,null,null,"~"]
["CONTACT",2025,"LIM351",40,null,null,null,null,null,null,null,null,null,null,null,null,null,null,null,null,null,null,"~"]
["CONTACT",2025,"LIM351",41,null,null,null,null,null,null,null,null,null,null,null,null,null,null,null,null,null,null,"~"]
["CONTACT",2025,"LIM351",42,null,null,null,null,null,null,null,null,null,null,null,null,null,null,null,null,null,null,"~"]
["CONTACT",2025,"LIM351",43,null,null,null,null,null,null,null,null,null,null,null,null,null,null,null,null,null,null,"~"]
["CONTACT",2025,"LIM351",44,null,null,null,null,null,null,null,null,null,null,null,null,null,null,null,null,null,null,"~"]
["CONTACT",2025,"LIM351",45,null,null,null,null,null,null,null,null,null,null,null,null,null,null,null,null,null,null,"~"]
["CONTACT",2025,"LIM351",46,null,null,null,null,null,null,null,null,null,null,null,null,null,null,null,null,null,null,"~"]
["CONTACT",2025,"LIM351",47,null,null,null,null,null,null,null,null,null,null,null,null,null,null,null,null,null,null,"~"]
["CONTACT",2025,"LIM351",48,null,null,null,null,null,null,null,null,null,null,null,null,null,null,null,null,null,null,"~"]
["CONTACT",2025,"LIM351",49,null,null,null,null,null,null,null,null,null,null,null,null,null,null,null,null,null,null,"~"]
["CONTACT",2025,"LIM351",50,null,null,null,null,null,null,null,null,null,null,null,null,null,null,null,null,null,null,"~"]
["CONTACT",2025,"LIM351",51,null,null,null,null,null,null,null,null,null,null,null,null,null,null,null,null,null,null,"~"]
["CONTACT",2025,"LIM351",52,null,null,null,null,null,null,null,null,null,null,null,null,null,null,null,null,null,null,"~"]
["CONTACT",2025,"LIM351",53,null,null,null,null,null,null,null,null,null,null,null,null,null,null,null,null,null,null,"~"]
["CONTACT",2025,"LIM351",54,null,null,null,null,null,null,null,null,null,null,null,null,null,null,null,null,null,null,"~"]
["CONTACT",2025,"LIM351",55,null,null,null,null,null,null,null,null,null,null,null,null,null,null,null,null,null,null,"~"]
["CONTACT",2025,"LIM351",56,null,null,null,null,null,null,null,null,null,null,null,null,null,null,null,null,null,null,"~"]
["CONTACT",2025,"LIM351",57,null,null,null,null,null,null,null,null,null,null,null,null,null,null,null,null,null,null,"~"]
["CONTACT",2025,"LIM351",58,null,null,null,null,null,null,null,null,null,null,null,null,null,null,null,null,null,null,"~"]
["CONTACT",2025,"LIM351",59,null,null,null,null,null,null,null,null,null,null,null,null,null,null,null,null,null,null,"~"]
["CONTACT",2025,"LIM351",60,null,null,null,null,null,null,null,null,null,null,null,null,null,null,null,null,null,null,"~"]
["CONTACT",2025,"LIM351",61,null,null,null,null,null,null,null,null,null,null,null,null,null,null,null,null,null,null,"~"]
["CONTACT",2025,"LIM351",62,null,null,null,null,null,null,null,null,null,null,null,null,null,null,null,null,null,null,"~"]
["CONTACT",2025,"LIM351",63,null,null,null,null,null,null,null,null,null,null,null,null,null,null,null,null,null,null,"~"]
["CONTACT",2025,"LIM351",64,null,null,null,null,null,null,null,null,null,null,null,null,null,null,null,null,null,null,"~"]
["CONTACT",2025,"LIM351",65,null,null,null,null,null,null,null,null,null,null,null,null,null,null,null,null,null,null,"~"]
["CONTACT",2025,"LIM351",66,null,null,null,null,null,null,null,null,null,null,null,null,null,null,null,null,null,null,"~"]
["CONTACT",2025,"LIM351",67,null,null,null,null,null,null,null,null,null,null,null,null,null,null,null,null,null,null,"~"]
["CONTACT",2025,"LIM351",68,null,null,null,null,null,null,null,null,null,null,null,null,null,null,null,null,null,null,"~"]
["CONTACT",2025,"LIM351",69,null,null,null,null,null,null,null,null,null,null,null,null,null,null,null,null,null,null,"~"]
["CONTACT",2025,"LIM351",70,null,null,null,null,null,null,null,null,null,null,null,null,null,null,null,null,null,null,"~"]
["CONTACT",2025,"LIM351",71,null,null,null,null,null,null,null,null,null,null,null,null,null,null,null,null,null,null,"~"]
["CONTACT",{"$f":"+MTREF","v":2025},{"$f":"LEFT(muni,(FIND(\" \",muni,1)-1))","v":"LIM351"},72,null,null,null,null,null,null,null,null,null,null,null,null,null,null,null,null,null,null,"~"]
["CONTACT",2025,"LIM351",73,null,null,null,null,null,null,null,null,null,null,null,null,null,null,null,null,null,null,"~"]
["CONTACT",2025,"LIM351",74,null,null,null,null,null,null,null,null,null,null,null,null,null,null,null,null,null,null,"~"]
["CONTACT",2025,"LIM351",75,null,null,null,null,null,null,null,null,null,null,null,null,null,null,null,null,null,null,"~"]
["CONTACT",2025,"LIM351",76,null,null,null,null,null,null,null,null,null,null,null,null,null,null,null,null,null,null,"~"]
["CONTACT",2025,"LIM351",77,null,null,null,null,null,null,null,null,null,null,null,null,null,null,null,null,null,null,"~"]
["CONTACT",2025,"LIM351",78,null,null,null,null,null,null,null,null,null,null,null,null,null,null,null,null,null,null,"~"]
["CONTACT",2025,"LIM351",79,null,null,null,null,null,null,null,null,null,null,null,null,null,null,null,null,null,null,"~"]
["CONTACT",2025,"LIM351",80,null,null,null,null,null,null,null,null,null,null,null,null,null,null,null,null,null,null,"~"]
["CONTACT",2025,"LIM351",81,null,null,null,null,null,null,null,null,null,null,null,null,null,null,null,null,null,null,"~"]
["CONTACT",2025,"LIM351",82,null,null,null,null,null,null,null,null,null,null,null,null,null,null,null,null,null,null,"~"]
["CONTACT",2025,"LIM351",83,null,null,null,null,null,null,null,null,null,null,null,null,null,null,null,null,null,null,"~"]
["CONTACT",2025,"LIM351",84,null,null,null,null,null,null,null,null,null,null,null,null,null,null,null,null,null,null,"~"]
["CONTACT",2025,"LIM351",85,null,null,null,null,null,null,null,null,null,null,null,null,null,null,null,null,null,null,"~"]
["CONTACT",2025,"LIM351",86,null,null,null,null,null,null,null,null,null,null,null,null,null,null,null,null,null,null,"~"]
["CONTACT",2025,"LIM351",87,null,null,null,null,null,null,null,null,null,null,null,null,null,null,null,null,null,null,"~"]
["CONTACT",2025,"LIM351",88,null,null,null,null,null,null,null,null,null,null,null,null,null,null,null,null,null,null,"~"]
["CONTACT",2025,"LIM351",89,null,null,null,null,null,null,null,null,null,null,null,null,null,null,null,null,null,null,"~"]
["CONTACT",2025,"LIM351",90,null,null,null,null,null,null,null,null,null,null,null,null,null,null,null,null,null,null,"~"]
["CONTACT",2025,"LIM351",91,null,null,null,null,null,null,null,null,null,null,null,null,null,null,null,null,null,null,"~"]
["CONTACT",2025,"LIM351",92,null,null,null,null,null,null,null,null,null,null,null,null,null,null,null,null,null,null,"~"]
["CONTACT",2025,"LIM351",93,null,null,null,null,null,null,null,null,null,null,null,null,null,null,null,null,null,null,"~"]
["CONTACT",2025,"LIM351",94,null,null,null,null,null,null,null,null,null,null,null,null,null,null,null,null,null,null,"~"]
["CONTACT",2025,"LIM351",95,null,null,null,null,null,null,null,null,null,null,null,null,null,null,null,null,null,null,"~"]
["CONTACT",2025,"LIM351",96,null,null,null,null,null,null,null,null,null,null,null,null,null,null,null,null,null,null,"~"]
["CONTACT",2025,"LIM351",97,null,null,null,null,null,null,null,null,null,null,null,null,null,null,null,null,null,null,"~"]
["CONTACT",2025,"LIM351",98,null,null,null,null,null,null,null,null,null,null,null,null,null,null,null,null,null,null,"~"]
["CONTACT",2025,"LIM351",99,null,null,null,null,null,null,null,null,null,null,null,null,null,null,null,null,null,null,"~"]
["CONTACT",2025,"LIM351",100,null,null,null,null,null,null,null,null,null,null,null,null,null,null,null,null,null,null,"~"]
["CONTACT",2025,"LIM351",101,null,null,null,null,null,null,null,null,null,null,null,null,null,null,null,null,null,null,"~"]
["CONTACT",2025,"LIM351",102,null,null,null,null,null,null,null,null,null,null,null,null,null,null,null,null,null,null,"~"]
["CONTACT",2025,"LIM351",103,null,null,null,null,null,null,null,null,null,null,null,null,null,null,null,null,null,null,"~"]
["CONTACT",2025,"LIM351",104,null,null,null,null,null,null,null,null,null,null,null,null,null,null,null,null,null,null,"~"]
["CONTACT",2025,"LIM351",105,null,null,null,null,null,null,null,null,null,null,null,null,null,null,null,null,null,null,"~"]
["CONTACT",2025,"LIM351",106,null,null,null,null,null,null,null,null,null,null,null,null,null,null,null,null,null,null,"~"]
["CONTACT",2025,"LIM351",107,null,null,null,null,null,null,null,null,null,null,null,null,null,null,null,null,null,null,"~"]
["CONTACT",2025,"LIM351",108,null,null,null,null,null,null,null,null,null,null,null,null,null,null,null,null,null,null,"~"]
["CONTACT",2025,"LIM351",109,null,null,null,null,null,null,null,null,null,null,null,null,null,null,null,null,null,null,"~"]
["CONTACT",2025,"LIM351",110,null,null,null,null,null,null,null,null,null,null,null,null,null,null,null,null,null,null,"~"]
["CONTACT",2025,"LIM351",111,null,null,null,null,null,null,null,null,null,null,null,null,null,null,null,null,null,null,"~"]
["CONTACT",2025,"LIM351",112,null,null,null,null,null,null,null,null,null,null,null,null,null,null,null,null,null,null,"~"]
["CONTACT",2025,"LIM351",113,null,null,null,null,null,null,null,null,null,null,null,null,null,null,null,null,null,null,"~"]
["CONTACT",2025,"LIM351",114,null,null,null,null,null,null,null,null,null,null,null,null,null,null,null,null,null,null,"~"]
["CONTACT",2025,"LIM351",115,null,null,null,null,null,null,null,null,null,null,null,null,null,null,null,null,null,null,"~"]
["CONTACT",2025,"LIM351",116,null,null,null,null,null,null,null,null,null,null,null,null,null,null,null,null,null,null,"~"]
["CONTACT",2025,"LIM351",117,null,null,null,null,null,null,null,null,null,null,null,null,null,null,null,null,null,null,"~"]
["CONTACT",2025,"LIM351",118,null,null,null,null,null,null,null,null,null,null,null,null,null,null,null,null,null,null,"~"]
["CONTACT",2025,"LIM351",119,null,null,null,null,null,null,null,null,null,null,null,null,null,null,null,null,null,null,"~"]
["CONTACT",2025,"LIM351",120,null,null,null,null,null,null,null,null,null,null,null,null,null,null,null,null,null,null,"~"]
["CONTACT",2025,"LIM351",121,null,null,null,null,null,null,null,null,null,null,null,null,null,null,null,null,null,null,"~"]
["CONTACT",2025,"LIM351",122,null,null,null,null,null,null,null,null,null,null,null,null,null,null,null,null,null,null,"~"]
["CONTACT",2025,"LIM351",123,null,null,null,null,null,null,null,null,null,null,null,null,null,null,null,null,null,null,"~"]
["CONTACT",2025,"LIM351",124,null,null,null,null,null,null,null,null,null,null,null,null,null,null,null,null,null,null,"~"]
["CONTACT",2025,"LIM351",125,null,null,null,null,null,null,null,null,null,null,null,null,null,null,null,null,null,null,"~"]
["CONTACT",2025,"LIM351",126,null,null,null,null,null,null,null,null,null,null,null,null,null,null,null,null,null,null,"~"]
["CONTACT",2025,"LIM351",127,null,null,null,null,null,null,null,null,null,null,null,null,null,null,null,null,null,null,"~"]
["CONTACT",2025,"LIM351",128,null,null,null,null,null,null,null,null,null,null,null,null,null,null,null,null,null,null,"~"]
["CONTACT",2025,"LIM351",129,null,null,null,null,null,null,null,null,null,null,null,null,null,null,null,null,null,null,"~"]
["CONTACT",2025,"LIM351",130,null,null,null,null,null,null,null,null,null,null,null,null,null,null,null,null,null,null,"~"]
["CONTACT",2025,"LIM351",131,null,null,null,null,null,null,null,null,null,null,null,null,null,null,null,null,null,null,"~"]
["CONTACT",2025,"LIM351",132,null,null,null,null,null,null,null,null,null,null,null,null,null,null,null,null,null,null,"~"]
["CONTACT",2025,"LIM351",133,null,null,null,null,null,null,null,null,null,null,null,null,null,null,null,null,null,null,"~"]
["CONTACT",2025,"LIM351",134,null,null,null,null,null,null,null,null,null,null,null,null,null,null,null,null,null,null,"~"]
["CONTACT",2025,"LIM351",135,null,null,null,null,null,null,null,null,null,null,null,null,null,null,null,null,null,null,"~"]
["CONTACT",2025,"LIM351",136,null,null,null,null,null,null,null,null,null,null,null,null,null,null,null,null,null,null,"~"]
["CONTACT",2025,"LIM351",137,null,null,null,null,null,null,null,null,null,null,null,null,null,null,null,null,null,null,"~"]
["CONTACT",2025,"LIM351",138,null,null,null,null,null,null,null,null,null,null,null,null,null,null,null,null,null,null,"~"]
["SA25",2025,"LIM351",0,1,"Revenue By Source",null,null,null,null,null,null,null,null,null,null,null,null,null,null,null,null,"~"]
["SA25",2025,"LIM351",0,2,"Property rates",null,null,null,null,null,null,null,null,null,null,null,null,null,null,null,null,"~"]
["SA25",2025,"LIM351",0,3,"Property rates - penalties & collection charges",null,null,null,null,null,null,null,null,null,null,null,null,null,null,null,null,"~"]
["SA25",2025,"LIM351",0,4,"Service charges - electricity revenue",null,null,null,null,null,null,null,null,null,null,null,null,null,null,null,null,"~"]
["SA25",2025,"LIM351",0,5,"Service charges - water revenue",null,null,null,null,null,null,null,null,null,null,null,null,null,null,null,null,"~"]
["SA25",2025,"LIM351",0,6,"Service charges - sanitation revenue",null,null,null,null,null,null,null,null,null,null,null,null,null,null,null,null,"~"]
["SA25",2025,"LIM351",0,7,"Service charges - refuse revenue",null,null,null,null,null,null,null,null,null,null,null,null,null,null,null,null,"~"]
["SA25",2025,"LIM351",0,8,"Service charges - other",null,null,null,null,null,null,null,null,null,null,null,null,null,null,null,null,"~"]
["SA25",2025,"LIM351",0,9,"Rental of facilities and equipment",null,null,null,null,null,null,null,null,null,null,null,null,null,null,null,null,"~"]
["SA25",2025,"LIM351",0,10,"Interest earned - external investments",null,null,null,null,null,null,null,null,null,null,null,null,null,null,null,null,"~"]
["SA25",2025,"LIM351",0,11,"Interest earned - outstanding debtors",null,null,null,null,null,null,null,null,null,null,null,null,null,null,null,null,"~"]
["SA25",2025,"LIM351",0,12,"Dividends received",null,null,null,null,null,null,null,null,null,null,null,null,null,null,null,null,"~"]
["SA25",2025,"LIM351",0,13,"Fines",null,null,null,null,null,null,null,null,null,null,null,null,null,null,null,null,"~"]
["SA25",2025,"LIM351",0,14,"Licences and permits",null,null,null,null,null,null,null,null,null,null,null,null,null,null,null,null,"~"]
["SA25",2025,"LIM351",0,15,"Agency services",null,null,null,null,null,null,null,null,null,null,null,null,null,null,null,null,"~"]
["SA25",2025,"LIM351",0,16,"Transfers recognised - operational",null,null,null,null,null,null,null,null,null,null,null,null,null,null,null,null,"~"]
["SA25",2025,"LIM351",0,17,"Other revenue",null,null,null,null,null,null,null,null,null,null,null,null,null,null,null,null,"~"]
["SA25",2025,"LIM351",0,18,"Gains on disposal of PPE",null,null,null,null,null,null,null,null,null,null,null,null,null,null,null,null,"~"]
["SA25",2025,"LIM351",0,19,"Total Revenue (excluding capital transfers and contributions)",null,null,null,null,null,null,null,null,null,null,null,null,null,null,null,null,"~"]
["SA25",2025,"LIM351",0,20,null,null,null,null,null,null,null,null,null,null,null,null,null,null,null,null,null,"~"]
["SA25",2025,"LIM351",0,21,"Expenditure By Type",null,null,null,null,null,null,null,null,null,null,null,null,null,null,null,null,"~"]
["SA25",2025,"LIM351",0,22,"Employee related costs",null,null,null,null,null,null,null,null,null,null,null,null,null,null,null,null,"~"]
["SA25",2025,"LIM351",0,23,"Remuneration of councillors",null,null,null,null,null,null,null,null,null,null,null,null,null,null,null,null,"~"]
["SA25",2025,"LIM351",0,24,"Debt impairment",null,null,null,null,null,null,null,null,null,null,null,null,null,null,null,null,"~"]
["SA25",2025,"LIM351",0,25,"Depreciation & asset impairment",null,null,null,null,null,null,null,null,null,null,null,null,null,null,null,null,"~"]
["SA25",2025,"LIM351",0,26,"Finance charges",null,null,null,null,null,null,null,null,null,null,null,null,null,null,null,null,"~"]
["SA25",2025,"LIM351",0,27,"Bulk purchases",null,null,null,null,null,null,null,null,null,null,null,null,null,null,null,null,"~"]
["SA25",2025,"LIM351",0,28,"Other materials",null,null,null,null,null,null,null,null,null,null,null,null,null,null,null,null,"~"]
["SA25",2025,"LIM351",0,29,"Contracted services",null,null,null,null,null,null,null,null,null,null,null,null,null,null,null,null,"~"]
["SA25",2025,"LIM351",0,30,"Transfers and grants",null,null,null,null,null,null,null,null,null,null,null,null,null,null,null,null,"~"]
["SA25",2025,"LIM351",0,31,"Other expenditure",null,null,null,null,null,null,null,null,null,null,null,null,null,null,null,null,"~"]
["SA25",2025,"LIM351",0,32,"Loss on disposal of PPE",null,null,null,null,null,null,null,null,null,null,null,null,null,null,null,null,"~"]
["SA25",2025,"LIM351",0,33,"Total Expenditure",null,null,null,null,null,null,null,null,null,null,null,null,null,null,null,null,"~"]
["SA25",2025,"LIM351",0,34,null,null,null,null,null,null,null,null,null,null,null,null,null,null,null,null,null,"~"]
["SA25",2025,"LIM351",0,35,"Surplus/(Deficit)",null,null,null,null,null,null,null,null,null,null,null,null,null,null,null,null,"~"]
["SA25",{"$f":"+MTREF","v":2025},{"$f":"LEFT(muni,(FIND(\" \",muni,1)-1))","v":"LIM351"},0,36,"Transfers recognised - capital",null,null,null,null,null,null,null,null,null,null,null,null,null,null,null,null,"~"]
["SA25",2025,"LIM351",0,37,"Contributions recognised - capital",null,null,null,null,null,null,null,null,null,null,null,null,null,null,null,null,"~"]
["SA25",2025,"LIM351",0,38,"Contributed assets",null,null,null,null,null,null,null,null,null,null,null,null,null,null,null,null,"~"]
["SA25",2025,"LIM351",0,39,"Surplus/(Deficit) after capital transfers & contributions",null,null,null,null,null,null,null,null,null,null,null,null,null,null,null,null,"~"]
["SA25",2025,"LIM351",0,40,"Taxation",null,null,null,null,null,null,null,null,null,null,null,null,null,null,null,null,"~"]
["SA25",2025,"LIM351",0,41,"Attributable to minorities",null,null,null,null,null,null,null,null,null,null,null,null,null,null,null,null,"~"]
["SA25",2025,"LIM351",0,44,"Share of surplus/ (deficit) of associate",null,null,null,null,null,null,null,null,null,null,null,null,null,null,null,null,"~"]
["SA27",2025,"LIM351",null,null,"Revenue - Standard",null,null,null,null,null,null,null,null,null,null,null,null,null,null,null,null,"~"]
["SA27",2025,"LIM351",null,null,"Governance and administration",null,null,null,null,null,null,null,null,null,null,null,null,null,null,null,null,"~"]
["SA27",2025,"LIM351",1,11,"Executive and council",null,null,null,null,null,null,null,null,null,null,null,null,null,null,null,null,"~"]
["SA27",2025,"LIM351",1,12,"Budget and treasury office",null,null,null,null,null,null,null,null,null,null,null,null,null,null,null,null,"~"]
["SA27",2025,"LIM351",1,13,"Corporate services",null,null,null,null,null,null,null,null,null,null,null,null,null,null,null,null,"~"]
["SA27",2025,"LIM351",null,null,"Community and public safety",null,null,null,null,null,null,null,null,null,null,null,null,null,null,null,null,"~"]
["SA27",2025,"LIM351",1,21,"Community and social services",null,null,null,null,null,null,null,null,null,null,null,null,null,null,null,null,"~"]
["SA27",2025,"LIM351",1,22,"Sport and recreation",null,null,null,null,null,null,null,null,null,null,null,null,null,null,null,null,"~"]
["SA27",2025,"LIM351",1,23,"Public safety",null,null,null,null,null,null,null,null,null,null,null,null,null,null,null,null,"~"]
["SA27",2025,"LIM351",1,24,"Housing",null,null,null,null,null,null,null,null,null,null,null,null,null,null,null,null,"~"]
["SA27",2025,"LIM351",1,25,"Health",null,null,null,null,null,null,null,null,null,null,null,null,null,null,null,null,"~"]
["SA27",2025,"LIM351",null,null,"Economic and environmental services",null,null,null,null,null,null,null,null,null,null,null,null,null,null,null,null,"~"]
["SA27",2025,"LIM351",1,31,"Planning and development",null,null,null,null,null,null,null,null,null,null,null,null,null,null,null,null,"~"]
["SA27",2025,"LIM351",1,32,"Road transport",null,null,null,null,null,null,null,null,null,null,null,null,null,null,null,null,"~"]
["SA27",2025,"LIM351",1,33,"Environmental protection",null,null,null,null,null,null,null,null,null,null,null,null,null,null,null,null,"~"]
["SA27",2025,"LIM351",null,null,"Trading services",null,null,null,null,null,null,null,null,null,null,null,null,null,null,null,null,"~"]
["SA27",2025,"LIM351",1,41,"Electricity",null,null,null,null,null,null,null,null,null,null,null,null,null,null,null,null,"~"]
["SA27",2025,"LIM351",1,42,"Water",null,null,null,null,null,null,null,null,null,null,null,null,null,null,null,null,"~"]
["SA27",2025,"LIM351",1,43,"Waste water management",null,null,null,null,null,null,null,null,null,null,null,null,null,null,null,null,"~"]
["SA27",2025,"LIM351",1,44,"Waste management",null,null,null,null,null,null,null,null,null,null,null,null,null,null,null,null,"~"]
["SA27",2025,"LIM351",1,45,"Other",null,null,null,null,null,null,null,null,null,null,null,null,null,null,null,null,"~"]
["SA27",2025,"LIM351",null,null,"Total Revenue - Standard",null,null,null,null,null,null,null,null,null,null,null,null,null,null,null,null,"~"]
["SA27",2025,"LIM351",null,null,null,null,null,null,null,null,null,null,null,null,null,null,null,null,null,null,null,"~"]
["SA27",2025,"LIM351",null,null,"Expenditure - Standard",null,null,null,null,null,null,null,null,null,null,null,null,null,null,null,null,"~"]
["SA27",2025,"LIM351",null,null,"Governance and administration",null,null,null,null,null,null,null,null,null,null,null,null,null,null,null,null,"~"]
["SA27",2025,"LIM351",2,11,"Executive and council",null,null,null,null,null,null,null,null,null,null,null,null,null,null,null,null,"~"]
["SA27",2025,"LIM351",2,12,"Budget and treasury office",null,null,null,null,null,null,null,null,null,null,null,null,null,null,null,null,"~"]
["SA27",2025,"LIM351",2,13,"Corporate services",null,null,null,null,null,null,null,null,null,null,null,null,null,null,null,null,"~"]
["SA27",2025,"LIM351",null,null,"Community and public safety",null,null,null,null,null,null,null,null,null,null,null,null,null,null,null,null,"~"]
["SA27",2025,"LIM351",2,21,"Community and social services",null,null,null,null,null,null,null,null,null,null,null,null,null,null,null,null,"~"]
["SA27",2025,"LIM351",2,22,"Sport and recreation",null,null,null,null,null,null,null,null,null,null,null,null,null,null,null,null,"~"]
["SA27",2025,"LIM351",2,23,"Public safety",null,null,null,null,null,null,null,null,null,null,null,null,null,null,null,null,"~"]
["SA27",2025,"LIM351",2,24,"Housing",null,null,null,null,null,null,null,null,null,null,null,null,null,null,null,null,"~"]
["SA27",2025,"LIM351",2,25,"Health",null,null,null,null,null,null,null,null,null,null,null,null,null,null,null,null,"~"]
["SA27",2025,"LIM351",null,null,"Economic and environmental services",null,null,null,null,null,null,null,null,null,null,null,null,null,null,null,null,"~"]
["SA27",2025,"LIM351",2,31,"Planning and development",null,null,null,null,null,null,null,null,null,null,null,null,null,null,null,null,"~"]
["SA27",2025,"LIM351",2,32,"Road transport",null,null,null,null,null,null,null,null,null,null,null,null,null,null,null,null,"~"]
["SA27",2025,"LIM351",2,33,"Environmental protection",null,null,null,null,null,null,null,null,null,null,null,null,null,null,null,null,"~"]
["SA27",2025,"LIM351",null,null,"Trading services",null,null,null,null,null,null,null,null,null,null,null,null,null,null,null,null,"~"]
["SA27",2025,"LIM351",2,41,"Electricity",null,null,null,null,null,null,null,null,null,null,null,null,null,null,null,null,"~"]
["SA27",2025,"LIM351",2,42,"Water",null,null,null,null,null,null,null,null,null,null,null,null,null,null,null,null,"~"]
["SA27",2025,"LIM351",2,43,"Waste water management",null,null,null,null,null,null,null,null,null,null,null,null,null,null,null,null,"~"]
["SA27",2025,"LIM351",2,44,"Waste management",null,null,null,null,null,null,null,null,null,null,null,null,null,null,null,null,"~"]
["SA27",2025,"LIM351",2,45,"Other",null,null,null,null,null,null,null,null,null,null,null,null,null,null,null,null,"~"]
["SA27",2025,"LIM351",null,null,"Total Expenditure - Standard",null,null,null,null,null,null,null,null,null,null,null,null,null,null,null,null,"~"]
["SA29",2025,"LIM351",null,null,"Capital Expenditure - Standard",null,null,null,null,null,null,null,null,null,null,null,null,null,null,null,null,"~"]
["SA29",2025,"LIM351",null,null,"Governance and administration",null,null,null,null,null,null,null,null,null,null,null,null,null,null,null,null,"~"]
["SA29",2025,"LIM351",1,11,"Executive and council",null,null,null,null,null,null,null,null,null,null,null,null,null,null,null,null,"~"]
["SA29",2025,"LIM351",1,12,"Budget and treasury office",null,null,null,null,null,null,null,null,null,null,null,null,null,null,null,null,"~"]
["SA29",2025,"LIM351",1,13,"Corporate services",null,null,null,null,null,null,null,null,null,null,null,null,null,null,null,null,"~"]
["SA29",2025,"LIM351",null,null,"Community and public safety",null,null,null,null,null,null,null,null,null,null,null,null,null,null,null,null,"~"]
["SA29",2025,"LIM351",1,21,"Community and social services",null,null,null,null,null,null,null,null,null,null,null,null,null,null,null,null,"~"]
["SA29",2025,"LIM351",1,22,"Sport and recreation",null,null,null,null,null,null,null,null,null,null,null,null,null,null,null,null,"~"]
["SA29",2025,"LIM351",1,23,"Public safety",null,null,null,null,null,null,null,null,null,null,null,null,null,null,null,null,"~"]
["SA29",2025,"LIM351",1,24,"Housing",null,null,null,null,null,null,null,null,null,null,null,null,null,null,null,null,"~"]
["SA29",2025,"LIM351",1,25,"Health",null,null,null,null,null,null,null,null,null,null,null,null,null,null,null,null,"~"]
["SA29",2025,"LIM351",null,null,"Economic and environmental services",null,null,null,null,null,null,null,null,null,null,null,null,null,null,null,null,"~"]
["SA29",{"$f":"+MTREF","v":2025},{"$f":"LEFT(muni,(FIND(\" \",muni,1)-1))","v":"LIM351"},1,31,"Planning and development",null,null,null,null,null,null,null,null,null,null,null,null,null,null,null,null,"~"]
["SA29",2025,"LIM351",1,32,"Road transport",null,null,null,null,null,null,null,null,null,null,null,null,null,null,null,null,"~"]
["SA29",2025,"LIM351",1,33,"Environmental protection",null,null,null,null,null,null,null,null,null,null,null,null,null,null,null,null,"~"]
["SA29",2025,"LIM351",null,null,"Trading services",null,null,null,null,null,null,null,null,null,null,null,null,null,null,null,null,"~"]
["SA29",2025,"LIM351",1,41,"Electricity",null,null,null,null,null,null,null,null,null,null,null,null,null,null,null,null,"~"]
["SA29",2025,"LIM351",1,42,"Water",null,null,null,null,null,null,null,null,null,null,null,null,null,null,null,null,"~"]
["SA29",2025,"LIM351",1,43,"Waste water management",null,null,null,null,null,null,null,null,null,null,null,null,null,null,null,null,"~"]
["SA29",2025,"LIM351",1,44,"Waste management",null,null,null,null,null,null,null,null,null,null,null,null,null,null,null,null,"~"]
["SA29",2025,"LIM351",1,45,"Other",null,null,null,null,null,null,null,null,null,null,null,null,null,null,null,null,"~"]
["SA29",2025,"LIM351",null,null,"Total Capital Expenditure - Standard",null,null,null,null,null,null,null,null,null,null,null,null,null,null,null,null,"~"]
["SA29",2025,"LIM351",null,null,null,null,null,null,null,null,null,null,null,null,null,null,null,null,null,null,null,"~"]
["SA29",2025,"LIM351",2,50,"Funded by:",null,null,null,null,null,null,null,null,null,null,null,null,null,null,null,null,"~"]
["SA29",2025,"LIM351",2,51,"National Government",null,null,null,null,null,null,null,null,null,null,null,null,null,null,null,null,"~"]
["SA29",2025,"LIM351",2,52,"Provincial Government",null,null,null,null,null,null,null,null,null,null,null,null,null,null,null,null,"~"]
["SA29",2025,"LIM351",2,53,"District Municipality",null,null,null,null,null,null,null,null,null,null,null,null,null,null,null,null,"~"]
["SA29",2025,"LIM351",2,54,"Other transfers and grants",null,null,null,null,null,null,null,null,null,null,null,null,null,null,null,null,"~"]
["SA29",2025,"LIM351",2,55,"Transfers recognised - capital",null,null,null,null,null,null,null,null,null,null,null,null,null,null,null,null,"~"]
["SA29",2025,"LIM351",2,56,"Public contributions & donations",null,null,null,null,null,null,null,null,null,null,null,null,null,null,null,null,"~"]
["SA29",2025,"LIM351",2,57,"Borrowing",null,null,null,null,null,null,null,null,null,null,null,null,null,null,null,null,"~"]
["SA29",2025,"LIM351",2,58,"Internally generated funds",null,null,null,null,null,null,null,null,null,null,null,null,null,null,null,null,"~"]
["SA29",2025,"LIM351",2,59,"Total Capital Funding",null,null,null,null,null,null,null,null,null,null,null,null,null,null,null,null,"~"]